BEGIN:VCALENDAR
VERSION:2.0
PRODID:-//Newfoundland &amp; Labrador Public Libraries - ECPv6.15.20//NONSGML v1.0//EN
CALSCALE:GREGORIAN
METHOD:PUBLISH
X-WR-CALNAME:Newfoundland &amp; Labrador Public Libraries
X-ORIGINAL-URL:https://nlpl.ca
X-WR-CALDESC:Events for Newfoundland &amp; Labrador Public Libraries
REFRESH-INTERVAL;VALUE=DURATION:PT1H
X-Robots-Tag:noindex
X-PUBLISHED-TTL:PT1H
BEGIN:VTIMEZONE
TZID:America/St_Johns
BEGIN:DAYLIGHT
TZOFFSETFROM:-0330
TZOFFSETTO:-0230
TZNAME:NDT
DTSTART:20250309T053000
END:DAYLIGHT
BEGIN:STANDARD
TZOFFSETFROM:-0230
TZOFFSETTO:-0330
TZNAME:NST
DTSTART:20251102T043000
END:STANDARD
BEGIN:DAYLIGHT
TZOFFSETFROM:-0330
TZOFFSETTO:-0230
TZNAME:NDT
DTSTART:20260308T053000
END:DAYLIGHT
BEGIN:STANDARD
TZOFFSETFROM:-0230
TZOFFSETTO:-0330
TZNAME:NST
DTSTART:20261101T043000
END:STANDARD
BEGIN:DAYLIGHT
TZOFFSETFROM:-0330
TZOFFSETTO:-0230
TZNAME:NDT
DTSTART:20270314T053000
END:DAYLIGHT
BEGIN:STANDARD
TZOFFSETFROM:-0230
TZOFFSETTO:-0330
TZNAME:NST
DTSTART:20271107T043000
END:STANDARD
END:VTIMEZONE
BEGIN:VEVENT
DTSTART;TZID=America/St_Johns:20260409T170000
DTEND;TZID=America/St_Johns:20260514T180000
DTSTAMP:20260420T121203
CREATED:20260401T182636Z
LAST-MODIFIED:20260401T182637Z
UID:10059138-1775754000-1778781600@nlpl.ca
SUMMARY:Craft Night
DESCRIPTION:Come join us for a night of crafts. Children from ages 2-10 can participate in a fun evening of making crafts.(a parent or guardian must be present). This event will take place beginning Thursday April 9th from 5p.m. to 6P.m. and continuing on weekly until May 14th.
URL:https://nlpl.ca/events/craft-night-2-2/
LOCATION:Port au Port Public Library\, 290 Main Road\, 290 Main Road\, NL\, A0N 1T0\, Canada
ATTACH;FMTTYPE=image/jpeg:https://nlpl.ca/wp-content/uploads/2023/03/Events-Kid-Families.jpg
END:VEVENT
BEGIN:VEVENT
DTSTART;TZID=America/St_Johns:20260418T190000
DTEND;TZID=America/St_Johns:20260514T194500
DTSTAMP:20260420T121203
CREATED:20260418T182108Z
LAST-MODIFIED:20260418T182210Z
UID:10061519-1776538800-1778787900@nlpl.ca
SUMMARY:Book Club (Accessible Formats)
DESCRIPTION:Join us at the Ross King Memorial Library (Mount Pearl) for our monthly Book Club.  We meet on the second Wednesday of the month from 7-7:45pm.  Our May meeting will be held on Wed. May 13th and we’ll be discussing Amy Tintera’s “Listen for the Lie”.  This is a drop-in event (no registration required).  Print copies of the book will be available at the library’s front desk\, audio versions are available on Libby and CELA.
URL:https://nlpl.ca/events/book-club-accessible-formats-2/
LOCATION:Mount Pearl Public Library\, 65 Olympic Drive\, Mount Pearl\, NL\, A1N 5H6\, Canada
CATEGORIES:Book Clubs & Writer’s Groups
ORGANIZER;CN="Mount Pearl":MAILTO:mountpearl@nlpl.ca
END:VEVENT
BEGIN:VEVENT
DTSTART;TZID=America/St_Johns:20260420T150000
DTEND;TZID=America/St_Johns:20260420T160000
DTSTAMP:20260420T121203
CREATED:20251103T201201Z
LAST-MODIFIED:20251125T194640Z
UID:10053841-1776697200-1776700800@nlpl.ca
SUMMARY:Family Passive Play
DESCRIPTION:
URL:https://nlpl.ca/events/family-passive-play/2026-04-20/
LOCATION:Bishop’s Falls Public Library\, 445 Main Street\, Bishop's Falls\, NL\, A0H 1C0\, Canada
END:VEVENT
BEGIN:VEVENT
DTSTART;TZID=America/St_Johns:20260420T150000
DTEND;TZID=America/St_Johns:20260420T200000
DTSTAMP:20260420T121203
CREATED:20260304T172104Z
LAST-MODIFIED:20260317T164251Z
UID:10059632-1776697200-1776715200@nlpl.ca
SUMMARY:Quilting with Kay
DESCRIPTION:Come and enjoy an afternoon of beginner quilting with Kay Warford!!
URL:https://nlpl.ca/events/quilting-with-kay-2/2026-04-20/
LOCATION:Point Leamington Public Library\, 1 Rice's Drive\, Point Leamington\, NL\, A0H 1Z0\, Canada
CATEGORIES:Hobbies, Crafts & Games
END:VEVENT
BEGIN:VEVENT
DTSTART;TZID=America/St_Johns:20260420T180000
DTEND;TZID=America/St_Johns:20260420T200000
DTSTAMP:20260420T121203
CREATED:20251001T170959Z
LAST-MODIFIED:20251128T205518Z
UID:10051852-1776708000-1776715200@nlpl.ca
SUMMARY:Traditional NL Rug Hooking
DESCRIPTION:Drop in group at Point Leamington Public Library for rug hookers to work on their own projects.\nAll skill levels are welcome.
URL:https://nlpl.ca/events/traditional-nl-rug-hooking-2/2026-04-20/
LOCATION:Point Leamington Public Library\, 1 Rice's Drive\, Point Leamington\, NL\, A0H 1Z0\, Canada
CATEGORIES:Hobbies, Crafts & Games
ATTACH;FMTTYPE=image/jpeg:https://nlpl.ca/wp-content/uploads/2023/03/Events-Hobbies-Crafts-and-Games.jpg
END:VEVENT
END:VCALENDAR