BEGIN:VCALENDAR
VERSION:2.0
PRODID:-//Newfoundland &amp; Labrador Public Libraries - ECPv6.15.20//NONSGML v1.0//EN
CALSCALE:GREGORIAN
METHOD:PUBLISH
X-WR-CALNAME:Newfoundland &amp; Labrador Public Libraries
X-ORIGINAL-URL:https://nlpl.ca
X-WR-CALDESC:Events for Newfoundland &amp; Labrador Public Libraries
REFRESH-INTERVAL;VALUE=DURATION:PT1H
X-Robots-Tag:noindex
X-PUBLISHED-TTL:PT1H
BEGIN:VTIMEZONE
TZID:America/St_Johns
BEGIN:DAYLIGHT
TZOFFSETFROM:-0330
TZOFFSETTO:-0230
TZNAME:NDT
DTSTART:20250309T053000
END:DAYLIGHT
BEGIN:STANDARD
TZOFFSETFROM:-0230
TZOFFSETTO:-0330
TZNAME:NST
DTSTART:20251102T043000
END:STANDARD
BEGIN:DAYLIGHT
TZOFFSETFROM:-0330
TZOFFSETTO:-0230
TZNAME:NDT
DTSTART:20260308T053000
END:DAYLIGHT
BEGIN:STANDARD
TZOFFSETFROM:-0230
TZOFFSETTO:-0330
TZNAME:NST
DTSTART:20261101T043000
END:STANDARD
BEGIN:DAYLIGHT
TZOFFSETFROM:-0330
TZOFFSETTO:-0230
TZNAME:NDT
DTSTART:20270314T053000
END:DAYLIGHT
BEGIN:STANDARD
TZOFFSETFROM:-0230
TZOFFSETTO:-0330
TZNAME:NST
DTSTART:20271107T043000
END:STANDARD
END:VTIMEZONE
BEGIN:VEVENT
DTSTART;TZID=America/St_Johns:20260414T173000
DTEND;TZID=America/St_Johns:20260414T193000
DTSTAMP:20260421T181256
CREATED:20260319T165913Z
LAST-MODIFIED:20260319T165914Z
UID:10059823-1776187800-1776195000@nlpl.ca
SUMMARY:Creative Commons
DESCRIPTION:Join us at the Port aux Basques Public Library every Tuesday evening from 5:30-7:30 pm for Creative Commons. Bring any current arts\, crafts\, writing or musical project you’re working on and join other creatives to enjoy each other’s company and share the creative spark! Please provide your own art supplies.
URL:https://nlpl.ca/events/creative-commons-2/2026-04-14/
LOCATION:Port aux Basques Public Library\, 8 Grand Bay\, Port aux Basques\, NL\, A0M 1C0\, Canada
CATEGORIES:Hobbies, Crafts & Games
ATTACH;FMTTYPE=image/jpeg:https://nlpl.ca/wp-content/uploads/2023/03/Events-Hobbies-Crafts-and-Games.jpg
END:VEVENT
BEGIN:VEVENT
DTSTART;TZID=America/St_Johns:20260414T180000
DTEND;TZID=America/St_Johns:20260414T200000
DTSTAMP:20260421T181256
CREATED:20260308T153607Z
LAST-MODIFIED:20260408T162239Z
UID:10059802-1776189600-1776196800@nlpl.ca
SUMMARY:Get Your Garden On with Dan Rubin
DESCRIPTION:St John’s – A.C. Hunter Author and garden educator Dan Rubin will share his practical tips and deep understandings of how to extend the growing season by selecting the right seeds\, creating protection with raised beds\, cloches and row covers and building rich living soil. In person presentation only. Adults and teens 16+
URL:https://nlpl.ca/events/get-your-garden-on-with-dan-rubin/
LOCATION:St. John’s – A.C. Hunter Public Library\, 125 Allandale Road\, St. John's\, NL\, A1B 3A3\, Canada
CATEGORIES:Classes & Workshops,Hobbies, Crafts & Games
END:VEVENT
BEGIN:VEVENT
DTSTART;TZID=America/St_Johns:20260415T100000
DTEND;TZID=America/St_Johns:20260415T130000
DTSTAMP:20260421T181256
CREATED:20240903T132133Z
LAST-MODIFIED:20260415T215148Z
UID:10059535-1776247200-1776258000@nlpl.ca
SUMMARY:Rug Hooking
DESCRIPTION:Drop in group at the Conception Bay South Public Library for crafters to work on their own projects with company.\nAll skill levels are welcome.
URL:https://nlpl.ca/events/rug-hooking/2026-04-15/
LOCATION:Conception Bay South Public Library\, 10 Remembrance Square\, Conception Bay South\, NL\, Canada
CATEGORIES:Hobbies, Crafts & Games
ATTACH;FMTTYPE=image/jpeg:https://nlpl.ca/wp-content/uploads/2023/03/Events-Hobbies-Crafts-and-Games.jpg
ORGANIZER;CN="Conception Bay South Public Library":MAILTO:conceptionbaysouth@nlpl.ca
END:VEVENT
BEGIN:VEVENT
DTSTART;TZID=America/St_Johns:20260415T120000
DTEND;TZID=America/St_Johns:20260415T130000
DTSTAMP:20260421T181256
CREATED:20260402T182639Z
LAST-MODIFIED:20260402T182639Z
UID:10060565-1776254400-1776258000@nlpl.ca
SUMMARY:Embroidery Skills Session
DESCRIPTION:Learn simple stitches in our Embroidery Skills Session. \nIn collaboration with Mokami Status of Women Council\, Melville Public Library will be hosting a few free comprehensive classes on how to embroider. Material will be provided. Registration required. \nIf you have any questions on how to register\, please contact the Melville Public Library.\nhappyvalleygoosebay@nlpl.ca\n709-896-8045
URL:https://nlpl.ca/events/embroidery-skills-session/
LOCATION:Happy Valley-Goose Bay Public Library\, Elizabeth Goudie Building; 141 Hamilton River Road\, Happy Valley-Goose Bay\, NL\, A0P 1E0\, Canada
CATEGORIES:Classes & Workshops,Hobbies, Crafts & Games
ATTACH;FMTTYPE=image/jpeg:https://nlpl.ca/wp-content/uploads/2023/03/Events-Hobbies-Crafts-and-Games.jpg
END:VEVENT
BEGIN:VEVENT
DTSTART;TZID=America/St_Johns:20260415T130000
DTEND;TZID=America/St_Johns:20260415T153000
DTSTAMP:20260421T181256
CREATED:20260219T131709Z
LAST-MODIFIED:20260219T131709Z
UID:10059312-1776258000-1776267000@nlpl.ca
SUMMARY:Knitting Group
DESCRIPTION:Adult knitting group\, non-instructive. Join others who share in a love of knitting. Bring your projects and knit with friends\, old and new!
URL:https://nlpl.ca/events/knitting-group-2/2026-04-15/
LOCATION:Stephenville Public Library (Kindale)\, 45 Carolina Ave.\, Stephenville\, NL\, A2N 3P8\, Canada
CATEGORIES:Hobbies, Crafts & Games
ATTACH;FMTTYPE=image/jpeg:https://nlpl.ca/wp-content/uploads/2023/03/Events-Hobbies-Crafts-and-Games.jpg
END:VEVENT
BEGIN:VEVENT
DTSTART;TZID=America/St_Johns:20260415T140000
DTEND;TZID=America/St_Johns:20260415T153000
DTSTAMP:20260421T181256
CREATED:20260102T194258Z
LAST-MODIFIED:20260102T194922Z
UID:10055618-1776261600-1776267000@nlpl.ca
SUMMARY:Crafter's Corner
DESCRIPTION:Grander Public Library – Bring in a project that you are working on. Either it be knitting\, crochet\, rug hooking
URL:https://nlpl.ca/events/crafters-corner-3-2-2/2026-04-15/
LOCATION:Gander Public & Resource Library\, 6 Bell Place\, Gander\, NL\, A1V 1X2\, Canada
CATEGORIES:Hobbies, Crafts & Games
ATTACH;FMTTYPE=image/jpeg:https://nlpl.ca/wp-content/uploads/2023/03/Events-Hobbies-Crafts-and-Games.jpg
END:VEVENT
BEGIN:VEVENT
DTSTART;TZID=America/St_Johns:20260415T180000
DTEND;TZID=America/St_Johns:20260415T200000
DTSTAMP:20260421T181256
CREATED:20260401T214000Z
LAST-MODIFIED:20260401T214000Z
UID:10060444-1776276000-1776283200@nlpl.ca
SUMMARY:Game Night
DESCRIPTION:Join us every second Wednesday for a relaxed evening of board games at the library! Whether you’re a seasoned strategist or just in it for the laughs\, there’s a seat at the table for everyone.
URL:https://nlpl.ca/events/game-night-2/2026-04-15/
LOCATION:St. Anthony Public Library\, 95 West Street\, St. Anthony\, NL\, A0K 4S0\, Canada
CATEGORIES:Hobbies, Crafts & Games
ATTACH;FMTTYPE=image/jpeg:https://nlpl.ca/wp-content/uploads/2023/03/Events-Hobbies-Crafts-and-Games.jpg
ORGANIZER;CN="St. Anthony Pbulic Library":MAILTO:nsa@ill.nlpl.ca
END:VEVENT
BEGIN:VEVENT
DTSTART;TZID=America/St_Johns:20260416T100000
DTEND;TZID=America/St_Johns:20260416T120000
DTSTAMP:20260421T181256
CREATED:20240911T134337Z
LAST-MODIFIED:20260415T215627Z
UID:10059810-1776333600-1776340800@nlpl.ca
SUMMARY:Art Group
DESCRIPTION:Drop into the Conception Bay South Public Library  community room with any art project you are working on!\nThis is a group for adults.
URL:https://nlpl.ca/events/art-group/2026-04-16/
LOCATION:Conception Bay South Public Library\, 10 Remembrance Square\, Conception Bay South\, NL\, Canada
CATEGORIES:Arts & Culture,Hobbies, Crafts & Games
ATTACH;FMTTYPE=image/jpeg:https://nlpl.ca/wp-content/uploads/2023/03/Events-Hobbies-Crafts-and-Games.jpg
ORGANIZER;CN="Conception Bay South Public Library":MAILTO:conceptionbaysouth@nlpl.ca
END:VEVENT
BEGIN:VEVENT
DTSTART;TZID=America/St_Johns:20260416T130000
DTEND;TZID=America/St_Johns:20260416T150000
DTSTAMP:20260421T181256
CREATED:20250702T192402Z
LAST-MODIFIED:20260410T152336Z
UID:10059423-1776344400-1776351600@nlpl.ca
SUMMARY:CBS Knitting Group
DESCRIPTION:Everyone is welcome ! Bring your project and meet up with fellow knitters!
URL:https://nlpl.ca/events/knitting-group-4/2026-04-16/
LOCATION:Conception Bay South Public Library\, 10 Remembrance Square\, Conception Bay South\, NL\, Canada
CATEGORIES:Hobbies, Crafts & Games
ATTACH;FMTTYPE=image/jpeg:https://nlpl.ca/wp-content/uploads/2023/03/Events-Hobbies-Crafts-and-Games.jpg
ORGANIZER;CN="Conception Bay South Public Library":MAILTO:conceptionbaysouth@nlpl.ca
END:VEVENT
BEGIN:VEVENT
DTSTART;TZID=America/St_Johns:20260416T140000
DTEND;TZID=America/St_Johns:20260416T160000
DTSTAMP:20260421T181256
CREATED:20260105T133034Z
LAST-MODIFIED:20260312T152500Z
UID:10059914-1776348000-1776355200@nlpl.ca
SUMMARY:Knitting Circle
DESCRIPTION:Harmsworth Public Library – Drop-in and join us to knit and/or crochet\, improve your needle skills\, help a friend\, share patterns\, ideas and stories.\n\nBring your own supplies.
URL:https://nlpl.ca/events/knitting-circle-2/2026-04-16/
LOCATION:Grand Falls-Windsor (Harmsworth) Public Library\, 1 Cromer Avenue\, Grand Falls - Windsor\, NL\, A2A 1W9\, Canada
CATEGORIES:Hobbies, Crafts & Games
ATTACH;FMTTYPE=image/jpeg:https://nlpl.ca/wp-content/uploads/2023/03/Events-Hobbies-Crafts-and-Games.jpg
END:VEVENT
BEGIN:VEVENT
DTSTART;TZID=America/St_Johns:20260416T153000
DTEND;TZID=America/St_Johns:20260416T170000
DTSTAMP:20260421T181256
CREATED:20260327T184441Z
LAST-MODIFIED:20260327T184508Z
UID:10060359-1776353400-1776358800@nlpl.ca
SUMMARY:Crafters Hour
DESCRIPTION:Design Your own Craft at the library: \nCanvas Painting \nDrawing \nPastel painting \nor you can bring a project with you. \n 
URL:https://nlpl.ca/events/crafters-hour-6-2-2-2-2-2-2-2-2-2-2/2026-04-16/
LOCATION:Fogo Island Public Library\, 1 Iceberg Arena Road\, Fogo Island Central\, NL\, A0G 2B0\, Canada
CATEGORIES:Hobbies, Crafts & Games
END:VEVENT
BEGIN:VEVENT
DTSTART;TZID=America/St_Johns:20260417T103000
DTEND;TZID=America/St_Johns:20260417T120000
DTSTAMP:20260421T181256
CREATED:20260303T213625Z
LAST-MODIFIED:20260325T213947Z
UID:10059702-1776421800-1776427200@nlpl.ca
SUMMARY:Friday Morning Yarns
DESCRIPTION:Share conversation\, motivation and inspiration while you work on your knitting\, crochetting and other needlecrafts. While the focus is not on learning to knit\, attendees are encouraged to share their skills.
URL:https://nlpl.ca/events/friday-morning-yarns/2026-04-17/
LOCATION:Corner Brook Public Library\, 4 West Street\, Corner Brook\, NL\, A2H 0C1\, Canada
CATEGORIES:Hobbies, Crafts & Games
END:VEVENT
BEGIN:VEVENT
DTSTART;TZID=America/St_Johns:20260417T140000
DTEND;TZID=America/St_Johns:20260417T160000
DTSTAMP:20260421T181256
CREATED:20251029T143130Z
LAST-MODIFIED:20260402T134306Z
UID:10053394-1776434400-1776441600@nlpl.ca
SUMMARY:The Friday Fun Makers
DESCRIPTION:Grander Public Library – Adult Monthly Craft- Join us in our makerspace and to create a craft. To register please call 709-651-5353 or email: gander@nlpl.ca
URL:https://nlpl.ca/events/the-friday-fun-makers-2/
LOCATION:Gander Public & Resource Library\, 6 Bell Place\, Gander\, NL\, A1V 1X2\, Canada
CATEGORIES:Hobbies, Crafts & Games
ATTACH;FMTTYPE=image/jpeg:https://nlpl.ca/wp-content/uploads/2023/03/Events-Hobbies-Crafts-and-Games.jpg
END:VEVENT
BEGIN:VEVENT
DTSTART;TZID=America/St_Johns:20260418T110000
DTEND;TZID=America/St_Johns:20260418T130000
DTSTAMP:20260421T181256
CREATED:20260319T170049Z
LAST-MODIFIED:20260319T170050Z
UID:10056832-1776510000-1776517200@nlpl.ca
SUMMARY:LEGO Builders
DESCRIPTION:Come out to the Port aux Basques Public Library for LEGO Builders. LEGO blocks are available\, along with a fun building table. Larger blocks are available for smaller children. Enjoy the fun and challenge of LEGO!
URL:https://nlpl.ca/events/lego-builders-2/2026-04-18/
LOCATION:Port aux Basques Public Library\, 8 Grand Bay\, Port aux Basques\, NL\, A0M 1C0\, Canada
CATEGORIES:Hobbies, Crafts & Games
ATTACH;FMTTYPE=image/jpeg:https://nlpl.ca/wp-content/uploads/2023/03/Events-Hobbies-Crafts-and-Games.jpg
END:VEVENT
BEGIN:VEVENT
DTSTART;TZID=America/St_Johns:20260418T110000
DTEND;TZID=America/St_Johns:20260418T150000
DTSTAMP:20260421T181256
CREATED:20260205T191657Z
LAST-MODIFIED:20260205T191754Z
UID:10058235-1776510000-1776524400@nlpl.ca
SUMMARY:Master Builders
DESCRIPTION:(5+) Passive program for open Lego play. We provide the Lego\, you provide the fun! Come and go anytime during 11am – 3pm on Saturdays.
URL:https://nlpl.ca/events/master-builders/2026-04-18/
LOCATION:Stephenville Public Library (Kindale)\, 45 Carolina Ave.\, Stephenville\, NL\, A2N 3P8\, Canada
CATEGORIES:Hobbies, Crafts & Games
ATTACH;FMTTYPE=image/jpeg:https://nlpl.ca/wp-content/uploads/2023/03/Events-Hobbies-Crafts-and-Games.jpg
END:VEVENT
BEGIN:VEVENT
DTSTART;TZID=America/St_Johns:20260420T150000
DTEND;TZID=America/St_Johns:20260420T200000
DTSTAMP:20260421T181256
CREATED:20260304T172104Z
LAST-MODIFIED:20260317T164251Z
UID:10059632-1776697200-1776715200@nlpl.ca
SUMMARY:Quilting with Kay
DESCRIPTION:Come and enjoy an afternoon of beginner quilting with Kay Warford!!
URL:https://nlpl.ca/events/quilting-with-kay-2/2026-04-20/
LOCATION:Point Leamington Public Library\, 1 Rice's Drive\, Point Leamington\, NL\, A0H 1Z0\, Canada
CATEGORIES:Hobbies, Crafts & Games
END:VEVENT
BEGIN:VEVENT
DTSTART;TZID=America/St_Johns:20260420T180000
DTEND;TZID=America/St_Johns:20260420T200000
DTSTAMP:20260421T181256
CREATED:20251001T170959Z
LAST-MODIFIED:20251128T205518Z
UID:10051852-1776708000-1776715200@nlpl.ca
SUMMARY:Traditional NL Rug Hooking
DESCRIPTION:Drop in group at Point Leamington Public Library for rug hookers to work on their own projects.\nAll skill levels are welcome.
URL:https://nlpl.ca/events/traditional-nl-rug-hooking-2/2026-04-20/
LOCATION:Point Leamington Public Library\, 1 Rice's Drive\, Point Leamington\, NL\, A0H 1Z0\, Canada
CATEGORIES:Hobbies, Crafts & Games
ATTACH;FMTTYPE=image/jpeg:https://nlpl.ca/wp-content/uploads/2023/03/Events-Hobbies-Crafts-and-Games.jpg
END:VEVENT
BEGIN:VEVENT
DTSTART;TZID=America/St_Johns:20260421T060000
DTEND;TZID=America/St_Johns:20260421T193000
DTSTAMP:20260421T181256
CREATED:20251120T191835Z
LAST-MODIFIED:20251125T195038Z
UID:10055170-1776751200-1776799800@nlpl.ca
SUMMARY:Tuesday Night Tabletop Board Gaming
DESCRIPTION:New-Wes-Valley Public Libraries welcomes everyone to Tuesday night Board Gaming.  From 6 pm – 7:30 pm play from a wide selection of games from the libraries collection\, or bring you own.  Hope to see you there. \n 
URL:https://nlpl.ca/events/tuesday-night-tabletop-board-gaming/2026-04-21/
LOCATION:NL
CATEGORIES:Hobbies, Crafts & Games
END:VEVENT
BEGIN:VEVENT
DTSTART;TZID=America/St_Johns:20260421T150000
DTEND;TZID=America/St_Johns:20260421T160000
DTSTAMP:20260421T181256
CREATED:20260421T161517Z
LAST-MODIFIED:20260421T161517Z
UID:10061545-1776783600-1776787200@nlpl.ca
SUMMARY:Earth Day Fun Week!!
DESCRIPTION:Tuesday\, April 21st – DIY Seed Bombs \nWednesday\, April 22nd – Create a Tree for Earth Day! \nThursday\, April 23rd – Plastic Bottle Flower Pots!
URL:https://nlpl.ca/events/earth-day-fun-week/2026-04-21/
LOCATION:Point Leamington Public Library\, 1 Rice's Drive\, Point Leamington\, NL\, A0H 1Z0\, Canada
CATEGORIES:Hobbies, Crafts & Games,Kids & Families,Special Event
END:VEVENT
BEGIN:VEVENT
DTSTART;TZID=America/St_Johns:20260421T173000
DTEND;TZID=America/St_Johns:20260421T193000
DTSTAMP:20260421T181256
CREATED:20260105T144032Z
LAST-MODIFIED:20260312T152652Z
UID:10059923-1776792600-1776799800@nlpl.ca
SUMMARY:Dungeons & Dragons
DESCRIPTION:Harmsworth Public Library – Curious about Dungeons & Dragons? Are you looking to join a new group? Join us every Tuesday from 5:30 to 7:30 PM. \nNew and experienced players welcome. 13+ years. \nTo register\, phone #709-489-2303 or visit the library \n 
URL:https://nlpl.ca/events/dungeons-dragons-3-2/2026-04-21/
LOCATION:Grand Falls-Windsor (Harmsworth) Public Library\, 1 Cromer Avenue\, Grand Falls - Windsor\, NL\, A2A 1W9\, Canada
CATEGORIES:Hobbies, Crafts & Games
ATTACH;FMTTYPE=image/jpeg:https://nlpl.ca/wp-content/uploads/2023/03/Events-Hobbies-Crafts-and-Games.jpg
END:VEVENT
BEGIN:VEVENT
DTSTART;TZID=America/St_Johns:20260421T173000
DTEND;TZID=America/St_Johns:20260421T193000
DTSTAMP:20260421T181256
CREATED:20260319T165913Z
LAST-MODIFIED:20260319T165914Z
UID:10059824-1776792600-1776799800@nlpl.ca
SUMMARY:Creative Commons
DESCRIPTION:Join us at the Port aux Basques Public Library every Tuesday evening from 5:30-7:30 pm for Creative Commons. Bring any current arts\, crafts\, writing or musical project you’re working on and join other creatives to enjoy each other’s company and share the creative spark! Please provide your own art supplies.
URL:https://nlpl.ca/events/creative-commons-2/2026-04-21/
LOCATION:Port aux Basques Public Library\, 8 Grand Bay\, Port aux Basques\, NL\, A0M 1C0\, Canada
CATEGORIES:Hobbies, Crafts & Games
ATTACH;FMTTYPE=image/jpeg:https://nlpl.ca/wp-content/uploads/2023/03/Events-Hobbies-Crafts-and-Games.jpg
END:VEVENT
BEGIN:VEVENT
DTSTART;TZID=America/St_Johns:20260421T180000
DTEND;TZID=America/St_Johns:20260421T190000
DTSTAMP:20260421T181256
CREATED:20250530T151017Z
LAST-MODIFIED:20260327T183446Z
UID:10042040-1776794400-1776798000@nlpl.ca
SUMMARY:Adult Card Game
DESCRIPTION: @6pm \n\nCome for an hour of fun \n\nsnacks provided
URL:https://nlpl.ca/events/adult-card-game-2/
LOCATION:Fogo Island Public Library\, 1 Iceberg Arena Road\, Fogo Island Central\, NL\, A0G 2B0\, Canada
CATEGORIES:Hobbies, Crafts & Games
END:VEVENT
BEGIN:VEVENT
DTSTART;TZID=America/St_Johns:20260421T190000
DTEND;TZID=America/St_Johns:20260421T210000
DTSTAMP:20260421T181256
CREATED:20260307T193359Z
LAST-MODIFIED:20260406T220404Z
UID:10059799-1776798000-1776805200@nlpl.ca
SUMMARY:Game Night
DESCRIPTION:Join us at the Bonavista Public Library for Game Night. Bring along some friends and your favourite game\, or come solo and join a table.
URL:https://nlpl.ca/events/game-night/
LOCATION:Bonavista Memorial Public Library\, 32 Church Street\, Bonavista\, NL\, A0C 1B0\, Canada
CATEGORIES:Hobbies, Crafts & Games
END:VEVENT
BEGIN:VEVENT
DTSTART;TZID=America/St_Johns:20260422T100000
DTEND;TZID=America/St_Johns:20260422T130000
DTSTAMP:20260421T181256
CREATED:20240903T132133Z
LAST-MODIFIED:20260415T215148Z
UID:10061444-1776852000-1776862800@nlpl.ca
SUMMARY:Rug Hooking
DESCRIPTION:Drop in group at the Conception Bay South Public Library for crafters to work on their own projects with company.\nAll skill levels are welcome.
URL:https://nlpl.ca/events/rug-hooking/2026-04-22/
LOCATION:Conception Bay South Public Library\, 10 Remembrance Square\, Conception Bay South\, NL\, Canada
CATEGORIES:Hobbies, Crafts & Games
ATTACH;FMTTYPE=image/jpeg:https://nlpl.ca/wp-content/uploads/2023/03/Events-Hobbies-Crafts-and-Games.jpg
ORGANIZER;CN="Conception Bay South Public Library":MAILTO:conceptionbaysouth@nlpl.ca
END:VEVENT
BEGIN:VEVENT
DTSTART;TZID=America/St_Johns:20260422T130000
DTEND;TZID=America/St_Johns:20260422T153000
DTSTAMP:20260421T181256
CREATED:20260219T131709Z
LAST-MODIFIED:20260219T131709Z
UID:10059313-1776862800-1776871800@nlpl.ca
SUMMARY:Knitting Group
DESCRIPTION:Adult knitting group\, non-instructive. Join others who share in a love of knitting. Bring your projects and knit with friends\, old and new!
URL:https://nlpl.ca/events/knitting-group-2/2026-04-22/
LOCATION:Stephenville Public Library (Kindale)\, 45 Carolina Ave.\, Stephenville\, NL\, A2N 3P8\, Canada
CATEGORIES:Hobbies, Crafts & Games
ATTACH;FMTTYPE=image/jpeg:https://nlpl.ca/wp-content/uploads/2023/03/Events-Hobbies-Crafts-and-Games.jpg
END:VEVENT
BEGIN:VEVENT
DTSTART;TZID=America/St_Johns:20260422T140000
DTEND;TZID=America/St_Johns:20260422T153000
DTSTAMP:20260421T181256
CREATED:20260102T194258Z
LAST-MODIFIED:20260102T194922Z
UID:10055619-1776866400-1776871800@nlpl.ca
SUMMARY:Crafter's Corner
DESCRIPTION:Grander Public Library – Bring in a project that you are working on. Either it be knitting\, crochet\, rug hooking
URL:https://nlpl.ca/events/crafters-corner-3-2-2/2026-04-22/
LOCATION:Gander Public & Resource Library\, 6 Bell Place\, Gander\, NL\, A1V 1X2\, Canada
CATEGORIES:Hobbies, Crafts & Games
ATTACH;FMTTYPE=image/jpeg:https://nlpl.ca/wp-content/uploads/2023/03/Events-Hobbies-Crafts-and-Games.jpg
END:VEVENT
BEGIN:VEVENT
DTSTART;TZID=America/St_Johns:20260422T150000
DTEND;TZID=America/St_Johns:20260422T160000
DTSTAMP:20260421T181256
CREATED:20260421T161517Z
LAST-MODIFIED:20260421T161517Z
UID:10061546-1776870000-1776873600@nlpl.ca
SUMMARY:Earth Day Fun Week!!
DESCRIPTION:Tuesday\, April 21st – DIY Seed Bombs \nWednesday\, April 22nd – Create a Tree for Earth Day! \nThursday\, April 23rd – Plastic Bottle Flower Pots!
URL:https://nlpl.ca/events/earth-day-fun-week/2026-04-22/
LOCATION:Point Leamington Public Library\, 1 Rice's Drive\, Point Leamington\, NL\, A0H 1Z0\, Canada
CATEGORIES:Hobbies, Crafts & Games,Kids & Families,Special Event
END:VEVENT
BEGIN:VEVENT
DTSTART;TZID=America/St_Johns:20260422T180000
DTEND;TZID=America/St_Johns:20260422T200000
DTSTAMP:20260421T181256
CREATED:20260401T215009Z
LAST-MODIFIED:20260401T215009Z
UID:10060475-1776880800-1776888000@nlpl.ca
SUMMARY:Craft and Chat
DESCRIPTION:In partnership with the Association for New Canadians\, join us every second Wednesday for Craft and Chat! Bring along your works-in-progress and enjoy a cozy evening of creativity and conversation with fellow makers.
URL:https://nlpl.ca/events/craft-and-chat/2026-04-22/
LOCATION:St. Anthony Public Library\, 95 West Street\, St. Anthony\, NL\, A0K 4S0\, Canada
CATEGORIES:Hobbies, Crafts & Games
ATTACH;FMTTYPE=image/jpeg:https://nlpl.ca/wp-content/uploads/2023/03/Events-Hobbies-Crafts-and-Games.jpg
ORGANIZER;CN="St. Anthony Pbulic Library":MAILTO:nsa@ill.nlpl.ca
END:VEVENT
BEGIN:VEVENT
DTSTART;TZID=America/St_Johns:20260423T100000
DTEND;TZID=America/St_Johns:20260423T120000
DTSTAMP:20260421T181256
CREATED:20240911T134337Z
LAST-MODIFIED:20260415T215627Z
UID:10059811-1776938400-1776945600@nlpl.ca
SUMMARY:Art Group
DESCRIPTION:Drop into the Conception Bay South Public Library  community room with any art project you are working on!\nThis is a group for adults.
URL:https://nlpl.ca/events/art-group/2026-04-23/
LOCATION:Conception Bay South Public Library\, 10 Remembrance Square\, Conception Bay South\, NL\, Canada
CATEGORIES:Arts & Culture,Hobbies, Crafts & Games
ATTACH;FMTTYPE=image/jpeg:https://nlpl.ca/wp-content/uploads/2023/03/Events-Hobbies-Crafts-and-Games.jpg
ORGANIZER;CN="Conception Bay South Public Library":MAILTO:conceptionbaysouth@nlpl.ca
END:VEVENT
BEGIN:VEVENT
DTSTART;TZID=America/St_Johns:20260423T130000
DTEND;TZID=America/St_Johns:20260423T150000
DTSTAMP:20260421T181256
CREATED:20250702T192402Z
LAST-MODIFIED:20260410T152336Z
UID:10059424-1776949200-1776956400@nlpl.ca
SUMMARY:CBS Knitting Group
DESCRIPTION:Everyone is welcome ! Bring your project and meet up with fellow knitters!
URL:https://nlpl.ca/events/knitting-group-4/2026-04-23/
LOCATION:Conception Bay South Public Library\, 10 Remembrance Square\, Conception Bay South\, NL\, Canada
CATEGORIES:Hobbies, Crafts & Games
ATTACH;FMTTYPE=image/jpeg:https://nlpl.ca/wp-content/uploads/2023/03/Events-Hobbies-Crafts-and-Games.jpg
ORGANIZER;CN="Conception Bay South Public Library":MAILTO:conceptionbaysouth@nlpl.ca
END:VEVENT
END:VCALENDAR