BEGIN:VCALENDAR
VERSION:2.0
PRODID:-//Newfoundland &amp; Labrador Public Libraries - ECPv6.15.20//NONSGML v1.0//EN
CALSCALE:GREGORIAN
METHOD:PUBLISH
X-WR-CALNAME:Newfoundland &amp; Labrador Public Libraries
X-ORIGINAL-URL:https://nlpl.ca
X-WR-CALDESC:Events for Newfoundland &amp; Labrador Public Libraries
REFRESH-INTERVAL;VALUE=DURATION:PT1H
X-Robots-Tag:noindex
X-PUBLISHED-TTL:PT1H
BEGIN:VTIMEZONE
TZID:America/St_Johns
BEGIN:DAYLIGHT
TZOFFSETFROM:-0330
TZOFFSETTO:-0230
TZNAME:NDT
DTSTART:20250309T053000
END:DAYLIGHT
BEGIN:STANDARD
TZOFFSETFROM:-0230
TZOFFSETTO:-0330
TZNAME:NST
DTSTART:20251102T043000
END:STANDARD
BEGIN:DAYLIGHT
TZOFFSETFROM:-0330
TZOFFSETTO:-0230
TZNAME:NDT
DTSTART:20260308T053000
END:DAYLIGHT
BEGIN:STANDARD
TZOFFSETFROM:-0230
TZOFFSETTO:-0330
TZNAME:NST
DTSTART:20261101T043000
END:STANDARD
BEGIN:DAYLIGHT
TZOFFSETFROM:-0330
TZOFFSETTO:-0230
TZNAME:NDT
DTSTART:20270314T053000
END:DAYLIGHT
BEGIN:STANDARD
TZOFFSETFROM:-0230
TZOFFSETTO:-0330
TZNAME:NST
DTSTART:20271107T043000
END:STANDARD
END:VTIMEZONE
BEGIN:VEVENT
DTSTART;TZID=America/St_Johns:20260722T130000
DTEND;TZID=America/St_Johns:20260722T153000
DTSTAMP:20260425T082027
CREATED:20260219T131709Z
LAST-MODIFIED:20260219T131709Z
UID:10059326-1784725200-1784734200@nlpl.ca
SUMMARY:Knitting Group
DESCRIPTION:Adult knitting group\, non-instructive. Join others who share in a love of knitting. Bring your projects and knit with friends\, old and new!
URL:https://nlpl.ca/events/knitting-group-2/2026-07-22/
LOCATION:Stephenville Public Library (Kindale)\, 45 Carolina Ave.\, Stephenville\, NL\, A2N 3P8\, Canada
CATEGORIES:Hobbies, Crafts & Games
ATTACH;FMTTYPE=image/jpeg:https://nlpl.ca/wp-content/uploads/2023/03/Events-Hobbies-Crafts-and-Games.jpg
END:VEVENT
BEGIN:VEVENT
DTSTART;TZID=America/St_Johns:20260722T180000
DTEND;TZID=America/St_Johns:20260722T200000
DTSTAMP:20260425T082027
CREATED:20260401T214000Z
LAST-MODIFIED:20260401T214000Z
UID:10060451-1784743200-1784750400@nlpl.ca
SUMMARY:Game Night
DESCRIPTION:Join us every second Wednesday for a relaxed evening of board games at the library! Whether you’re a seasoned strategist or just in it for the laughs\, there’s a seat at the table for everyone.
URL:https://nlpl.ca/events/game-night-2/2026-07-22/
LOCATION:St. Anthony Public Library\, 95 West Street\, St. Anthony\, NL\, A0K 4S0\, Canada
CATEGORIES:Hobbies, Crafts & Games
ATTACH;FMTTYPE=image/jpeg:https://nlpl.ca/wp-content/uploads/2023/03/Events-Hobbies-Crafts-and-Games.jpg
ORGANIZER;CN="St. Anthony Pbulic Library":MAILTO:nsa@ill.nlpl.ca
END:VEVENT
BEGIN:VEVENT
DTSTART;TZID=America/St_Johns:20260723T150000
DTEND;TZID=America/St_Johns:20260723T170000
DTSTAMP:20260425T082027
CREATED:20260423T154340Z
LAST-MODIFIED:20260423T154340Z
UID:10061583-1784818800-1784826000@nlpl.ca
SUMMARY:Free Lego Play Bay Roberts Public Library
DESCRIPTION:Every Thursday from 3 pm to 5 pm the library will have free Lego play at the library.
URL:https://nlpl.ca/events/free-lego-play-bay-roberts-public-library/2026-07-23/
LOCATION:NL
CATEGORIES:Hobbies, Crafts & Games
END:VEVENT
BEGIN:VEVENT
DTSTART;TZID=America/St_Johns:20260729T130000
DTEND;TZID=America/St_Johns:20260729T153000
DTSTAMP:20260425T082027
CREATED:20260219T131709Z
LAST-MODIFIED:20260219T131709Z
UID:10059327-1785330000-1785339000@nlpl.ca
SUMMARY:Knitting Group
DESCRIPTION:Adult knitting group\, non-instructive. Join others who share in a love of knitting. Bring your projects and knit with friends\, old and new!
URL:https://nlpl.ca/events/knitting-group-2/2026-07-29/
LOCATION:Stephenville Public Library (Kindale)\, 45 Carolina Ave.\, Stephenville\, NL\, A2N 3P8\, Canada
CATEGORIES:Hobbies, Crafts & Games
ATTACH;FMTTYPE=image/jpeg:https://nlpl.ca/wp-content/uploads/2023/03/Events-Hobbies-Crafts-and-Games.jpg
END:VEVENT
BEGIN:VEVENT
DTSTART;TZID=America/St_Johns:20260729T180000
DTEND;TZID=America/St_Johns:20260729T200000
DTSTAMP:20260425T082027
CREATED:20260401T215009Z
LAST-MODIFIED:20260401T215009Z
UID:10060482-1785348000-1785355200@nlpl.ca
SUMMARY:Craft and Chat
DESCRIPTION:In partnership with the Association for New Canadians\, join us every second Wednesday for Craft and Chat! Bring along your works-in-progress and enjoy a cozy evening of creativity and conversation with fellow makers.
URL:https://nlpl.ca/events/craft-and-chat/2026-07-29/
LOCATION:St. Anthony Public Library\, 95 West Street\, St. Anthony\, NL\, A0K 4S0\, Canada
CATEGORIES:Hobbies, Crafts & Games
ATTACH;FMTTYPE=image/jpeg:https://nlpl.ca/wp-content/uploads/2023/03/Events-Hobbies-Crafts-and-Games.jpg
ORGANIZER;CN="St. Anthony Pbulic Library":MAILTO:nsa@ill.nlpl.ca
END:VEVENT
BEGIN:VEVENT
DTSTART;TZID=America/St_Johns:20260730T150000
DTEND;TZID=America/St_Johns:20260730T170000
DTSTAMP:20260425T082027
CREATED:20260423T154340Z
LAST-MODIFIED:20260423T154340Z
UID:10061584-1785423600-1785430800@nlpl.ca
SUMMARY:Free Lego Play Bay Roberts Public Library
DESCRIPTION:Every Thursday from 3 pm to 5 pm the library will have free Lego play at the library.
URL:https://nlpl.ca/events/free-lego-play-bay-roberts-public-library/2026-07-30/
LOCATION:NL
CATEGORIES:Hobbies, Crafts & Games
END:VEVENT
BEGIN:VEVENT
DTSTART;TZID=America/St_Johns:20260805T130000
DTEND;TZID=America/St_Johns:20260805T153000
DTSTAMP:20260425T082027
CREATED:20260219T131709Z
LAST-MODIFIED:20260219T131709Z
UID:10059328-1785934800-1785943800@nlpl.ca
SUMMARY:Knitting Group
DESCRIPTION:Adult knitting group\, non-instructive. Join others who share in a love of knitting. Bring your projects and knit with friends\, old and new!
URL:https://nlpl.ca/events/knitting-group-2/2026-08-05/
LOCATION:Stephenville Public Library (Kindale)\, 45 Carolina Ave.\, Stephenville\, NL\, A2N 3P8\, Canada
CATEGORIES:Hobbies, Crafts & Games
ATTACH;FMTTYPE=image/jpeg:https://nlpl.ca/wp-content/uploads/2023/03/Events-Hobbies-Crafts-and-Games.jpg
END:VEVENT
BEGIN:VEVENT
DTSTART;TZID=America/St_Johns:20260805T180000
DTEND;TZID=America/St_Johns:20260805T200000
DTSTAMP:20260425T082027
CREATED:20260401T214000Z
LAST-MODIFIED:20260401T214000Z
UID:10060452-1785952800-1785960000@nlpl.ca
SUMMARY:Game Night
DESCRIPTION:Join us every second Wednesday for a relaxed evening of board games at the library! Whether you’re a seasoned strategist or just in it for the laughs\, there’s a seat at the table for everyone.
URL:https://nlpl.ca/events/game-night-2/2026-08-05/
LOCATION:St. Anthony Public Library\, 95 West Street\, St. Anthony\, NL\, A0K 4S0\, Canada
CATEGORIES:Hobbies, Crafts & Games
ATTACH;FMTTYPE=image/jpeg:https://nlpl.ca/wp-content/uploads/2023/03/Events-Hobbies-Crafts-and-Games.jpg
ORGANIZER;CN="St. Anthony Pbulic Library":MAILTO:nsa@ill.nlpl.ca
END:VEVENT
BEGIN:VEVENT
DTSTART;TZID=America/St_Johns:20260806T150000
DTEND;TZID=America/St_Johns:20260806T170000
DTSTAMP:20260425T082027
CREATED:20260423T154340Z
LAST-MODIFIED:20260423T154340Z
UID:10061585-1786028400-1786035600@nlpl.ca
SUMMARY:Free Lego Play Bay Roberts Public Library
DESCRIPTION:Every Thursday from 3 pm to 5 pm the library will have free Lego play at the library.
URL:https://nlpl.ca/events/free-lego-play-bay-roberts-public-library/2026-08-06/
LOCATION:NL
CATEGORIES:Hobbies, Crafts & Games
END:VEVENT
BEGIN:VEVENT
DTSTART;TZID=America/St_Johns:20260812T130000
DTEND;TZID=America/St_Johns:20260812T153000
DTSTAMP:20260425T082027
CREATED:20260219T131709Z
LAST-MODIFIED:20260219T131709Z
UID:10059329-1786539600-1786548600@nlpl.ca
SUMMARY:Knitting Group
DESCRIPTION:Adult knitting group\, non-instructive. Join others who share in a love of knitting. Bring your projects and knit with friends\, old and new!
URL:https://nlpl.ca/events/knitting-group-2/2026-08-12/
LOCATION:Stephenville Public Library (Kindale)\, 45 Carolina Ave.\, Stephenville\, NL\, A2N 3P8\, Canada
CATEGORIES:Hobbies, Crafts & Games
ATTACH;FMTTYPE=image/jpeg:https://nlpl.ca/wp-content/uploads/2023/03/Events-Hobbies-Crafts-and-Games.jpg
END:VEVENT
BEGIN:VEVENT
DTSTART;TZID=America/St_Johns:20260812T180000
DTEND;TZID=America/St_Johns:20260812T200000
DTSTAMP:20260425T082027
CREATED:20260401T215009Z
LAST-MODIFIED:20260401T215009Z
UID:10060483-1786557600-1786564800@nlpl.ca
SUMMARY:Craft and Chat
DESCRIPTION:In partnership with the Association for New Canadians\, join us every second Wednesday for Craft and Chat! Bring along your works-in-progress and enjoy a cozy evening of creativity and conversation with fellow makers.
URL:https://nlpl.ca/events/craft-and-chat/2026-08-12/
LOCATION:St. Anthony Public Library\, 95 West Street\, St. Anthony\, NL\, A0K 4S0\, Canada
CATEGORIES:Hobbies, Crafts & Games
ATTACH;FMTTYPE=image/jpeg:https://nlpl.ca/wp-content/uploads/2023/03/Events-Hobbies-Crafts-and-Games.jpg
ORGANIZER;CN="St. Anthony Pbulic Library":MAILTO:nsa@ill.nlpl.ca
END:VEVENT
BEGIN:VEVENT
DTSTART;TZID=America/St_Johns:20260813T150000
DTEND;TZID=America/St_Johns:20260813T170000
DTSTAMP:20260425T082027
CREATED:20260423T154340Z
LAST-MODIFIED:20260423T154340Z
UID:10061586-1786633200-1786640400@nlpl.ca
SUMMARY:Free Lego Play Bay Roberts Public Library
DESCRIPTION:Every Thursday from 3 pm to 5 pm the library will have free Lego play at the library.
URL:https://nlpl.ca/events/free-lego-play-bay-roberts-public-library/2026-08-13/
LOCATION:NL
CATEGORIES:Hobbies, Crafts & Games
END:VEVENT
BEGIN:VEVENT
DTSTART;TZID=America/St_Johns:20260819T130000
DTEND;TZID=America/St_Johns:20260819T153000
DTSTAMP:20260425T082027
CREATED:20260219T131709Z
LAST-MODIFIED:20260219T131709Z
UID:10059330-1787144400-1787153400@nlpl.ca
SUMMARY:Knitting Group
DESCRIPTION:Adult knitting group\, non-instructive. Join others who share in a love of knitting. Bring your projects and knit with friends\, old and new!
URL:https://nlpl.ca/events/knitting-group-2/2026-08-19/
LOCATION:Stephenville Public Library (Kindale)\, 45 Carolina Ave.\, Stephenville\, NL\, A2N 3P8\, Canada
CATEGORIES:Hobbies, Crafts & Games
ATTACH;FMTTYPE=image/jpeg:https://nlpl.ca/wp-content/uploads/2023/03/Events-Hobbies-Crafts-and-Games.jpg
END:VEVENT
BEGIN:VEVENT
DTSTART;TZID=America/St_Johns:20260819T180000
DTEND;TZID=America/St_Johns:20260819T200000
DTSTAMP:20260425T082027
CREATED:20260401T214000Z
LAST-MODIFIED:20260401T214000Z
UID:10060453-1787162400-1787169600@nlpl.ca
SUMMARY:Game Night
DESCRIPTION:Join us every second Wednesday for a relaxed evening of board games at the library! Whether you’re a seasoned strategist or just in it for the laughs\, there’s a seat at the table for everyone.
URL:https://nlpl.ca/events/game-night-2/2026-08-19/
LOCATION:St. Anthony Public Library\, 95 West Street\, St. Anthony\, NL\, A0K 4S0\, Canada
CATEGORIES:Hobbies, Crafts & Games
ATTACH;FMTTYPE=image/jpeg:https://nlpl.ca/wp-content/uploads/2023/03/Events-Hobbies-Crafts-and-Games.jpg
ORGANIZER;CN="St. Anthony Pbulic Library":MAILTO:nsa@ill.nlpl.ca
END:VEVENT
BEGIN:VEVENT
DTSTART;TZID=America/St_Johns:20260820T150000
DTEND;TZID=America/St_Johns:20260820T170000
DTSTAMP:20260425T082027
CREATED:20260423T154340Z
LAST-MODIFIED:20260423T154340Z
UID:10061587-1787238000-1787245200@nlpl.ca
SUMMARY:Free Lego Play Bay Roberts Public Library
DESCRIPTION:Every Thursday from 3 pm to 5 pm the library will have free Lego play at the library.
URL:https://nlpl.ca/events/free-lego-play-bay-roberts-public-library/2026-08-20/
LOCATION:NL
CATEGORIES:Hobbies, Crafts & Games
END:VEVENT
BEGIN:VEVENT
DTSTART;TZID=America/St_Johns:20260826T130000
DTEND;TZID=America/St_Johns:20260826T153000
DTSTAMP:20260425T082027
CREATED:20260219T131709Z
LAST-MODIFIED:20260219T131709Z
UID:10059331-1787749200-1787758200@nlpl.ca
SUMMARY:Knitting Group
DESCRIPTION:Adult knitting group\, non-instructive. Join others who share in a love of knitting. Bring your projects and knit with friends\, old and new!
URL:https://nlpl.ca/events/knitting-group-2/2026-08-26/
LOCATION:Stephenville Public Library (Kindale)\, 45 Carolina Ave.\, Stephenville\, NL\, A2N 3P8\, Canada
CATEGORIES:Hobbies, Crafts & Games
ATTACH;FMTTYPE=image/jpeg:https://nlpl.ca/wp-content/uploads/2023/03/Events-Hobbies-Crafts-and-Games.jpg
END:VEVENT
BEGIN:VEVENT
DTSTART;TZID=America/St_Johns:20260826T180000
DTEND;TZID=America/St_Johns:20260826T200000
DTSTAMP:20260425T082027
CREATED:20260401T215009Z
LAST-MODIFIED:20260401T215009Z
UID:10060484-1787767200-1787774400@nlpl.ca
SUMMARY:Craft and Chat
DESCRIPTION:In partnership with the Association for New Canadians\, join us every second Wednesday for Craft and Chat! Bring along your works-in-progress and enjoy a cozy evening of creativity and conversation with fellow makers.
URL:https://nlpl.ca/events/craft-and-chat/2026-08-26/
LOCATION:St. Anthony Public Library\, 95 West Street\, St. Anthony\, NL\, A0K 4S0\, Canada
CATEGORIES:Hobbies, Crafts & Games
ATTACH;FMTTYPE=image/jpeg:https://nlpl.ca/wp-content/uploads/2023/03/Events-Hobbies-Crafts-and-Games.jpg
ORGANIZER;CN="St. Anthony Pbulic Library":MAILTO:nsa@ill.nlpl.ca
END:VEVENT
BEGIN:VEVENT
DTSTART;TZID=America/St_Johns:20260827T150000
DTEND;TZID=America/St_Johns:20260827T170000
DTSTAMP:20260425T082027
CREATED:20260423T154340Z
LAST-MODIFIED:20260423T154340Z
UID:10061588-1787842800-1787850000@nlpl.ca
SUMMARY:Free Lego Play Bay Roberts Public Library
DESCRIPTION:Every Thursday from 3 pm to 5 pm the library will have free Lego play at the library.
URL:https://nlpl.ca/events/free-lego-play-bay-roberts-public-library/2026-08-27/
LOCATION:NL
CATEGORIES:Hobbies, Crafts & Games
END:VEVENT
BEGIN:VEVENT
DTSTART;TZID=America/St_Johns:20260902T130000
DTEND;TZID=America/St_Johns:20260902T153000
DTSTAMP:20260425T082027
CREATED:20260219T131709Z
LAST-MODIFIED:20260219T131709Z
UID:10059332-1788354000-1788363000@nlpl.ca
SUMMARY:Knitting Group
DESCRIPTION:Adult knitting group\, non-instructive. Join others who share in a love of knitting. Bring your projects and knit with friends\, old and new!
URL:https://nlpl.ca/events/knitting-group-2/2026-09-02/
LOCATION:Stephenville Public Library (Kindale)\, 45 Carolina Ave.\, Stephenville\, NL\, A2N 3P8\, Canada
CATEGORIES:Hobbies, Crafts & Games
ATTACH;FMTTYPE=image/jpeg:https://nlpl.ca/wp-content/uploads/2023/03/Events-Hobbies-Crafts-and-Games.jpg
END:VEVENT
BEGIN:VEVENT
DTSTART;TZID=America/St_Johns:20260902T180000
DTEND;TZID=America/St_Johns:20260902T200000
DTSTAMP:20260425T082027
CREATED:20260401T214000Z
LAST-MODIFIED:20260401T214000Z
UID:10060454-1788372000-1788379200@nlpl.ca
SUMMARY:Game Night
DESCRIPTION:Join us every second Wednesday for a relaxed evening of board games at the library! Whether you’re a seasoned strategist or just in it for the laughs\, there’s a seat at the table for everyone.
URL:https://nlpl.ca/events/game-night-2/2026-09-02/
LOCATION:St. Anthony Public Library\, 95 West Street\, St. Anthony\, NL\, A0K 4S0\, Canada
CATEGORIES:Hobbies, Crafts & Games
ATTACH;FMTTYPE=image/jpeg:https://nlpl.ca/wp-content/uploads/2023/03/Events-Hobbies-Crafts-and-Games.jpg
ORGANIZER;CN="St. Anthony Pbulic Library":MAILTO:nsa@ill.nlpl.ca
END:VEVENT
BEGIN:VEVENT
DTSTART;TZID=America/St_Johns:20260903T150000
DTEND;TZID=America/St_Johns:20260903T170000
DTSTAMP:20260425T082027
CREATED:20260423T154340Z
LAST-MODIFIED:20260423T154340Z
UID:10061589-1788447600-1788454800@nlpl.ca
SUMMARY:Free Lego Play Bay Roberts Public Library
DESCRIPTION:Every Thursday from 3 pm to 5 pm the library will have free Lego play at the library.
URL:https://nlpl.ca/events/free-lego-play-bay-roberts-public-library/2026-09-03/
LOCATION:NL
CATEGORIES:Hobbies, Crafts & Games
END:VEVENT
BEGIN:VEVENT
DTSTART;TZID=America/St_Johns:20260909T130000
DTEND;TZID=America/St_Johns:20260909T153000
DTSTAMP:20260425T082027
CREATED:20260219T131709Z
LAST-MODIFIED:20260219T131709Z
UID:10059333-1788958800-1788967800@nlpl.ca
SUMMARY:Knitting Group
DESCRIPTION:Adult knitting group\, non-instructive. Join others who share in a love of knitting. Bring your projects and knit with friends\, old and new!
URL:https://nlpl.ca/events/knitting-group-2/2026-09-09/
LOCATION:Stephenville Public Library (Kindale)\, 45 Carolina Ave.\, Stephenville\, NL\, A2N 3P8\, Canada
CATEGORIES:Hobbies, Crafts & Games
ATTACH;FMTTYPE=image/jpeg:https://nlpl.ca/wp-content/uploads/2023/03/Events-Hobbies-Crafts-and-Games.jpg
END:VEVENT
BEGIN:VEVENT
DTSTART;TZID=America/St_Johns:20260909T180000
DTEND;TZID=America/St_Johns:20260909T200000
DTSTAMP:20260425T082027
CREATED:20260401T215009Z
LAST-MODIFIED:20260401T215009Z
UID:10060485-1788976800-1788984000@nlpl.ca
SUMMARY:Craft and Chat
DESCRIPTION:In partnership with the Association for New Canadians\, join us every second Wednesday for Craft and Chat! Bring along your works-in-progress and enjoy a cozy evening of creativity and conversation with fellow makers.
URL:https://nlpl.ca/events/craft-and-chat/2026-09-09/
LOCATION:St. Anthony Public Library\, 95 West Street\, St. Anthony\, NL\, A0K 4S0\, Canada
CATEGORIES:Hobbies, Crafts & Games
ATTACH;FMTTYPE=image/jpeg:https://nlpl.ca/wp-content/uploads/2023/03/Events-Hobbies-Crafts-and-Games.jpg
ORGANIZER;CN="St. Anthony Pbulic Library":MAILTO:nsa@ill.nlpl.ca
END:VEVENT
BEGIN:VEVENT
DTSTART;TZID=America/St_Johns:20260910T150000
DTEND;TZID=America/St_Johns:20260910T170000
DTSTAMP:20260425T082027
CREATED:20260423T154340Z
LAST-MODIFIED:20260423T154340Z
UID:10061590-1789052400-1789059600@nlpl.ca
SUMMARY:Free Lego Play Bay Roberts Public Library
DESCRIPTION:Every Thursday from 3 pm to 5 pm the library will have free Lego play at the library.
URL:https://nlpl.ca/events/free-lego-play-bay-roberts-public-library/2026-09-10/
LOCATION:NL
CATEGORIES:Hobbies, Crafts & Games
END:VEVENT
BEGIN:VEVENT
DTSTART;TZID=America/St_Johns:20260916T130000
DTEND;TZID=America/St_Johns:20260916T153000
DTSTAMP:20260425T082027
CREATED:20260219T131709Z
LAST-MODIFIED:20260219T131709Z
UID:10059334-1789563600-1789572600@nlpl.ca
SUMMARY:Knitting Group
DESCRIPTION:Adult knitting group\, non-instructive. Join others who share in a love of knitting. Bring your projects and knit with friends\, old and new!
URL:https://nlpl.ca/events/knitting-group-2/2026-09-16/
LOCATION:Stephenville Public Library (Kindale)\, 45 Carolina Ave.\, Stephenville\, NL\, A2N 3P8\, Canada
CATEGORIES:Hobbies, Crafts & Games
ATTACH;FMTTYPE=image/jpeg:https://nlpl.ca/wp-content/uploads/2023/03/Events-Hobbies-Crafts-and-Games.jpg
END:VEVENT
BEGIN:VEVENT
DTSTART;TZID=America/St_Johns:20260916T180000
DTEND;TZID=America/St_Johns:20260916T200000
DTSTAMP:20260425T082027
CREATED:20260401T214000Z
LAST-MODIFIED:20260401T214000Z
UID:10060455-1789581600-1789588800@nlpl.ca
SUMMARY:Game Night
DESCRIPTION:Join us every second Wednesday for a relaxed evening of board games at the library! Whether you’re a seasoned strategist or just in it for the laughs\, there’s a seat at the table for everyone.
URL:https://nlpl.ca/events/game-night-2/2026-09-16/
LOCATION:St. Anthony Public Library\, 95 West Street\, St. Anthony\, NL\, A0K 4S0\, Canada
CATEGORIES:Hobbies, Crafts & Games
ATTACH;FMTTYPE=image/jpeg:https://nlpl.ca/wp-content/uploads/2023/03/Events-Hobbies-Crafts-and-Games.jpg
ORGANIZER;CN="St. Anthony Pbulic Library":MAILTO:nsa@ill.nlpl.ca
END:VEVENT
BEGIN:VEVENT
DTSTART;TZID=America/St_Johns:20260917T150000
DTEND;TZID=America/St_Johns:20260917T170000
DTSTAMP:20260425T082027
CREATED:20260423T154340Z
LAST-MODIFIED:20260423T154340Z
UID:10061591-1789657200-1789664400@nlpl.ca
SUMMARY:Free Lego Play Bay Roberts Public Library
DESCRIPTION:Every Thursday from 3 pm to 5 pm the library will have free Lego play at the library.
URL:https://nlpl.ca/events/free-lego-play-bay-roberts-public-library/2026-09-17/
LOCATION:NL
CATEGORIES:Hobbies, Crafts & Games
END:VEVENT
BEGIN:VEVENT
DTSTART;TZID=America/St_Johns:20260923T130000
DTEND;TZID=America/St_Johns:20260923T153000
DTSTAMP:20260425T082027
CREATED:20260219T131709Z
LAST-MODIFIED:20260219T131709Z
UID:10059335-1790168400-1790177400@nlpl.ca
SUMMARY:Knitting Group
DESCRIPTION:Adult knitting group\, non-instructive. Join others who share in a love of knitting. Bring your projects and knit with friends\, old and new!
URL:https://nlpl.ca/events/knitting-group-2/2026-09-23/
LOCATION:Stephenville Public Library (Kindale)\, 45 Carolina Ave.\, Stephenville\, NL\, A2N 3P8\, Canada
CATEGORIES:Hobbies, Crafts & Games
ATTACH;FMTTYPE=image/jpeg:https://nlpl.ca/wp-content/uploads/2023/03/Events-Hobbies-Crafts-and-Games.jpg
END:VEVENT
BEGIN:VEVENT
DTSTART;TZID=America/St_Johns:20260923T180000
DTEND;TZID=America/St_Johns:20260923T200000
DTSTAMP:20260425T082027
CREATED:20260401T215009Z
LAST-MODIFIED:20260401T215009Z
UID:10060486-1790186400-1790193600@nlpl.ca
SUMMARY:Craft and Chat
DESCRIPTION:In partnership with the Association for New Canadians\, join us every second Wednesday for Craft and Chat! Bring along your works-in-progress and enjoy a cozy evening of creativity and conversation with fellow makers.
URL:https://nlpl.ca/events/craft-and-chat/2026-09-23/
LOCATION:St. Anthony Public Library\, 95 West Street\, St. Anthony\, NL\, A0K 4S0\, Canada
CATEGORIES:Hobbies, Crafts & Games
ATTACH;FMTTYPE=image/jpeg:https://nlpl.ca/wp-content/uploads/2023/03/Events-Hobbies-Crafts-and-Games.jpg
ORGANIZER;CN="St. Anthony Pbulic Library":MAILTO:nsa@ill.nlpl.ca
END:VEVENT
BEGIN:VEVENT
DTSTART;TZID=America/St_Johns:20260924T150000
DTEND;TZID=America/St_Johns:20260924T170000
DTSTAMP:20260425T082027
CREATED:20260423T154340Z
LAST-MODIFIED:20260423T154340Z
UID:10061592-1790262000-1790269200@nlpl.ca
SUMMARY:Free Lego Play Bay Roberts Public Library
DESCRIPTION:Every Thursday from 3 pm to 5 pm the library will have free Lego play at the library.
URL:https://nlpl.ca/events/free-lego-play-bay-roberts-public-library/2026-09-24/
LOCATION:NL
CATEGORIES:Hobbies, Crafts & Games
END:VEVENT
END:VCALENDAR