BEGIN:VCALENDAR
VERSION:2.0
PRODID:-//Newfoundland &amp; Labrador Public Libraries - ECPv6.15.20//NONSGML v1.0//EN
CALSCALE:GREGORIAN
METHOD:PUBLISH
X-ORIGINAL-URL:https://nlpl.ca
X-WR-CALDESC:Events for Newfoundland &amp; Labrador Public Libraries
REFRESH-INTERVAL;VALUE=DURATION:PT1H
X-Robots-Tag:noindex
X-PUBLISHED-TTL:PT1H
BEGIN:VTIMEZONE
TZID:America/St_Johns
BEGIN:DAYLIGHT
TZOFFSETFROM:-0330
TZOFFSETTO:-0230
TZNAME:NDT
DTSTART:20250309T053000
END:DAYLIGHT
BEGIN:STANDARD
TZOFFSETFROM:-0230
TZOFFSETTO:-0330
TZNAME:NST
DTSTART:20251102T043000
END:STANDARD
BEGIN:DAYLIGHT
TZOFFSETFROM:-0330
TZOFFSETTO:-0230
TZNAME:NDT
DTSTART:20260308T053000
END:DAYLIGHT
BEGIN:STANDARD
TZOFFSETFROM:-0230
TZOFFSETTO:-0330
TZNAME:NST
DTSTART:20261101T043000
END:STANDARD
BEGIN:DAYLIGHT
TZOFFSETFROM:-0330
TZOFFSETTO:-0230
TZNAME:NDT
DTSTART:20270314T053000
END:DAYLIGHT
BEGIN:STANDARD
TZOFFSETFROM:-0230
TZOFFSETTO:-0330
TZNAME:NST
DTSTART:20271107T043000
END:STANDARD
END:VTIMEZONE
BEGIN:VEVENT
DTSTART;TZID=America/St_Johns:20260407T140000
DTEND;TZID=America/St_Johns:20260407T153000
DTSTAMP:20260421T100917
CREATED:20260103T140335Z
LAST-MODIFIED:20260325T214626Z
UID:10060255-1775570400-1775575800@nlpl.ca
SUMMARY:BabyTime StoryTime
DESCRIPTION:Stories\, songs and rhymes for babies (ages 0-2) and parents/caregivers followed by playtime.
URL:https://nlpl.ca/events/babytime-storytime/2026-04-07/
LOCATION:Corner Brook Public Library\, 4 West Street\, Corner Brook\, NL\, A2H 0C1\, Canada
CATEGORIES:Kids & Families,Storytime
END:VEVENT
BEGIN:VEVENT
DTSTART;TZID=America/St_Johns:20260407T143000
DTEND;TZID=America/St_Johns:20260407T153000
DTSTAMP:20260421T100917
CREATED:20260123T172135Z
LAST-MODIFIED:20260123T172222Z
UID:10057101-1775572200-1775575800@nlpl.ca
SUMMARY:Discovery Club - Spring Break
DESCRIPTION:A registered program at A.C. Hunter Children’s Library \nSpring Break Discovery Club for ages 6-10 \nAn hour of hands-on fun with our friends from Conservation NL!  \nTues April 7 at 2:30pm & Thurs April 9 at 2:30\n(please register for each program separately) \n Registration for all Spring Break programs opens Friday Mar 20 at 9:30am. Click the above link to register or call us at 709-737-3953.
URL:https://nlpl.ca/events/discovery-club-4/
LOCATION:St. John’s – A.C. Hunter Children’s Public Library\, 95 Allandale Road\, St. John's\, NL\, A1E 3A3\, Canada
CATEGORIES:Hobbies, Crafts & Games,Kids & Families
END:VEVENT
BEGIN:VEVENT
DTSTART;TZID=America/St_Johns:20260407T153000
DTEND;TZID=America/St_Johns:20260407T163000
DTSTAMP:20260421T100917
CREATED:20250821T155247Z
LAST-MODIFIED:20260415T221903Z
UID:10059528-1775575800-1775579400@nlpl.ca
SUMMARY:Baby Play Group
DESCRIPTION:Drop in to the Conception Bay South Public Library where the storytime room  will be open for baby play time\, with baby-friendly toys available! This is a drop-in program\, best suited for ages 0-2.
URL:https://nlpl.ca/events/baby-play-group/2026-04-07/
LOCATION:Conception Bay South Public Library\, 10 Remembrance Square\, Conception Bay South\, NL\, Canada
CATEGORIES:Kids & Families
ATTACH;FMTTYPE=image/jpeg:https://nlpl.ca/wp-content/uploads/2023/03/Events-Kid-Families.jpg
END:VEVENT
BEGIN:VEVENT
DTSTART;TZID=America/St_Johns:20260407T160000
DTEND;TZID=America/St_Johns:20260407T170000
DTSTAMP:20260421T100917
CREATED:20260327T185026Z
LAST-MODIFIED:20260327T185048Z
UID:10059564-1775577600-1775581200@nlpl.ca
SUMMARY:Drop in and Play
DESCRIPTION:This event will be ongoing throughout the summer. Drop in and play hour is every Tuesday  from 2:30 p.m. to 5 p.m.  children must be accompanied by an adult. Please call the library at \n709-266-2210 for more information. \n\n\n\n\n Add to calendar
URL:https://nlpl.ca/events/drop-in-and-play-2-2-2-2-2-2-2-2-2-2/2026-04-07/
LOCATION:Fogo Island Public Library\, 1 Iceberg Arena Road\, Fogo Island Central\, NL\, A0G 2B0\, Canada
CATEGORIES:Kids & Families
END:VEVENT
BEGIN:VEVENT
DTSTART;TZID=America/St_Johns:20260407T183000
DTEND;TZID=America/St_Johns:20260407T190000
DTSTAMP:20260421T100917
CREATED:20260105T134733Z
LAST-MODIFIED:20260312T153536Z
UID:10059879-1775586600-1775588400@nlpl.ca
SUMMARY:Bedtime Family Storytime
DESCRIPTION:Harmsworth Public Library – A 30-minute interactive program celebrating books\, rhymes\, movement\, songs\, and fun that is perfect for families with multiple children\, ages 0-5
URL:https://nlpl.ca/events/bedtime-family-storytime-2/2026-04-07/
LOCATION:Grand Falls-Windsor (Harmsworth) Public Library\, 1 Cromer Avenue\, Grand Falls - Windsor\, NL\, A2A 1W9\, Canada
CATEGORIES:Kids & Families
ATTACH;FMTTYPE=image/jpeg:https://nlpl.ca/wp-content/uploads/2023/03/Events-Kid-Families.jpg
END:VEVENT
BEGIN:VEVENT
DTSTART;TZID=America/St_Johns:20260408T100000
DTEND;TZID=America/St_Johns:20260408T103000
DTSTAMP:20260421T100917
CREATED:20260312T152024Z
LAST-MODIFIED:20260330T115000Z
UID:10060406-1775642400-1775644200@nlpl.ca
SUMMARY:Spring Baby Storytime A - Wednesdays @10 am
DESCRIPTION:Embark on an exciting literacy adventure with your baby! \nJoin us for our 6-week winter session as we sing songs\, read engaging stories\, and enjoy some movement activities all while practicing our early literacy skills. Stick around afterwards for 30 minutes of free playtime and get to know your fellow parents. \nTime: 10 am\, on Wednesdays\nAges: 0 – 18 months\nRegister online\, in-person\, or by calling the library at 709-737-3020\nThis registration is for all 6 sessions. First session is on April 8th\, 2026. \n 
URL:https://nlpl.ca/events/spring-baby-storytime-a-wednesdays-10-am/2026-04-08/
LOCATION:St. John’s – Marjorie Mews Public Library\, 12 Highland Drive\, St. John's\, NL\, A1A 3C4\, Canada
CATEGORIES:Storytime
ATTACH;FMTTYPE=image/jpeg:https://nlpl.ca/wp-content/uploads/2023/03/Events-Kid-Families.jpg
ORGANIZER;CN="St. John's - Marjorie Mews Public Library":MAILTO:MarjorieMews-Programming@nlpl.ca
END:VEVENT
BEGIN:VEVENT
DTSTART;TZID=America/St_Johns:20260408T100000
DTEND;TZID=America/St_Johns:20260408T120000
DTSTAMP:20260421T100917
CREATED:20260128T164153Z
LAST-MODIFIED:20260128T164153Z
UID:10057134-1775642400-1775649600@nlpl.ca
SUMMARY:Spring Break LEGO drop-in
DESCRIPTION:A drop in program at A.C. Hunter Children’s Library. \nLego Free Play! \nDrop in Tuesday to Thursday mornings during spring break to play with LEGO. Ages 4 and up are welcome. \nNo registration required. \nTues April 7 – 10:00am to 12:00pm\nWed April 8 -10:00am to 12:00pm\nThurs April 9 -10:00am to 12:00pm
URL:https://nlpl.ca/events/spring-break-lego-drop-in/2026-04-08/
LOCATION:St. John’s – A.C. Hunter Children’s Public Library\, 95 Allandale Road\, St. John's\, NL\, A1E 3A3\, Canada
CATEGORIES:Hobbies, Crafts & Games,Kids & Families
END:VEVENT
BEGIN:VEVENT
DTSTART;TZID=America/St_Johns:20260408T100000
DTEND;TZID=America/St_Johns:20260408T120000
DTSTAMP:20260421T100917
CREATED:20260220T192100Z
LAST-MODIFIED:20260220T192101Z
UID:10057132-1775642400-1775649600@nlpl.ca
SUMMARY:Tween Drama Days
DESCRIPTION:A registered program at A.C. Hunter Children’s Library.  \nTween Drama Days for ages 9-13 \nJoin Ms Tracy for two mornings of improv games\, short skits and drama techniques! \nWed Apr 8 and Thurs Apr 9 10:00am to 12:00pm \n  \nRegistration for all Spring Break programs opens Friday Mar 20 at 9:30am. Click the above link to register or call us at 709-737-3953.
URL:https://nlpl.ca/events/tween-drama-days-2/
LOCATION:St. John’s – A.C. Hunter Children’s Public Library\, 95 Allandale Road\, St. John's\, NL\, A1E 3A3\, Canada
CATEGORIES:Classes & Workshops,Kids & Families
END:VEVENT
BEGIN:VEVENT
DTSTART;TZID=America/St_Johns:20260408T110000
DTEND;TZID=America/St_Johns:20260408T120000
DTSTAMP:20260421T100917
CREATED:20260327T184912Z
LAST-MODIFIED:20260327T184935Z
UID:10060370-1775646000-1775649600@nlpl.ca
SUMMARY:Preschool Storytime and Crafts
DESCRIPTION:Come join us for Storytime\, Rhymes\, Art and crafts. \nEvery Wednesday @ 2pm.
URL:https://nlpl.ca/events/preschool-storytime-and-crafts-3-2-3-2-2-2-2-2-2/2026-04-08/
LOCATION:Fogo Island Public Library\, 1 Iceberg Arena Road\, Fogo Island Central\, NL\, A0G 2B0\, Canada
CATEGORIES:Kids & Families
END:VEVENT
BEGIN:VEVENT
DTSTART;TZID=America/St_Johns:20260408T140000
DTEND;TZID=America/St_Johns:20260408T150000
DTSTAMP:20260421T100917
CREATED:20260305T170949Z
LAST-MODIFIED:20260305T171132Z
UID:10059719-1775656800-1775660400@nlpl.ca
SUMMARY:Children’s Story Time
DESCRIPTION:Pre-registration is mandatory for each Children’s Story Time
URL:https://nlpl.ca/events/childrens-story-time/2026-04-08/
LOCATION:Deer Lake Public Library\, 4 Poplar Road\, Deer Lake\, NL\, A8A 1Z4\, Canada
CATEGORIES:Kids & Families,Storytime
END:VEVENT
BEGIN:VEVENT
DTSTART;TZID=America/St_Johns:20260408T140000
DTEND;TZID=America/St_Johns:20260408T153000
DTSTAMP:20260421T100917
CREATED:20260128T162014Z
LAST-MODIFIED:20260402T172419Z
UID:10057104-1775656800-1775662200@nlpl.ca
SUMMARY:Junior Seed Librarians
DESCRIPTION:A registered program at A.C. Hunter Children’s Library. \nThis program has been cancelled – we apologize for the inconvenience.  \nJunior Seed Librarians – ages 6-12\nStart growing plants from seeds in this hands-on gardening program!\nWed April 8th 2:00pm \nThis is the first in a series of monthly gardening programs. Join us for individual sessions\, or come back every month to see our plants grow. \n  \n Registration for all Spring Break programs opens Friday Mar 20 at 9:30am. Click the above link to register or call us at 709-737-3953.
URL:https://nlpl.ca/events/junior-seed-librarians/
LOCATION:St. John’s – A.C. Hunter Children’s Public Library\, 95 Allandale Road\, St. John's\, NL\, A1E 3A3\, Canada
CATEGORIES:Classes & Workshops,Kids & Families
END:VEVENT
BEGIN:VEVENT
DTSTART;TZID=America/St_Johns:20260408T140000
DTEND;TZID=America/St_Johns:20260408T160000
DTSTAMP:20260421T100917
CREATED:20260202T192039Z
LAST-MODIFIED:20260202T192039Z
UID:10058032-1775656800-1775664000@nlpl.ca
SUMMARY:Drop-in Sensory Play
DESCRIPTION:Our library has acquired a small sensory table. \nEach Wednesday afternoon from 2-4pm we will have it out for free play. \nAll ages are welcome\, best suited to toddler and preschool age.
URL:https://nlpl.ca/events/drop-in-sensory-play/2026-04-08/
LOCATION:Labrador City Public Library\, 306 Hudson Dr.\, Labrador City\, NL\, A2V 1L5\, Canada
CATEGORIES:Kids & Families
ATTACH;FMTTYPE=image/jpeg:https://nlpl.ca/wp-content/uploads/2023/03/Events-Kid-Families.jpg
END:VEVENT
BEGIN:VEVENT
DTSTART;TZID=America/St_Johns:20260408T143000
DTEND;TZID=America/St_Johns:20260408T163000
DTSTAMP:20260421T100917
CREATED:20260406T120828Z
LAST-MODIFIED:20260406T120828Z
UID:10060564-1775658600-1775665800@nlpl.ca
SUMMARY:I [heart] Art - drop in craft event
DESCRIPTION:A drop-in event at A.C. Hunter Children’s Library. \nI <3  Art! \nAges 4-12 are welcome to drop by the library for free form crafting with our art supplies. \nWednesday April 8 2:30 to 4:30pm \nAll children must be accompanied by an adult caregiver.  \nNo registration required.
URL:https://nlpl.ca/events/i-heart-art-drop-in-craft-event/
LOCATION:St. John’s – A.C. Hunter Children’s Public Library\, 95 Allandale Road\, St. John's\, NL\, A1E 3A3\, Canada
CATEGORIES:Arts & Culture,Kids & Families
END:VEVENT
BEGIN:VEVENT
DTSTART;TZID=America/St_Johns:20260409T100000
DTEND;TZID=America/St_Johns:20260409T110000
DTSTAMP:20260421T100917
CREATED:20260401T215530Z
LAST-MODIFIED:20260401T215530Z
UID:10060504-1775728800-1775732400@nlpl.ca
SUMMARY:Little Learners
DESCRIPTION:Join us in a fun and relaxed setting where kids can enjoy stories\, crafts\, STEM activities\, and more!
URL:https://nlpl.ca/events/little-learners/2026-04-09/
LOCATION:St. Anthony Public Library\, 95 West Street\, St. Anthony\, NL\, A0K 4S0\, Canada
CATEGORIES:Kids & Families
ATTACH;FMTTYPE=image/jpeg:https://nlpl.ca/wp-content/uploads/2023/03/Events-Kid-Families.jpg
ORGANIZER;CN="St. Anthony Pbulic Library":MAILTO:nsa@ill.nlpl.ca
END:VEVENT
BEGIN:VEVENT
DTSTART;TZID=America/St_Johns:20260409T100000
DTEND;TZID=America/St_Johns:20260409T120000
DTSTAMP:20260421T100917
CREATED:20260128T164153Z
LAST-MODIFIED:20260128T164153Z
UID:10057135-1775728800-1775736000@nlpl.ca
SUMMARY:Spring Break LEGO drop-in
DESCRIPTION:A drop in program at A.C. Hunter Children’s Library. \nLego Free Play! \nDrop in Tuesday to Thursday mornings during spring break to play with LEGO. Ages 4 and up are welcome. \nNo registration required. \nTues April 7 – 10:00am to 12:00pm\nWed April 8 -10:00am to 12:00pm\nThurs April 9 -10:00am to 12:00pm
URL:https://nlpl.ca/events/spring-break-lego-drop-in/2026-04-09/
LOCATION:St. John’s – A.C. Hunter Children’s Public Library\, 95 Allandale Road\, St. John's\, NL\, A1E 3A3\, Canada
CATEGORIES:Hobbies, Crafts & Games,Kids & Families
END:VEVENT
BEGIN:VEVENT
DTSTART;TZID=America/St_Johns:20260409T100000
DTEND;TZID=America/St_Johns:20260409T120000
DTSTAMP:20260421T100917
CREATED:20260220T192206Z
LAST-MODIFIED:20260220T192207Z
UID:10057103-1775728800-1775736000@nlpl.ca
SUMMARY:Tween Drama Days
DESCRIPTION:A registered program at A.C. Hunter Children’s Library.  \nTween Drama Days for ages 9-13 \nJoin Ms Tracy for two mornings of improv games\, short skits and drama techniques! \nWed Apr 8 and Thurs Apr 9 10:00am to 12:00pm \n  \nRegistration for all Spring Break programs opens Friday Mar 20 at 9:30am. Click the above link to register or call us at 709-737-3953.
URL:https://nlpl.ca/events/tween-drama-days-3/
LOCATION:St. John’s – A.C. Hunter Children’s Public Library\, 95 Allandale Road\, St. John's\, NL\, A1E 3A3\, Canada
CATEGORIES:Classes & Workshops,Kids & Families
END:VEVENT
BEGIN:VEVENT
DTSTART;TZID=America/St_Johns:20260409T140000
DTEND;TZID=America/St_Johns:20260409T153000
DTSTAMP:20260421T100917
CREATED:20260123T172313Z
LAST-MODIFIED:20260407T170650Z
UID:10057102-1775743200-1775748600@nlpl.ca
SUMMARY:Discovery Club - Spring Break
DESCRIPTION:A registered program at A.C. Hunter Children’s Library \nSpring Break Discovery Club for ages 6-10 \nAn hour of hands-on fun with our friends from Conservation NL!  \nTues April 7 at 2:00pm & Thurs April 9 at 2:00\n(please register for each program separately) \n Registration for all Spring Break programs opens Friday Mar 20 at 9:30am. Click the above link to register or call us at 709-737-3953.
URL:https://nlpl.ca/events/discovery-club-spring-break/
LOCATION:St. John’s – A.C. Hunter Children’s Public Library\, 95 Allandale Road\, St. John's\, NL\, A1E 3A3\, Canada
CATEGORIES:Hobbies, Crafts & Games,Kids & Families
END:VEVENT
BEGIN:VEVENT
DTSTART;TZID=America/St_Johns:20260410T093000
DTEND;TZID=America/St_Johns:20260410T113000
DTSTAMP:20260421T100917
CREATED:20251016T165338Z
LAST-MODIFIED:20251128T213700Z
UID:10052654-1775813400-1775820600@nlpl.ca
SUMMARY:Friday Free Play for Babies and Toddlers
DESCRIPTION:A drop-in weekly program at A.C. Hunter Children’s Library \nPlaygroup for ages 0-3. \nEvery Friday\, we open our playroom from 9:30 to 11:30am for babies and tots to play – a great chance to meet other caregivers! \nNo registration necessary.
URL:https://nlpl.ca/events/friday-free-play-for-babies-and-toddlers/2026-04-10/
LOCATION:St. John’s – A.C. Hunter Children’s Public Library\, 95 Allandale Road\, St. John's\, NL\, A1E 3A3\, Canada
CATEGORIES:Kids & Families,Storytime
ATTACH;FMTTYPE=image/jpeg:https://nlpl.ca/wp-content/uploads/2023/03/Events-Kid-Families.jpg
END:VEVENT
BEGIN:VEVENT
DTSTART;TZID=America/St_Johns:20260410T100000
DTEND;TZID=America/St_Johns:20260410T103000
DTSTAMP:20260421T100917
CREATED:20260225T131033Z
LAST-MODIFIED:20260225T131143Z
UID:10059500-1775815200-1775817000@nlpl.ca
SUMMARY:Storytime
DESCRIPTION:Gander Public Library – A 30 minute interactive program celebrating books\, rhymes\, movement\, songs and fun\, ages 0-5 years.
URL:https://nlpl.ca/events/family-storytime-13-2-2-2-2-2/2026-04-10/
LOCATION:Gander Public & Resource Library\, 6 Bell Place\, Gander\, NL\, A1V 1X2\, Canada
CATEGORIES:Kids & Families
ATTACH;FMTTYPE=image/jpeg:https://nlpl.ca/wp-content/uploads/2023/03/Events-Kid-Families.jpg
END:VEVENT
BEGIN:VEVENT
DTSTART;TZID=America/St_Johns:20260410T100000
DTEND;TZID=America/St_Johns:20260410T103000
DTSTAMP:20260421T100917
CREATED:20260312T151630Z
LAST-MODIFIED:20260330T114856Z
UID:10060412-1775815200-1775817000@nlpl.ca
SUMMARY:Spring Baby Storytime B - Fridays @10 am
DESCRIPTION:Embark on an exciting literacy adventure with your baby! \nJoin us for our 6-week winter session as we sing songs\, read engaging stories\, and enjoy some movement activities all while practicing our early literacy skills. Stick around afterwards for 30 minutes of free playtime and get to know your fellow parents. \nTime: 10am\, on Fridays\nAges: 0 – 18 months\nRegister online\, in-person\, or by calling the library at 709-737-3020\nThis registration is for all 6 sessions. First session is on April 10\,2026
URL:https://nlpl.ca/events/spring-baby-storytime-b-fridays-10-am/2026-04-10/
LOCATION:St. John’s – Marjorie Mews Public Library\, 12 Highland Drive\, St. John's\, NL\, A1A 3C4\, Canada
CATEGORIES:Storytime
ATTACH;FMTTYPE=image/jpeg:https://nlpl.ca/wp-content/uploads/2023/03/Events-Kid-Families.jpg
ORGANIZER;CN="St. John's - Marjorie Mews Public Library":MAILTO:MarjorieMews-Programming@nlpl.ca
END:VEVENT
BEGIN:VEVENT
DTSTART;TZID=America/St_Johns:20260410T100000
DTEND;TZID=America/St_Johns:20260410T120000
DTSTAMP:20260421T100917
CREATED:20260401T140130Z
LAST-MODIFIED:20260401T140130Z
UID:10060431-1775815200-1775822400@nlpl.ca
SUMMARY:Homeschool Hangout
DESCRIPTION:
URL:https://nlpl.ca/events/homeschool-hangout/2026-04-10/
LOCATION:Corner Brook Public Library\, 4 West Street\, Corner Brook\, NL\, A2H 0C1\, Canada
CATEGORIES:Kids & Families
END:VEVENT
BEGIN:VEVENT
DTSTART;TZID=America/St_Johns:20260410T101500
DTEND;TZID=America/St_Johns:20260410T114500
DTSTAMP:20260421T100917
CREATED:20251028T175624Z
LAST-MODIFIED:20260415T222620Z
UID:10061494-1775816100-1775821500@nlpl.ca
SUMMARY:Musical Munchkins
DESCRIPTION:Drop in to the Conception Bay South Public Library for Musical Munchkins! Hosted By the Family Resource Center.\nThis is a drop-in music and rhyme time for babies (newborn until walking) and their caregiver.
URL:https://nlpl.ca/events/musical-munchkins-2-3-2/2026-04-10/
LOCATION:Conception Bay South Public Library\, 10 Remembrance Square\, Conception Bay South\, NL\, Canada
CATEGORIES:Kids & Families
ATTACH;FMTTYPE=image/jpeg:https://nlpl.ca/wp-content/uploads/2023/03/Events-Kid-Families.jpg
END:VEVENT
BEGIN:VEVENT
DTSTART;TZID=America/St_Johns:20260410T103000
DTEND;TZID=America/St_Johns:20260410T110000
DTSTAMP:20260421T100917
CREATED:20260105T135443Z
LAST-MODIFIED:20260312T152214Z
UID:10059897-1775817000-1775818800@nlpl.ca
SUMMARY:Family Storytime
DESCRIPTION:Harmsworth Public Library – A 30-minute interactive program celebrating books\, rhymes\, movement\, songs\, and fun that is perfect for families with multiple children\, ages 0-5
URL:https://nlpl.ca/events/family-storytime-3/2026-04-10/
LOCATION:Grand Falls-Windsor (Harmsworth) Public Library\, 1 Cromer Avenue\, Grand Falls - Windsor\, NL\, A2A 1W9\, Canada
CATEGORIES:Kids & Families
ATTACH;FMTTYPE=image/jpeg:https://nlpl.ca/wp-content/uploads/2023/03/Events-Kid-Families.jpg
END:VEVENT
BEGIN:VEVENT
DTSTART;TZID=America/St_Johns:20260410T104500
DTEND;TZID=America/St_Johns:20260410T111500
DTSTAMP:20260421T100917
CREATED:20260225T130756Z
LAST-MODIFIED:20260225T130917Z
UID:10059495-1775817900-1775819700@nlpl.ca
SUMMARY:Baby Rhyme Time
DESCRIPTION:Grander Public Library – A program for babies and their caregivers that teaches new stories\, songs\, rhymes and more in an interactive early literacy rich environment. Babies 0-18 months.
URL:https://nlpl.ca/events/baby-circle-time-5-2-2-2-2-2/2026-04-10/
LOCATION:Gander Public & Resource Library\, 6 Bell Place\, Gander\, NL\, A1V 1X2\, Canada
CATEGORIES:Kids & Families
ATTACH;FMTTYPE=image/jpeg:https://nlpl.ca/wp-content/uploads/2023/03/Events-Kid-Families.jpg
END:VEVENT
BEGIN:VEVENT
DTSTART;TZID=America/St_Johns:20260410T130000
DTEND;TZID=America/St_Johns:20260410T150000
DTSTAMP:20260421T100917
CREATED:20260319T170115Z
LAST-MODIFIED:20260319T170116Z
UID:10056779-1775826000-1775833200@nlpl.ca
SUMMARY:Drop In Play
DESCRIPTION:Visit the Port aux Basques Public Library every Friday afternoon for Drop In Play! A number of toys are available for free play. Enjoy a chance to get out of the house and socialize with other kids and caregivers.
URL:https://nlpl.ca/events/drop-in-play-2/2026-04-10/
LOCATION:Port aux Basques Public Library\, 8 Grand Bay\, Port aux Basques\, NL\, A0M 1C0\, Canada
CATEGORIES:Kids & Families
ATTACH;FMTTYPE=image/jpeg:https://nlpl.ca/wp-content/uploads/2023/03/Events-Kid-Families.jpg
END:VEVENT
BEGIN:VEVENT
DTSTART;TZID=America/St_Johns:20260410T140000
DTEND;TZID=America/St_Johns:20260410T160000
DTSTAMP:20260421T100917
CREATED:20260105T135729Z
LAST-MODIFIED:20260312T152751Z
UID:10059886-1775829600-1775836800@nlpl.ca
SUMMARY:Lego Free Play
DESCRIPTION:Harmsworth Public Library – What will you create? Create something fun at our LEGO free play!
URL:https://nlpl.ca/events/lego-free-play-6-2-2/2026-04-10/
LOCATION:Grand Falls-Windsor (Harmsworth) Public Library\, 1 Cromer Avenue\, Grand Falls - Windsor\, NL\, A2A 1W9\, Canada
CATEGORIES:Kids & Families
ATTACH;FMTTYPE=image/jpeg:https://nlpl.ca/wp-content/uploads/2023/03/Events-Kid-Families.jpg
END:VEVENT
BEGIN:VEVENT
DTSTART;TZID=America/St_Johns:20260410T140000
DTEND;TZID=America/St_Johns:20260410T163000
DTSTAMP:20260421T100917
CREATED:20260103T152206Z
LAST-MODIFIED:20260325T214908Z
UID:10060289-1775829600-1775838600@nlpl.ca
SUMMARY:LegoTime
DESCRIPTION:Show off your creativity and imagination with this drop-in program suitable for children of all ages (Lego recommended for ages 3+ and Duplo bricks available for younger siblings).
URL:https://nlpl.ca/events/legotime/2026-04-10/
LOCATION:Corner Brook Public Library\, 4 West Street\, Corner Brook\, NL\, A2H 0C1\, Canada
CATEGORIES:Kids & Families
END:VEVENT
BEGIN:VEVENT
DTSTART;TZID=America/St_Johns:20260410T143000
DTEND;TZID=America/St_Johns:20260410T163000
DTSTAMP:20260421T100917
CREATED:20260123T152158Z
LAST-MODIFIED:20260410T130425Z
UID:10057099-1775831400-1775838600@nlpl.ca
SUMMARY:Percy Jackson Book Party
DESCRIPTION:A registered event at A.C. Hunter Children’s Library. \nPercy Jackson Book Party \nCalling all fans of the Percy Jackson and the Olympians! Join us for an afternoon of activities\, games\, crafts\, trivia\, and more all about Rick Riordan’s famous books.\nFor ages 8-12 \nFriday April 10 2:30 to 4:30pm \nAll Spring Break events will begin registration on March 20th – click the link above or call 709-737-3953 to register.
URL:https://nlpl.ca/events/percy/
LOCATION:St. John’s – A.C. Hunter Children’s Public Library\, 95 Allandale Road\, St. John's\, NL\, A1E 3A3\, Canada
CATEGORIES:Book Clubs & Writer’s Groups,Hobbies, Crafts & Games,Kids & Families
END:VEVENT
BEGIN:VEVENT
DTSTART;TZID=America/St_Johns:20260410T150000
DTEND;TZID=America/St_Johns:20260410T160000
DTSTAMP:20260421T100917
CREATED:20260320T131213Z
LAST-MODIFIED:20260410T162504Z
UID:10060074-1775833200-1775836800@nlpl.ca
SUMMARY:Stained Glass Butterfly Craft
DESCRIPTION:Let your creativity shine and make beautiful stained glass butterflies with tissue paper!\nfor ages 6-8\n 
URL:https://nlpl.ca/events/sgbc/
LOCATION:St. John’s – Michael Donovan Public Library\, 655 Topsail Rd\, St. John's\, NL\, A1E 2E3\, Canada
CATEGORIES:Hobbies, Crafts & Games,Kids & Families
END:VEVENT
BEGIN:VEVENT
DTSTART;TZID=America/St_Johns:20260410T150000
DTEND;TZID=America/St_Johns:20260410T160000
DTSTAMP:20260421T100917
CREATED:20260327T184018Z
LAST-MODIFIED:20260327T184046Z
UID:10059545-1775833200-1775836800@nlpl.ca
SUMMARY:Lego Free Play Afternoon
DESCRIPTION:Let your imagination run wild with Legos. \nBuild and create.
URL:https://nlpl.ca/events/lego-free-play-afternoon-3-2-2-2-2-2-2-2-2-2-2/2026-04-10/
LOCATION:Fogo Island Public Library\, 1 Iceberg Arena Road\, Fogo Island Central\, NL\, A0G 2B0\, Canada
CATEGORIES:Kids & Families
END:VEVENT
END:VCALENDAR