BEGIN:VCALENDAR
VERSION:2.0
PRODID:-//Newfoundland &amp; Labrador Public Libraries - ECPv6.15.20//NONSGML v1.0//EN
CALSCALE:GREGORIAN
METHOD:PUBLISH
X-WR-CALNAME:Newfoundland &amp; Labrador Public Libraries
X-ORIGINAL-URL:https://nlpl.ca
X-WR-CALDESC:Events for Newfoundland &amp; Labrador Public Libraries
REFRESH-INTERVAL;VALUE=DURATION:PT1H
X-Robots-Tag:noindex
X-PUBLISHED-TTL:PT1H
BEGIN:VTIMEZONE
TZID:America/St_Johns
BEGIN:DAYLIGHT
TZOFFSETFROM:-0330
TZOFFSETTO:-0230
TZNAME:NDT
DTSTART:20250309T053000
END:DAYLIGHT
BEGIN:STANDARD
TZOFFSETFROM:-0230
TZOFFSETTO:-0330
TZNAME:NST
DTSTART:20251102T043000
END:STANDARD
BEGIN:DAYLIGHT
TZOFFSETFROM:-0330
TZOFFSETTO:-0230
TZNAME:NDT
DTSTART:20260308T053000
END:DAYLIGHT
BEGIN:STANDARD
TZOFFSETFROM:-0230
TZOFFSETTO:-0330
TZNAME:NST
DTSTART:20261101T043000
END:STANDARD
BEGIN:DAYLIGHT
TZOFFSETFROM:-0330
TZOFFSETTO:-0230
TZNAME:NDT
DTSTART:20270314T053000
END:DAYLIGHT
BEGIN:STANDARD
TZOFFSETFROM:-0230
TZOFFSETTO:-0330
TZNAME:NST
DTSTART:20271107T043000
END:STANDARD
BEGIN:DAYLIGHT
TZOFFSETFROM:-0330
TZOFFSETTO:-0230
TZNAME:NDT
DTSTART:20280312T053000
END:DAYLIGHT
BEGIN:STANDARD
TZOFFSETFROM:-0230
TZOFFSETTO:-0330
TZNAME:NST
DTSTART:20281105T043000
END:STANDARD
END:VTIMEZONE
BEGIN:VEVENT
DTSTART;TZID=America/St_Johns:20260626T140000
DTEND;TZID=America/St_Johns:20260626T160000
DTSTAMP:20260425T131116
CREATED:20260105T135729Z
LAST-MODIFIED:20260312T152751Z
UID:10059937-1782482400-1782489600@nlpl.ca
SUMMARY:Lego Free Play
DESCRIPTION:Harmsworth Public Library – What will you create? Create something fun at our LEGO free play!
URL:https://nlpl.ca/events/lego-free-play-6-2-2/2026-06-26/
LOCATION:Grand Falls-Windsor (Harmsworth) Public Library\, 1 Cromer Avenue\, Grand Falls - Windsor\, NL\, A2A 1W9\, Canada
CATEGORIES:Kids & Families
ATTACH;FMTTYPE=image/jpeg:https://nlpl.ca/wp-content/uploads/2023/03/Events-Kid-Families.jpg
END:VEVENT
BEGIN:VEVENT
DTSTART;TZID=America/St_Johns:20260627T100000
DTEND;TZID=America/St_Johns:20260627T163000
DTSTAMP:20260425T131116
CREATED:20260227T195830Z
LAST-MODIFIED:20260418T175236Z
UID:10061537-1782554400-1782577800@nlpl.ca
SUMMARY:Lego Free Play
DESCRIPTION:Join us at the Ross King Memorial Library (Mount Pearl) every Saturday for Lego Free Play.  We have Lego building blocks available every Saturday from 10am until 4:30pm.  Drop in and create something amazing!
URL:https://nlpl.ca/events/lego-free-play-2-2/2026-06-27/
LOCATION:Mount Pearl Public Library\, 65 Olympic Drive\, Mount Pearl\, NL\, A1N 5H6\, Canada
CATEGORIES:Kids & Families
ORGANIZER;CN="Mount Pearl":MAILTO:mountpearl@nlpl.ca
END:VEVENT
BEGIN:VEVENT
DTSTART;TZID=America/St_Johns:20260627T103000
DTEND;TZID=America/St_Johns:20260627T110000
DTSTAMP:20260425T131116
CREATED:20260312T183434Z
LAST-MODIFIED:20260418T175434Z
UID:10060012-1782556200-1782558000@nlpl.ca
SUMMARY:Saturday Storytime (Drop-In)
DESCRIPTION:Join us at the Ross King Memorial Library (Mount Pearl) for a Family Storytime every Saturday at 10:30am.  This Storytime features stories\, songs and rhymes and is geared for children ages 0-5 years and their caregivers.  Storytime lasts approximately 20-30 minutes (no registration required).
URL:https://nlpl.ca/events/drop-in-storytime-2-2/2026-06-27/
LOCATION:Mount Pearl Public Library\, 65 Olympic Drive\, Mount Pearl\, NL\, A1N 5H6\, Canada
CATEGORIES:Kids & Families,Storytime
ORGANIZER;CN="Mount Pearl":MAILTO:mountpearl@nlpl.ca
END:VEVENT
BEGIN:VEVENT
DTSTART;TZID=America/St_Johns:20260630T153000
DTEND;TZID=America/St_Johns:20260630T163000
DTSTAMP:20260425T131116
CREATED:20250821T155247Z
LAST-MODIFIED:20260415T221903Z
UID:10061473-1782833400-1782837000@nlpl.ca
SUMMARY:Baby Play Group
DESCRIPTION:Drop in to the Conception Bay South Public Library where the storytime room  will be open for baby play time\, with baby-friendly toys available! This is a drop-in program\, best suited for ages 0-2.
URL:https://nlpl.ca/events/baby-play-group/2026-06-30/
LOCATION:Conception Bay South Public Library\, 10 Remembrance Square\, Conception Bay South\, NL\, Canada
CATEGORIES:Kids & Families
ATTACH;FMTTYPE=image/jpeg:https://nlpl.ca/wp-content/uploads/2023/03/Events-Kid-Families.jpg
END:VEVENT
BEGIN:VEVENT
DTSTART;TZID=America/St_Johns:20260702T100000
DTEND;TZID=America/St_Johns:20260702T110000
DTSTAMP:20260425T131116
CREATED:20260401T215530Z
LAST-MODIFIED:20260401T215530Z
UID:10060510-1782986400-1782990000@nlpl.ca
SUMMARY:Little Learners
DESCRIPTION:Join us in a fun and relaxed setting where kids can enjoy stories\, crafts\, STEM activities\, and more!
URL:https://nlpl.ca/events/little-learners/2026-07-02/
LOCATION:St. Anthony Public Library\, 95 West Street\, St. Anthony\, NL\, A0K 4S0\, Canada
CATEGORIES:Kids & Families
ATTACH;FMTTYPE=image/jpeg:https://nlpl.ca/wp-content/uploads/2023/03/Events-Kid-Families.jpg
ORGANIZER;CN="St. Anthony Pbulic Library":MAILTO:nsa@ill.nlpl.ca
END:VEVENT
BEGIN:VEVENT
DTSTART;TZID=America/St_Johns:20260704T100000
DTEND;TZID=America/St_Johns:20260704T163000
DTSTAMP:20260425T131116
CREATED:20260227T195830Z
LAST-MODIFIED:20260418T175236Z
UID:10061538-1783159200-1783182600@nlpl.ca
SUMMARY:Lego Free Play
DESCRIPTION:Join us at the Ross King Memorial Library (Mount Pearl) every Saturday for Lego Free Play.  We have Lego building blocks available every Saturday from 10am until 4:30pm.  Drop in and create something amazing!
URL:https://nlpl.ca/events/lego-free-play-2-2/2026-07-04/
LOCATION:Mount Pearl Public Library\, 65 Olympic Drive\, Mount Pearl\, NL\, A1N 5H6\, Canada
CATEGORIES:Kids & Families
ORGANIZER;CN="Mount Pearl":MAILTO:mountpearl@nlpl.ca
END:VEVENT
BEGIN:VEVENT
DTSTART;TZID=America/St_Johns:20260704T103000
DTEND;TZID=America/St_Johns:20260704T110000
DTSTAMP:20260425T131116
CREATED:20260312T183434Z
LAST-MODIFIED:20260418T175434Z
UID:10060013-1783161000-1783162800@nlpl.ca
SUMMARY:Saturday Storytime (Drop-In)
DESCRIPTION:Join us at the Ross King Memorial Library (Mount Pearl) for a Family Storytime every Saturday at 10:30am.  This Storytime features stories\, songs and rhymes and is geared for children ages 0-5 years and their caregivers.  Storytime lasts approximately 20-30 minutes (no registration required).
URL:https://nlpl.ca/events/drop-in-storytime-2-2/2026-07-04/
LOCATION:Mount Pearl Public Library\, 65 Olympic Drive\, Mount Pearl\, NL\, A1N 5H6\, Canada
CATEGORIES:Kids & Families,Storytime
ORGANIZER;CN="Mount Pearl":MAILTO:mountpearl@nlpl.ca
END:VEVENT
BEGIN:VEVENT
DTSTART;TZID=America/St_Johns:20260707T153000
DTEND;TZID=America/St_Johns:20260707T163000
DTSTAMP:20260425T131116
CREATED:20250821T155247Z
LAST-MODIFIED:20260415T221903Z
UID:10061474-1783438200-1783441800@nlpl.ca
SUMMARY:Baby Play Group
DESCRIPTION:Drop in to the Conception Bay South Public Library where the storytime room  will be open for baby play time\, with baby-friendly toys available! This is a drop-in program\, best suited for ages 0-2.
URL:https://nlpl.ca/events/baby-play-group/2026-07-07/
LOCATION:Conception Bay South Public Library\, 10 Remembrance Square\, Conception Bay South\, NL\, Canada
CATEGORIES:Kids & Families
ATTACH;FMTTYPE=image/jpeg:https://nlpl.ca/wp-content/uploads/2023/03/Events-Kid-Families.jpg
END:VEVENT
BEGIN:VEVENT
DTSTART;TZID=America/St_Johns:20260711T100000
DTEND;TZID=America/St_Johns:20260711T163000
DTSTAMP:20260425T131116
CREATED:20260227T195830Z
LAST-MODIFIED:20260418T175236Z
UID:10061539-1783764000-1783787400@nlpl.ca
SUMMARY:Lego Free Play
DESCRIPTION:Join us at the Ross King Memorial Library (Mount Pearl) every Saturday for Lego Free Play.  We have Lego building blocks available every Saturday from 10am until 4:30pm.  Drop in and create something amazing!
URL:https://nlpl.ca/events/lego-free-play-2-2/2026-07-11/
LOCATION:Mount Pearl Public Library\, 65 Olympic Drive\, Mount Pearl\, NL\, A1N 5H6\, Canada
CATEGORIES:Kids & Families
ORGANIZER;CN="Mount Pearl":MAILTO:mountpearl@nlpl.ca
END:VEVENT
BEGIN:VEVENT
DTSTART;TZID=America/St_Johns:20260711T103000
DTEND;TZID=America/St_Johns:20260711T110000
DTSTAMP:20260425T131116
CREATED:20260312T183434Z
LAST-MODIFIED:20260418T175434Z
UID:10060014-1783765800-1783767600@nlpl.ca
SUMMARY:Saturday Storytime (Drop-In)
DESCRIPTION:Join us at the Ross King Memorial Library (Mount Pearl) for a Family Storytime every Saturday at 10:30am.  This Storytime features stories\, songs and rhymes and is geared for children ages 0-5 years and their caregivers.  Storytime lasts approximately 20-30 minutes (no registration required).
URL:https://nlpl.ca/events/drop-in-storytime-2-2/2026-07-11/
LOCATION:Mount Pearl Public Library\, 65 Olympic Drive\, Mount Pearl\, NL\, A1N 5H6\, Canada
CATEGORIES:Kids & Families,Storytime
ORGANIZER;CN="Mount Pearl":MAILTO:mountpearl@nlpl.ca
END:VEVENT
BEGIN:VEVENT
DTSTART;TZID=America/St_Johns:20260714T153000
DTEND;TZID=America/St_Johns:20260714T163000
DTSTAMP:20260425T131116
CREATED:20250821T155247Z
LAST-MODIFIED:20260415T221903Z
UID:10061475-1784043000-1784046600@nlpl.ca
SUMMARY:Baby Play Group
DESCRIPTION:Drop in to the Conception Bay South Public Library where the storytime room  will be open for baby play time\, with baby-friendly toys available! This is a drop-in program\, best suited for ages 0-2.
URL:https://nlpl.ca/events/baby-play-group/2026-07-14/
LOCATION:Conception Bay South Public Library\, 10 Remembrance Square\, Conception Bay South\, NL\, Canada
CATEGORIES:Kids & Families
ATTACH;FMTTYPE=image/jpeg:https://nlpl.ca/wp-content/uploads/2023/03/Events-Kid-Families.jpg
END:VEVENT
BEGIN:VEVENT
DTSTART;TZID=America/St_Johns:20260716T100000
DTEND;TZID=America/St_Johns:20260716T110000
DTSTAMP:20260425T131116
CREATED:20260401T215530Z
LAST-MODIFIED:20260401T215530Z
UID:10060511-1784196000-1784199600@nlpl.ca
SUMMARY:Little Learners
DESCRIPTION:Join us in a fun and relaxed setting where kids can enjoy stories\, crafts\, STEM activities\, and more!
URL:https://nlpl.ca/events/little-learners/2026-07-16/
LOCATION:St. Anthony Public Library\, 95 West Street\, St. Anthony\, NL\, A0K 4S0\, Canada
CATEGORIES:Kids & Families
ATTACH;FMTTYPE=image/jpeg:https://nlpl.ca/wp-content/uploads/2023/03/Events-Kid-Families.jpg
ORGANIZER;CN="St. Anthony Pbulic Library":MAILTO:nsa@ill.nlpl.ca
END:VEVENT
BEGIN:VEVENT
DTSTART;TZID=America/St_Johns:20260718T100000
DTEND;TZID=America/St_Johns:20260718T163000
DTSTAMP:20260425T131116
CREATED:20260227T195830Z
LAST-MODIFIED:20260418T175236Z
UID:10061540-1784368800-1784392200@nlpl.ca
SUMMARY:Lego Free Play
DESCRIPTION:Join us at the Ross King Memorial Library (Mount Pearl) every Saturday for Lego Free Play.  We have Lego building blocks available every Saturday from 10am until 4:30pm.  Drop in and create something amazing!
URL:https://nlpl.ca/events/lego-free-play-2-2/2026-07-18/
LOCATION:Mount Pearl Public Library\, 65 Olympic Drive\, Mount Pearl\, NL\, A1N 5H6\, Canada
CATEGORIES:Kids & Families
ORGANIZER;CN="Mount Pearl":MAILTO:mountpearl@nlpl.ca
END:VEVENT
BEGIN:VEVENT
DTSTART;TZID=America/St_Johns:20260718T103000
DTEND;TZID=America/St_Johns:20260718T110000
DTSTAMP:20260425T131116
CREATED:20260312T183434Z
LAST-MODIFIED:20260418T175434Z
UID:10060015-1784370600-1784372400@nlpl.ca
SUMMARY:Saturday Storytime (Drop-In)
DESCRIPTION:Join us at the Ross King Memorial Library (Mount Pearl) for a Family Storytime every Saturday at 10:30am.  This Storytime features stories\, songs and rhymes and is geared for children ages 0-5 years and their caregivers.  Storytime lasts approximately 20-30 minutes (no registration required).
URL:https://nlpl.ca/events/drop-in-storytime-2-2/2026-07-18/
LOCATION:Mount Pearl Public Library\, 65 Olympic Drive\, Mount Pearl\, NL\, A1N 5H6\, Canada
CATEGORIES:Kids & Families,Storytime
ORGANIZER;CN="Mount Pearl":MAILTO:mountpearl@nlpl.ca
END:VEVENT
BEGIN:VEVENT
DTSTART;TZID=America/St_Johns:20260721T153000
DTEND;TZID=America/St_Johns:20260721T163000
DTSTAMP:20260425T131116
CREATED:20250821T155247Z
LAST-MODIFIED:20260415T221903Z
UID:10061476-1784647800-1784651400@nlpl.ca
SUMMARY:Baby Play Group
DESCRIPTION:Drop in to the Conception Bay South Public Library where the storytime room  will be open for baby play time\, with baby-friendly toys available! This is a drop-in program\, best suited for ages 0-2.
URL:https://nlpl.ca/events/baby-play-group/2026-07-21/
LOCATION:Conception Bay South Public Library\, 10 Remembrance Square\, Conception Bay South\, NL\, Canada
CATEGORIES:Kids & Families
ATTACH;FMTTYPE=image/jpeg:https://nlpl.ca/wp-content/uploads/2023/03/Events-Kid-Families.jpg
END:VEVENT
BEGIN:VEVENT
DTSTART;TZID=America/St_Johns:20260725T103000
DTEND;TZID=America/St_Johns:20260725T110000
DTSTAMP:20260425T131116
CREATED:20260312T183434Z
LAST-MODIFIED:20260418T175434Z
UID:10060016-1784975400-1784977200@nlpl.ca
SUMMARY:Saturday Storytime (Drop-In)
DESCRIPTION:Join us at the Ross King Memorial Library (Mount Pearl) for a Family Storytime every Saturday at 10:30am.  This Storytime features stories\, songs and rhymes and is geared for children ages 0-5 years and their caregivers.  Storytime lasts approximately 20-30 minutes (no registration required).
URL:https://nlpl.ca/events/drop-in-storytime-2-2/2026-07-25/
LOCATION:Mount Pearl Public Library\, 65 Olympic Drive\, Mount Pearl\, NL\, A1N 5H6\, Canada
CATEGORIES:Kids & Families,Storytime
ORGANIZER;CN="Mount Pearl":MAILTO:mountpearl@nlpl.ca
END:VEVENT
BEGIN:VEVENT
DTSTART;TZID=America/St_Johns:20260728T153000
DTEND;TZID=America/St_Johns:20260728T163000
DTSTAMP:20260425T131116
CREATED:20250821T155247Z
LAST-MODIFIED:20260415T221903Z
UID:10061477-1785252600-1785256200@nlpl.ca
SUMMARY:Baby Play Group
DESCRIPTION:Drop in to the Conception Bay South Public Library where the storytime room  will be open for baby play time\, with baby-friendly toys available! This is a drop-in program\, best suited for ages 0-2.
URL:https://nlpl.ca/events/baby-play-group/2026-07-28/
LOCATION:Conception Bay South Public Library\, 10 Remembrance Square\, Conception Bay South\, NL\, Canada
CATEGORIES:Kids & Families
ATTACH;FMTTYPE=image/jpeg:https://nlpl.ca/wp-content/uploads/2023/03/Events-Kid-Families.jpg
END:VEVENT
BEGIN:VEVENT
DTSTART;TZID=America/St_Johns:20260730T100000
DTEND;TZID=America/St_Johns:20260730T110000
DTSTAMP:20260425T131116
CREATED:20260401T215530Z
LAST-MODIFIED:20260401T215530Z
UID:10060512-1785405600-1785409200@nlpl.ca
SUMMARY:Little Learners
DESCRIPTION:Join us in a fun and relaxed setting where kids can enjoy stories\, crafts\, STEM activities\, and more!
URL:https://nlpl.ca/events/little-learners/2026-07-30/
LOCATION:St. Anthony Public Library\, 95 West Street\, St. Anthony\, NL\, A0K 4S0\, Canada
CATEGORIES:Kids & Families
ATTACH;FMTTYPE=image/jpeg:https://nlpl.ca/wp-content/uploads/2023/03/Events-Kid-Families.jpg
ORGANIZER;CN="St. Anthony Pbulic Library":MAILTO:nsa@ill.nlpl.ca
END:VEVENT
BEGIN:VEVENT
DTSTART;TZID=America/St_Johns:20260813T100000
DTEND;TZID=America/St_Johns:20260813T110000
DTSTAMP:20260425T131116
CREATED:20260401T215530Z
LAST-MODIFIED:20260401T215530Z
UID:10060513-1786615200-1786618800@nlpl.ca
SUMMARY:Little Learners
DESCRIPTION:Join us in a fun and relaxed setting where kids can enjoy stories\, crafts\, STEM activities\, and more!
URL:https://nlpl.ca/events/little-learners/2026-08-13/
LOCATION:St. Anthony Public Library\, 95 West Street\, St. Anthony\, NL\, A0K 4S0\, Canada
CATEGORIES:Kids & Families
ATTACH;FMTTYPE=image/jpeg:https://nlpl.ca/wp-content/uploads/2023/03/Events-Kid-Families.jpg
ORGANIZER;CN="St. Anthony Pbulic Library":MAILTO:nsa@ill.nlpl.ca
END:VEVENT
BEGIN:VEVENT
DTSTART;TZID=America/St_Johns:20260827T100000
DTEND;TZID=America/St_Johns:20260827T110000
DTSTAMP:20260425T131116
CREATED:20260401T215530Z
LAST-MODIFIED:20260401T215530Z
UID:10060514-1787824800-1787828400@nlpl.ca
SUMMARY:Little Learners
DESCRIPTION:Join us in a fun and relaxed setting where kids can enjoy stories\, crafts\, STEM activities\, and more!
URL:https://nlpl.ca/events/little-learners/2026-08-27/
LOCATION:St. Anthony Public Library\, 95 West Street\, St. Anthony\, NL\, A0K 4S0\, Canada
CATEGORIES:Kids & Families
ATTACH;FMTTYPE=image/jpeg:https://nlpl.ca/wp-content/uploads/2023/03/Events-Kid-Families.jpg
ORGANIZER;CN="St. Anthony Pbulic Library":MAILTO:nsa@ill.nlpl.ca
END:VEVENT
BEGIN:VEVENT
DTSTART;TZID=America/St_Johns:20260910T100000
DTEND;TZID=America/St_Johns:20260910T110000
DTSTAMP:20260425T131116
CREATED:20260401T215530Z
LAST-MODIFIED:20260401T215530Z
UID:10060515-1789034400-1789038000@nlpl.ca
SUMMARY:Little Learners
DESCRIPTION:Join us in a fun and relaxed setting where kids can enjoy stories\, crafts\, STEM activities\, and more!
URL:https://nlpl.ca/events/little-learners/2026-09-10/
LOCATION:St. Anthony Public Library\, 95 West Street\, St. Anthony\, NL\, A0K 4S0\, Canada
CATEGORIES:Kids & Families
ATTACH;FMTTYPE=image/jpeg:https://nlpl.ca/wp-content/uploads/2023/03/Events-Kid-Families.jpg
ORGANIZER;CN="St. Anthony Pbulic Library":MAILTO:nsa@ill.nlpl.ca
END:VEVENT
BEGIN:VEVENT
DTSTART;TZID=America/St_Johns:20260924T100000
DTEND;TZID=America/St_Johns:20260924T110000
DTSTAMP:20260425T131116
CREATED:20260401T215530Z
LAST-MODIFIED:20260401T215530Z
UID:10060516-1790244000-1790247600@nlpl.ca
SUMMARY:Little Learners
DESCRIPTION:Join us in a fun and relaxed setting where kids can enjoy stories\, crafts\, STEM activities\, and more!
URL:https://nlpl.ca/events/little-learners/2026-09-24/
LOCATION:St. Anthony Public Library\, 95 West Street\, St. Anthony\, NL\, A0K 4S0\, Canada
CATEGORIES:Kids & Families
ATTACH;FMTTYPE=image/jpeg:https://nlpl.ca/wp-content/uploads/2023/03/Events-Kid-Families.jpg
ORGANIZER;CN="St. Anthony Pbulic Library":MAILTO:nsa@ill.nlpl.ca
END:VEVENT
BEGIN:VEVENT
DTSTART;TZID=America/St_Johns:20261008T100000
DTEND;TZID=America/St_Johns:20261008T110000
DTSTAMP:20260425T131116
CREATED:20260401T215530Z
LAST-MODIFIED:20260401T215530Z
UID:10060517-1791453600-1791457200@nlpl.ca
SUMMARY:Little Learners
DESCRIPTION:Join us in a fun and relaxed setting where kids can enjoy stories\, crafts\, STEM activities\, and more!
URL:https://nlpl.ca/events/little-learners/2026-10-08/
LOCATION:St. Anthony Public Library\, 95 West Street\, St. Anthony\, NL\, A0K 4S0\, Canada
CATEGORIES:Kids & Families
ATTACH;FMTTYPE=image/jpeg:https://nlpl.ca/wp-content/uploads/2023/03/Events-Kid-Families.jpg
ORGANIZER;CN="St. Anthony Pbulic Library":MAILTO:nsa@ill.nlpl.ca
END:VEVENT
BEGIN:VEVENT
DTSTART;TZID=America/St_Johns:20261022T100000
DTEND;TZID=America/St_Johns:20261022T110000
DTSTAMP:20260425T131117
CREATED:20260401T215530Z
LAST-MODIFIED:20260401T215530Z
UID:10060518-1792663200-1792666800@nlpl.ca
SUMMARY:Little Learners
DESCRIPTION:Join us in a fun and relaxed setting where kids can enjoy stories\, crafts\, STEM activities\, and more!
URL:https://nlpl.ca/events/little-learners/2026-10-22/
LOCATION:St. Anthony Public Library\, 95 West Street\, St. Anthony\, NL\, A0K 4S0\, Canada
CATEGORIES:Kids & Families
ATTACH;FMTTYPE=image/jpeg:https://nlpl.ca/wp-content/uploads/2023/03/Events-Kid-Families.jpg
ORGANIZER;CN="St. Anthony Pbulic Library":MAILTO:nsa@ill.nlpl.ca
END:VEVENT
BEGIN:VEVENT
DTSTART;TZID=America/St_Johns:20261105T100000
DTEND;TZID=America/St_Johns:20261105T110000
DTSTAMP:20260425T131117
CREATED:20260401T215530Z
LAST-MODIFIED:20260401T215530Z
UID:10060519-1793872800-1793876400@nlpl.ca
SUMMARY:Little Learners
DESCRIPTION:Join us in a fun and relaxed setting where kids can enjoy stories\, crafts\, STEM activities\, and more!
URL:https://nlpl.ca/events/little-learners/2026-11-05/
LOCATION:St. Anthony Public Library\, 95 West Street\, St. Anthony\, NL\, A0K 4S0\, Canada
CATEGORIES:Kids & Families
ATTACH;FMTTYPE=image/jpeg:https://nlpl.ca/wp-content/uploads/2023/03/Events-Kid-Families.jpg
ORGANIZER;CN="St. Anthony Pbulic Library":MAILTO:nsa@ill.nlpl.ca
END:VEVENT
BEGIN:VEVENT
DTSTART;TZID=America/St_Johns:20261119T100000
DTEND;TZID=America/St_Johns:20261119T110000
DTSTAMP:20260425T131117
CREATED:20260401T215530Z
LAST-MODIFIED:20260401T215530Z
UID:10060520-1795082400-1795086000@nlpl.ca
SUMMARY:Little Learners
DESCRIPTION:Join us in a fun and relaxed setting where kids can enjoy stories\, crafts\, STEM activities\, and more!
URL:https://nlpl.ca/events/little-learners/2026-11-19/
LOCATION:St. Anthony Public Library\, 95 West Street\, St. Anthony\, NL\, A0K 4S0\, Canada
CATEGORIES:Kids & Families
ATTACH;FMTTYPE=image/jpeg:https://nlpl.ca/wp-content/uploads/2023/03/Events-Kid-Families.jpg
ORGANIZER;CN="St. Anthony Pbulic Library":MAILTO:nsa@ill.nlpl.ca
END:VEVENT
BEGIN:VEVENT
DTSTART;TZID=America/St_Johns:20261203T100000
DTEND;TZID=America/St_Johns:20261203T110000
DTSTAMP:20260425T131117
CREATED:20260401T215530Z
LAST-MODIFIED:20260401T215530Z
UID:10060521-1796292000-1796295600@nlpl.ca
SUMMARY:Little Learners
DESCRIPTION:Join us in a fun and relaxed setting where kids can enjoy stories\, crafts\, STEM activities\, and more!
URL:https://nlpl.ca/events/little-learners/2026-12-03/
LOCATION:St. Anthony Public Library\, 95 West Street\, St. Anthony\, NL\, A0K 4S0\, Canada
CATEGORIES:Kids & Families
ATTACH;FMTTYPE=image/jpeg:https://nlpl.ca/wp-content/uploads/2023/03/Events-Kid-Families.jpg
ORGANIZER;CN="St. Anthony Pbulic Library":MAILTO:nsa@ill.nlpl.ca
END:VEVENT
BEGIN:VEVENT
DTSTART;TZID=America/St_Johns:20261217T100000
DTEND;TZID=America/St_Johns:20261217T110000
DTSTAMP:20260425T131117
CREATED:20260401T215530Z
LAST-MODIFIED:20260401T215530Z
UID:10060522-1797501600-1797505200@nlpl.ca
SUMMARY:Little Learners
DESCRIPTION:Join us in a fun and relaxed setting where kids can enjoy stories\, crafts\, STEM activities\, and more!
URL:https://nlpl.ca/events/little-learners/2026-12-17/
LOCATION:St. Anthony Public Library\, 95 West Street\, St. Anthony\, NL\, A0K 4S0\, Canada
CATEGORIES:Kids & Families
ATTACH;FMTTYPE=image/jpeg:https://nlpl.ca/wp-content/uploads/2023/03/Events-Kid-Families.jpg
ORGANIZER;CN="St. Anthony Pbulic Library":MAILTO:nsa@ill.nlpl.ca
END:VEVENT
BEGIN:VEVENT
DTSTART;TZID=America/St_Johns:20261231T100000
DTEND;TZID=America/St_Johns:20261231T110000
DTSTAMP:20260425T131117
CREATED:20260401T215530Z
LAST-MODIFIED:20260401T215530Z
UID:10060523-1798711200-1798714800@nlpl.ca
SUMMARY:Little Learners
DESCRIPTION:Join us in a fun and relaxed setting where kids can enjoy stories\, crafts\, STEM activities\, and more!
URL:https://nlpl.ca/events/little-learners/2026-12-31/
LOCATION:St. Anthony Public Library\, 95 West Street\, St. Anthony\, NL\, A0K 4S0\, Canada
CATEGORIES:Kids & Families
ATTACH;FMTTYPE=image/jpeg:https://nlpl.ca/wp-content/uploads/2023/03/Events-Kid-Families.jpg
ORGANIZER;CN="St. Anthony Pbulic Library":MAILTO:nsa@ill.nlpl.ca
END:VEVENT
BEGIN:VEVENT
DTSTART;TZID=America/St_Johns:20270114T100000
DTEND;TZID=America/St_Johns:20270114T110000
DTSTAMP:20260425T131117
CREATED:20260401T215530Z
LAST-MODIFIED:20260401T215530Z
UID:10060524-1799920800-1799924400@nlpl.ca
SUMMARY:Little Learners
DESCRIPTION:Join us in a fun and relaxed setting where kids can enjoy stories\, crafts\, STEM activities\, and more!
URL:https://nlpl.ca/events/little-learners/2027-01-14/
LOCATION:St. Anthony Public Library\, 95 West Street\, St. Anthony\, NL\, A0K 4S0\, Canada
CATEGORIES:Kids & Families
ATTACH;FMTTYPE=image/jpeg:https://nlpl.ca/wp-content/uploads/2023/03/Events-Kid-Families.jpg
ORGANIZER;CN="St. Anthony Pbulic Library":MAILTO:nsa@ill.nlpl.ca
END:VEVENT
END:VCALENDAR