BEGIN:VCALENDAR
VERSION:2.0
PRODID:-//Newfoundland &amp; Labrador Public Libraries - ECPv6.15.20//NONSGML v1.0//EN
CALSCALE:GREGORIAN
METHOD:PUBLISH
X-ORIGINAL-URL:https://nlpl.ca
X-WR-CALDESC:Events for Newfoundland &amp; Labrador Public Libraries
REFRESH-INTERVAL;VALUE=DURATION:PT1H
X-Robots-Tag:noindex
X-PUBLISHED-TTL:PT1H
BEGIN:VTIMEZONE
TZID:America/St_Johns
BEGIN:DAYLIGHT
TZOFFSETFROM:-0330
TZOFFSETTO:-0230
TZNAME:NDT
DTSTART:20250309T053000
END:DAYLIGHT
BEGIN:STANDARD
TZOFFSETFROM:-0230
TZOFFSETTO:-0330
TZNAME:NST
DTSTART:20251102T043000
END:STANDARD
BEGIN:DAYLIGHT
TZOFFSETFROM:-0330
TZOFFSETTO:-0230
TZNAME:NDT
DTSTART:20260308T053000
END:DAYLIGHT
BEGIN:STANDARD
TZOFFSETFROM:-0230
TZOFFSETTO:-0330
TZNAME:NST
DTSTART:20261101T043000
END:STANDARD
BEGIN:DAYLIGHT
TZOFFSETFROM:-0330
TZOFFSETTO:-0230
TZNAME:NDT
DTSTART:20270314T053000
END:DAYLIGHT
BEGIN:STANDARD
TZOFFSETFROM:-0230
TZOFFSETTO:-0330
TZNAME:NST
DTSTART:20271107T043000
END:STANDARD
END:VTIMEZONE
BEGIN:VEVENT
DTSTART;TZID=America/St_Johns:20260314T100000
DTEND;TZID=America/St_Johns:20260314T103000
DTSTAMP:20260424T232556
CREATED:20260123T141907Z
LAST-MODIFIED:20260123T142945Z
UID:10057062-1773482400-1773484200@nlpl.ca
SUMMARY:Drop-in Baby Storytime
DESCRIPTION:A drop in program at A.C. Hunter Children’s Library \nBaby Storytime\nfor ages 0-12 months\nSongs\, rhymes and early literacy tips for caregivers. 30 minutes. \nNo registration is required for our Saturday storytime for pre-walking babies!  \n\n10:00am\nSaturday March 14\, March 28\, April 11 and April 25
URL:https://nlpl.ca/events/drop-in-baby-storytime/2026-03-14/
LOCATION:St. John’s – A.C. Hunter Children’s Public Library\, 95 Allandale Road\, St. John's\, NL\, A1E 3A3\, Canada
CATEGORIES:Kids & Families,Storytime
END:VEVENT
BEGIN:VEVENT
DTSTART;TZID=America/St_Johns:20260313T093000
DTEND;TZID=America/St_Johns:20260313T113000
DTSTAMP:20260424T232556
CREATED:20251016T165338Z
LAST-MODIFIED:20251128T213700Z
UID:10052651-1773394200-1773401400@nlpl.ca
SUMMARY:Friday Free Play for Babies and Toddlers
DESCRIPTION:A drop-in weekly program at A.C. Hunter Children’s Library \nPlaygroup for ages 0-3. \nEvery Friday\, we open our playroom from 9:30 to 11:30am for babies and tots to play – a great chance to meet other caregivers! \nNo registration necessary.
URL:https://nlpl.ca/events/friday-free-play-for-babies-and-toddlers/2026-03-13/
LOCATION:St. John’s – A.C. Hunter Children’s Public Library\, 95 Allandale Road\, St. John's\, NL\, A1E 3A3\, Canada
CATEGORIES:Kids & Families,Storytime
ATTACH;FMTTYPE=image/jpeg:https://nlpl.ca/wp-content/uploads/2023/03/Events-Kid-Families.jpg
END:VEVENT
BEGIN:VEVENT
DTSTART;TZID=America/St_Johns:20260312T150000
DTEND;TZID=America/St_Johns:20260312T160000
DTSTAMP:20260424T232556
CREATED:20260303T190647Z
LAST-MODIFIED:20260303T190731Z
UID:10059693-1773327600-1773331200@nlpl.ca
SUMMARY:After School Storytime and Crafts
DESCRIPTION:Storytime and DIY Crafting Hour
URL:https://nlpl.ca/events/after-school-storytime-and-crafts/2026-03-12/
LOCATION:Point Leamington Public Library\, 1 Rice's Drive\, Point Leamington\, NL\, A0H 1Z0\, Canada
CATEGORIES:Hobbies, Crafts & Games,Kids & Families,Storytime
END:VEVENT
BEGIN:VEVENT
DTSTART;TZID=America/St_Johns:20260312T140000
DTEND;TZID=America/St_Johns:20260312T143000
DTSTAMP:20260424T232556
CREATED:20260114T174653Z
LAST-MODIFIED:20260114T174653Z
UID:10056886-1773324000-1773325800@nlpl.ca
SUMMARY:Family Storytime
DESCRIPTION:A 30 minute interactive program celebrating books\, rhymes\, movement\, songs and fun that is perfect for\nfamilies with multiple children\, ages 1-5 years
URL:https://nlpl.ca/events/family-storytime/2026-03-12/
LOCATION:Stephenville Public Library (Kindale)\, 45 Carolina Ave.\, Stephenville\, NL\, A2N 3P8\, Canada
CATEGORIES:Kids & Families,Storytime
ATTACH;FMTTYPE=image/jpeg:https://nlpl.ca/wp-content/uploads/2023/03/Events-Kid-Families.jpg
END:VEVENT
BEGIN:VEVENT
DTSTART;TZID=America/St_Johns:20260311T140000
DTEND;TZID=America/St_Johns:20260311T150000
DTSTAMP:20260424T232556
CREATED:20260305T170949Z
LAST-MODIFIED:20260305T171132Z
UID:10059715-1773237600-1773241200@nlpl.ca
SUMMARY:Children’s Story Time
DESCRIPTION:Pre-registration is mandatory for each Children’s Story Time
URL:https://nlpl.ca/events/childrens-story-time/2026-03-11/
LOCATION:Deer Lake Public Library\, 4 Poplar Road\, Deer Lake\, NL\, A8A 1Z4\, Canada
CATEGORIES:Kids & Families,Storytime
END:VEVENT
BEGIN:VEVENT
DTSTART;TZID=America/St_Johns:20260310T140000
DTEND;TZID=America/St_Johns:20260310T153000
DTSTAMP:20260424T232556
CREATED:20260103T140335Z
LAST-MODIFIED:20260325T214626Z
UID:10055894-1773151200-1773156600@nlpl.ca
SUMMARY:BabyTime StoryTime
DESCRIPTION:Stories\, songs and rhymes for babies (ages 0-2) and parents/caregivers followed by playtime.
URL:https://nlpl.ca/events/babytime-storytime/2026-03-10/
LOCATION:Corner Brook Public Library\, 4 West Street\, Corner Brook\, NL\, A2H 0C1\, Canada
CATEGORIES:Kids & Families,Storytime
END:VEVENT
BEGIN:VEVENT
DTSTART;TZID=America/St_Johns:20260310T100000
DTEND;TZID=America/St_Johns:20260310T110000
DTSTAMP:20260424T232556
CREATED:20251015T144618Z
LAST-MODIFIED:20251015T161058Z
UID:10052604-1773136800-1773140400@nlpl.ca
SUMMARY:Family Story Time
DESCRIPTION:
URL:https://nlpl.ca/events/family-story-time-2/2026-03-10/
LOCATION:Bishop’s Falls Public Library\, 445 Main Street\, Bishop's Falls\, NL\, A0H 1C0\, Canada
CATEGORIES:Kids & Families,Storytime
END:VEVENT
BEGIN:VEVENT
DTSTART;TZID=America/St_Johns:20260307T103000
DTEND;TZID=America/St_Johns:20260307T113000
DTSTAMP:20260424T232556
CREATED:20260107T181135Z
LAST-MODIFIED:20260107T181552Z
UID:10056535-1772879400-1772883000@nlpl.ca
SUMMARY:Storytime!
DESCRIPTION:Join us as Port aux Basques Public Library for storytime! It’s a great way to have your child enjoy the library and foster a lifelong love of reading. Come and enjoy some books\, songs\, poems and rhymes. Toys and games are also available for free play.
URL:https://nlpl.ca/events/storytime-3/2026-03-07/
LOCATION:Port aux Basques Public Library\, 8 Grand Bay\, Port aux Basques\, NL\, A0M 1C0\, Canada
CATEGORIES:Kids & Families,Storytime
ATTACH;FMTTYPE=image/jpeg:https://nlpl.ca/wp-content/uploads/2023/03/Events-Kid-Families.jpg
END:VEVENT
BEGIN:VEVENT
DTSTART;TZID=America/St_Johns:20260307T103000
DTEND;TZID=America/St_Johns:20260307T113000
DTSTAMP:20260424T232556
CREATED:20260103T140642Z
LAST-MODIFIED:20260325T214523Z
UID:10055904-1772879400-1772883000@nlpl.ca
SUMMARY:Family Storytime
DESCRIPTION:Stories\, songs and rhymes for the whole family! All ages and all abilities welcome
URL:https://nlpl.ca/events/family-storytime-2/2026-03-07/
LOCATION:Corner Brook Public Library\, 4 West Street\, Corner Brook\, NL\, A2H 0C1\, Canada
CATEGORIES:Kids & Families,Storytime
END:VEVENT
BEGIN:VEVENT
DTSTART;TZID=America/St_Johns:20260306T093000
DTEND;TZID=America/St_Johns:20260306T113000
DTSTAMP:20260424T232557
CREATED:20251016T165338Z
LAST-MODIFIED:20251128T213700Z
UID:10052650-1772789400-1772796600@nlpl.ca
SUMMARY:Friday Free Play for Babies and Toddlers
DESCRIPTION:A drop-in weekly program at A.C. Hunter Children’s Library \nPlaygroup for ages 0-3. \nEvery Friday\, we open our playroom from 9:30 to 11:30am for babies and tots to play – a great chance to meet other caregivers! \nNo registration necessary.
URL:https://nlpl.ca/events/friday-free-play-for-babies-and-toddlers/2026-03-06/
LOCATION:St. John’s – A.C. Hunter Children’s Public Library\, 95 Allandale Road\, St. John's\, NL\, A1E 3A3\, Canada
CATEGORIES:Kids & Families,Storytime
ATTACH;FMTTYPE=image/jpeg:https://nlpl.ca/wp-content/uploads/2023/03/Events-Kid-Families.jpg
END:VEVENT
BEGIN:VEVENT
DTSTART;TZID=America/St_Johns:20260305T140000
DTEND;TZID=America/St_Johns:20260305T143000
DTSTAMP:20260424T232557
CREATED:20260114T174653Z
LAST-MODIFIED:20260114T174653Z
UID:10056885-1772719200-1772721000@nlpl.ca
SUMMARY:Family Storytime
DESCRIPTION:A 30 minute interactive program celebrating books\, rhymes\, movement\, songs and fun that is perfect for\nfamilies with multiple children\, ages 1-5 years
URL:https://nlpl.ca/events/family-storytime/2026-03-05/
LOCATION:Stephenville Public Library (Kindale)\, 45 Carolina Ave.\, Stephenville\, NL\, A2N 3P8\, Canada
CATEGORIES:Kids & Families,Storytime
ATTACH;FMTTYPE=image/jpeg:https://nlpl.ca/wp-content/uploads/2023/03/Events-Kid-Families.jpg
END:VEVENT
BEGIN:VEVENT
DTSTART;TZID=America/St_Johns:20260303T100000
DTEND;TZID=America/St_Johns:20260303T110000
DTSTAMP:20260424T232557
CREATED:20251015T144618Z
LAST-MODIFIED:20251015T161058Z
UID:10052603-1772532000-1772535600@nlpl.ca
SUMMARY:Family Story Time
DESCRIPTION:
URL:https://nlpl.ca/events/family-story-time-2/2026-03-03/
LOCATION:Bishop’s Falls Public Library\, 445 Main Street\, Bishop's Falls\, NL\, A0H 1C0\, Canada
CATEGORIES:Kids & Families,Storytime
END:VEVENT
BEGIN:VEVENT
DTSTART;TZID=America/St_Johns:20260228T103000
DTEND;TZID=America/St_Johns:20260228T113000
DTSTAMP:20260424T232557
CREATED:20260103T140642Z
LAST-MODIFIED:20260325T214523Z
UID:10055903-1772274600-1772278200@nlpl.ca
SUMMARY:Family Storytime
DESCRIPTION:Stories\, songs and rhymes for the whole family! All ages and all abilities welcome
URL:https://nlpl.ca/events/family-storytime-2/2026-02-28/
LOCATION:Corner Brook Public Library\, 4 West Street\, Corner Brook\, NL\, A2H 0C1\, Canada
CATEGORIES:Kids & Families,Storytime
END:VEVENT
BEGIN:VEVENT
DTSTART;TZID=America/St_Johns:20260227T093000
DTEND;TZID=America/St_Johns:20260227T113000
DTSTAMP:20260424T232557
CREATED:20251016T165338Z
LAST-MODIFIED:20251128T213700Z
UID:10052649-1772184600-1772191800@nlpl.ca
SUMMARY:Friday Free Play for Babies and Toddlers
DESCRIPTION:A drop-in weekly program at A.C. Hunter Children’s Library \nPlaygroup for ages 0-3. \nEvery Friday\, we open our playroom from 9:30 to 11:30am for babies and tots to play – a great chance to meet other caregivers! \nNo registration necessary.
URL:https://nlpl.ca/events/friday-free-play-for-babies-and-toddlers/2026-02-27/
LOCATION:St. John’s – A.C. Hunter Children’s Public Library\, 95 Allandale Road\, St. John's\, NL\, A1E 3A3\, Canada
CATEGORIES:Kids & Families,Storytime
ATTACH;FMTTYPE=image/jpeg:https://nlpl.ca/wp-content/uploads/2023/03/Events-Kid-Families.jpg
END:VEVENT
BEGIN:VEVENT
DTSTART;TZID=America/St_Johns:20260226T140000
DTEND;TZID=America/St_Johns:20260226T143000
DTSTAMP:20260424T232557
CREATED:20260114T174653Z
LAST-MODIFIED:20260114T174653Z
UID:10056884-1772114400-1772116200@nlpl.ca
SUMMARY:Family Storytime
DESCRIPTION:A 30 minute interactive program celebrating books\, rhymes\, movement\, songs and fun that is perfect for\nfamilies with multiple children\, ages 1-5 years
URL:https://nlpl.ca/events/family-storytime/2026-02-26/
LOCATION:Stephenville Public Library (Kindale)\, 45 Carolina Ave.\, Stephenville\, NL\, A2N 3P8\, Canada
CATEGORIES:Kids & Families,Storytime
ATTACH;FMTTYPE=image/jpeg:https://nlpl.ca/wp-content/uploads/2023/03/Events-Kid-Families.jpg
END:VEVENT
END:VCALENDAR