BEGIN:VCALENDAR
VERSION:2.0
PRODID:-//Newfoundland &amp; Labrador Public Libraries - ECPv6.15.20//NONSGML v1.0//EN
CALSCALE:GREGORIAN
METHOD:PUBLISH
X-WR-CALNAME:Newfoundland &amp; Labrador Public Libraries
X-ORIGINAL-URL:https://nlpl.ca
X-WR-CALDESC:Events for Newfoundland &amp; Labrador Public Libraries
REFRESH-INTERVAL;VALUE=DURATION:PT1H
X-Robots-Tag:noindex
X-PUBLISHED-TTL:PT1H
BEGIN:VTIMEZONE
TZID:America/St_Johns
BEGIN:DAYLIGHT
TZOFFSETFROM:-0330
TZOFFSETTO:-0230
TZNAME:NDT
DTSTART:20250309T053000
END:DAYLIGHT
BEGIN:STANDARD
TZOFFSETFROM:-0230
TZOFFSETTO:-0330
TZNAME:NST
DTSTART:20251102T043000
END:STANDARD
BEGIN:DAYLIGHT
TZOFFSETFROM:-0330
TZOFFSETTO:-0230
TZNAME:NDT
DTSTART:20260308T053000
END:DAYLIGHT
BEGIN:STANDARD
TZOFFSETFROM:-0230
TZOFFSETTO:-0330
TZNAME:NST
DTSTART:20261101T043000
END:STANDARD
BEGIN:DAYLIGHT
TZOFFSETFROM:-0330
TZOFFSETTO:-0230
TZNAME:NDT
DTSTART:20270314T053000
END:DAYLIGHT
BEGIN:STANDARD
TZOFFSETFROM:-0230
TZOFFSETTO:-0330
TZNAME:NST
DTSTART:20271107T043000
END:STANDARD
END:VTIMEZONE
BEGIN:VEVENT
DTSTART;TZID=America/St_Johns:20260331T183000
DTEND;TZID=America/St_Johns:20260331T200000
DTSTAMP:20260421T080558
CREATED:20260325T175317Z
LAST-MODIFIED:20260325T175317Z
UID:10060230-1774981800-1774987200@nlpl.ca
SUMMARY:SOCIAL NIGHT
DESCRIPTION:Come and join in for a fun of relaxation.
URL:https://nlpl.ca/events/social-night-2/
LOCATION:Seal Cove (White Bay) Public Library\, 2 Council Road\, Seal Cove\, NL\, A0K 5E0\, Canada
END:VEVENT
BEGIN:VEVENT
DTSTART;TZID=America/St_Johns:20260331T183000
DTEND;TZID=America/St_Johns:20260331T190000
DTSTAMP:20260421T080558
CREATED:20260105T134733Z
LAST-MODIFIED:20260312T153536Z
UID:10056142-1774981800-1774983600@nlpl.ca
SUMMARY:Bedtime Family Storytime
DESCRIPTION:Harmsworth Public Library – A 30-minute interactive program celebrating books\, rhymes\, movement\, songs\, and fun that is perfect for families with multiple children\, ages 0-5
URL:https://nlpl.ca/events/bedtime-family-storytime-2/2026-03-31/
LOCATION:Grand Falls-Windsor (Harmsworth) Public Library\, 1 Cromer Avenue\, Grand Falls - Windsor\, NL\, A2A 1W9\, Canada
CATEGORIES:Kids & Families
ATTACH;FMTTYPE=image/jpeg:https://nlpl.ca/wp-content/uploads/2023/03/Events-Kid-Families.jpg
END:VEVENT
BEGIN:VEVENT
DTSTART;TZID=America/St_Johns:20260331T180000
DTEND;TZID=America/St_Johns:20260331T193000
DTSTAMP:20260421T080558
CREATED:20260303T213207Z
LAST-MODIFIED:20260303T213219Z
UID:10059698-1774980000-1774985400@nlpl.ca
SUMMARY:Connie Boland Book Launch
DESCRIPTION:Celebrate the launch of local author Connie Boland’s new book What If I Told You?
URL:https://nlpl.ca/events/connie-boland-book-launch/
LOCATION:Corner Brook Public Library\, 4 West Street\, Corner Brook\, NL\, A2H 0C1\, Canada
CATEGORIES:Author Talks & Readings
END:VEVENT
BEGIN:VEVENT
DTSTART;TZID=America/St_Johns:20260331T180000
DTEND;TZID=America/St_Johns:20260331T190000
DTSTAMP:20260421T080558
CREATED:20260324T150142Z
LAST-MODIFIED:20260324T150142Z
UID:10060217-1774980000-1774983600@nlpl.ca
SUMMARY:International Trans Day of Visibility - Colouring Night
DESCRIPTION:Join us March 31st for a chill night of colouring in celebration of the International Trans Day of Visibility! Whether you’re part of the community\, an ally\, or just interested in a relaxing evening of colouring – all are welcome! No sign up required!
URL:https://nlpl.ca/events/international-trans-day-of-visibility-colouring-night/
LOCATION:Labrador City Public Library\, 306 Hudson Dr.\, Labrador City\, NL\, A2V 1L5\, Canada
CATEGORIES:Hobbies, Crafts & Games
ATTACH;FMTTYPE=image/jpeg:https://nlpl.ca/wp-content/uploads/2023/03/Events-Hobbies-Crafts-and-Games.jpg
END:VEVENT
BEGIN:VEVENT
DTSTART;TZID=America/St_Johns:20260331T180000
DTEND;TZID=America/St_Johns:20260331T190000
DTSTAMP:20260421T080558
CREATED:20260102T193405Z
LAST-MODIFIED:20260102T193514Z
UID:10055590-1774980000-1774983600@nlpl.ca
SUMMARY:Sensory Hour
DESCRIPTION:Grander Public Library – Quiet Area\, Reduced Noise and Lighting. All ages.
URL:https://nlpl.ca/events/sensory-hour-2-2/2026-03-31/
LOCATION:Gander Public & Resource Library\, 6 Bell Place\, Gander\, NL\, A1V 1X2\, Canada
CATEGORIES:Heath & Wellbeing
ATTACH;FMTTYPE=image/jpeg:https://nlpl.ca/wp-content/uploads/2019/04/Depositphotos_3928992_xl-2015.jpg
END:VEVENT
BEGIN:VEVENT
DTSTART;TZID=America/St_Johns:20260331T173000
DTEND;TZID=America/St_Johns:20260331T193000
DTSTAMP:20260421T080558
CREATED:20260319T165913Z
LAST-MODIFIED:20260319T165914Z
UID:10059821-1774978200-1774985400@nlpl.ca
SUMMARY:Creative Commons
DESCRIPTION:Join us at the Port aux Basques Public Library every Tuesday evening from 5:30-7:30 pm for Creative Commons. Bring any current arts\, crafts\, writing or musical project you’re working on and join other creatives to enjoy each other’s company and share the creative spark! Please provide your own art supplies.
URL:https://nlpl.ca/events/creative-commons-2/2026-03-31/
LOCATION:Port aux Basques Public Library\, 8 Grand Bay\, Port aux Basques\, NL\, A0M 1C0\, Canada
CATEGORIES:Hobbies, Crafts & Games
ATTACH;FMTTYPE=image/jpeg:https://nlpl.ca/wp-content/uploads/2023/03/Events-Hobbies-Crafts-and-Games.jpg
END:VEVENT
BEGIN:VEVENT
DTSTART;TZID=America/St_Johns:20260331T173000
DTEND;TZID=America/St_Johns:20260331T193000
DTSTAMP:20260421T080559
CREATED:20260105T144032Z
LAST-MODIFIED:20260312T152652Z
UID:10056129-1774978200-1774985400@nlpl.ca
SUMMARY:Dungeons & Dragons
DESCRIPTION:Harmsworth Public Library – Curious about Dungeons & Dragons? Are you looking to join a new group? Join us every Tuesday from 5:30 to 7:30 PM. \nNew and experienced players welcome. 13+ years. \nTo register\, phone #709-489-2303 or visit the library \n 
URL:https://nlpl.ca/events/dungeons-dragons-3-2/2026-03-31/
LOCATION:Grand Falls-Windsor (Harmsworth) Public Library\, 1 Cromer Avenue\, Grand Falls - Windsor\, NL\, A2A 1W9\, Canada
CATEGORIES:Hobbies, Crafts & Games
ATTACH;FMTTYPE=image/jpeg:https://nlpl.ca/wp-content/uploads/2023/03/Events-Hobbies-Crafts-and-Games.jpg
END:VEVENT
BEGIN:VEVENT
DTSTART;TZID=America/St_Johns:20260331T160000
DTEND;TZID=America/St_Johns:20260331T170000
DTSTAMP:20260421T080559
CREATED:20250630T172012Z
LAST-MODIFIED:20260312T153102Z
UID:10056078-1774972800-1774976400@nlpl.ca
SUMMARY:Sensory Hour
DESCRIPTION:Harmsworth Public Library – Sensory-friendly browsing hour that includes reduced lighting and reduced noise.
URL:https://nlpl.ca/events/sensory-hour-4-2/2026-03-31/
LOCATION:Grand Falls-Windsor (Harmsworth) Public Library\, 1 Cromer Avenue\, Grand Falls - Windsor\, NL\, A2A 1W9\, Canada
CATEGORIES:Heath & Wellbeing
END:VEVENT
BEGIN:VEVENT
DTSTART;TZID=America/St_Johns:20260331T153000
DTEND;TZID=America/St_Johns:20260331T163000
DTSTAMP:20260421T080559
CREATED:20250821T155247Z
LAST-MODIFIED:20260415T221903Z
UID:10059527-1774971000-1774974600@nlpl.ca
SUMMARY:Baby Play Group
DESCRIPTION:Drop in to the Conception Bay South Public Library where the storytime room  will be open for baby play time\, with baby-friendly toys available! This is a drop-in program\, best suited for ages 0-2.
URL:https://nlpl.ca/events/baby-play-group/2026-03-31/
LOCATION:Conception Bay South Public Library\, 10 Remembrance Square\, Conception Bay South\, NL\, Canada
CATEGORIES:Kids & Families
ATTACH;FMTTYPE=image/jpeg:https://nlpl.ca/wp-content/uploads/2023/03/Events-Kid-Families.jpg
END:VEVENT
BEGIN:VEVENT
DTSTART;TZID=America/St_Johns:20260331T150000
DTEND;TZID=America/St_Johns:20260331T160000
DTSTAMP:20260421T080559
CREATED:20251103T201201Z
LAST-MODIFIED:20251125T194640Z
UID:10053827-1774969200-1774972800@nlpl.ca
SUMMARY:Family Passive Play
DESCRIPTION:
URL:https://nlpl.ca/events/family-passive-play/2026-03-31/
LOCATION:Bishop’s Falls Public Library\, 445 Main Street\, Bishop's Falls\, NL\, A0H 1C0\, Canada
END:VEVENT
BEGIN:VEVENT
DTSTART;TZID=America/St_Johns:20260331T140000
DTEND;TZID=America/St_Johns:20260331T153000
DTSTAMP:20260421T080559
CREATED:20260103T135944Z
LAST-MODIFIED:20260325T214808Z
UID:10055889-1774965600-1774971000@nlpl.ca
SUMMARY:BabyTime PlayTime
DESCRIPTION:Drop-in for playtime and socializing for babies (ages 0-2) and parents/caregivers
URL:https://nlpl.ca/events/babytime-playtime/2026-03-31/
LOCATION:Corner Brook Public Library\, 4 West Street\, Corner Brook\, NL\, A2H 0C1\, Canada
END:VEVENT
BEGIN:VEVENT
DTSTART;TZID=America/St_Johns:20260331T140000
DTEND;TZID=America/St_Johns:20260331T153000
DTSTAMP:20260421T080559
CREATED:20250310T162548Z
LAST-MODIFIED:20260408T174230Z
UID:10059521-1774965600-1774971000@nlpl.ca
SUMMARY:Breastfeeding Clinic
DESCRIPTION:Drop in to the Conception Bay South Public Library for the Breastfeeding Clinic provided by Community Health\, Drop in for parents and babies.
URL:https://nlpl.ca/events/breastfeeding-clinic-3/2026-03-31/
LOCATION:Conception Bay South Public Library\, 10 Remembrance Square\, Conception Bay South\, NL\, Canada
CATEGORIES:Heath & Wellbeing,Kids & Families
ATTACH;FMTTYPE=image/jpeg:https://nlpl.ca/wp-content/uploads/2023/03/Events-Health-and-Wellbeing.jpg
ORGANIZER;CN="Conception Bay South Public Library":MAILTO:conceptionbaysouth@nlpl.ca
END:VEVENT
BEGIN:VEVENT
DTSTART;TZID=America/St_Johns:20260331T113000
DTEND;TZID=America/St_Johns:20260331T123000
DTSTAMP:20260421T080559
CREATED:20260227T193732Z
LAST-MODIFIED:20260418T174819Z
UID:10059389-1774956600-1774960200@nlpl.ca
SUMMARY:Tech Tuesdays
DESCRIPTION:Drop by the Ross King Memorial Library (Mount Pearl) from 11:30 AM – 12:30 PM on Tuesdays for our Tech Tuesdays program.  This program will give you tips on how to use devices such as a laptop\, tablet or cell phone as well as provide answers to your questions about how to use Library resources such as Libby\, Connect Pass\, and the NLPL Events Calendar and Catalogue.  This is a drop in program and is conducted on first-come\, first-serve basis.
URL:https://nlpl.ca/events/tech-tuesdays-3-2/2026-03-31/
LOCATION:Mount Pearl Public Library\, 65 Olympic Drive\, Mount Pearl\, NL\, A1N 5H6\, Canada
CATEGORIES:Classes & Workshops,Information Session,Technology & Makerspace
ORGANIZER;CN="Mount Pearl":MAILTO:mountpearl@nlpl.ca
END:VEVENT
BEGIN:VEVENT
DTSTART;TZID=America/St_Johns:20260331T103000
DTEND;TZID=America/St_Johns:20260331T110000
DTSTAMP:20260421T080559
CREATED:20260223T195656Z
LAST-MODIFIED:20260223T195656Z
UID:10059449-1774953000-1774954800@nlpl.ca
SUMMARY:Spring Family Story Time 2026
DESCRIPTION:Stephenville Crossing: A 30 minute interactive program celebrating books\, rhymes\, movement\, songs and fun that is perfect for families with multiple children\, ages 0-5 years. Learn\, grow\, and explore through 6 weeks of story time at the library!
URL:https://nlpl.ca/events/spring-family-story-time-2026/2026-03-31/
LOCATION:Stephenville Crossing Public Library\, 73 West Street\, Stephenville Crossing\, NL\, A0N 2C0\, Canada
CATEGORIES:Kids & Families,Storytime
ATTACH;FMTTYPE=image/jpeg:https://nlpl.ca/wp-content/uploads/2023/03/Events-Kid-Families.jpg
END:VEVENT
BEGIN:VEVENT
DTSTART;TZID=America/St_Johns:20260331T103000
DTEND;TZID=America/St_Johns:20260331T110000
DTSTAMP:20260421T080559
CREATED:20260110T135510Z
LAST-MODIFIED:20260110T135510Z
UID:10056641-1774953000-1774954800@nlpl.ca
SUMMARY:Tuesday\, Story Time
DESCRIPTION:Story Time \nTuesday 10:30-11:00 \nJanuary 13 to June 9th \nAges- birth to 5 years \nStory Time is half hour program\, filled with wonderful story books\, nursery rhymes\, songs and so much fun. \nLearning to read begins before children start school. From the time they are infants\, children learn language and other important skills that will help them learn to read. Developing early literacy skills makes it easier for children to learn to read once they begin school. \n“Remember\, the more we read together\, the happier we’ll be.”
URL:https://nlpl.ca/events/tuesday-story-time-12/
LOCATION:Carbonear Public Library\, 256 Water St.\, Carbonear\, NL\, A1Y 1C4\, Canada
CATEGORIES:Kids & Families,Storytime
ORGANIZER;CN="Carbonear Public Library":MAILTO:carbonear@nlpl.ca
END:VEVENT
BEGIN:VEVENT
DTSTART;TZID=America/St_Johns:20260331T100000
DTEND;TZID=America/St_Johns:20260331T120000
DTSTAMP:20260421T080559
CREATED:20260103T155608Z
LAST-MODIFIED:20260325T215109Z
UID:10055956-1774951200-1774958400@nlpl.ca
SUMMARY:Digital Learning+
DESCRIPTION:Small group workshops and classes for lifelong learning with a focus on digital literacy presented as part of The Murphy Centre’s ACCESS to Learning program. \nfree | registration required \nFor more information or registration contact: chrisjoseph@murphycentre.ca 709-640-6718 and/or reneesherstobetoff@murphycentre.ca 709-640-5616 \n  \n 
URL:https://nlpl.ca/events/digital-learning/2026-03-31/
LOCATION:Corner Brook Public Library\, 4 West Street\, Corner Brook\, NL\, A2H 0C1\, Canada
END:VEVENT
BEGIN:VEVENT
DTSTART;TZID=America/St_Johns:20260331T100000
DTEND;TZID=America/St_Johns:20260331T110000
DTSTAMP:20260421T080559
CREATED:20251015T144618Z
LAST-MODIFIED:20251015T161058Z
UID:10052607-1774951200-1774954800@nlpl.ca
SUMMARY:Family Story Time
DESCRIPTION:
URL:https://nlpl.ca/events/family-story-time-2/2026-03-31/
LOCATION:Bishop’s Falls Public Library\, 445 Main Street\, Bishop's Falls\, NL\, A0H 1C0\, Canada
CATEGORIES:Kids & Families,Storytime
END:VEVENT
BEGIN:VEVENT
DTSTART;TZID=America/St_Johns:20260331T060000
DTEND;TZID=America/St_Johns:20260331T193000
DTSTAMP:20260421T080559
CREATED:20251120T191835Z
LAST-MODIFIED:20251125T195038Z
UID:10055167-1774936800-1774985400@nlpl.ca
SUMMARY:Tuesday Night Tabletop Board Gaming
DESCRIPTION:New-Wes-Valley Public Libraries welcomes everyone to Tuesday night Board Gaming.  From 6 pm – 7:30 pm play from a wide selection of games from the libraries collection\, or bring you own.  Hope to see you there. \n 
URL:https://nlpl.ca/events/tuesday-night-tabletop-board-gaming/2026-03-31/
LOCATION:NL
CATEGORIES:Hobbies, Crafts & Games
END:VEVENT
BEGIN:VEVENT
DTSTART;TZID=America/St_Johns:20260330T180000
DTEND;TZID=America/St_Johns:20260330T200000
DTSTAMP:20260421T080559
CREATED:20251001T170959Z
LAST-MODIFIED:20251128T205518Z
UID:10051849-1774893600-1774900800@nlpl.ca
SUMMARY:Traditional NL Rug Hooking
DESCRIPTION:Drop in group at Point Leamington Public Library for rug hookers to work on their own projects.\nAll skill levels are welcome.
URL:https://nlpl.ca/events/traditional-nl-rug-hooking-2/2026-03-30/
LOCATION:Point Leamington Public Library\, 1 Rice's Drive\, Point Leamington\, NL\, A0H 1Z0\, Canada
CATEGORIES:Hobbies, Crafts & Games
ATTACH;FMTTYPE=image/jpeg:https://nlpl.ca/wp-content/uploads/2023/03/Events-Hobbies-Crafts-and-Games.jpg
END:VEVENT
BEGIN:VEVENT
DTSTART;TZID=America/St_Johns:20260330T150000
DTEND;TZID=America/St_Johns:20260330T200000
DTSTAMP:20260421T080559
CREATED:20260304T172104Z
LAST-MODIFIED:20260317T164251Z
UID:10059629-1774882800-1774900800@nlpl.ca
SUMMARY:Quilting with Kay
DESCRIPTION:Come and enjoy an afternoon of beginner quilting with Kay Warford!!
URL:https://nlpl.ca/events/quilting-with-kay-2/2026-03-30/
LOCATION:Point Leamington Public Library\, 1 Rice's Drive\, Point Leamington\, NL\, A0H 1Z0\, Canada
CATEGORIES:Hobbies, Crafts & Games
END:VEVENT
BEGIN:VEVENT
DTSTART;TZID=America/St_Johns:20260330T150000
DTEND;TZID=America/St_Johns:20260330T160000
DTSTAMP:20260421T080559
CREATED:20251103T201201Z
LAST-MODIFIED:20251125T194640Z
UID:10053826-1774882800-1774886400@nlpl.ca
SUMMARY:Family Passive Play
DESCRIPTION:
URL:https://nlpl.ca/events/family-passive-play/2026-03-30/
LOCATION:Bishop’s Falls Public Library\, 445 Main Street\, Bishop's Falls\, NL\, A0H 1C0\, Canada
END:VEVENT
BEGIN:VEVENT
DTSTART;TZID=America/St_Johns:20260330T140000
DTEND;TZID=America/St_Johns:20260330T160000
DTSTAMP:20260421T080559
CREATED:20250818T121419Z
LAST-MODIFIED:20260312T153407Z
UID:10056095-1774879200-1774886400@nlpl.ca
SUMMARY:Rug Hooking
DESCRIPTION:Harmsworth Public Library – Get “hooked” on rug making every Monday afternoon. Whether you are a beginner or a seasoned artist\, come share your rug-hooked works and techniques with a fun group of rug hookers.
URL:https://nlpl.ca/events/rug-hooking-2/2026-03-30/
LOCATION:Grand Falls-Windsor (Harmsworth) Public Library\, 1 Cromer Avenue\, Grand Falls - Windsor\, NL\, A2A 1W9\, Canada
CATEGORIES:Hobbies, Crafts & Games
ATTACH;FMTTYPE=image/jpeg:https://nlpl.ca/wp-content/uploads/2023/03/Events-Hobbies-Crafts-and-Games.jpg
END:VEVENT
BEGIN:VEVENT
DTSTART;TZID=America/St_Johns:20260328T143000
DTEND;TZID=America/St_Johns:20260328T150000
DTSTAMP:20260421T080559
CREATED:20260123T142344Z
LAST-MODIFIED:20260123T142344Z
UID:10057092-1774708200-1774710000@nlpl.ca
SUMMARY:Drop-in Family Storytime
DESCRIPTION:A drop in event at A.C. Hunter Children’s Library. \nFamily Storytime for ages 0-5 \nNo registration needed! Drop in for stories\, rhymes and songs. \nSaturday March 28 at 2:30pm \n 
URL:https://nlpl.ca/events/drop-in-family-storytime/
LOCATION:St. John’s – A.C. Hunter Children’s Public Library\, 95 Allandale Road\, St. John's\, NL\, A1E 3A3\, Canada
CATEGORIES:Kids & Families,Storytime
END:VEVENT
BEGIN:VEVENT
DTSTART;TZID=America/St_Johns:20260328T140000
DTEND;TZID=America/St_Johns:20260328T153000
DTSTAMP:20260421T080559
CREATED:20260306T191922Z
LAST-MODIFIED:20260306T191922Z
UID:10059794-1774706400-1774711800@nlpl.ca
SUMMARY:Book Launch\, 'Vicory\,' by James Case
DESCRIPTION:Merlin Star Press presents \nLocal Launch \n‘Vicory’ a Novel by James Case \nSaturday\, March 28th \nTime: 2:00-3:30 \n“Moving\, memorable\, and beautifully written.”-Paul Butler
URL:https://nlpl.ca/events/book-launch-vicory-by-james-case/
LOCATION:Carbonear Public Library\, 256 Water St.\, Carbonear\, NL\, A1Y 1C4\, Canada
CATEGORIES:Arts & Culture,Author Talks & Readings
ATTACH;FMTTYPE=image/jpeg:https://nlpl.ca/wp-content/uploads/2023/03/Events-Information-Sessions.jpg
ORGANIZER;CN="Carbonear Public Library":MAILTO:carbonear@nlpl.ca
END:VEVENT
BEGIN:VEVENT
DTSTART;TZID=America/St_Johns:20260328T133000
DTEND;TZID=America/St_Johns:20260328T153000
DTSTAMP:20260421T080559
CREATED:20260325T213649Z
LAST-MODIFIED:20260325T213649Z
UID:10060233-1774704600-1774711800@nlpl.ca
SUMMARY:Community Arts Studio
DESCRIPTION:Community Arts Studio : where coming together and creativity go hand in hand! Gather your friends and family to embark on a journey of imagination and artistic exploration! Each week will be a different workshop\, guided by a wonderful local artist in a series of different mediums: \nThis week\, Summer Snow will show participants the art of appliqué through cutting\, layering\, and simple stitching techniques as they design and construct their own felt and fabric pin badges or brooches. \nRegistration required using the Rotary Arts Centre Eventbrite page https://www.eventbrite.com/cc/workshops-4474693 \nCommunity Arts Studio is presented by the Rotary Arts Centre in collaboration with Corner Brook Public Library and The Homeschoolers Of Western Newfoundland Group
URL:https://nlpl.ca/events/community-arts-studio-2/
LOCATION:Corner Brook Public Library\, 4 West Street\, Corner Brook\, NL\, A2H 0C1\, Canada
CATEGORIES:Arts & Culture,Classes & Workshops,Hobbies, Crafts & Games
END:VEVENT
BEGIN:VEVENT
DTSTART;TZID=America/St_Johns:20260328T130000
DTEND;TZID=America/St_Johns:20260328T160000
DTSTAMP:20260421T080559
CREATED:20260214T225849Z
LAST-MODIFIED:20260226T150815Z
UID:10059288-1774702800-1774713600@nlpl.ca
SUMMARY:CVITP Tax Clinics
DESCRIPTION:A.C. Hunter – St John’s\nWe are having our annual CVITP (Community Volunteer Tax Program) tax clinics. Volunteers will be on hand to assist with tax returns for those with a modest income withing the limits below.First come first served.\nSingle with total income below $40\,000 \nSingle $40\,000\nTwo person household (single parent or married/common-law couple) with total income below $55\,000 \nDetermine if you are eligible \nTo be eligible to use the services of a free tax clinic\, you must have both: \n\na modest income\na simple tax situation\n\nDetermine if you have a modest income \n\nThe following table provides a guideline to determine what is considered a modest income.\nIn general\, a modest income means the total family income is less than or equal to the amount shown in the chart below\, based on the size of the family.\nFamily size includes an individual\, or a couple\, and their dependants.\nCommunity organizations can adjust the total family income thresholds for their clients based on the local economic environment\, the population they serve\, and their resources.\n\n\n\n\n  \n\nSuggested income thresholds\n\n\nFamily size\nTotal family income\n\n\n1 person\n$40\,000\n\n\n2 people\n$55\,000\n\n\n3 people\n$60\,000\n\n\n4 people\n$65\,000\n\n\n5 people\n$70\,000\n\n\nMore than 5 people\n$70\,000\, plus $5\,000 for each additional person\n\n\n\n\n\nDetermine if you have a simple tax situation\nIn general\, a tax situation is simple if an individual has no income or if their income comes from these sources: \n\nemployment\npension\nbenefits\, such as the Canada Pension Plan\, Old Age Security\, disability insurance\, employment insurance\, and social assistance\nregistered retirement savings plans (RRSPs)\nscholarships\, fellowships\, bursaries\, or grants\ninterest (under $1\,200)\n\nVolunteers are not expected to answer complex tax questions. If a taxpayer needs information that is beyond the volunteer’s expertise\, they can find more information on the website or contact the Canada Revenue Agency. \nOur volunteers will only process current-year tax returns; however\, they will only complete tax returns they feel comfortable preparing based on the information the taxpayer gives them. \n\nComplex tax situations are not supported\nVolunteers will not complete a deceased taxpayer’s return\, or returns that have any of the following: \n\nself-employment income or employment expenses Exception1\nbusiness income and expenses\nrental income and expenses\ninterest income over $1\,200\ncapital gains or losses\nbankruptcy in the tax year (or the year before\, if that return has not yet been filed)\nforeign property (Form T1135)\nforeign income Exception2Exceptions\n\n\n\nException 1\nIndividuals who have a T4A slip\, Statement of Pension\, Retirement\, Annuity\, and Other Income\, that shows self-employed or business in box 048 may be eligible to have their tax return completed through the CVITP if all of the following conditions are met: \n\nthe total income in box 048 is under $1\,000\nno expenses are claimed\nthe individual is not registered as a GST/HST registrant and is not required to be one\n\nReturn to exception1referrer \n\nException 2\nIndividuals who receive U.S. Social Security benefits are eligible to have their tax return completed through the CVITP. Any other type of foreign income (including a foreign pension) would not be considered a simple tax situation. \nReturn to exception2referrer \nGet The Documents you need \nVolunteers will need to see all the relevant documents and receipts if you want them to prepare your taxes. These could include\, but are not limited to\, the following: \n\n\n\n\n\n\n\nvalid government-issued photo identification\nsocial insurance number (SIN) or a valid temporary SIN\ntax information slips\n\nLocating your slips\nTax information slips are prepared by your employer\, payer\, or administrator. You should have received most of your slips and receipts by the end of February. If you have not received them or have lost or misplaced a slip for the current year\, start by checking your CRA account or contacting your employer or issuer for a copy. If you are unable to resolve this issue online\, you can call the CRA general enquiries line at 1-800-959-8281. \nVolunteers may be able to retrieve some of your tax slips through the CRA’s online Auto-fill my return feature\, which allows volunteers to access tax slips that the CRA has available at the time of the request. Please note that not all volunteers have access to this online feature. \nIf you need a slip for an earlier year\, you may be able to get a copy through your CRA Account or by visiting Skip the line to find answers to most of your tax-related questions. \nYou can also visit Service Canada to get electronic versions of your current and previous tax slips for old age security (OAS)\, employment insurance (EI)\, and the Canada pension plan (CPP). \n\n\nreceipts\nprevious Notice of Assessment (when possible)
URL:https://nlpl.ca/events/cvitp-tax-clinics/2026-03-28/
LOCATION:St. John’s – A.C. Hunter Public Library\, 125 Allandale Road\, St. John's\, NL\, A1B 3A3\, Canada
CATEGORIES:Financial Literacy,Special Event
END:VEVENT
BEGIN:VEVENT
DTSTART;TZID=America/St_Johns:20260328T113000
DTEND;TZID=America/St_Johns:20260328T120000
DTSTAMP:20260421T080559
CREATED:20260110T141023Z
LAST-MODIFIED:20260110T141023Z
UID:10056662-1774697400-1774699200@nlpl.ca
SUMMARY:Saturday\, Story Time
DESCRIPTION:Story Time \nSaturday \nTime: 11:30-12:00 \nJanuary 17 to June 13th \nAges- birth to 5 years \nStory Time is half hour program\, filled with wonderful story books\, nursery rhymes\, songs and so much fun. \nLearning to read begins before children start school. From the time they are infants\, children learn language and other important skills that will help them learn to read. Developing early literacy skills makes it easier for children to learn to read once they begin school. \n“Remember\, the more we read together\, the happier we’ll be.”
URL:https://nlpl.ca/events/saturday-story-time-16/
LOCATION:Carbonear Public Library\, 256 Water St.\, Carbonear\, NL\, A1Y 1C4\, Canada
CATEGORIES:Kids & Families,Storytime
ORGANIZER;CN="Carbonear Public Library":MAILTO:carbonear@nlpl.ca
END:VEVENT
BEGIN:VEVENT
DTSTART;TZID=America/St_Johns:20260328T110000
DTEND;TZID=America/St_Johns:20260328T150000
DTSTAMP:20260421T080559
CREATED:20260205T191657Z
LAST-MODIFIED:20260205T191754Z
UID:10058232-1774695600-1774710000@nlpl.ca
SUMMARY:Master Builders
DESCRIPTION:(5+) Passive program for open Lego play. We provide the Lego\, you provide the fun! Come and go anytime during 11am – 3pm on Saturdays.
URL:https://nlpl.ca/events/master-builders/2026-03-28/
LOCATION:Stephenville Public Library (Kindale)\, 45 Carolina Ave.\, Stephenville\, NL\, A2N 3P8\, Canada
CATEGORIES:Hobbies, Crafts & Games
ATTACH;FMTTYPE=image/jpeg:https://nlpl.ca/wp-content/uploads/2023/03/Events-Hobbies-Crafts-and-Games.jpg
END:VEVENT
BEGIN:VEVENT
DTSTART;TZID=America/St_Johns:20260328T110000
DTEND;TZID=America/St_Johns:20260328T143000
DTSTAMP:20260421T080559
CREATED:20260113T185623Z
LAST-MODIFIED:20260303T183651Z
UID:10059621-1774695600-1774708200@nlpl.ca
SUMMARY:LEGO Free Play
DESCRIPTION:LEGO Free Play at the Harbour Grace Public Library. Every Saturday from 11am-2:30pm. Drop in for some creative play! We supply the LEGO blocks. All you need to bring is your imagination! Children under 10 must be accompanied by a parent or guardian. No registration required.
URL:https://nlpl.ca/events/lego-free-play-3/2026-03-28/
LOCATION:Harbour Grace Public Library\, 106 Harvey Street\, Harbour Grace\, NL\, A0A 2M0\, Canada
END:VEVENT
BEGIN:VEVENT
DTSTART;TZID=America/St_Johns:20260328T110000
DTEND;TZID=America/St_Johns:20260328T130000
DTSTAMP:20260421T080559
CREATED:20260319T170049Z
LAST-MODIFIED:20260319T170050Z
UID:10056829-1774695600-1774702800@nlpl.ca
SUMMARY:LEGO Builders
DESCRIPTION:Come out to the Port aux Basques Public Library for LEGO Builders. LEGO blocks are available\, along with a fun building table. Larger blocks are available for smaller children. Enjoy the fun and challenge of LEGO!
URL:https://nlpl.ca/events/lego-builders-2/2026-03-28/
LOCATION:Port aux Basques Public Library\, 8 Grand Bay\, Port aux Basques\, NL\, A0M 1C0\, Canada
CATEGORIES:Hobbies, Crafts & Games
ATTACH;FMTTYPE=image/jpeg:https://nlpl.ca/wp-content/uploads/2023/03/Events-Hobbies-Crafts-and-Games.jpg
END:VEVENT
END:VCALENDAR