BEGIN:VCALENDAR
VERSION:2.0
PRODID:-//Newfoundland &amp; Labrador Public Libraries - ECPv6.15.20//NONSGML v1.0//EN
CALSCALE:GREGORIAN
METHOD:PUBLISH
X-WR-CALNAME:Newfoundland &amp; Labrador Public Libraries
X-ORIGINAL-URL:https://nlpl.ca
X-WR-CALDESC:Events for Newfoundland &amp; Labrador Public Libraries
REFRESH-INTERVAL;VALUE=DURATION:PT1H
X-Robots-Tag:noindex
X-PUBLISHED-TTL:PT1H
BEGIN:VTIMEZONE
TZID:America/St_Johns
BEGIN:DAYLIGHT
TZOFFSETFROM:-0330
TZOFFSETTO:-0230
TZNAME:NDT
DTSTART:20250309T053000
END:DAYLIGHT
BEGIN:STANDARD
TZOFFSETFROM:-0230
TZOFFSETTO:-0330
TZNAME:NST
DTSTART:20251102T043000
END:STANDARD
BEGIN:DAYLIGHT
TZOFFSETFROM:-0330
TZOFFSETTO:-0230
TZNAME:NDT
DTSTART:20260308T053000
END:DAYLIGHT
BEGIN:STANDARD
TZOFFSETFROM:-0230
TZOFFSETTO:-0330
TZNAME:NST
DTSTART:20261101T043000
END:STANDARD
BEGIN:DAYLIGHT
TZOFFSETFROM:-0330
TZOFFSETTO:-0230
TZNAME:NDT
DTSTART:20270314T053000
END:DAYLIGHT
BEGIN:STANDARD
TZOFFSETFROM:-0230
TZOFFSETTO:-0330
TZNAME:NST
DTSTART:20271107T043000
END:STANDARD
END:VTIMEZONE
BEGIN:VEVENT
DTSTART;TZID=America/St_Johns:20260530T143000
DTEND;TZID=America/St_Johns:20260530T153000
DTSTAMP:20260421T095005
CREATED:20260420T134406Z
LAST-MODIFIED:20260420T134406Z
UID:10061541-1780151400-1780155000@nlpl.ca
SUMMARY:Newfoundland and Labrador Waterfalls with Steve Faulkner
DESCRIPTION:St John’s – A.C. Hunter Library \nCalling all you outdoor enthusiasts ! join us for an afternoon with author and photographer Steve Faulkner as we launch his newest book  Waterfalls of Newfoundland and Labrador !  There will be a reading\, slideshow and some Q&A. Books will be available for purchase and signing.\nSteve Faulkner is a hiker\, skier\, mountain biker\, kayaker\, and photographer who lived and worked in Newfoundland and Labrador for more than a decade. Originally from Musquodoboit Harbour\, Nova Scotia\, he first went to Newfoundland in 1988 as a field geologist\, to work primarily around the Great Northern Peninsula. It was there that his deep appreciation for the natural beauty of “The Rock” first formed. When the opportunity presented itself several years later\, Faulkner jumped at the chance to move back to the province as an RCMP officer; he was fortunate to have postings in the east\, west\, and central regions of Newfoundland and in Labrador\, during which he sought out many of its great waterfalls.
URL:https://nlpl.ca/events/newfoundland-and-labrador-waterfalls-with-steve-faulkner/
LOCATION:St. John’s – A.C. Hunter Public Library\, 125 Allandale Road\, St. John's\, NL\, A1B 3A3\, Canada
CATEGORIES:Author Talks & Readings,Heath & Wellbeing,Hobbies, Crafts & Games
END:VEVENT
BEGIN:VEVENT
DTSTART;TZID=America/St_Johns:20260530T110000
DTEND;TZID=America/St_Johns:20260530T150000
DTSTAMP:20260421T095005
CREATED:20260205T191657Z
LAST-MODIFIED:20260205T191754Z
UID:10058241-1780138800-1780153200@nlpl.ca
SUMMARY:Master Builders
DESCRIPTION:(5+) Passive program for open Lego play. We provide the Lego\, you provide the fun! Come and go anytime during 11am – 3pm on Saturdays.
URL:https://nlpl.ca/events/master-builders/2026-05-30/
LOCATION:Stephenville Public Library (Kindale)\, 45 Carolina Ave.\, Stephenville\, NL\, A2N 3P8\, Canada
CATEGORIES:Hobbies, Crafts & Games
ATTACH;FMTTYPE=image/jpeg:https://nlpl.ca/wp-content/uploads/2023/03/Events-Hobbies-Crafts-and-Games.jpg
END:VEVENT
BEGIN:VEVENT
DTSTART;TZID=America/St_Johns:20260530T110000
DTEND;TZID=America/St_Johns:20260530T113000
DTSTAMP:20260421T095005
CREATED:20260323T174337Z
LAST-MODIFIED:20260323T174337Z
UID:10060208-1780138800-1780140600@nlpl.ca
SUMMARY:Family Storytime
DESCRIPTION:Join us at the CBS Public Library with the whole family for Storytime!\nThis is for all ages and drop in.
URL:https://nlpl.ca/events/family-storytime-6/2026-05-30/
LOCATION:Conception Bay South Public Library\, 10 Remembrance Square\, Conception Bay South\, NL\, Canada
CATEGORIES:Storytime
ATTACH;FMTTYPE=image/jpeg:https://nlpl.ca/wp-content/uploads/2023/03/Events-Kid-Families.jpg
ORGANIZER;CN="Conception Bay South Public Library":MAILTO:conceptionbaysouth@nlpl.ca
END:VEVENT
BEGIN:VEVENT
DTSTART;TZID=America/St_Johns:20260530T103000
DTEND;TZID=America/St_Johns:20260530T113000
DTSTAMP:20260421T095005
CREATED:20260103T140642Z
LAST-MODIFIED:20260325T214523Z
UID:10060254-1780137000-1780140600@nlpl.ca
SUMMARY:Family Storytime
DESCRIPTION:Stories\, songs and rhymes for the whole family! All ages and all abilities welcome
URL:https://nlpl.ca/events/family-storytime-2/2026-05-30/
LOCATION:Corner Brook Public Library\, 4 West Street\, Corner Brook\, NL\, A2H 0C1\, Canada
CATEGORIES:Kids & Families,Storytime
END:VEVENT
BEGIN:VEVENT
DTSTART;TZID=America/St_Johns:20260530T103000
DTEND;TZID=America/St_Johns:20260530T110000
DTSTAMP:20260421T095005
CREATED:20260312T183434Z
LAST-MODIFIED:20260418T175434Z
UID:10060008-1780137000-1780138800@nlpl.ca
SUMMARY:Saturday Storytime (Drop-In)
DESCRIPTION:Join us at the Ross King Memorial Library (Mount Pearl) for a Family Storytime every Saturday at 10:30am.  This Storytime features stories\, songs and rhymes and is geared for children ages 0-5 years and their caregivers.  Storytime lasts approximately 20-30 minutes (no registration required).
URL:https://nlpl.ca/events/drop-in-storytime-2-2/2026-05-30/
LOCATION:Mount Pearl Public Library\, 65 Olympic Drive\, Mount Pearl\, NL\, A1N 5H6\, Canada
CATEGORIES:Kids & Families,Storytime
ORGANIZER;CN="Mount Pearl":MAILTO:mountpearl@nlpl.ca
END:VEVENT
BEGIN:VEVENT
DTSTART;TZID=America/St_Johns:20260530T100000
DTEND;TZID=America/St_Johns:20260530T163000
DTSTAMP:20260421T095005
CREATED:20260227T195830Z
LAST-MODIFIED:20260418T175236Z
UID:10061533-1780135200-1780158600@nlpl.ca
SUMMARY:Lego Free Play
DESCRIPTION:Join us at the Ross King Memorial Library (Mount Pearl) every Saturday for Lego Free Play.  We have Lego building blocks available every Saturday from 10am until 4:30pm.  Drop in and create something amazing!
URL:https://nlpl.ca/events/lego-free-play-2-2/2026-05-30/
LOCATION:Mount Pearl Public Library\, 65 Olympic Drive\, Mount Pearl\, NL\, A1N 5H6\, Canada
CATEGORIES:Kids & Families
ORGANIZER;CN="Mount Pearl":MAILTO:mountpearl@nlpl.ca
END:VEVENT
BEGIN:VEVENT
DTSTART;TZID=America/St_Johns:20260530T080000
DTEND;TZID=America/St_Johns:20260530T170000
DTSTAMP:20260421T095005
CREATED:20260315T164422Z
LAST-MODIFIED:20260329T122230Z
UID:10060400-1780128000-1780160400@nlpl.ca
SUMMARY:SCRABBLE  Saturdays
DESCRIPTION:St John’s – A.C. Hunter Want to play Scrabble? Register for a spot and come play. We will provide the boards and the space. Adults and teens 14+
URL:https://nlpl.ca/events/scrabble-saturdays/2026-05-30/
LOCATION:St. John’s – A.C. Hunter Public Library\, 125 Allandale Road\, St. John's\, NL\, A1B 3A3\, Canada
END:VEVENT
BEGIN:VEVENT
DTSTART;TZID=America/St_Johns:20260529T150000
DTEND;TZID=America/St_Johns:20260529T160000
DTSTAMP:20260421T095005
CREATED:20251103T201201Z
LAST-MODIFIED:20251125T194640Z
UID:10053870-1780066800-1780070400@nlpl.ca
SUMMARY:Family Passive Play
DESCRIPTION:
URL:https://nlpl.ca/events/family-passive-play/2026-05-29/
LOCATION:Bishop’s Falls Public Library\, 445 Main Street\, Bishop's Falls\, NL\, A0H 1C0\, Canada
END:VEVENT
BEGIN:VEVENT
DTSTART;TZID=America/St_Johns:20260529T140000
DTEND;TZID=America/St_Johns:20260529T163000
DTSTAMP:20260421T095005
CREATED:20260407T134939Z
LAST-MODIFIED:20260407T135017Z
UID:10060138-1780063200-1780072200@nlpl.ca
SUMMARY:Tech Help at CBS Public Library
DESCRIPTION:Book a one-on-one 30-minute tech help session on Friday afternoons. These sessions will be for basic tech help – including: accessing library books on Libby\, Microsoft Word or Google Docs\, email services\, setting up your new device\, and more!\n*Day-Of Registration Required – Please call the library (709-834-3620) from 10am-noon on the day you wish to book – let us know what device you will be bringing and what you need help with! Use of library computers\, laptops\, or tablets during these sessions is subject to availability.
URL:https://nlpl.ca/events/tech-help-at-cbs-public-library/2026-05-29/
LOCATION:Conception Bay South Public Library\, 10 Remembrance Square\, Conception Bay South\, NL\, Canada
CATEGORIES:Classes & Workshops
ATTACH;FMTTYPE=image/jpeg:https://nlpl.ca/wp-content/uploads/2023/03/Events-Classes-and-Workshops.jpg
END:VEVENT
BEGIN:VEVENT
DTSTART;TZID=America/St_Johns:20260529T140000
DTEND;TZID=America/St_Johns:20260529T163000
DTSTAMP:20260421T095005
CREATED:20260103T152206Z
LAST-MODIFIED:20260325T214908Z
UID:10060296-1780063200-1780072200@nlpl.ca
SUMMARY:LegoTime
DESCRIPTION:Show off your creativity and imagination with this drop-in program suitable for children of all ages (Lego recommended for ages 3+ and Duplo bricks available for younger siblings).
URL:https://nlpl.ca/events/legotime/2026-05-29/
LOCATION:Corner Brook Public Library\, 4 West Street\, Corner Brook\, NL\, A2H 0C1\, Canada
CATEGORIES:Kids & Families
END:VEVENT
BEGIN:VEVENT
DTSTART;TZID=America/St_Johns:20260529T140000
DTEND;TZID=America/St_Johns:20260529T160000
DTSTAMP:20260421T095005
CREATED:20260105T135729Z
LAST-MODIFIED:20260312T152751Z
UID:10059893-1780063200-1780070400@nlpl.ca
SUMMARY:Lego Free Play
DESCRIPTION:Harmsworth Public Library – What will you create? Create something fun at our LEGO free play!
URL:https://nlpl.ca/events/lego-free-play-6-2-2/2026-05-29/
LOCATION:Grand Falls-Windsor (Harmsworth) Public Library\, 1 Cromer Avenue\, Grand Falls - Windsor\, NL\, A2A 1W9\, Canada
CATEGORIES:Kids & Families
ATTACH;FMTTYPE=image/jpeg:https://nlpl.ca/wp-content/uploads/2023/03/Events-Kid-Families.jpg
END:VEVENT
BEGIN:VEVENT
DTSTART;TZID=America/St_Johns:20260529T133000
DTEND;TZID=America/St_Johns:20260529T163000
DTSTAMP:20260421T095005
CREATED:20260415T182349Z
LAST-MODIFIED:20260415T214400Z
UID:10061443-1780061400-1780072200@nlpl.ca
SUMMARY:Adult Craft Studio: Faux Stain Glass Pet Portraits
DESCRIPTION:St. Johns’ – Marjorie Mews Library \nFor this month’s Adult Craft Studio we will be creating stain glass pet portraits using Modge Podge and a glass frame. This event is on May 29\, 2026 at 1:30pm. \n 
URL:https://nlpl.ca/events/adult-craft-studio-stainglass-modge-podge/
LOCATION:St. John’s – Marjorie Mews Public Library\, 12 Highland Drive\, St. John's\, NL\, A1A 3C4\, Canada
CATEGORIES:Hobbies, Crafts & Games
ATTACH;FMTTYPE=image/jpeg:https://nlpl.ca/wp-content/uploads/2023/03/Events-Hobbies-Crafts-and-Games.jpg
END:VEVENT
BEGIN:VEVENT
DTSTART;TZID=America/St_Johns:20260529T103000
DTEND;TZID=America/St_Johns:20260529T120000
DTSTAMP:20260421T095005
CREATED:20260303T213625Z
LAST-MODIFIED:20260325T213947Z
UID:10059705-1780050600-1780056000@nlpl.ca
SUMMARY:Friday Morning Yarns
DESCRIPTION:Share conversation\, motivation and inspiration while you work on your knitting\, crochetting and other needlecrafts. While the focus is not on learning to knit\, attendees are encouraged to share their skills.
URL:https://nlpl.ca/events/friday-morning-yarns/2026-05-29/
LOCATION:Corner Brook Public Library\, 4 West Street\, Corner Brook\, NL\, A2H 0C1\, Canada
CATEGORIES:Hobbies, Crafts & Games
END:VEVENT
BEGIN:VEVENT
DTSTART;TZID=America/St_Johns:20260529T103000
DTEND;TZID=America/St_Johns:20260529T110000
DTSTAMP:20260421T095005
CREATED:20260105T135443Z
LAST-MODIFIED:20260312T152214Z
UID:10059902-1780050600-1780052400@nlpl.ca
SUMMARY:Family Storytime
DESCRIPTION:Harmsworth Public Library – A 30-minute interactive program celebrating books\, rhymes\, movement\, songs\, and fun that is perfect for families with multiple children\, ages 0-5
URL:https://nlpl.ca/events/family-storytime-3/2026-05-29/
LOCATION:Grand Falls-Windsor (Harmsworth) Public Library\, 1 Cromer Avenue\, Grand Falls - Windsor\, NL\, A2A 1W9\, Canada
CATEGORIES:Kids & Families
ATTACH;FMTTYPE=image/jpeg:https://nlpl.ca/wp-content/uploads/2023/03/Events-Kid-Families.jpg
END:VEVENT
BEGIN:VEVENT
DTSTART;TZID=America/St_Johns:20260529T101500
DTEND;TZID=America/St_Johns:20260529T114500
DTSTAMP:20260421T095005
CREATED:20251028T175624Z
LAST-MODIFIED:20260415T222620Z
UID:10061501-1780049700-1780055100@nlpl.ca
SUMMARY:Musical Munchkins
DESCRIPTION:Drop in to the Conception Bay South Public Library for Musical Munchkins! Hosted By the Family Resource Center.\nThis is a drop-in music and rhyme time for babies (newborn until walking) and their caregiver.
URL:https://nlpl.ca/events/musical-munchkins-2-3-2/2026-05-29/
LOCATION:Conception Bay South Public Library\, 10 Remembrance Square\, Conception Bay South\, NL\, Canada
CATEGORIES:Kids & Families
ATTACH;FMTTYPE=image/jpeg:https://nlpl.ca/wp-content/uploads/2023/03/Events-Kid-Families.jpg
END:VEVENT
BEGIN:VEVENT
DTSTART;TZID=America/St_Johns:20260529T093000
DTEND;TZID=America/St_Johns:20260529T113000
DTSTAMP:20260421T095005
CREATED:20251016T165338Z
LAST-MODIFIED:20251128T213700Z
UID:10052661-1780047000-1780054200@nlpl.ca
SUMMARY:Friday Free Play for Babies and Toddlers
DESCRIPTION:A drop-in weekly program at A.C. Hunter Children’s Library \nPlaygroup for ages 0-3. \nEvery Friday\, we open our playroom from 9:30 to 11:30am for babies and tots to play – a great chance to meet other caregivers! \nNo registration necessary.
URL:https://nlpl.ca/events/friday-free-play-for-babies-and-toddlers/2026-05-29/
LOCATION:St. John’s – A.C. Hunter Children’s Public Library\, 95 Allandale Road\, St. John's\, NL\, A1E 3A3\, Canada
CATEGORIES:Kids & Families,Storytime
ATTACH;FMTTYPE=image/jpeg:https://nlpl.ca/wp-content/uploads/2023/03/Events-Kid-Families.jpg
END:VEVENT
BEGIN:VEVENT
DTSTART;TZID=America/St_Johns:20260528T183000
DTEND;TZID=America/St_Johns:20260528T193000
DTSTAMP:20260421T095005
CREATED:20260105T132355Z
LAST-MODIFIED:20260312T150456Z
UID:10059876-1779993000-1779996600@nlpl.ca
SUMMARY:Adult Book Club
DESCRIPTION:Harmsworth Public Library – Join us in our monthly book club where we discuss books\, discover new authors and genres\, meet new people\, and share insights in a relaxed setting. \n 
URL:https://nlpl.ca/events/harmsworth-adult-book-club-2/2026-05-28/
LOCATION:Grand Falls-Windsor (Harmsworth) Public Library\, 1 Cromer Avenue\, Grand Falls - Windsor\, NL\, A2A 1W9\, Canada
CATEGORIES:Book Clubs & Writer’s Groups
ATTACH;FMTTYPE=image/jpeg:https://nlpl.ca/wp-content/uploads/2023/03/Events-Book-Clubs-and-Writing-Groups.jpg
END:VEVENT
BEGIN:VEVENT
DTSTART;TZID=America/St_Johns:20260528T183000
DTEND;TZID=America/St_Johns:20260528T193000
DTSTAMP:20260421T095005
CREATED:20260102T143217Z
LAST-MODIFIED:20260410T152013Z
UID:10061428-1779993000-1779996600@nlpl.ca
SUMMARY:Bonsai Newfoundland
DESCRIPTION:Come and learn how to get started with the beautiful art of Bonsai at the Conception Bay South Public Library ! \nThis is a free program presented by George Jarvis
URL:https://nlpl.ca/events/bonsai-newfoundland/2026-05-28/
LOCATION:Conception Bay South Public Library\, 10 Remembrance Square\, Conception Bay South\, NL\, Canada
CATEGORIES:Classes & Workshops
ATTACH;FMTTYPE=image/jpeg:https://nlpl.ca/wp-content/uploads/2023/03/Events-Information-Sessions.jpg
ORGANIZER;CN="Conception Bay South Public Library":MAILTO:conceptionbaysouth@nlpl.ca
END:VEVENT
BEGIN:VEVENT
DTSTART;TZID=America/St_Johns:20260528T180000
DTEND;TZID=America/St_Johns:20260528T190000
DTSTAMP:20260421T095005
CREATED:20260105T161946Z
LAST-MODIFIED:20260312T152847Z
UID:10059911-1779991200-1779994800@nlpl.ca
SUMMARY:Sensory Hour
DESCRIPTION:Harmsworth Public Library – Sensory-friendly browsing hour that includes reduced lighting and reduced noise.
URL:https://nlpl.ca/events/sensory-hour-2/2026-05-28/
LOCATION:Grand Falls-Windsor (Harmsworth) Public Library\, 1 Cromer Avenue\, Grand Falls - Windsor\, NL\, A2A 1W9\, Canada
CATEGORIES:Heath & Wellbeing
END:VEVENT
BEGIN:VEVENT
DTSTART;TZID=America/St_Johns:20260528T160000
DTEND;TZID=America/St_Johns:20260528T170000
DTSTAMP:20260421T095005
CREATED:20260105T162909Z
LAST-MODIFIED:20260312T172342Z
UID:10059983-1779984000-1779987600@nlpl.ca
SUMMARY:One-on-One Tech Help
DESCRIPTION:Harmsworth Public Library – Do you have a shiny new piece of tech\, but you’re not sure how to use it? Need a little help figuring out how to download an e-book\, share a photo\, or use Microsoft Word? \nMake a one-on-one appointment every Wednesday with our Tech Host\, Joshua. \nWe can provide general help\, tailored tech training\, and show you where to find helpful resources online. \nPlease call #709-489-2303 or drop in to schedule a time.
URL:https://nlpl.ca/events/one-on-one-tech-help-2-2/2026-05-28/
LOCATION:Grand Falls-Windsor (Harmsworth) Public Library\, 1 Cromer Avenue\, Grand Falls - Windsor\, NL\, A2A 1W9\, Canada
CATEGORIES:Technology & Makerspace
END:VEVENT
BEGIN:VEVENT
DTSTART;TZID=America/St_Johns:20260528T153000
DTEND;TZID=America/St_Johns:20260528T170000
DTSTAMP:20260421T095005
CREATED:20250905T155750Z
LAST-MODIFIED:20251128T204710Z
UID:10049993-1779982200-1779987600@nlpl.ca
SUMMARY:Lego Play Hour at Bay Roberts Public Library
DESCRIPTION:Thursdays\, this fall\, from 3:30 to 5 pm expand your imagination with mountains of Lego blocks. Create and make friends. \nRegistration not necessary.
URL:https://nlpl.ca/events/lego-play-hour-at-bay-roberts-public-library/2026-05-28/
LOCATION:Bay Roberts Public Library\, 76 Cross Road\, Bay Roberts\, NL\, A0A 1G0\, Canada
ATTACH;FMTTYPE=image/jpeg:https://nlpl.ca/wp-content/uploads/2023/03/Events-Kid-Families.jpg
END:VEVENT
BEGIN:VEVENT
DTSTART;TZID=America/St_Johns:20260528T150000
DTEND;TZID=America/St_Johns:20260528T160000
DTSTAMP:20260421T095005
CREATED:20251103T201201Z
LAST-MODIFIED:20251125T194640Z
UID:10053869-1779980400-1779984000@nlpl.ca
SUMMARY:Family Passive Play
DESCRIPTION:
URL:https://nlpl.ca/events/family-passive-play/2026-05-28/
LOCATION:Bishop’s Falls Public Library\, 445 Main Street\, Bishop's Falls\, NL\, A0H 1C0\, Canada
END:VEVENT
BEGIN:VEVENT
DTSTART;TZID=America/St_Johns:20260528T143000
DTEND;TZID=America/St_Johns:20260528T153000
DTSTAMP:20260421T095005
CREATED:20260418T181710Z
LAST-MODIFIED:20260418T181710Z
UID:10061524-1779978600-1779982200@nlpl.ca
SUMMARY:Author Reading with Local Author Sheldon Crocker
DESCRIPTION:Join us at the Ross King Memorial Library (Mount Pearl) for an author reading with local author\, Sheldon Crocker.  Sheldon will share from his three books and there will be an opportunity to ask questions following the reading.  This event for adults will take place on Thurs. May 28th from 2:30-3:30pm.
URL:https://nlpl.ca/events/author-reading-with-local-author-sheldon-crocker/
LOCATION:Mount Pearl Public Library\, 65 Olympic Drive\, Mount Pearl\, NL\, A1N 5H6\, Canada
CATEGORIES:Author Talks & Readings
ORGANIZER;CN="Mount Pearl":MAILTO:mountpearl@nlpl.ca
END:VEVENT
BEGIN:VEVENT
DTSTART;TZID=America/St_Johns:20260528T140000
DTEND;TZID=America/St_Johns:20260528T160000
DTSTAMP:20260421T095005
CREATED:20260105T133034Z
LAST-MODIFIED:20260312T152500Z
UID:10059920-1779976800-1779984000@nlpl.ca
SUMMARY:Knitting Circle
DESCRIPTION:Harmsworth Public Library – Drop-in and join us to knit and/or crochet\, improve your needle skills\, help a friend\, share patterns\, ideas and stories.\n\nBring your own supplies.
URL:https://nlpl.ca/events/knitting-circle-2/2026-05-28/
LOCATION:Grand Falls-Windsor (Harmsworth) Public Library\, 1 Cromer Avenue\, Grand Falls - Windsor\, NL\, A2A 1W9\, Canada
CATEGORIES:Hobbies, Crafts & Games
ATTACH;FMTTYPE=image/jpeg:https://nlpl.ca/wp-content/uploads/2023/03/Events-Hobbies-Crafts-and-Games.jpg
END:VEVENT
BEGIN:VEVENT
DTSTART;TZID=America/St_Johns:20260528T140000
DTEND;TZID=America/St_Johns:20260528T160000
DTSTAMP:20260421T095005
CREATED:20260102T193222Z
LAST-MODIFIED:20260312T181405Z
UID:10055574-1779976800-1779984000@nlpl.ca
SUMMARY:Tech Thursdays
DESCRIPTION:Gander Public Library – Needing help with your cell phone\, tablet/IPad or Laptop? On Thursdays 2-4pm you can book an appointment for help!
URL:https://nlpl.ca/events/tech-thursdays-3/2026-05-28/
LOCATION:Gander Public & Resource Library\, 6 Bell Place\, Gander\, NL\, A1V 1X2\, Canada
CATEGORIES:Technology & Makerspace
ATTACH;FMTTYPE=image/jpeg:https://nlpl.ca/wp-content/uploads/2023/03/Events-Classes-and-Workshops.jpg
END:VEVENT
BEGIN:VEVENT
DTSTART;TZID=America/St_Johns:20260528T140000
DTEND;TZID=America/St_Johns:20260528T143000
DTSTAMP:20260421T095005
CREATED:20260327T122700Z
LAST-MODIFIED:20260327T122700Z
UID:10060349-1779976800-1779978600@nlpl.ca
SUMMARY:Family Storytime
DESCRIPTION:A 30 minute interactive program celebrating books\, rhymes\, movement\, songs and fun that is perfect for\nfamilies with multiple children\, ages 1-5 years
URL:https://nlpl.ca/events/family-storytime-7/2026-05-28/
LOCATION:Stephenville Public Library (Kindale)\, 45 Carolina Ave.\, Stephenville\, NL\, A2N 3P8\, Canada
CATEGORIES:Kids & Families,Storytime
ATTACH;FMTTYPE=image/jpeg:https://nlpl.ca/wp-content/uploads/2023/03/Events-Kid-Families.jpg
END:VEVENT
BEGIN:VEVENT
DTSTART;TZID=America/St_Johns:20260528T130000
DTEND;TZID=America/St_Johns:20260528T150000
DTSTAMP:20260421T095005
CREATED:20260305T172547Z
LAST-MODIFIED:20260305T172547Z
UID:10059739-1779973200-1779980400@nlpl.ca
SUMMARY:Tech Thursday
DESCRIPTION:Drop in with your own device or we can use our devices- iPad or desktop or laptop. We can show you how to set up an email\, copy files\, or print files.
URL:https://nlpl.ca/events/tech-thursday/2026-05-28/
LOCATION:Deer Lake Public Library\, 4 Poplar Road\, Deer Lake\, NL\, A8A 1Z4\, Canada
END:VEVENT
BEGIN:VEVENT
DTSTART;TZID=America/St_Johns:20260528T130000
DTEND;TZID=America/St_Johns:20260528T150000
DTSTAMP:20260421T095005
CREATED:20250702T192402Z
LAST-MODIFIED:20260410T152336Z
UID:10061433-1779973200-1779980400@nlpl.ca
SUMMARY:CBS Knitting Group
DESCRIPTION:Everyone is welcome ! Bring your project and meet up with fellow knitters!
URL:https://nlpl.ca/events/knitting-group-4/2026-05-28/
LOCATION:Conception Bay South Public Library\, 10 Remembrance Square\, Conception Bay South\, NL\, Canada
CATEGORIES:Hobbies, Crafts & Games
ATTACH;FMTTYPE=image/jpeg:https://nlpl.ca/wp-content/uploads/2023/03/Events-Hobbies-Crafts-and-Games.jpg
ORGANIZER;CN="Conception Bay South Public Library":MAILTO:conceptionbaysouth@nlpl.ca
END:VEVENT
BEGIN:VEVENT
DTSTART;TZID=America/St_Johns:20260528T100000
DTEND;TZID=America/St_Johns:20260528T120000
DTSTAMP:20260421T095005
CREATED:20260103T161028Z
LAST-MODIFIED:20260325T214958Z
UID:10060305-1779962400-1779969600@nlpl.ca
SUMMARY:Digital Learning+
DESCRIPTION:Small group workshops and classes for lifelong learning with a focus on digital literacy presented as part of The Murphy Centre’s ACCESS to Learning program. \nfree | registration required \nFor more information or registration contact: chrisjoseph@murphycentre.ca 709-640-6718 and/or reneesherstobetoff@murphycentre.ca 709-640-5616 \n  \n 
URL:https://nlpl.ca/events/digital-learning-2/2026-05-28/
LOCATION:Corner Brook Public Library\, 4 West Street\, Corner Brook\, NL\, A2H 0C1\, Canada
END:VEVENT
BEGIN:VEVENT
DTSTART;TZID=America/St_Johns:20260528T100000
DTEND;TZID=America/St_Johns:20260528T120000
DTSTAMP:20260421T095005
CREATED:20240911T134337Z
LAST-MODIFIED:20260415T215627Z
UID:10061456-1779962400-1779969600@nlpl.ca
SUMMARY:Art Group
DESCRIPTION:Drop into the Conception Bay South Public Library  community room with any art project you are working on!\nThis is a group for adults.
URL:https://nlpl.ca/events/art-group/2026-05-28/
LOCATION:Conception Bay South Public Library\, 10 Remembrance Square\, Conception Bay South\, NL\, Canada
CATEGORIES:Arts & Culture,Hobbies, Crafts & Games
ATTACH;FMTTYPE=image/jpeg:https://nlpl.ca/wp-content/uploads/2023/03/Events-Hobbies-Crafts-and-Games.jpg
ORGANIZER;CN="Conception Bay South Public Library":MAILTO:conceptionbaysouth@nlpl.ca
END:VEVENT
END:VCALENDAR