BEGIN:VCALENDAR
VERSION:2.0
PRODID:-//Newfoundland &amp; Labrador Public Libraries - ECPv6.15.20//NONSGML v1.0//EN
CALSCALE:GREGORIAN
METHOD:PUBLISH
X-WR-CALNAME:Newfoundland &amp; Labrador Public Libraries
X-ORIGINAL-URL:https://nlpl.ca
X-WR-CALDESC:Events for Newfoundland &amp; Labrador Public Libraries
REFRESH-INTERVAL;VALUE=DURATION:PT1H
X-Robots-Tag:noindex
X-PUBLISHED-TTL:PT1H
BEGIN:VTIMEZONE
TZID:America/St_Johns
BEGIN:DAYLIGHT
TZOFFSETFROM:-0330
TZOFFSETTO:-0230
TZNAME:NDT
DTSTART:20250309T053000
END:DAYLIGHT
BEGIN:STANDARD
TZOFFSETFROM:-0230
TZOFFSETTO:-0330
TZNAME:NST
DTSTART:20251102T043000
END:STANDARD
BEGIN:DAYLIGHT
TZOFFSETFROM:-0330
TZOFFSETTO:-0230
TZNAME:NDT
DTSTART:20260308T053000
END:DAYLIGHT
BEGIN:STANDARD
TZOFFSETFROM:-0230
TZOFFSETTO:-0330
TZNAME:NST
DTSTART:20261101T043000
END:STANDARD
BEGIN:DAYLIGHT
TZOFFSETFROM:-0330
TZOFFSETTO:-0230
TZNAME:NDT
DTSTART:20270314T053000
END:DAYLIGHT
BEGIN:STANDARD
TZOFFSETFROM:-0230
TZOFFSETTO:-0330
TZNAME:NST
DTSTART:20271107T043000
END:STANDARD
END:VTIMEZONE
BEGIN:VEVENT
DTSTART;TZID=America/St_Johns:20260324T173000
DTEND;TZID=America/St_Johns:20260324T193000
DTSTAMP:20260421T233217
CREATED:20260319T165913Z
LAST-MODIFIED:20260319T165914Z
UID:10059820-1774373400-1774380600@nlpl.ca
SUMMARY:Creative Commons
DESCRIPTION:Join us at the Port aux Basques Public Library every Tuesday evening from 5:30-7:30 pm for Creative Commons. Bring any current arts\, crafts\, writing or musical project you’re working on and join other creatives to enjoy each other’s company and share the creative spark! Please provide your own art supplies.
URL:https://nlpl.ca/events/creative-commons-2/2026-03-24/
LOCATION:Port aux Basques Public Library\, 8 Grand Bay\, Port aux Basques\, NL\, A0M 1C0\, Canada
CATEGORIES:Hobbies, Crafts & Games
ATTACH;FMTTYPE=image/jpeg:https://nlpl.ca/wp-content/uploads/2023/03/Events-Hobbies-Crafts-and-Games.jpg
END:VEVENT
BEGIN:VEVENT
DTSTART;TZID=America/St_Johns:20260324T173000
DTEND;TZID=America/St_Johns:20260324T193000
DTSTAMP:20260421T233217
CREATED:20260105T144032Z
LAST-MODIFIED:20260312T152652Z
UID:10056128-1774373400-1774380600@nlpl.ca
SUMMARY:Dungeons & Dragons
DESCRIPTION:Harmsworth Public Library – Curious about Dungeons & Dragons? Are you looking to join a new group? Join us every Tuesday from 5:30 to 7:30 PM. \nNew and experienced players welcome. 13+ years. \nTo register\, phone #709-489-2303 or visit the library \n 
URL:https://nlpl.ca/events/dungeons-dragons-3-2/2026-03-24/
LOCATION:Grand Falls-Windsor (Harmsworth) Public Library\, 1 Cromer Avenue\, Grand Falls - Windsor\, NL\, A2A 1W9\, Canada
CATEGORIES:Hobbies, Crafts & Games
ATTACH;FMTTYPE=image/jpeg:https://nlpl.ca/wp-content/uploads/2023/03/Events-Hobbies-Crafts-and-Games.jpg
END:VEVENT
BEGIN:VEVENT
DTSTART;TZID=America/St_Johns:20260324T160000
DTEND;TZID=America/St_Johns:20260324T170000
DTSTAMP:20260421T233217
CREATED:20250630T172012Z
LAST-MODIFIED:20260312T153102Z
UID:10056077-1774368000-1774371600@nlpl.ca
SUMMARY:Sensory Hour
DESCRIPTION:Harmsworth Public Library – Sensory-friendly browsing hour that includes reduced lighting and reduced noise.
URL:https://nlpl.ca/events/sensory-hour-4-2/2026-03-24/
LOCATION:Grand Falls-Windsor (Harmsworth) Public Library\, 1 Cromer Avenue\, Grand Falls - Windsor\, NL\, A2A 1W9\, Canada
CATEGORIES:Heath & Wellbeing
END:VEVENT
BEGIN:VEVENT
DTSTART;TZID=America/St_Johns:20260324T153000
DTEND;TZID=America/St_Johns:20260324T163000
DTSTAMP:20260421T233217
CREATED:20250821T155247Z
LAST-MODIFIED:20260415T221903Z
UID:10059526-1774366200-1774369800@nlpl.ca
SUMMARY:Baby Play Group
DESCRIPTION:Drop in to the Conception Bay South Public Library where the storytime room  will be open for baby play time\, with baby-friendly toys available! This is a drop-in program\, best suited for ages 0-2.
URL:https://nlpl.ca/events/baby-play-group/2026-03-24/
LOCATION:Conception Bay South Public Library\, 10 Remembrance Square\, Conception Bay South\, NL\, Canada
CATEGORIES:Kids & Families
ATTACH;FMTTYPE=image/jpeg:https://nlpl.ca/wp-content/uploads/2023/03/Events-Kid-Families.jpg
END:VEVENT
BEGIN:VEVENT
DTSTART;TZID=America/St_Johns:20260324T150000
DTEND;TZID=America/St_Johns:20260324T160000
DTSTAMP:20260421T233217
CREATED:20251103T201201Z
LAST-MODIFIED:20251125T194640Z
UID:10053822-1774364400-1774368000@nlpl.ca
SUMMARY:Family Passive Play
DESCRIPTION:
URL:https://nlpl.ca/events/family-passive-play/2026-03-24/
LOCATION:Bishop’s Falls Public Library\, 445 Main Street\, Bishop's Falls\, NL\, A0H 1C0\, Canada
END:VEVENT
BEGIN:VEVENT
DTSTART;TZID=America/St_Johns:20260324T140000
DTEND;TZID=America/St_Johns:20260324T153000
DTSTAMP:20260421T233217
CREATED:20260103T140335Z
LAST-MODIFIED:20260325T214626Z
UID:10055895-1774360800-1774366200@nlpl.ca
SUMMARY:BabyTime StoryTime
DESCRIPTION:Stories\, songs and rhymes for babies (ages 0-2) and parents/caregivers followed by playtime.
URL:https://nlpl.ca/events/babytime-storytime/2026-03-24/
LOCATION:Corner Brook Public Library\, 4 West Street\, Corner Brook\, NL\, A2H 0C1\, Canada
CATEGORIES:Kids & Families,Storytime
END:VEVENT
BEGIN:VEVENT
DTSTART;TZID=America/St_Johns:20260324T140000
DTEND;TZID=America/St_Johns:20260324T153000
DTSTAMP:20260421T233217
CREATED:20250310T162548Z
LAST-MODIFIED:20260408T174230Z
UID:10059520-1774360800-1774366200@nlpl.ca
SUMMARY:Breastfeeding Clinic
DESCRIPTION:Drop in to the Conception Bay South Public Library for the Breastfeeding Clinic provided by Community Health\, Drop in for parents and babies.
URL:https://nlpl.ca/events/breastfeeding-clinic-3/2026-03-24/
LOCATION:Conception Bay South Public Library\, 10 Remembrance Square\, Conception Bay South\, NL\, Canada
CATEGORIES:Heath & Wellbeing,Kids & Families
ATTACH;FMTTYPE=image/jpeg:https://nlpl.ca/wp-content/uploads/2023/03/Events-Health-and-Wellbeing.jpg
ORGANIZER;CN="Conception Bay South Public Library":MAILTO:conceptionbaysouth@nlpl.ca
END:VEVENT
BEGIN:VEVENT
DTSTART;TZID=America/St_Johns:20260324T113000
DTEND;TZID=America/St_Johns:20260324T123000
DTSTAMP:20260421T233217
CREATED:20260227T193732Z
LAST-MODIFIED:20260418T174819Z
UID:10059388-1774351800-1774355400@nlpl.ca
SUMMARY:Tech Tuesdays
DESCRIPTION:Drop by the Ross King Memorial Library (Mount Pearl) from 11:30 AM – 12:30 PM on Tuesdays for our Tech Tuesdays program.  This program will give you tips on how to use devices such as a laptop\, tablet or cell phone as well as provide answers to your questions about how to use Library resources such as Libby\, Connect Pass\, and the NLPL Events Calendar and Catalogue.  This is a drop in program and is conducted on first-come\, first-serve basis.
URL:https://nlpl.ca/events/tech-tuesdays-3-2/2026-03-24/
LOCATION:Mount Pearl Public Library\, 65 Olympic Drive\, Mount Pearl\, NL\, A1N 5H6\, Canada
CATEGORIES:Classes & Workshops,Information Session,Technology & Makerspace
ORGANIZER;CN="Mount Pearl":MAILTO:mountpearl@nlpl.ca
END:VEVENT
BEGIN:VEVENT
DTSTART;TZID=America/St_Johns:20260324T103000
DTEND;TZID=America/St_Johns:20260324T110000
DTSTAMP:20260421T233217
CREATED:20260223T195656Z
LAST-MODIFIED:20260223T195656Z
UID:10059448-1774348200-1774350000@nlpl.ca
SUMMARY:Spring Family Story Time 2026
DESCRIPTION:Stephenville Crossing: A 30 minute interactive program celebrating books\, rhymes\, movement\, songs and fun that is perfect for families with multiple children\, ages 0-5 years. Learn\, grow\, and explore through 6 weeks of story time at the library!
URL:https://nlpl.ca/events/spring-family-story-time-2026/2026-03-24/
LOCATION:Stephenville Crossing Public Library\, 73 West Street\, Stephenville Crossing\, NL\, A0N 2C0\, Canada
CATEGORIES:Kids & Families,Storytime
ATTACH;FMTTYPE=image/jpeg:https://nlpl.ca/wp-content/uploads/2023/03/Events-Kid-Families.jpg
END:VEVENT
BEGIN:VEVENT
DTSTART;TZID=America/St_Johns:20260324T103000
DTEND;TZID=America/St_Johns:20260324T110000
DTSTAMP:20260421T233217
CREATED:20260110T135439Z
LAST-MODIFIED:20260110T135439Z
UID:10056640-1774348200-1774350000@nlpl.ca
SUMMARY:Tuesday\, Story Time
DESCRIPTION:Story Time \nTuesday 10:30-11:00 \nJanuary 13 to June 9th \nAges- birth to 5 years \nStory Time is half hour program\, filled with wonderful story books\, nursery rhymes\, songs and so much fun. \nLearning to read begins before children start school. From the time they are infants\, children learn language and other important skills that will help them learn to read. Developing early literacy skills makes it easier for children to learn to read once they begin school. \n“Remember\, the more we read together\, the happier we’ll be.”
URL:https://nlpl.ca/events/tuesday-story-time-11/
LOCATION:Carbonear Public Library\, 256 Water St.\, Carbonear\, NL\, A1Y 1C4\, Canada
CATEGORIES:Kids & Families,Storytime
ORGANIZER;CN="Carbonear Public Library":MAILTO:carbonear@nlpl.ca
END:VEVENT
BEGIN:VEVENT
DTSTART;TZID=America/St_Johns:20260324T100000
DTEND;TZID=America/St_Johns:20260324T120000
DTSTAMP:20260421T233217
CREATED:20260103T155608Z
LAST-MODIFIED:20260325T215109Z
UID:10055955-1774346400-1774353600@nlpl.ca
SUMMARY:Digital Learning+
DESCRIPTION:Small group workshops and classes for lifelong learning with a focus on digital literacy presented as part of The Murphy Centre’s ACCESS to Learning program. \nfree | registration required \nFor more information or registration contact: chrisjoseph@murphycentre.ca 709-640-6718 and/or reneesherstobetoff@murphycentre.ca 709-640-5616 \n  \n 
URL:https://nlpl.ca/events/digital-learning/2026-03-24/
LOCATION:Corner Brook Public Library\, 4 West Street\, Corner Brook\, NL\, A2H 0C1\, Canada
END:VEVENT
BEGIN:VEVENT
DTSTART;TZID=America/St_Johns:20260324T100000
DTEND;TZID=America/St_Johns:20260324T110000
DTSTAMP:20260421T233217
CREATED:20251015T144618Z
LAST-MODIFIED:20251015T161058Z
UID:10052606-1774346400-1774350000@nlpl.ca
SUMMARY:Family Story Time
DESCRIPTION:
URL:https://nlpl.ca/events/family-story-time-2/2026-03-24/
LOCATION:Bishop’s Falls Public Library\, 445 Main Street\, Bishop's Falls\, NL\, A0H 1C0\, Canada
CATEGORIES:Kids & Families,Storytime
END:VEVENT
BEGIN:VEVENT
DTSTART;TZID=America/St_Johns:20260324T060000
DTEND;TZID=America/St_Johns:20260324T193000
DTSTAMP:20260421T233217
CREATED:20251120T191835Z
LAST-MODIFIED:20251125T195038Z
UID:10055166-1774332000-1774380600@nlpl.ca
SUMMARY:Tuesday Night Tabletop Board Gaming
DESCRIPTION:New-Wes-Valley Public Libraries welcomes everyone to Tuesday night Board Gaming.  From 6 pm – 7:30 pm play from a wide selection of games from the libraries collection\, or bring you own.  Hope to see you there. \n 
URL:https://nlpl.ca/events/tuesday-night-tabletop-board-gaming/2026-03-24/
CATEGORIES:Hobbies, Crafts & Games
END:VEVENT
BEGIN:VEVENT
DTSTART;TZID=America/St_Johns:20260323T180000
DTEND;TZID=America/St_Johns:20260323T200000
DTSTAMP:20260421T233217
CREATED:20251001T170959Z
LAST-MODIFIED:20251128T205518Z
UID:10051848-1774288800-1774296000@nlpl.ca
SUMMARY:Traditional NL Rug Hooking
DESCRIPTION:Drop in group at Point Leamington Public Library for rug hookers to work on their own projects.\nAll skill levels are welcome.
URL:https://nlpl.ca/events/traditional-nl-rug-hooking-2/2026-03-23/
LOCATION:Point Leamington Public Library\, 1 Rice's Drive\, Point Leamington\, NL\, A0H 1Z0\, Canada
CATEGORIES:Hobbies, Crafts & Games
ATTACH;FMTTYPE=image/jpeg:https://nlpl.ca/wp-content/uploads/2023/03/Events-Hobbies-Crafts-and-Games.jpg
END:VEVENT
BEGIN:VEVENT
DTSTART;TZID=America/St_Johns:20260323T150000
DTEND;TZID=America/St_Johns:20260323T200000
DTSTAMP:20260421T233217
CREATED:20260304T172104Z
LAST-MODIFIED:20260317T164251Z
UID:10059628-1774278000-1774296000@nlpl.ca
SUMMARY:Quilting with Kay
DESCRIPTION:Come and enjoy an afternoon of beginner quilting with Kay Warford!!
URL:https://nlpl.ca/events/quilting-with-kay-2/2026-03-23/
LOCATION:Point Leamington Public Library\, 1 Rice's Drive\, Point Leamington\, NL\, A0H 1Z0\, Canada
CATEGORIES:Hobbies, Crafts & Games
END:VEVENT
BEGIN:VEVENT
DTSTART;TZID=America/St_Johns:20260323T150000
DTEND;TZID=America/St_Johns:20260323T160000
DTSTAMP:20260421T233217
CREATED:20251103T201201Z
LAST-MODIFIED:20251125T194640Z
UID:10053821-1774278000-1774281600@nlpl.ca
SUMMARY:Family Passive Play
DESCRIPTION:
URL:https://nlpl.ca/events/family-passive-play/2026-03-23/
LOCATION:Bishop’s Falls Public Library\, 445 Main Street\, Bishop's Falls\, NL\, A0H 1C0\, Canada
END:VEVENT
BEGIN:VEVENT
DTSTART;TZID=America/St_Johns:20260323T140000
DTEND;TZID=America/St_Johns:20260323T160000
DTSTAMP:20260421T233217
CREATED:20250818T121419Z
LAST-MODIFIED:20260312T153407Z
UID:10056094-1774274400-1774281600@nlpl.ca
SUMMARY:Rug Hooking
DESCRIPTION:Harmsworth Public Library – Get “hooked” on rug making every Monday afternoon. Whether you are a beginner or a seasoned artist\, come share your rug-hooked works and techniques with a fun group of rug hookers.
URL:https://nlpl.ca/events/rug-hooking-2/2026-03-23/
LOCATION:Grand Falls-Windsor (Harmsworth) Public Library\, 1 Cromer Avenue\, Grand Falls - Windsor\, NL\, A2A 1W9\, Canada
CATEGORIES:Hobbies, Crafts & Games
ATTACH;FMTTYPE=image/jpeg:https://nlpl.ca/wp-content/uploads/2023/03/Events-Hobbies-Crafts-and-Games.jpg
END:VEVENT
BEGIN:VEVENT
DTSTART;TZID=America/St_Johns:20260321T143000
DTEND;TZID=America/St_Johns:20260321T163000
DTSTAMP:20260421T233217
CREATED:20251113T195310Z
LAST-MODIFIED:20260307T190309Z
UID:10055113-1774103400-1774110600@nlpl.ca
SUMMARY:Write Around The Corner with Hannah Jenkins
DESCRIPTION:Join writer and staff member Hannah Jenkins in this engaging monthly writing group. Come together to share your projects\, gather fresh ideas\, and connect with fellow writers. \nThis creative writing group and feedback circle aims to provide constructive critiques on your work and foster an exchange of ideas among writers. To respect everyone’s time\, we kindly request that participants limit the material they bring to each meeting and\, whenever possible\, share their writing with the group beforehand to minimize reading time during the session.\nPlease send your submissions to writearoundthecornergroup@gmail.com​. \nOverall\, the goal of this program is to unite writers\, encouraging new connections while offering and receiving inspiration\, feedback\, and advice on their works in progress (WIPs).
URL:https://nlpl.ca/events/write-around-the-corner-with-hannah-jenkins-3/2026-03-21/
LOCATION:St. John’s – A.C. Hunter Public Library\, 125 Allandale Road\, St. John's\, NL\, A1B 3A3\, Canada
CATEGORIES:Arts & Culture,Book Clubs & Writer’s Groups
END:VEVENT
BEGIN:VEVENT
DTSTART;TZID=America/St_Johns:20260321T140000
DTEND;TZID=America/St_Johns:20260321T153000
DTSTAMP:20260421T233217
CREATED:20260312T211432Z
LAST-MODIFIED:20260312T211432Z
UID:10060027-1774101600-1774107000@nlpl.ca
SUMMARY:Poetry
DESCRIPTION:Poetry \nCarbonear Public Library \nSaturday\, March 21 \nTime: 2:00-3:30 \nPoets\, the word to write on is\, ‘shamrock’ \n 
URL:https://nlpl.ca/events/poetry-4/
LOCATION:Carbonear Public Library\, 256 Water St.\, Carbonear\, NL\, A1Y 1C4\, Canada
CATEGORIES:Arts & Culture,Book Clubs & Writer’s Groups
ATTACH;FMTTYPE=image/jpeg:https://nlpl.ca/wp-content/uploads/2023/03/Events-Special-Event.jpg
ORGANIZER;CN="Carbonear Public Library":MAILTO:carbonear@nlpl.ca
END:VEVENT
BEGIN:VEVENT
DTSTART;TZID=America/St_Johns:20260321T140000
DTEND;TZID=America/St_Johns:20260321T150000
DTSTAMP:20260421T233217
CREATED:20260219T210627Z
LAST-MODIFIED:20260304T214854Z
UID:10059398-1774101600-1774105200@nlpl.ca
SUMMARY:"Songs in the Sea" Storytime and Craft
DESCRIPTION:Join us at the Ross King Memorial Library (Mount Pearl) for a special Storytime and Craft.  This Storytime will feature the book\, “Songs in the Sea”\, and is geared for children ages 6-10 years.  A fun art activity will follow the Storytime.  Please note:  all children must be accompanied by an adult.  This registered event will take place on Sat. Mar. 21st from 2pm-3pm.
URL:https://nlpl.ca/events/songs-in-the-sea-storytime-and-craft/
END:VEVENT
BEGIN:VEVENT
DTSTART;TZID=America/St_Johns:20260321T133000
DTEND;TZID=America/St_Johns:20260321T153000
DTSTAMP:20260421T233217
CREATED:20260227T201030Z
LAST-MODIFIED:20260227T201030Z
UID:10059577-1774099800-1774107000@nlpl.ca
SUMMARY:Community Arts Studio
DESCRIPTION:Community Arts Studio : where coming together and creativity go hand in hand! Gather your friends and family to embark on a journey of imagination and artistic exploration! Each week will be a different workshop\, guided by a wonderful local artist in a series of different mediums: \n  \nMarch 21 artist and medium TBA \n  \nRegistration required using the Rotary Arts Centre Eventbrite page https://www.eventbrite.com/cc/workshops-4474693 \nCommunity Arts Studio is presented by the Rotary Arts Centre in collaboration with Corner Brook Public Library and The Homeschoolers Of Western Newfoundland Group
URL:https://nlpl.ca/events/community-arts-studio-march-21/
LOCATION:Corner Brook Public Library\, 4 West Street\, Corner Brook\, NL\, A2H 0C1\, Canada
CATEGORIES:Arts & Culture,Classes & Workshops,Hobbies, Crafts & Games
END:VEVENT
BEGIN:VEVENT
DTSTART;TZID=America/St_Johns:20260321T130000
DTEND;TZID=America/St_Johns:20260321T160000
DTSTAMP:20260421T233217
CREATED:20260129T184121Z
LAST-MODIFIED:20260129T184121Z
UID:10057670-1774098000-1774108800@nlpl.ca
SUMMARY:Children's Clothing Swap
DESCRIPTION:A program at A.C. Hunter Children’s Library. \nChildren’s Clothing Swap \nDonate your clean and gently used infant\, toddler and youth clothing and pick up some new-to-you clothes at the swap!\nSaturday March 21st – 1:00pm to 4:00pm\n1:00 to 3:00 – ticket holders only\n3:00 to 4:00 – all are welcome\n \nIMPORTANT INFORMATION:\nYou must donate in advance to receive a ticket. \nDrop off donations: March 3-17\, during open library hours\nMaximum of 20 items per person\nThe following items are not accepted: Underwear\, shoes\, boots\, winter outerwear or any non-clothing items and accessories. \n 
URL:https://nlpl.ca/events/childrens-clothing-swap/
LOCATION:St. John’s – A.C. Hunter Children’s Public Library\, 95 Allandale Road\, St. John's\, NL\, A1E 3A3\, Canada
CATEGORIES:Kids & Families,Special Event
END:VEVENT
BEGIN:VEVENT
DTSTART;TZID=America/St_Johns:20260321T113000
DTEND;TZID=America/St_Johns:20260321T120000
DTSTAMP:20260421T233217
CREATED:20260110T140957Z
LAST-MODIFIED:20260110T140957Z
UID:10056661-1774092600-1774094400@nlpl.ca
SUMMARY:Saturday\, Story Time
DESCRIPTION:Story Time \nSaturday \nTime: 11:30-12:00 \nJanuary 17 to June 13th \nAges- birth to 5 years \nStory Time is half hour program\, filled with wonderful story books\, nursery rhymes\, songs and so much fun. \nLearning to read begins before children start school. From the time they are infants\, children learn language and other important skills that will help them learn to read. Developing early literacy skills makes it easier for children to learn to read once they begin school. \n“Remember\, the more we read together\, the happier we’ll be.”
URL:https://nlpl.ca/events/saturday-story-time-15/
LOCATION:Carbonear Public Library\, 256 Water St.\, Carbonear\, NL\, A1Y 1C4\, Canada
CATEGORIES:Kids & Families,Storytime
ORGANIZER;CN="Carbonear Public Library":MAILTO:carbonear@nlpl.ca
END:VEVENT
BEGIN:VEVENT
DTSTART;TZID=America/St_Johns:20260321T110000
DTEND;TZID=America/St_Johns:20260321T150000
DTSTAMP:20260421T233217
CREATED:20260205T191657Z
LAST-MODIFIED:20260205T191754Z
UID:10058231-1774090800-1774105200@nlpl.ca
SUMMARY:Master Builders
DESCRIPTION:(5+) Passive program for open Lego play. We provide the Lego\, you provide the fun! Come and go anytime during 11am – 3pm on Saturdays.
URL:https://nlpl.ca/events/master-builders/2026-03-21/
LOCATION:Stephenville Public Library (Kindale)\, 45 Carolina Ave.\, Stephenville\, NL\, A2N 3P8\, Canada
CATEGORIES:Hobbies, Crafts & Games
ATTACH;FMTTYPE=image/jpeg:https://nlpl.ca/wp-content/uploads/2023/03/Events-Hobbies-Crafts-and-Games.jpg
END:VEVENT
BEGIN:VEVENT
DTSTART;TZID=America/St_Johns:20260321T110000
DTEND;TZID=America/St_Johns:20260321T143000
DTSTAMP:20260421T233217
CREATED:20260113T185623Z
LAST-MODIFIED:20260303T183651Z
UID:10059620-1774090800-1774103400@nlpl.ca
SUMMARY:LEGO Free Play
DESCRIPTION:LEGO Free Play at the Harbour Grace Public Library. Every Saturday from 11am-2:30pm. Drop in for some creative play! We supply the LEGO blocks. All you need to bring is your imagination! Children under 10 must be accompanied by a parent or guardian. No registration required.
URL:https://nlpl.ca/events/lego-free-play-3/2026-03-21/
LOCATION:Harbour Grace Public Library\, 106 Harvey Street\, Harbour Grace\, NL\, A0A 2M0\, Canada
END:VEVENT
BEGIN:VEVENT
DTSTART;TZID=America/St_Johns:20260321T110000
DTEND;TZID=America/St_Johns:20260321T130000
DTSTAMP:20260421T233217
CREATED:20260319T170049Z
LAST-MODIFIED:20260319T170050Z
UID:10056828-1774090800-1774098000@nlpl.ca
SUMMARY:LEGO Builders
DESCRIPTION:Come out to the Port aux Basques Public Library for LEGO Builders. LEGO blocks are available\, along with a fun building table. Larger blocks are available for smaller children. Enjoy the fun and challenge of LEGO!
URL:https://nlpl.ca/events/lego-builders-2/2026-03-21/
LOCATION:Port aux Basques Public Library\, 8 Grand Bay\, Port aux Basques\, NL\, A0M 1C0\, Canada
CATEGORIES:Hobbies, Crafts & Games
ATTACH;FMTTYPE=image/jpeg:https://nlpl.ca/wp-content/uploads/2023/03/Events-Hobbies-Crafts-and-Games.jpg
END:VEVENT
BEGIN:VEVENT
DTSTART;TZID=America/St_Johns:20260321T103000
DTEND;TZID=America/St_Johns:20260321T113000
DTSTAMP:20260421T233217
CREATED:20260107T181135Z
LAST-MODIFIED:20260107T181552Z
UID:10056536-1774089000-1774092600@nlpl.ca
SUMMARY:Storytime!
DESCRIPTION:Join us as Port aux Basques Public Library for storytime! It’s a great way to have your child enjoy the library and foster a lifelong love of reading. Come and enjoy some books\, songs\, poems and rhymes. Toys and games are also available for free play.
URL:https://nlpl.ca/events/storytime-3/2026-03-21/
LOCATION:Port aux Basques Public Library\, 8 Grand Bay\, Port aux Basques\, NL\, A0M 1C0\, Canada
CATEGORIES:Kids & Families,Storytime
ATTACH;FMTTYPE=image/jpeg:https://nlpl.ca/wp-content/uploads/2023/03/Events-Kid-Families.jpg
END:VEVENT
BEGIN:VEVENT
DTSTART;TZID=America/St_Johns:20260321T103000
DTEND;TZID=America/St_Johns:20260321T113000
DTSTAMP:20260421T233217
CREATED:20260103T140642Z
LAST-MODIFIED:20260325T214523Z
UID:10055906-1774089000-1774092600@nlpl.ca
SUMMARY:Family Storytime
DESCRIPTION:Stories\, songs and rhymes for the whole family! All ages and all abilities welcome
URL:https://nlpl.ca/events/family-storytime-2/2026-03-21/
LOCATION:Corner Brook Public Library\, 4 West Street\, Corner Brook\, NL\, A2H 0C1\, Canada
CATEGORIES:Kids & Families,Storytime
END:VEVENT
BEGIN:VEVENT
DTSTART;TZID=America/St_Johns:20260321T103000
DTEND;TZID=America/St_Johns:20260321T110000
DTSTAMP:20260421T233218
CREATED:20260312T183434Z
LAST-MODIFIED:20260418T175434Z
UID:10056694-1774089000-1774090800@nlpl.ca
SUMMARY:Saturday Storytime (Drop-In)
DESCRIPTION:Join us at the Ross King Memorial Library (Mount Pearl) for a Family Storytime every Saturday at 10:30am.  This Storytime features stories\, songs and rhymes and is geared for children ages 0-5 years and their caregivers.  Storytime lasts approximately 20-30 minutes (no registration required).
URL:https://nlpl.ca/events/drop-in-storytime-2-2/2026-03-21/
LOCATION:Mount Pearl Public Library\, 65 Olympic Drive\, Mount Pearl\, NL\, A1N 5H6\, Canada
CATEGORIES:Kids & Families,Storytime
ORGANIZER;CN="Mount Pearl":MAILTO:mountpearl@nlpl.ca
END:VEVENT
BEGIN:VEVENT
DTSTART;TZID=America/St_Johns:20260321T100000
DTEND;TZID=America/St_Johns:20260321T163000
DTSTAMP:20260421T233218
CREATED:20260227T195830Z
LAST-MODIFIED:20260418T175236Z
UID:10060038-1774087200-1774110600@nlpl.ca
SUMMARY:Lego Free Play
DESCRIPTION:Join us at the Ross King Memorial Library (Mount Pearl) every Saturday for Lego Free Play.  We have Lego building blocks available every Saturday from 10am until 4:30pm.  Drop in and create something amazing!
URL:https://nlpl.ca/events/lego-free-play-2-2/2026-03-21/
LOCATION:Mount Pearl Public Library\, 65 Olympic Drive\, Mount Pearl\, NL\, A1N 5H6\, Canada
CATEGORIES:Kids & Families
ORGANIZER;CN="Mount Pearl":MAILTO:mountpearl@nlpl.ca
END:VEVENT
END:VCALENDAR