BEGIN:VCALENDAR
VERSION:2.0
PRODID:-//Newfoundland &amp; Labrador Public Libraries - ECPv6.15.20//NONSGML v1.0//EN
CALSCALE:GREGORIAN
METHOD:PUBLISH
X-WR-CALNAME:Newfoundland &amp; Labrador Public Libraries
X-ORIGINAL-URL:https://nlpl.ca
X-WR-CALDESC:Events for Newfoundland &amp; Labrador Public Libraries
REFRESH-INTERVAL;VALUE=DURATION:PT1H
X-Robots-Tag:noindex
X-PUBLISHED-TTL:PT1H
BEGIN:VTIMEZONE
TZID:America/St_Johns
BEGIN:DAYLIGHT
TZOFFSETFROM:-0330
TZOFFSETTO:-0230
TZNAME:NDT
DTSTART:20250309T053000
END:DAYLIGHT
BEGIN:STANDARD
TZOFFSETFROM:-0230
TZOFFSETTO:-0330
TZNAME:NST
DTSTART:20251102T043000
END:STANDARD
BEGIN:DAYLIGHT
TZOFFSETFROM:-0330
TZOFFSETTO:-0230
TZNAME:NDT
DTSTART:20260308T053000
END:DAYLIGHT
BEGIN:STANDARD
TZOFFSETFROM:-0230
TZOFFSETTO:-0330
TZNAME:NST
DTSTART:20261101T043000
END:STANDARD
BEGIN:DAYLIGHT
TZOFFSETFROM:-0330
TZOFFSETTO:-0230
TZNAME:NDT
DTSTART:20270314T053000
END:DAYLIGHT
BEGIN:STANDARD
TZOFFSETFROM:-0230
TZOFFSETTO:-0330
TZNAME:NST
DTSTART:20271107T043000
END:STANDARD
END:VTIMEZONE
BEGIN:VEVENT
DTSTART;TZID=America/St_Johns:20260508T140000
DTEND;TZID=America/St_Johns:20260508T163000
DTSTAMP:20260421T180308
CREATED:20260103T152206Z
LAST-MODIFIED:20260325T214908Z
UID:10060293-1778248800-1778257800@nlpl.ca
SUMMARY:LegoTime
DESCRIPTION:Show off your creativity and imagination with this drop-in program suitable for children of all ages (Lego recommended for ages 3+ and Duplo bricks available for younger siblings).
URL:https://nlpl.ca/events/legotime/2026-05-08/
LOCATION:Corner Brook Public Library\, 4 West Street\, Corner Brook\, NL\, A2H 0C1\, Canada
CATEGORIES:Kids & Families
END:VEVENT
BEGIN:VEVENT
DTSTART;TZID=America/St_Johns:20260508T140000
DTEND;TZID=America/St_Johns:20260508T163000
DTSTAMP:20260421T180308
CREATED:20260407T134939Z
LAST-MODIFIED:20260421T161545Z
UID:10060135-1778248800-1778257800@nlpl.ca
SUMMARY:Tech Help at CBS Public Library
DESCRIPTION:Book a one-on-one 30-minute tech help session on Friday afternoons. These sessions will be for basic tech help – including: accessing library books on Libby\, Microsoft Word or Google Docs\, email services\, setting up your new device\, and more!\n*Day-Of Registration Required – Please call the library (709-834-3620) from 10am-noon on the day you wish to book – let us know what device you will be bringing and what you need help with! Use of library computers\, laptops\, or tablets during these sessions is subject to availability.
URL:https://nlpl.ca/events/tech-help-at-cbs-public-library/2026-05-08/
LOCATION:Conception Bay South Public Library\, 10 Remembrance Square\, Conception Bay South\, NL\, Canada
CATEGORIES:Classes & Workshops
ATTACH;FMTTYPE=image/jpeg:https://nlpl.ca/wp-content/uploads/2023/03/Events-Classes-and-Workshops.jpg
END:VEVENT
BEGIN:VEVENT
DTSTART;TZID=America/St_Johns:20260508T143000
DTEND;TZID=America/St_Johns:20260508T160000
DTSTAMP:20260421T180308
CREATED:20260404T151226Z
LAST-MODIFIED:20260420T141252Z
UID:10060571-1778250600-1778256000@nlpl.ca
SUMMARY:The Process of Evacuation with the Canadian Red Cross
DESCRIPTION:St John’s – A.C. Hunter Library  \n\n\n\nJoin us online or in person for this information session with our friend from Eastern NL Canadian Red Cross. We will talk about how to get ready to evacuate at a moment’s notice. \nThis program is for adults and teens aged 16+ \nPlease call 709-737-3950 for more information
URL:https://nlpl.ca/events/the-process-of-evacuation-with-the-red-cross/
LOCATION:St. John’s – A.C. Hunter Public Library\, 125 Allandale Road\, St. John's\, NL\, A1B 3A3\, Canada
CATEGORIES:Information Session,Seniors
END:VEVENT
BEGIN:VEVENT
DTSTART;TZID=America/St_Johns:20260508T150000
DTEND;TZID=America/St_Johns:20260508T160000
DTSTAMP:20260421T180308
CREATED:20251103T201201Z
LAST-MODIFIED:20251125T194640Z
UID:10053855-1778252400-1778256000@nlpl.ca
SUMMARY:Family Passive Play
DESCRIPTION:
URL:https://nlpl.ca/events/family-passive-play/2026-05-08/
LOCATION:Bishop’s Falls Public Library\, 445 Main Street\, Bishop's Falls\, NL\, A0H 1C0\, Canada
END:VEVENT
BEGIN:VEVENT
DTSTART;TZID=America/St_Johns:20260509T100000
DTEND;TZID=America/St_Johns:20260509T110000
DTSTAMP:20260421T180308
CREATED:20260406T124407Z
LAST-MODIFIED:20260408T221109Z
UID:10060584-1778320800-1778324400@nlpl.ca
SUMMARY:Tots Saturday Storytime
DESCRIPTION:A registered program at A.C. Hunter Children’s Library. \nTots Saturday Storytime\nfor ages 1-2 years (3-36 months) \nSat May 9\, 10:00am \n30 minutes of stories\, rhymes and songs for active toddlers\, followed by a playtime. \nRegistration for all May/June programs begins Friday April 24 at 9:30am. Click the registration button or call 709-737-3953. \nDon’t forget to sign up for June Tots too!
URL:https://nlpl.ca/events/totssat/
LOCATION:St. John’s – A.C. Hunter Children’s Public Library\, 95 Allandale Road\, St. John's\, NL\, A1E 3A3\, Canada
CATEGORIES:Hobbies, Crafts & Games,Kids & Families,Storytime
END:VEVENT
BEGIN:VEVENT
DTSTART;TZID=America/St_Johns:20260509T100000
DTEND;TZID=America/St_Johns:20260509T120000
DTSTAMP:20260421T180308
CREATED:20260220T191022Z
LAST-MODIFIED:20260223T075830Z
UID:10059427-1778320800-1778328000@nlpl.ca
SUMMARY:Getting Around & Managing FIles Online with Digital Seniors NL
DESCRIPTION:St. John’s – A.C. Hunter Library Join our friends from Digital Seniors NL as we work with google maps and google drive. Bring your own device or borrow one from the library with your library card.
URL:https://nlpl.ca/events/getting-around-managing-files-online-with-digital-seniors-nl/
LOCATION:St. John’s – A.C. Hunter Public Library\, 125 Allandale Road\, St. John's\, NL\, A1B 3A3\, Canada
CATEGORIES:Classes & Workshops,Seniors,Technology & Makerspace
ATTACH;FMTTYPE=image/jpeg:https://nlpl.ca/wp-content/uploads/2023/11/Events-Tech-Makerspace.jpg
END:VEVENT
BEGIN:VEVENT
DTSTART;TZID=America/St_Johns:20260509T100000
DTEND;TZID=America/St_Johns:20260509T163000
DTSTAMP:20260421T180308
CREATED:20260227T195830Z
LAST-MODIFIED:20260418T175236Z
UID:10060045-1778320800-1778344200@nlpl.ca
SUMMARY:Lego Free Play
DESCRIPTION:Join us at the Ross King Memorial Library (Mount Pearl) every Saturday for Lego Free Play.  We have Lego building blocks available every Saturday from 10am until 4:30pm.  Drop in and create something amazing!
URL:https://nlpl.ca/events/lego-free-play-2-2/2026-05-09/
LOCATION:Mount Pearl Public Library\, 65 Olympic Drive\, Mount Pearl\, NL\, A1N 5H6\, Canada
CATEGORIES:Kids & Families
ORGANIZER;CN="Mount Pearl":MAILTO:mountpearl@nlpl.ca
END:VEVENT
BEGIN:VEVENT
DTSTART;TZID=America/St_Johns:20260509T103000
DTEND;TZID=America/St_Johns:20260509T110000
DTSTAMP:20260421T180308
CREATED:20260312T183434Z
LAST-MODIFIED:20260418T175434Z
UID:10060005-1778322600-1778324400@nlpl.ca
SUMMARY:Saturday Storytime (Drop-In)
DESCRIPTION:Join us at the Ross King Memorial Library (Mount Pearl) for a Family Storytime every Saturday at 10:30am.  This Storytime features stories\, songs and rhymes and is geared for children ages 0-5 years and their caregivers.  Storytime lasts approximately 20-30 minutes (no registration required).
URL:https://nlpl.ca/events/drop-in-storytime-2-2/2026-05-09/
LOCATION:Mount Pearl Public Library\, 65 Olympic Drive\, Mount Pearl\, NL\, A1N 5H6\, Canada
CATEGORIES:Kids & Families,Storytime
ORGANIZER;CN="Mount Pearl":MAILTO:mountpearl@nlpl.ca
END:VEVENT
BEGIN:VEVENT
DTSTART;TZID=America/St_Johns:20260509T103000
DTEND;TZID=America/St_Johns:20260509T113000
DTSTAMP:20260421T180308
CREATED:20250620T171441Z
LAST-MODIFIED:20260402T134453Z
UID:10044253-1778322600-1778326200@nlpl.ca
SUMMARY:The Saturday Morning Book Club
DESCRIPTION:Grander Public Library – Adult book club – Meets one Saturday a month to discuss the book of their choice
URL:https://nlpl.ca/events/the-saturday-morning-book-club-4/
LOCATION:Gander Public & Resource Library\, 6 Bell Place\, Gander\, NL\, A1V 1X2\, Canada
CATEGORIES:Book Clubs & Writer’s Groups
ATTACH;FMTTYPE=image/jpeg:https://nlpl.ca/wp-content/uploads/2023/03/Events-Book-Clubs-and-Writing-Groups.jpg
END:VEVENT
BEGIN:VEVENT
DTSTART;TZID=America/St_Johns:20260509T103000
DTEND;TZID=America/St_Johns:20260509T113000
DTSTAMP:20260421T180308
CREATED:20260103T140642Z
LAST-MODIFIED:20260325T214523Z
UID:10060251-1778322600-1778326200@nlpl.ca
SUMMARY:Family Storytime
DESCRIPTION:Stories\, songs and rhymes for the whole family! All ages and all abilities welcome
URL:https://nlpl.ca/events/family-storytime-2/2026-05-09/
LOCATION:Corner Brook Public Library\, 4 West Street\, Corner Brook\, NL\, A2H 0C1\, Canada
CATEGORIES:Kids & Families,Storytime
END:VEVENT
BEGIN:VEVENT
DTSTART;TZID=America/St_Johns:20260509T110000
DTEND;TZID=America/St_Johns:20260509T113000
DTSTAMP:20260421T180308
CREATED:20260323T174337Z
LAST-MODIFIED:20260323T174337Z
UID:10060205-1778324400-1778326200@nlpl.ca
SUMMARY:Family Storytime
DESCRIPTION:Join us at the CBS Public Library with the whole family for Storytime!\nThis is for all ages and drop in.
URL:https://nlpl.ca/events/family-storytime-6/2026-05-09/
LOCATION:Conception Bay South Public Library\, 10 Remembrance Square\, Conception Bay South\, NL\, Canada
CATEGORIES:Storytime
ATTACH;FMTTYPE=image/jpeg:https://nlpl.ca/wp-content/uploads/2023/03/Events-Kid-Families.jpg
ORGANIZER;CN="Conception Bay South Public Library":MAILTO:conceptionbaysouth@nlpl.ca
END:VEVENT
BEGIN:VEVENT
DTSTART;TZID=America/St_Johns:20260509T110000
DTEND;TZID=America/St_Johns:20260509T130000
DTSTAMP:20260421T180308
CREATED:20260319T170049Z
LAST-MODIFIED:20260319T170050Z
UID:10056835-1778324400-1778331600@nlpl.ca
SUMMARY:LEGO Builders
DESCRIPTION:Come out to the Port aux Basques Public Library for LEGO Builders. LEGO blocks are available\, along with a fun building table. Larger blocks are available for smaller children. Enjoy the fun and challenge of LEGO!
URL:https://nlpl.ca/events/lego-builders-2/2026-05-09/
LOCATION:Port aux Basques Public Library\, 8 Grand Bay\, Port aux Basques\, NL\, A0M 1C0\, Canada
CATEGORIES:Hobbies, Crafts & Games
ATTACH;FMTTYPE=image/jpeg:https://nlpl.ca/wp-content/uploads/2023/03/Events-Hobbies-Crafts-and-Games.jpg
END:VEVENT
BEGIN:VEVENT
DTSTART;TZID=America/St_Johns:20260509T110000
DTEND;TZID=America/St_Johns:20260509T150000
DTSTAMP:20260421T180308
CREATED:20260205T191657Z
LAST-MODIFIED:20260205T191754Z
UID:10058238-1778324400-1778338800@nlpl.ca
SUMMARY:Master Builders
DESCRIPTION:(5+) Passive program for open Lego play. We provide the Lego\, you provide the fun! Come and go anytime during 11am – 3pm on Saturdays.
URL:https://nlpl.ca/events/master-builders/2026-05-09/
LOCATION:Stephenville Public Library (Kindale)\, 45 Carolina Ave.\, Stephenville\, NL\, A2N 3P8\, Canada
CATEGORIES:Hobbies, Crafts & Games
ATTACH;FMTTYPE=image/jpeg:https://nlpl.ca/wp-content/uploads/2023/03/Events-Hobbies-Crafts-and-Games.jpg
END:VEVENT
BEGIN:VEVENT
DTSTART;TZID=America/St_Johns:20260509T113000
DTEND;TZID=America/St_Johns:20260509T120000
DTSTAMP:20260421T180308
CREATED:20260110T141357Z
LAST-MODIFIED:20260110T141357Z
UID:10056668-1778326200-1778328000@nlpl.ca
SUMMARY:Saturday\, Story Time
DESCRIPTION:Story Time \nSaturday \nTime: 11:30-12:00 \nJanuary 17 to June 13th \nAges- birth to 5 years \nStory Time is half hour program\, filled with wonderful story books\, nursery rhymes\, songs and so much fun. \nLearning to read begins before children start school. From the time they are infants\, children learn language and other important skills that will help them learn to read. Developing early literacy skills makes it easier for children to learn to read once they begin school. \n“Remember\, the more we read together\, the happier we’ll be.”
URL:https://nlpl.ca/events/saturday-story-time-21/
LOCATION:Carbonear Public Library\, 256 Water St.\, Carbonear\, NL\, A1Y 1C4\, Canada
CATEGORIES:Kids & Families,Storytime
ORGANIZER;CN="Carbonear Public Library":MAILTO:carbonear@nlpl.ca
END:VEVENT
BEGIN:VEVENT
DTSTART;TZID=America/St_Johns:20260509T140000
DTEND;TZID=America/St_Johns:20260509T150000
DTSTAMP:20260421T180308
CREATED:20260410T133321Z
LAST-MODIFIED:20260410T133525Z
UID:10061413-1778335200-1778338800@nlpl.ca
SUMMARY:Insect Craft Workshop
DESCRIPTION:Make your own colourful insect for Spring! \nAges 8+. Registration required. Scissors and paint will be used. \nIn person event at Marjorie Mews Public Library\, 12 Highland Drive\, St. John’s.
URL:https://nlpl.ca/events/insect-craft-workshop/
LOCATION:St. John’s – Marjorie Mews Public Library\, 12 Highland Drive\, St. John's\, NL\, A1A 3C4\, Canada
CATEGORIES:Classes & Workshops
ATTACH;FMTTYPE=image/jpeg:https://nlpl.ca/wp-content/uploads/2023/03/Events-Kid-Families.jpg
ORGANIZER;CN="St. John's - Marjorie Mews Public Library":MAILTO:MarjorieMews-Programming@nlpl.ca
END:VEVENT
BEGIN:VEVENT
DTSTART;TZID=America/St_Johns:20260509T140000
DTEND;TZID=America/St_Johns:20260509T160000
DTSTAMP:20260421T180308
CREATED:20260327T154029Z
LAST-MODIFIED:20260406T120920Z
UID:10057096-1778335200-1778342400@nlpl.ca
SUMMARY:LEGO Free Play
DESCRIPTION:DROP-IN EVENT at A.C. Hunter Children’s Library \nLego Free Play! \nDrop in between 2:00 to 4:00pm  to build with our LEGO.\nAges 4-13. \nNext event dates: Saturdays May 9\, Saturday June 6 \nLEGO is unsupervised – all children must have a guardian present.
URL:https://nlpl.ca/events/lego-free-play-4/
LOCATION:St. John’s – A.C. Hunter Children’s Public Library\, 95 Allandale Road\, St. John's\, NL\, A1E 3A3\, Canada
END:VEVENT
BEGIN:VEVENT
DTSTART;TZID=America/St_Johns:20260511T140000
DTEND;TZID=America/St_Johns:20260511T160000
DTSTAMP:20260421T180308
CREATED:20250818T121419Z
LAST-MODIFIED:20260312T153407Z
UID:10059964-1778508000-1778515200@nlpl.ca
SUMMARY:Rug Hooking
DESCRIPTION:Harmsworth Public Library – Get “hooked” on rug making every Monday afternoon. Whether you are a beginner or a seasoned artist\, come share your rug-hooked works and techniques with a fun group of rug hookers.
URL:https://nlpl.ca/events/rug-hooking-2/2026-05-11/
LOCATION:Grand Falls-Windsor (Harmsworth) Public Library\, 1 Cromer Avenue\, Grand Falls - Windsor\, NL\, A2A 1W9\, Canada
CATEGORIES:Hobbies, Crafts & Games
ATTACH;FMTTYPE=image/jpeg:https://nlpl.ca/wp-content/uploads/2023/03/Events-Hobbies-Crafts-and-Games.jpg
END:VEVENT
BEGIN:VEVENT
DTSTART;TZID=America/St_Johns:20260511T150000
DTEND;TZID=America/St_Johns:20260511T160000
DTSTAMP:20260421T180308
CREATED:20251103T201201Z
LAST-MODIFIED:20251125T194640Z
UID:10053856-1778511600-1778515200@nlpl.ca
SUMMARY:Family Passive Play
DESCRIPTION:
URL:https://nlpl.ca/events/family-passive-play/2026-05-11/
LOCATION:Bishop’s Falls Public Library\, 445 Main Street\, Bishop's Falls\, NL\, A0H 1C0\, Canada
END:VEVENT
BEGIN:VEVENT
DTSTART;TZID=America/St_Johns:20260511T150000
DTEND;TZID=America/St_Johns:20260511T200000
DTSTAMP:20260421T180308
CREATED:20260304T172104Z
LAST-MODIFIED:20260317T164251Z
UID:10059635-1778511600-1778529600@nlpl.ca
SUMMARY:Quilting with Kay
DESCRIPTION:Come and enjoy an afternoon of beginner quilting with Kay Warford!!
URL:https://nlpl.ca/events/quilting-with-kay-2/2026-05-11/
LOCATION:Point Leamington Public Library\, 1 Rice's Drive\, Point Leamington\, NL\, A0H 1Z0\, Canada
CATEGORIES:Hobbies, Crafts & Games
END:VEVENT
BEGIN:VEVENT
DTSTART;TZID=America/St_Johns:20260511T180000
DTEND;TZID=America/St_Johns:20260511T200000
DTSTAMP:20260421T180308
CREATED:20251001T170959Z
LAST-MODIFIED:20251128T205518Z
UID:10051855-1778522400-1778529600@nlpl.ca
SUMMARY:Traditional NL Rug Hooking
DESCRIPTION:Drop in group at Point Leamington Public Library for rug hookers to work on their own projects.\nAll skill levels are welcome.
URL:https://nlpl.ca/events/traditional-nl-rug-hooking-2/2026-05-11/
LOCATION:Point Leamington Public Library\, 1 Rice's Drive\, Point Leamington\, NL\, A0H 1Z0\, Canada
CATEGORIES:Hobbies, Crafts & Games
ATTACH;FMTTYPE=image/jpeg:https://nlpl.ca/wp-content/uploads/2023/03/Events-Hobbies-Crafts-and-Games.jpg
END:VEVENT
BEGIN:VEVENT
DTSTART;TZID=America/St_Johns:20260512T060000
DTEND;TZID=America/St_Johns:20260512T193000
DTSTAMP:20260421T180308
CREATED:20251120T191835Z
LAST-MODIFIED:20251125T195038Z
UID:10055173-1778565600-1778614200@nlpl.ca
SUMMARY:Tuesday Night Tabletop Board Gaming
DESCRIPTION:New-Wes-Valley Public Libraries welcomes everyone to Tuesday night Board Gaming.  From 6 pm – 7:30 pm play from a wide selection of games from the libraries collection\, or bring you own.  Hope to see you there. \n 
URL:https://nlpl.ca/events/tuesday-night-tabletop-board-gaming/2026-05-12/
CATEGORIES:Hobbies, Crafts & Games
END:VEVENT
BEGIN:VEVENT
DTSTART;TZID=America/St_Johns:20260512T100000
DTEND;TZID=America/St_Johns:20260512T110000
DTSTAMP:20260421T180308
CREATED:20251015T144618Z
LAST-MODIFIED:20251015T161058Z
UID:10052613-1778580000-1778583600@nlpl.ca
SUMMARY:Family Story Time
DESCRIPTION:
URL:https://nlpl.ca/events/family-story-time-2/2026-05-12/
LOCATION:Bishop’s Falls Public Library\, 445 Main Street\, Bishop's Falls\, NL\, A0H 1C0\, Canada
CATEGORIES:Kids & Families,Storytime
END:VEVENT
BEGIN:VEVENT
DTSTART;TZID=America/St_Johns:20260512T100000
DTEND;TZID=America/St_Johns:20260512T120000
DTSTAMP:20260421T180308
CREATED:20260103T155608Z
LAST-MODIFIED:20260325T215109Z
UID:10060311-1778580000-1778587200@nlpl.ca
SUMMARY:Digital Learning+
DESCRIPTION:Small group workshops and classes for lifelong learning with a focus on digital literacy presented as part of The Murphy Centre’s ACCESS to Learning program. \nfree | registration required \nFor more information or registration contact: chrisjoseph@murphycentre.ca 709-640-6718 and/or reneesherstobetoff@murphycentre.ca 709-640-5616 \n  \n 
URL:https://nlpl.ca/events/digital-learning/2026-05-12/
LOCATION:Corner Brook Public Library\, 4 West Street\, Corner Brook\, NL\, A2H 0C1\, Canada
END:VEVENT
BEGIN:VEVENT
DTSTART;TZID=America/St_Johns:20260512T103000
DTEND;TZID=America/St_Johns:20260512T110000
DTSTAMP:20260421T180308
CREATED:20260110T135822Z
LAST-MODIFIED:20260110T135822Z
UID:10056648-1778581800-1778583600@nlpl.ca
SUMMARY:Tuesday\, Story Time
DESCRIPTION:Story Time \nTuesday 10:30-11:00 \nJanuary 13 to June 9th \nAges- birth to 5 years \nStory Time is half hour program\, filled with wonderful story books\, nursery rhymes\, songs and so much fun. \nLearning to read begins before children start school. From the time they are infants\, children learn language and other important skills that will help them learn to read. Developing early literacy skills makes it easier for children to learn to read once they begin school. \n“Remember\, the more we read together\, the happier we’ll be.”
URL:https://nlpl.ca/events/tuesday-story-time-18/
LOCATION:Carbonear Public Library\, 256 Water St.\, Carbonear\, NL\, A1Y 1C4\, Canada
CATEGORIES:Kids & Families,Storytime
ORGANIZER;CN="Carbonear Public Library":MAILTO:carbonear@nlpl.ca
END:VEVENT
BEGIN:VEVENT
DTSTART;TZID=America/St_Johns:20260512T113000
DTEND;TZID=America/St_Johns:20260512T123000
DTSTAMP:20260421T180308
CREATED:20260227T193732Z
LAST-MODIFIED:20260418T174819Z
UID:10059395-1778585400-1778589000@nlpl.ca
SUMMARY:Tech Tuesdays
DESCRIPTION:Drop by the Ross King Memorial Library (Mount Pearl) from 11:30 AM – 12:30 PM on Tuesdays for our Tech Tuesdays program.  This program will give you tips on how to use devices such as a laptop\, tablet or cell phone as well as provide answers to your questions about how to use Library resources such as Libby\, Connect Pass\, and the NLPL Events Calendar and Catalogue.  This is a drop in program and is conducted on first-come\, first-serve basis.
URL:https://nlpl.ca/events/tech-tuesdays-3-2/2026-05-12/
LOCATION:Mount Pearl Public Library\, 65 Olympic Drive\, Mount Pearl\, NL\, A1N 5H6\, Canada
CATEGORIES:Classes & Workshops,Information Session,Technology & Makerspace
ORGANIZER;CN="Mount Pearl":MAILTO:mountpearl@nlpl.ca
END:VEVENT
BEGIN:VEVENT
DTSTART;TZID=America/St_Johns:20260512T140000
DTEND;TZID=America/St_Johns:20260512T153000
DTSTAMP:20260421T180308
CREATED:20250310T162548Z
LAST-MODIFIED:20260408T174230Z
UID:10061404-1778594400-1778599800@nlpl.ca
SUMMARY:Breastfeeding Clinic
DESCRIPTION:Drop in to the Conception Bay South Public Library for the Breastfeeding Clinic provided by Community Health\, Drop in for parents and babies.
URL:https://nlpl.ca/events/breastfeeding-clinic-3/2026-05-12/
LOCATION:Conception Bay South Public Library\, 10 Remembrance Square\, Conception Bay South\, NL\, Canada
CATEGORIES:Heath & Wellbeing,Kids & Families
ATTACH;FMTTYPE=image/jpeg:https://nlpl.ca/wp-content/uploads/2023/03/Events-Health-and-Wellbeing.jpg
ORGANIZER;CN="Conception Bay South Public Library":MAILTO:conceptionbaysouth@nlpl.ca
END:VEVENT
BEGIN:VEVENT
DTSTART;TZID=America/St_Johns:20260512T140000
DTEND;TZID=America/St_Johns:20260512T153000
DTSTAMP:20260421T180308
CREATED:20260103T135944Z
LAST-MODIFIED:20260325T214808Z
UID:10060261-1778594400-1778599800@nlpl.ca
SUMMARY:BabyTime PlayTime
DESCRIPTION:Drop-in for playtime and socializing for babies (ages 0-2) and parents/caregivers
URL:https://nlpl.ca/events/babytime-playtime/2026-05-12/
LOCATION:Corner Brook Public Library\, 4 West Street\, Corner Brook\, NL\, A2H 0C1\, Canada
END:VEVENT
BEGIN:VEVENT
DTSTART;TZID=America/St_Johns:20260512T150000
DTEND;TZID=America/St_Johns:20260512T160000
DTSTAMP:20260421T180308
CREATED:20251103T201201Z
LAST-MODIFIED:20251125T194640Z
UID:10053857-1778598000-1778601600@nlpl.ca
SUMMARY:Family Passive Play
DESCRIPTION:
URL:https://nlpl.ca/events/family-passive-play/2026-05-12/
LOCATION:Bishop’s Falls Public Library\, 445 Main Street\, Bishop's Falls\, NL\, A0H 1C0\, Canada
END:VEVENT
BEGIN:VEVENT
DTSTART;TZID=America/St_Johns:20260512T153000
DTEND;TZID=America/St_Johns:20260512T160000
DTSTAMP:20260421T180308
CREATED:20260323T174050Z
LAST-MODIFIED:20260323T174610Z
UID:10060210-1778599800-1778601600@nlpl.ca
SUMMARY:Baby Storytime
DESCRIPTION:Join us at the CBS Public library for themed story times with your little ones! Suitable for ages 0-2\, Drop in
URL:https://nlpl.ca/events/baby-storytime/2026-05-12/
LOCATION:Conception Bay South Public Library\, 10 Remembrance Square\, Conception Bay South\, NL\, Canada
CATEGORIES:Storytime
ATTACH;FMTTYPE=image/jpeg:https://nlpl.ca/wp-content/uploads/2023/03/Events-Kid-Families.jpg
ORGANIZER;CN="Conception Bay South Public Library":MAILTO:conceptionbaysouth@nlpl.ca
END:VEVENT
BEGIN:VEVENT
DTSTART;TZID=America/St_Johns:20260512T153000
DTEND;TZID=America/St_Johns:20260512T163000
DTSTAMP:20260421T180308
CREATED:20250821T155247Z
LAST-MODIFIED:20260415T221903Z
UID:10061418-1778599800-1778603400@nlpl.ca
SUMMARY:Baby Play Group
DESCRIPTION:Drop in to the Conception Bay South Public Library where the storytime room  will be open for baby play time\, with baby-friendly toys available! This is a drop-in program\, best suited for ages 0-2.
URL:https://nlpl.ca/events/baby-play-group/2026-05-12/
LOCATION:Conception Bay South Public Library\, 10 Remembrance Square\, Conception Bay South\, NL\, Canada
CATEGORIES:Kids & Families
ATTACH;FMTTYPE=image/jpeg:https://nlpl.ca/wp-content/uploads/2023/03/Events-Kid-Families.jpg
END:VEVENT
END:VCALENDAR