BEGIN:VCALENDAR
VERSION:2.0
PRODID:-//Newfoundland &amp; Labrador Public Libraries - ECPv6.15.20//NONSGML v1.0//EN
CALSCALE:GREGORIAN
METHOD:PUBLISH
X-WR-CALNAME:Newfoundland &amp; Labrador Public Libraries
X-ORIGINAL-URL:https://nlpl.ca
X-WR-CALDESC:Events for Newfoundland &amp; Labrador Public Libraries
REFRESH-INTERVAL;VALUE=DURATION:PT1H
X-Robots-Tag:noindex
X-PUBLISHED-TTL:PT1H
BEGIN:VTIMEZONE
TZID:America/St_Johns
BEGIN:DAYLIGHT
TZOFFSETFROM:-0330
TZOFFSETTO:-0230
TZNAME:NDT
DTSTART:20250309T053000
END:DAYLIGHT
BEGIN:STANDARD
TZOFFSETFROM:-0230
TZOFFSETTO:-0330
TZNAME:NST
DTSTART:20251102T043000
END:STANDARD
BEGIN:DAYLIGHT
TZOFFSETFROM:-0330
TZOFFSETTO:-0230
TZNAME:NDT
DTSTART:20260308T053000
END:DAYLIGHT
BEGIN:STANDARD
TZOFFSETFROM:-0230
TZOFFSETTO:-0330
TZNAME:NST
DTSTART:20261101T043000
END:STANDARD
BEGIN:DAYLIGHT
TZOFFSETFROM:-0330
TZOFFSETTO:-0230
TZNAME:NDT
DTSTART:20270314T053000
END:DAYLIGHT
BEGIN:STANDARD
TZOFFSETFROM:-0230
TZOFFSETTO:-0330
TZNAME:NST
DTSTART:20271107T043000
END:STANDARD
END:VTIMEZONE
BEGIN:VEVENT
DTSTART;TZID=America/St_Johns:20260321T100000
DTEND;TZID=America/St_Johns:20260321T140000
DTSTAMP:20260422T043554
CREATED:20260202T192359Z
LAST-MODIFIED:20260202T192359Z
UID:10058042-1774087200-1774101600@nlpl.ca
SUMMARY:Drop-in Lego Play
DESCRIPTION:We provide the space and Lego’s\, you provide the fun and creativity!
URL:https://nlpl.ca/events/drop-in-lego-play/2026-03-21/
LOCATION:Labrador City Public Library\, 306 Hudson Dr.\, Labrador City\, NL\, A2V 1L5\, Canada
CATEGORIES:Kids & Families
ATTACH;FMTTYPE=image/jpeg:https://nlpl.ca/wp-content/uploads/2023/03/Events-Kid-Families.jpg
END:VEVENT
BEGIN:VEVENT
DTSTART;TZID=America/St_Johns:20260320T150000
DTEND;TZID=America/St_Johns:20260320T160000
DTSTAMP:20260422T043554
CREATED:20251103T201201Z
LAST-MODIFIED:20251125T194640Z
UID:10053820-1774018800-1774022400@nlpl.ca
SUMMARY:Family Passive Play
DESCRIPTION:
URL:https://nlpl.ca/events/family-passive-play/2026-03-20/
LOCATION:Bishop’s Falls Public Library\, 445 Main Street\, Bishop's Falls\, NL\, A0H 1C0\, Canada
END:VEVENT
BEGIN:VEVENT
DTSTART;TZID=America/St_Johns:20260320T143000
DTEND;TZID=America/St_Johns:20260320T153000
DTSTAMP:20260422T043554
CREATED:20260312T190249Z
LAST-MODIFIED:20260312T190250Z
UID:10060021-1774017000-1774020600@nlpl.ca
SUMMARY:FAB - Friday Afternoon Book Club
DESCRIPTION:Join us on the 3rd Friday of each month September to June.\nThis book club is run by library staff and we read all genres and subjects. Everyone is welcome. \nFor March we are discussing Circe by Madeline Miller\nEmail juliamayo@nlpl.ca for more info
URL:https://nlpl.ca/events/friday-afternoon-book-club-2/2026-03-20/
LOCATION:St. John’s – A.C. Hunter Public Library\, 125 Allandale Road\, St. John's\, NL\, A1B 3A3\, Canada
CATEGORIES:Book Clubs & Writer’s Groups,Seniors
END:VEVENT
BEGIN:VEVENT
DTSTART;TZID=America/St_Johns:20260320T140000
DTEND;TZID=America/St_Johns:20260320T163000
DTSTAMP:20260422T043554
CREATED:20260103T152206Z
LAST-MODIFIED:20260325T214908Z
UID:10055936-1774015200-1774024200@nlpl.ca
SUMMARY:LegoTime
DESCRIPTION:Show off your creativity and imagination with this drop-in program suitable for children of all ages (Lego recommended for ages 3+ and Duplo bricks available for younger siblings).
URL:https://nlpl.ca/events/legotime/2026-03-20/
LOCATION:Corner Brook Public Library\, 4 West Street\, Corner Brook\, NL\, A2H 0C1\, Canada
CATEGORIES:Kids & Families
END:VEVENT
BEGIN:VEVENT
DTSTART;TZID=America/St_Johns:20260320T140000
DTEND;TZID=America/St_Johns:20260320T160000
DTSTAMP:20260422T043554
CREATED:20260105T135729Z
LAST-MODIFIED:20260312T152751Z
UID:10056116-1774015200-1774022400@nlpl.ca
SUMMARY:Lego Free Play
DESCRIPTION:Harmsworth Public Library – What will you create? Create something fun at our LEGO free play!
URL:https://nlpl.ca/events/lego-free-play-6-2-2/2026-03-20/
LOCATION:Grand Falls-Windsor (Harmsworth) Public Library\, 1 Cromer Avenue\, Grand Falls - Windsor\, NL\, A2A 1W9\, Canada
CATEGORIES:Kids & Families
ATTACH;FMTTYPE=image/jpeg:https://nlpl.ca/wp-content/uploads/2023/03/Events-Kid-Families.jpg
END:VEVENT
BEGIN:VEVENT
DTSTART;TZID=America/St_Johns:20260320T130000
DTEND;TZID=America/St_Johns:20260320T150000
DTSTAMP:20260422T043554
CREATED:20260319T170115Z
LAST-MODIFIED:20260319T170116Z
UID:10056776-1774011600-1774018800@nlpl.ca
SUMMARY:Drop In Play
DESCRIPTION:Visit the Port aux Basques Public Library every Friday afternoon for Drop In Play! A number of toys are available for free play. Enjoy a chance to get out of the house and socialize with other kids and caregivers.
URL:https://nlpl.ca/events/drop-in-play-2/2026-03-20/
LOCATION:Port aux Basques Public Library\, 8 Grand Bay\, Port aux Basques\, NL\, A0M 1C0\, Canada
CATEGORIES:Kids & Families
ATTACH;FMTTYPE=image/jpeg:https://nlpl.ca/wp-content/uploads/2023/03/Events-Kid-Families.jpg
END:VEVENT
BEGIN:VEVENT
DTSTART;TZID=America/St_Johns:20260320T104500
DTEND;TZID=America/St_Johns:20260320T111500
DTSTAMP:20260422T043554
CREATED:20260225T130756Z
LAST-MODIFIED:20260225T130917Z
UID:10059492-1774003500-1774005300@nlpl.ca
SUMMARY:Baby Rhyme Time
DESCRIPTION:Grander Public Library – A program for babies and their caregivers that teaches new stories\, songs\, rhymes and more in an interactive early literacy rich environment. Babies 0-18 months.
URL:https://nlpl.ca/events/baby-circle-time-5-2-2-2-2-2/2026-03-20/
LOCATION:Gander Public & Resource Library\, 6 Bell Place\, Gander\, NL\, A1V 1X2\, Canada
CATEGORIES:Kids & Families
ATTACH;FMTTYPE=image/jpeg:https://nlpl.ca/wp-content/uploads/2023/03/Events-Kid-Families.jpg
END:VEVENT
BEGIN:VEVENT
DTSTART;TZID=America/St_Johns:20260320T103000
DTEND;TZID=America/St_Johns:20260320T120000
DTSTAMP:20260422T043554
CREATED:20260303T213625Z
LAST-MODIFIED:20260325T213947Z
UID:10059700-1774002600-1774008000@nlpl.ca
SUMMARY:Friday Morning Yarns
DESCRIPTION:Share conversation\, motivation and inspiration while you work on your knitting\, crochetting and other needlecrafts. While the focus is not on learning to knit\, attendees are encouraged to share their skills.
URL:https://nlpl.ca/events/friday-morning-yarns/2026-03-20/
LOCATION:Corner Brook Public Library\, 4 West Street\, Corner Brook\, NL\, A2H 0C1\, Canada
CATEGORIES:Hobbies, Crafts & Games
END:VEVENT
BEGIN:VEVENT
DTSTART;TZID=America/St_Johns:20260320T103000
DTEND;TZID=America/St_Johns:20260320T110000
DTSTAMP:20260422T043554
CREATED:20260105T135443Z
LAST-MODIFIED:20260312T152214Z
UID:10056105-1774002600-1774004400@nlpl.ca
SUMMARY:Family Storytime
DESCRIPTION:Harmsworth Public Library – A 30-minute interactive program celebrating books\, rhymes\, movement\, songs\, and fun that is perfect for families with multiple children\, ages 0-5
URL:https://nlpl.ca/events/family-storytime-3/2026-03-20/
LOCATION:Grand Falls-Windsor (Harmsworth) Public Library\, 1 Cromer Avenue\, Grand Falls - Windsor\, NL\, A2A 1W9\, Canada
CATEGORIES:Kids & Families
ATTACH;FMTTYPE=image/jpeg:https://nlpl.ca/wp-content/uploads/2023/03/Events-Kid-Families.jpg
END:VEVENT
BEGIN:VEVENT
DTSTART;TZID=America/St_Johns:20260320T101500
DTEND;TZID=America/St_Johns:20260320T114500
DTSTAMP:20260422T043554
CREATED:20251028T175624Z
LAST-MODIFIED:20260415T222620Z
UID:10061491-1774001700-1774007100@nlpl.ca
SUMMARY:Musical Munchkins
DESCRIPTION:Drop in to the Conception Bay South Public Library for Musical Munchkins! Hosted By the Family Resource Center.\nThis is a drop-in music and rhyme time for babies (newborn until walking) and their caregiver.
URL:https://nlpl.ca/events/musical-munchkins-2-3-2/2026-03-20/
LOCATION:Conception Bay South Public Library\, 10 Remembrance Square\, Conception Bay South\, NL\, Canada
CATEGORIES:Kids & Families
ATTACH;FMTTYPE=image/jpeg:https://nlpl.ca/wp-content/uploads/2023/03/Events-Kid-Families.jpg
END:VEVENT
BEGIN:VEVENT
DTSTART;TZID=America/St_Johns:20260320T100000
DTEND;TZID=America/St_Johns:20260320T103000
DTSTAMP:20260422T043554
CREATED:20260225T131033Z
LAST-MODIFIED:20260225T131143Z
UID:10059497-1774000800-1774002600@nlpl.ca
SUMMARY:Storytime
DESCRIPTION:Gander Public Library – A 30 minute interactive program celebrating books\, rhymes\, movement\, songs and fun\, ages 0-5 years.
URL:https://nlpl.ca/events/family-storytime-13-2-2-2-2-2/2026-03-20/
LOCATION:Gander Public & Resource Library\, 6 Bell Place\, Gander\, NL\, A1V 1X2\, Canada
CATEGORIES:Kids & Families
ATTACH;FMTTYPE=image/jpeg:https://nlpl.ca/wp-content/uploads/2023/03/Events-Kid-Families.jpg
END:VEVENT
BEGIN:VEVENT
DTSTART;TZID=America/St_Johns:20260320T093000
DTEND;TZID=America/St_Johns:20260320T113000
DTSTAMP:20260422T043554
CREATED:20251016T165338Z
LAST-MODIFIED:20251128T213700Z
UID:10052652-1773999000-1774006200@nlpl.ca
SUMMARY:Friday Free Play for Babies and Toddlers
DESCRIPTION:A drop-in weekly program at A.C. Hunter Children’s Library \nPlaygroup for ages 0-3. \nEvery Friday\, we open our playroom from 9:30 to 11:30am for babies and tots to play – a great chance to meet other caregivers! \nNo registration necessary.
URL:https://nlpl.ca/events/friday-free-play-for-babies-and-toddlers/2026-03-20/
LOCATION:St. John’s – A.C. Hunter Children’s Public Library\, 95 Allandale Road\, St. John's\, NL\, A1E 3A3\, Canada
CATEGORIES:Kids & Families,Storytime
ATTACH;FMTTYPE=image/jpeg:https://nlpl.ca/wp-content/uploads/2023/03/Events-Kid-Families.jpg
END:VEVENT
BEGIN:VEVENT
DTSTART;TZID=America/St_Johns:20260319T180000
DTEND;TZID=America/St_Johns:20260319T193000
DTSTAMP:20260422T043554
CREATED:20260103T151827Z
LAST-MODIFIED:20260103T151844Z
UID:10055925-1773943200-1773948600@nlpl.ca
SUMMARY:Creative Writing Group
DESCRIPTION:Advance your creative writing skills and share your work while providing and receiving constructive feedback. New members welcome!
URL:https://nlpl.ca/events/craetive-writing-group/2026-03-19/
LOCATION:Corner Brook Public Library\, 4 West Street\, Corner Brook\, NL\, A2H 0C1\, Canada
CATEGORIES:Book Clubs & Writer’s Groups
END:VEVENT
BEGIN:VEVENT
DTSTART;TZID=America/St_Johns:20260319T180000
DTEND;TZID=America/St_Johns:20260319T190000
DTSTAMP:20260422T043554
CREATED:20260303T180601Z
LAST-MODIFIED:20260319T184052Z
UID:10059612-1773943200-1773946800@nlpl.ca
SUMMARY:Easter Cards
DESCRIPTION:Make two adorable Easter cards. \nSupplies provided. \nAges 16+.
URL:https://nlpl.ca/events/easter-cards/
LOCATION:Labrador City Public Library\, 306 Hudson Dr.\, Labrador City\, NL\, A2V 1L5\, Canada
CATEGORIES:Hobbies, Crafts & Games
ATTACH;FMTTYPE=image/jpeg:https://nlpl.ca/wp-content/uploads/2023/03/Events-Hobbies-Crafts-and-Games.jpg
END:VEVENT
BEGIN:VEVENT
DTSTART;TZID=America/St_Johns:20260319T180000
DTEND;TZID=America/St_Johns:20260319T190000
DTSTAMP:20260422T043554
CREATED:20260105T161946Z
LAST-MODIFIED:20260312T152847Z
UID:10056151-1773943200-1773946800@nlpl.ca
SUMMARY:Sensory Hour
DESCRIPTION:Harmsworth Public Library – Sensory-friendly browsing hour that includes reduced lighting and reduced noise.
URL:https://nlpl.ca/events/sensory-hour-2/2026-03-19/
LOCATION:Grand Falls-Windsor (Harmsworth) Public Library\, 1 Cromer Avenue\, Grand Falls - Windsor\, NL\, A2A 1W9\, Canada
CATEGORIES:Heath & Wellbeing
END:VEVENT
BEGIN:VEVENT
DTSTART;TZID=America/St_Johns:20260319T153000
DTEND;TZID=America/St_Johns:20260319T170000
DTSTAMP:20260422T043554
CREATED:20250905T155750Z
LAST-MODIFIED:20251128T204710Z
UID:10049983-1773934200-1773939600@nlpl.ca
SUMMARY:Lego Play Hour at Bay Roberts Public Library
DESCRIPTION:Thursdays\, this fall\, from 3:30 to 5 pm expand your imagination with mountains of Lego blocks. Create and make friends. \nRegistration not necessary.
URL:https://nlpl.ca/events/lego-play-hour-at-bay-roberts-public-library/2026-03-19/
LOCATION:Bay Roberts Public Library\, 76 Cross Road\, Bay Roberts\, NL\, A0A 1G0\, Canada
ATTACH;FMTTYPE=image/jpeg:https://nlpl.ca/wp-content/uploads/2023/03/Events-Kid-Families.jpg
END:VEVENT
BEGIN:VEVENT
DTSTART;TZID=America/St_Johns:20260319T150000
DTEND;TZID=America/St_Johns:20260319T160000
DTSTAMP:20260422T043554
CREATED:20251103T201201Z
LAST-MODIFIED:20251125T194640Z
UID:10053819-1773932400-1773936000@nlpl.ca
SUMMARY:Family Passive Play
DESCRIPTION:
URL:https://nlpl.ca/events/family-passive-play/2026-03-19/
LOCATION:Bishop’s Falls Public Library\, 445 Main Street\, Bishop's Falls\, NL\, A0H 1C0\, Canada
END:VEVENT
BEGIN:VEVENT
DTSTART;TZID=America/St_Johns:20260319T140000
DTEND;TZID=America/St_Johns:20260319T160000
DTSTAMP:20260422T043554
CREATED:20260303T213947Z
LAST-MODIFIED:20260303T214019Z
UID:10059706-1773928800-1773936000@nlpl.ca
SUMMARY:Senior Social Puzzle Time
DESCRIPTION:Join us for Senior Social Puzzle Time! Drop-in to the Library to socialize and solve puzzles of all sizes and skill levels.\n\n\n\n\n\nWhile the primary audience for this event is seniors\, friends & family of all ages are welcome to participate!
URL:https://nlpl.ca/events/senior-social-puzzle-time/
LOCATION:Corner Brook Public Library\, 4 West Street\, Corner Brook\, NL\, A2H 0C1\, Canada
CATEGORIES:Hobbies, Crafts & Games,Seniors
END:VEVENT
BEGIN:VEVENT
DTSTART;TZID=America/St_Johns:20260319T140000
DTEND;TZID=America/St_Johns:20260319T160000
DTSTAMP:20260422T043554
CREATED:20260105T133034Z
LAST-MODIFIED:20260312T152500Z
UID:10056062-1773928800-1773936000@nlpl.ca
SUMMARY:Knitting Circle
DESCRIPTION:Harmsworth Public Library – Drop-in and join us to knit and/or crochet\, improve your needle skills\, help a friend\, share patterns\, ideas and stories.\n\nBring your own supplies.
URL:https://nlpl.ca/events/knitting-circle-2/2026-03-19/
LOCATION:Grand Falls-Windsor (Harmsworth) Public Library\, 1 Cromer Avenue\, Grand Falls - Windsor\, NL\, A2A 1W9\, Canada
CATEGORIES:Hobbies, Crafts & Games
ATTACH;FMTTYPE=image/jpeg:https://nlpl.ca/wp-content/uploads/2023/03/Events-Hobbies-Crafts-and-Games.jpg
END:VEVENT
BEGIN:VEVENT
DTSTART;TZID=America/St_Johns:20260319T140000
DTEND;TZID=America/St_Johns:20260319T160000
DTSTAMP:20260422T043554
CREATED:20260102T193222Z
LAST-MODIFIED:20260312T181405Z
UID:10055564-1773928800-1773936000@nlpl.ca
SUMMARY:Tech Thursdays
DESCRIPTION:Gander Public Library – Needing help with your cell phone\, tablet/IPad or Laptop? On Thursdays 2-4pm you can book an appointment for help!
URL:https://nlpl.ca/events/tech-thursdays-3/2026-03-19/
LOCATION:Gander Public & Resource Library\, 6 Bell Place\, Gander\, NL\, A1V 1X2\, Canada
CATEGORIES:Technology & Makerspace
ATTACH;FMTTYPE=image/jpeg:https://nlpl.ca/wp-content/uploads/2023/03/Events-Classes-and-Workshops.jpg
END:VEVENT
BEGIN:VEVENT
DTSTART;TZID=America/St_Johns:20260319T140000
DTEND;TZID=America/St_Johns:20260319T143000
DTSTAMP:20260422T043554
CREATED:20260114T174653Z
LAST-MODIFIED:20260114T174653Z
UID:10056887-1773928800-1773930600@nlpl.ca
SUMMARY:Family Storytime
DESCRIPTION:A 30 minute interactive program celebrating books\, rhymes\, movement\, songs and fun that is perfect for\nfamilies with multiple children\, ages 1-5 years
URL:https://nlpl.ca/events/family-storytime/2026-03-19/
LOCATION:Stephenville Public Library (Kindale)\, 45 Carolina Ave.\, Stephenville\, NL\, A2N 3P8\, Canada
CATEGORIES:Kids & Families,Storytime
ATTACH;FMTTYPE=image/jpeg:https://nlpl.ca/wp-content/uploads/2023/03/Events-Kid-Families.jpg
END:VEVENT
BEGIN:VEVENT
DTSTART;TZID=America/St_Johns:20260319T140000
DTEND;TZID=America/St_Johns:20260319T140000
DTSTAMP:20260422T043554
CREATED:20260120T175935Z
LAST-MODIFIED:20260306T131114Z
UID:10056988-1773928800-1773928800@nlpl.ca
SUMMARY:Baby Storytime - Thursday Afternoon
DESCRIPTION:A registered event at A.C. Hunter Children’s Library. \n6 weeks of Spring Storytime! Storytime runs from March 19 to April 30 (no storytime on April 9 due to spring break)\nBaby Storytime for ages 0-12 months\nThursdays at 2:00pm \n\n\n\nWhat is Baby Storytime?\nThe staff will lead caregivers in rhymes and songs with simple stories and tips for literacy. 20-25 minutes of storytime\, followed by a playtime. Birth – 12 months old \n\n  \nREGISTRATION OPENS AT 9:30am March 6 – online or by calling 709-737-3953 \n\n\n\n  \n\n\n\n 
URL:https://nlpl.ca/events/baby-storytime-thursday-afternoon/2026-03-19/
LOCATION:St. John’s – A.C. Hunter Children’s Public Library\, 95 Allandale Road\, St. John's\, NL\, A1E 3A3\, Canada
CATEGORIES:Kids & Families,Storytime
END:VEVENT
BEGIN:VEVENT
DTSTART;TZID=America/St_Johns:20260319T130000
DTEND;TZID=America/St_Johns:20260319T160000
DTSTAMP:20260422T043554
CREATED:20260214T225849Z
LAST-MODIFIED:20260226T150815Z
UID:10059287-1773925200-1773936000@nlpl.ca
SUMMARY:CVITP Tax Clinics
DESCRIPTION:A.C. Hunter – St John’s\nWe are having our annual CVITP (Community Volunteer Tax Program) tax clinics. Volunteers will be on hand to assist with tax returns for those with a modest income withing the limits below.First come first served.\nSingle with total income below $40\,000 \nSingle $40\,000\nTwo person household (single parent or married/common-law couple) with total income below $55\,000 \nDetermine if you are eligible \nTo be eligible to use the services of a free tax clinic\, you must have both: \n\na modest income\na simple tax situation\n\nDetermine if you have a modest income \n\nThe following table provides a guideline to determine what is considered a modest income.\nIn general\, a modest income means the total family income is less than or equal to the amount shown in the chart below\, based on the size of the family.\nFamily size includes an individual\, or a couple\, and their dependants.\nCommunity organizations can adjust the total family income thresholds for their clients based on the local economic environment\, the population they serve\, and their resources.\n\n\n\n\n  \n\nSuggested income thresholds\n\n\nFamily size\nTotal family income\n\n\n1 person\n$40\,000\n\n\n2 people\n$55\,000\n\n\n3 people\n$60\,000\n\n\n4 people\n$65\,000\n\n\n5 people\n$70\,000\n\n\nMore than 5 people\n$70\,000\, plus $5\,000 for each additional person\n\n\n\n\n\nDetermine if you have a simple tax situation\nIn general\, a tax situation is simple if an individual has no income or if their income comes from these sources: \n\nemployment\npension\nbenefits\, such as the Canada Pension Plan\, Old Age Security\, disability insurance\, employment insurance\, and social assistance\nregistered retirement savings plans (RRSPs)\nscholarships\, fellowships\, bursaries\, or grants\ninterest (under $1\,200)\n\nVolunteers are not expected to answer complex tax questions. If a taxpayer needs information that is beyond the volunteer’s expertise\, they can find more information on the website or contact the Canada Revenue Agency. \nOur volunteers will only process current-year tax returns; however\, they will only complete tax returns they feel comfortable preparing based on the information the taxpayer gives them. \n\nComplex tax situations are not supported\nVolunteers will not complete a deceased taxpayer’s return\, or returns that have any of the following: \n\nself-employment income or employment expenses Exception1\nbusiness income and expenses\nrental income and expenses\ninterest income over $1\,200\ncapital gains or losses\nbankruptcy in the tax year (or the year before\, if that return has not yet been filed)\nforeign property (Form T1135)\nforeign income Exception2Exceptions\n\n\n\nException 1\nIndividuals who have a T4A slip\, Statement of Pension\, Retirement\, Annuity\, and Other Income\, that shows self-employed or business in box 048 may be eligible to have their tax return completed through the CVITP if all of the following conditions are met: \n\nthe total income in box 048 is under $1\,000\nno expenses are claimed\nthe individual is not registered as a GST/HST registrant and is not required to be one\n\nReturn to exception1referrer \n\nException 2\nIndividuals who receive U.S. Social Security benefits are eligible to have their tax return completed through the CVITP. Any other type of foreign income (including a foreign pension) would not be considered a simple tax situation. \nReturn to exception2referrer \nGet The Documents you need \nVolunteers will need to see all the relevant documents and receipts if you want them to prepare your taxes. These could include\, but are not limited to\, the following: \n\n\n\n\n\n\n\nvalid government-issued photo identification\nsocial insurance number (SIN) or a valid temporary SIN\ntax information slips\n\nLocating your slips\nTax information slips are prepared by your employer\, payer\, or administrator. You should have received most of your slips and receipts by the end of February. If you have not received them or have lost or misplaced a slip for the current year\, start by checking your CRA account or contacting your employer or issuer for a copy. If you are unable to resolve this issue online\, you can call the CRA general enquiries line at 1-800-959-8281. \nVolunteers may be able to retrieve some of your tax slips through the CRA’s online Auto-fill my return feature\, which allows volunteers to access tax slips that the CRA has available at the time of the request. Please note that not all volunteers have access to this online feature. \nIf you need a slip for an earlier year\, you may be able to get a copy through your CRA Account or by visiting Skip the line to find answers to most of your tax-related questions. \nYou can also visit Service Canada to get electronic versions of your current and previous tax slips for old age security (OAS)\, employment insurance (EI)\, and the Canada pension plan (CPP). \n\n\nreceipts\nprevious Notice of Assessment (when possible)
URL:https://nlpl.ca/events/cvitp-tax-clinics/2026-03-19/
LOCATION:St. John’s – A.C. Hunter Public Library\, 125 Allandale Road\, St. John's\, NL\, A1B 3A3\, Canada
CATEGORIES:Financial Literacy,Special Event
END:VEVENT
BEGIN:VEVENT
DTSTART;TZID=America/St_Johns:20260319T130000
DTEND;TZID=America/St_Johns:20260319T150000
DTSTAMP:20260422T043554
CREATED:20260305T172547Z
LAST-MODIFIED:20260305T172547Z
UID:10059729-1773925200-1773932400@nlpl.ca
SUMMARY:Tech Thursday
DESCRIPTION:Drop in with your own device or we can use our devices- iPad or desktop or laptop. We can show you how to set up an email\, copy files\, or print files.
URL:https://nlpl.ca/events/tech-thursday/2026-03-19/
LOCATION:Deer Lake Public Library\, 4 Poplar Road\, Deer Lake\, NL\, A8A 1Z4\, Canada
END:VEVENT
BEGIN:VEVENT
DTSTART;TZID=America/St_Johns:20260319T130000
DTEND;TZID=America/St_Johns:20260319T150000
DTSTAMP:20260422T043554
CREATED:20250702T192402Z
LAST-MODIFIED:20260410T152336Z
UID:10059419-1773925200-1773932400@nlpl.ca
SUMMARY:CBS Knitting Group
DESCRIPTION:Everyone is welcome ! Bring your project and meet up with fellow knitters!
URL:https://nlpl.ca/events/knitting-group-4/2026-03-19/
LOCATION:Conception Bay South Public Library\, 10 Remembrance Square\, Conception Bay South\, NL\, Canada
CATEGORIES:Hobbies, Crafts & Games
ATTACH;FMTTYPE=image/jpeg:https://nlpl.ca/wp-content/uploads/2023/03/Events-Hobbies-Crafts-and-Games.jpg
ORGANIZER;CN="Conception Bay South Public Library":MAILTO:conceptionbaysouth@nlpl.ca
END:VEVENT
BEGIN:VEVENT
DTSTART;TZID=America/St_Johns:20260319T110000
DTEND;TZID=America/St_Johns:20260319T113000
DTSTAMP:20260422T043554
CREATED:20260306T185910Z
LAST-MODIFIED:20260306T185959Z
UID:10056981-1773918000-1773919800@nlpl.ca
SUMMARY:Preschool Storytime
DESCRIPTION:A registered event at A.C. Hunter Children’s Library. \n6 weeks of Spring Storytime! Storytime runs from March 19 to April 30 (no storytime April 9 due to spring break)\nPreschool Storytime for ages 3-5 years\nThursdays at 11:00am \n\n\n\nWhat is Preschool Storytime?\nFor children ready for a little more independence! The staff will read books\, tell stories and lead rhymes and songs. Caregivers remain in the room. 30 minutes. \n\n  \nREGISTRATION OPENS AT 9:30am March 6 – online or by calling 709-737-3953 \n\n\n\n  \n\n\n\n 
URL:https://nlpl.ca/events/preschool-storytime-2-2/
LOCATION:St. John’s – A.C. Hunter Children’s Public Library\, 95 Allandale Road\, St. John's\, NL\, A1E 3A3\, Canada
CATEGORIES:Storytime
END:VEVENT
BEGIN:VEVENT
DTSTART;TZID=America/St_Johns:20260319T100000
DTEND;TZID=America/St_Johns:20260319T120000
DTSTAMP:20260422T043554
CREATED:20260103T161028Z
LAST-MODIFIED:20260325T214958Z
UID:10056019-1773914400-1773921600@nlpl.ca
SUMMARY:Digital Learning+
DESCRIPTION:Small group workshops and classes for lifelong learning with a focus on digital literacy presented as part of The Murphy Centre’s ACCESS to Learning program. \nfree | registration required \nFor more information or registration contact: chrisjoseph@murphycentre.ca 709-640-6718 and/or reneesherstobetoff@murphycentre.ca 709-640-5616 \n  \n 
URL:https://nlpl.ca/events/digital-learning-2/2026-03-19/
LOCATION:Corner Brook Public Library\, 4 West Street\, Corner Brook\, NL\, A2H 0C1\, Canada
END:VEVENT
BEGIN:VEVENT
DTSTART;TZID=America/St_Johns:20260319T100000
DTEND;TZID=America/St_Johns:20260319T120000
DTSTAMP:20260422T043554
CREATED:20240911T134337Z
LAST-MODIFIED:20260415T215627Z
UID:10059409-1773914400-1773921600@nlpl.ca
SUMMARY:Art Group
DESCRIPTION:Drop into the Conception Bay South Public Library  community room with any art project you are working on!\nThis is a group for adults.
URL:https://nlpl.ca/events/art-group/2026-03-19/
LOCATION:Conception Bay South Public Library\, 10 Remembrance Square\, Conception Bay South\, NL\, Canada
CATEGORIES:Arts & Culture,Hobbies, Crafts & Games
ATTACH;FMTTYPE=image/jpeg:https://nlpl.ca/wp-content/uploads/2023/03/Events-Hobbies-Crafts-and-Games.jpg
ORGANIZER;CN="Conception Bay South Public Library":MAILTO:conceptionbaysouth@nlpl.ca
END:VEVENT
BEGIN:VEVENT
DTSTART;TZID=America/St_Johns:20260319T100000
DTEND;TZID=America/St_Johns:20260319T103000
DTSTAMP:20260422T043554
CREATED:20260120T180319Z
LAST-MODIFIED:20260120T180319Z
UID:10056966-1773914400-1773916200@nlpl.ca
SUMMARY:Tots Storytime
DESCRIPTION:A registered event at A.C. Hunter Children’s Library. \n6 weeks of Spring Storytime! Storytime runs from March 19 to April 30 (no storytime on April 9 due to spring break)\nTots Storytime for ages 1-2 years (13-35 months) \nThursdays at 10:00am \n\n\n\nWhat is Tots Storytime?\nThe staff will read books\, tell stories and lead active rhymes and songs to engage toddlers. Caregivers participate alongside children. 20-25 minutes. For toddlers over 12 months and under 3. \n\n  \nREGISTRATION OPENS AT 9:30am Dec 12 – online or by calling 709-737-3953 \n\n\n\n  \n\n\n\n 
URL:https://nlpl.ca/events/tots-storytime/2026-03-19/
LOCATION:St. John’s – A.C. Hunter Children’s Public Library\, 95 Allandale Road\, St. John's\, NL\, A1E 3A3\, Canada
CATEGORIES:Kids & Families,Storytime
END:VEVENT
BEGIN:VEVENT
DTSTART;TZID=America/St_Johns:20260319T093000
DTEND;TZID=America/St_Johns:20260319T113000
DTSTAMP:20260422T043554
CREATED:20251116T180857Z
LAST-MODIFIED:20260312T103447Z
UID:10055124-1773912600-1773919800@nlpl.ca
SUMMARY:Tech Help Thursdays
DESCRIPTION:A.C. Hunter Library St John’s – Does technology seem tricky? iPad seem impossible? Do you find your phone frustrating? Our staff can help. Thursday Mornings 9:30-11:30 3rd Floor. Bring your device and a couple questions and staff will help you to the best of our abilities. \nNo Registration\nFirst Come First Helped!
URL:https://nlpl.ca/events/tech-help-thursdays-2/2026-03-19/
LOCATION:St. John’s – A.C. Hunter Public Library\, 125 Allandale Road\, St. John's\, NL\, A1B 3A3\, Canada
CATEGORIES:Technology & Makerspace
ATTACH;FMTTYPE=image/jpeg:https://nlpl.ca/wp-content/uploads/2023/11/Events-Tech-Makerspace.jpg
END:VEVENT
END:VCALENDAR