BEGIN:VCALENDAR
VERSION:2.0
PRODID:-//Newfoundland &amp; Labrador Public Libraries - ECPv6.15.20//NONSGML v1.0//EN
CALSCALE:GREGORIAN
METHOD:PUBLISH
X-WR-CALNAME:Newfoundland &amp; Labrador Public Libraries
X-ORIGINAL-URL:https://nlpl.ca
X-WR-CALDESC:Events for Newfoundland &amp; Labrador Public Libraries
REFRESH-INTERVAL;VALUE=DURATION:PT1H
X-Robots-Tag:noindex
X-PUBLISHED-TTL:PT1H
BEGIN:VTIMEZONE
TZID:America/St_Johns
BEGIN:DAYLIGHT
TZOFFSETFROM:-0330
TZOFFSETTO:-0230
TZNAME:NDT
DTSTART:20250309T053000
END:DAYLIGHT
BEGIN:STANDARD
TZOFFSETFROM:-0230
TZOFFSETTO:-0330
TZNAME:NST
DTSTART:20251102T043000
END:STANDARD
BEGIN:DAYLIGHT
TZOFFSETFROM:-0330
TZOFFSETTO:-0230
TZNAME:NDT
DTSTART:20260308T053000
END:DAYLIGHT
BEGIN:STANDARD
TZOFFSETFROM:-0230
TZOFFSETTO:-0330
TZNAME:NST
DTSTART:20261101T043000
END:STANDARD
BEGIN:DAYLIGHT
TZOFFSETFROM:-0330
TZOFFSETTO:-0230
TZNAME:NDT
DTSTART:20270314T053000
END:DAYLIGHT
BEGIN:STANDARD
TZOFFSETFROM:-0230
TZOFFSETTO:-0330
TZNAME:NST
DTSTART:20271107T043000
END:STANDARD
END:VTIMEZONE
BEGIN:VEVENT
DTSTART;TZID=America/St_Johns:20260409T140000
DTEND;TZID=America/St_Johns:20260409T153000
DTSTAMP:20260422T063838
CREATED:20260123T172313Z
LAST-MODIFIED:20260407T170650Z
UID:10057102-1775743200-1775748600@nlpl.ca
SUMMARY:Discovery Club - Spring Break
DESCRIPTION:A registered program at A.C. Hunter Children’s Library \nSpring Break Discovery Club for ages 6-10 \nAn hour of hands-on fun with our friends from Conservation NL!  \nTues April 7 at 2:00pm & Thurs April 9 at 2:00\n(please register for each program separately) \n Registration for all Spring Break programs opens Friday Mar 20 at 9:30am. Click the above link to register or call us at 709-737-3953.
URL:https://nlpl.ca/events/discovery-club-spring-break/
LOCATION:St. John’s – A.C. Hunter Children’s Public Library\, 95 Allandale Road\, St. John's\, NL\, A1E 3A3\, Canada
CATEGORIES:Hobbies, Crafts & Games,Kids & Families
END:VEVENT
BEGIN:VEVENT
DTSTART;TZID=America/St_Johns:20260409T140000
DTEND;TZID=America/St_Johns:20260409T160000
DTSTAMP:20260422T063838
CREATED:20260102T193222Z
LAST-MODIFIED:20260312T181405Z
UID:10055567-1775743200-1775750400@nlpl.ca
SUMMARY:Tech Thursdays
DESCRIPTION:Gander Public Library – Needing help with your cell phone\, tablet/IPad or Laptop? On Thursdays 2-4pm you can book an appointment for help!
URL:https://nlpl.ca/events/tech-thursdays-3/2026-04-09/
LOCATION:Gander Public & Resource Library\, 6 Bell Place\, Gander\, NL\, A1V 1X2\, Canada
CATEGORIES:Technology & Makerspace
ATTACH;FMTTYPE=image/jpeg:https://nlpl.ca/wp-content/uploads/2023/03/Events-Classes-and-Workshops.jpg
END:VEVENT
BEGIN:VEVENT
DTSTART;TZID=America/St_Johns:20260409T140000
DTEND;TZID=America/St_Johns:20260409T160000
DTSTAMP:20260422T063838
CREATED:20260105T133034Z
LAST-MODIFIED:20260312T152500Z
UID:10059913-1775743200-1775750400@nlpl.ca
SUMMARY:Knitting Circle
DESCRIPTION:Harmsworth Public Library – Drop-in and join us to knit and/or crochet\, improve your needle skills\, help a friend\, share patterns\, ideas and stories.\n\nBring your own supplies.
URL:https://nlpl.ca/events/knitting-circle-2/2026-04-09/
LOCATION:Grand Falls-Windsor (Harmsworth) Public Library\, 1 Cromer Avenue\, Grand Falls - Windsor\, NL\, A2A 1W9\, Canada
CATEGORIES:Hobbies, Crafts & Games
ATTACH;FMTTYPE=image/jpeg:https://nlpl.ca/wp-content/uploads/2023/03/Events-Hobbies-Crafts-and-Games.jpg
END:VEVENT
BEGIN:VEVENT
DTSTART;TZID=America/St_Johns:20260409T143000
DTEND;TZID=America/St_Johns:20260409T153000
DTSTAMP:20260422T063838
CREATED:20260324T174744Z
LAST-MODIFIED:20260324T174744Z
UID:10060218-1775745000-1775748600@nlpl.ca
SUMMARY:Pasadena Public Library and Service Canada\, info session on The Disability Benefit
DESCRIPTION:Information Session\nLearn About a Service Canada Program:\nThe Canada Disability Benefit\nJoin us for an engaging information session hosted by\na Citizen Service Specialist from Service Canada\nWhen?\nOn Thursday\, April 9\, 2026\, at 2:30 PM\nWhere?\nPasadena Public Library\n16 Tenth Avenue\nPasadena\, NL A0L 1K0\nPhone number (709) 686-2792
URL:https://nlpl.ca/events/pasadena-public-library-and-service-canada-info-session-on-the-disability-benefit/
LOCATION:Pasadena Public Library\, 16 Tenth Avenue\, Pasadena\, NL\, A0L 1K0\, Canada
END:VEVENT
BEGIN:VEVENT
DTSTART;TZID=America/St_Johns:20260409T150000
DTEND;TZID=America/St_Johns:20260409T160000
DTSTAMP:20260422T063838
CREATED:20251103T201201Z
LAST-MODIFIED:20251125T194640Z
UID:10053834-1775746800-1775750400@nlpl.ca
SUMMARY:Family Passive Play
DESCRIPTION:
URL:https://nlpl.ca/events/family-passive-play/2026-04-09/
LOCATION:Bishop’s Falls Public Library\, 445 Main Street\, Bishop's Falls\, NL\, A0H 1C0\, Canada
END:VEVENT
BEGIN:VEVENT
DTSTART;TZID=America/St_Johns:20260409T150000
DTEND;TZID=America/St_Johns:20260409T160000
DTSTAMP:20260422T063838
CREATED:20260313T181101Z
LAST-MODIFIED:20260326T134812Z
UID:10060024-1775746800-1775750400@nlpl.ca
SUMMARY:Pet Cents Interactive Game
DESCRIPTION:Join us at the Ross King Memorial Library (Mount Pearl) for a game of Pet Cents on Thurs. April 9th from 3-4pm.\nSwing by the Adoption Centre\, Vet’s Office\, Food Store\, Pet School\, and Pet Supply Stores to juggle your pet’s happiness while keeping your wallet in check. Game on!\nFor more information call 709-368-3603\, registration is online.  This program is for children ages 8-10\, please note:  children under 10 years must be accompanied by an adult.
URL:https://nlpl.ca/events/pet-cents-interactive-game/
LOCATION:Mount Pearl Public Library\, 65 Olympic Drive\, Mount Pearl\, NL\, A1N 5H6\, Canada
ORGANIZER;CN="Mount Pearl":MAILTO:mountpearl@nlpl.ca
END:VEVENT
BEGIN:VEVENT
DTSTART;TZID=America/St_Johns:20260409T150000
DTEND;TZID=America/St_Johns:20260409T160000
DTSTAMP:20260422T063838
CREATED:20260402T145707Z
LAST-MODIFIED:20260402T145707Z
UID:10060541-1775746800-1775750400@nlpl.ca
SUMMARY:Tech Thursdays: Tech Help Drop-in
DESCRIPTION:Have tech questions? Need help navigating your phone\, tablet\, laptop or e-reader? Visit our student volunteers on Thursdays 3-4!
URL:https://nlpl.ca/events/tech-thursdays-tech-help-drop-in/2026-04-09/
LOCATION:Clarenville Public Library\, 98 Manitoba Drive\, Clarenville\, NL\, A5A 1K7\, Canada
END:VEVENT
BEGIN:VEVENT
DTSTART;TZID=America/St_Johns:20260409T153000
DTEND;TZID=America/St_Johns:20260409T170000
DTSTAMP:20260422T063838
CREATED:20250905T155750Z
LAST-MODIFIED:20251128T204710Z
UID:10049986-1775748600-1775754000@nlpl.ca
SUMMARY:Lego Play Hour at Bay Roberts Public Library
DESCRIPTION:Thursdays\, this fall\, from 3:30 to 5 pm expand your imagination with mountains of Lego blocks. Create and make friends. \nRegistration not necessary.
URL:https://nlpl.ca/events/lego-play-hour-at-bay-roberts-public-library/2026-04-09/
LOCATION:Bay Roberts Public Library\, 76 Cross Road\, Bay Roberts\, NL\, A0A 1G0\, Canada
ATTACH;FMTTYPE=image/jpeg:https://nlpl.ca/wp-content/uploads/2023/03/Events-Kid-Families.jpg
END:VEVENT
BEGIN:VEVENT
DTSTART;TZID=America/St_Johns:20260409T153000
DTEND;TZID=America/St_Johns:20260409T170000
DTSTAMP:20260422T063838
CREATED:20260327T184441Z
LAST-MODIFIED:20260327T184508Z
UID:10060358-1775748600-1775754000@nlpl.ca
SUMMARY:Crafters Hour
DESCRIPTION:Design Your own Craft at the library: \nCanvas Painting \nDrawing \nPastel painting \nor you can bring a project with you. \n 
URL:https://nlpl.ca/events/crafters-hour-6-2-2-2-2-2-2-2-2-2-2/2026-04-09/
LOCATION:Fogo Island Public Library\, 1 Iceberg Arena Road\, Fogo Island Central\, NL\, A0G 2B0\, Canada
CATEGORIES:Hobbies, Crafts & Games
END:VEVENT
BEGIN:VEVENT
DTSTART;TZID=America/St_Johns:20260409T160000
DTEND;TZID=America/St_Johns:20260409T170000
DTSTAMP:20260422T063838
CREATED:20260105T162909Z
LAST-MODIFIED:20260312T172342Z
UID:10059976-1775750400-1775754000@nlpl.ca
SUMMARY:One-on-One Tech Help
DESCRIPTION:Harmsworth Public Library – Do you have a shiny new piece of tech\, but you’re not sure how to use it? Need a little help figuring out how to download an e-book\, share a photo\, or use Microsoft Word? \nMake a one-on-one appointment every Wednesday with our Tech Host\, Joshua. \nWe can provide general help\, tailored tech training\, and show you where to find helpful resources online. \nPlease call #709-489-2303 or drop in to schedule a time.
URL:https://nlpl.ca/events/one-on-one-tech-help-2-2/2026-04-09/
LOCATION:Grand Falls-Windsor (Harmsworth) Public Library\, 1 Cromer Avenue\, Grand Falls - Windsor\, NL\, A2A 1W9\, Canada
CATEGORIES:Technology & Makerspace
END:VEVENT
BEGIN:VEVENT
DTSTART;TZID=America/St_Johns:20260409T170000
DTEND;TZID=America/St_Johns:20260514T180000
DTSTAMP:20260422T063838
CREATED:20260401T182636Z
LAST-MODIFIED:20260401T182637Z
UID:10059138-1775754000-1778781600@nlpl.ca
SUMMARY:Craft Night
DESCRIPTION:Come join us for a night of crafts. Children from ages 2-10 can participate in a fun evening of making crafts.(a parent or guardian must be present). This event will take place beginning Thursday April 9th from 5p.m. to 6P.m. and continuing on weekly until May 14th.
URL:https://nlpl.ca/events/craft-night-2-2/
LOCATION:Port au Port Public Library\, 290 Main Road\, 290 Main Road\, NL\, A0N 1T0\, Canada
ATTACH;FMTTYPE=image/jpeg:https://nlpl.ca/wp-content/uploads/2023/03/Events-Kid-Families.jpg
END:VEVENT
BEGIN:VEVENT
DTSTART;TZID=America/St_Johns:20260409T180000
DTEND;TZID=America/St_Johns:20260409T190000
DTSTAMP:20260422T063838
CREATED:20260105T161946Z
LAST-MODIFIED:20260312T152847Z
UID:10059904-1775757600-1775761200@nlpl.ca
SUMMARY:Sensory Hour
DESCRIPTION:Harmsworth Public Library – Sensory-friendly browsing hour that includes reduced lighting and reduced noise.
URL:https://nlpl.ca/events/sensory-hour-2/2026-04-09/
LOCATION:Grand Falls-Windsor (Harmsworth) Public Library\, 1 Cromer Avenue\, Grand Falls - Windsor\, NL\, A2A 1W9\, Canada
CATEGORIES:Heath & Wellbeing
END:VEVENT
BEGIN:VEVENT
DTSTART;TZID=America/St_Johns:20260409T180000
DTEND;TZID=America/St_Johns:20260409T190000
DTSTAMP:20260422T063838
CREATED:20260327T183655Z
LAST-MODIFIED:20260327T183740Z
UID:10059542-1775757600-1775761200@nlpl.ca
SUMMARY:Knitting Circle
DESCRIPTION:Bring your project with you or create a new one. \nKnitting Patterns printing \n\nthere will be a Lunch provided
URL:https://nlpl.ca/events/knitting-circle-3-2-2-2-2-2-2-2-2-2-2/2026-04-09/
LOCATION:Fogo Island Public Library\, 1 Iceberg Arena Road\, Fogo Island Central\, NL\, A0G 2B0\, Canada
CATEGORIES:Hobbies, Crafts & Games
END:VEVENT
BEGIN:VEVENT
DTSTART;TZID=America/St_Johns:20260409T180000
DTEND;TZID=America/St_Johns:20260409T190000
DTSTAMP:20260422T063838
CREATED:20260328T184056Z
LAST-MODIFIED:20260331T174914Z
UID:10060395-1775757600-1775761200@nlpl.ca
SUMMARY:Birdwatching 101
DESCRIPTION:Learn all about birds and birdwatching in Newfoundland with Jared Clarke from Bird the Rock!\nfor adults\n 
URL:https://nlpl.ca/events/bw101/
LOCATION:St. John’s – Michael Donovan Public Library\, 655 Topsail Rd\, St. John's\, NL\, A1E 2E3\, Canada
CATEGORIES:Classes & Workshops,Information Session
END:VEVENT
BEGIN:VEVENT
DTSTART;TZID=America/St_Johns:20260409T180000
DTEND;TZID=America/St_Johns:20260409T190000
DTSTAMP:20260422T063838
CREATED:20260330T173021Z
LAST-MODIFIED:20260330T173021Z
UID:10060420-1775757600-1775761200@nlpl.ca
SUMMARY:Book Bedazzling
DESCRIPTION:Bring a book that you want to bedazzle and we provide the rest! \nFor ages 13 plus \nAges 10-12 welcome with a parent or caregiver. \n  \n 
URL:https://nlpl.ca/events/book-bedazzling/
LOCATION:Labrador City Public Library\, 306 Hudson Dr.\, Labrador City\, NL\, A2V 1L5\, Canada
CATEGORIES:Hobbies, Crafts & Games
ATTACH;FMTTYPE=image/jpeg:https://nlpl.ca/wp-content/uploads/2023/03/Events-Hobbies-Crafts-and-Games.jpg
END:VEVENT
BEGIN:VEVENT
DTSTART;TZID=America/St_Johns:20260409T180000
DTEND;TZID=America/St_Johns:20260409T190000
DTSTAMP:20260422T063838
CREATED:20260402T143454Z
LAST-MODIFIED:20260409T120729Z
UID:10060539-1775757600-1775761200@nlpl.ca
SUMMARY:Creative Club: Yarn Butterflies
DESCRIPTION:Have a creative side? Love making art and doing crafts? We have the program for you! Join us on Thursday\, April 6:00-7:00\nAges 5+. Registration Required. Children under 10 must have a adult present in the building
URL:https://nlpl.ca/events/creative-club-yarn-butterflies/
LOCATION:Clarenville Public Library\, 98 Manitoba Drive\, Clarenville\, NL\, A5A 1K7\, Canada
END:VEVENT
BEGIN:VEVENT
DTSTART;TZID=America/St_Johns:20260409T190000
DTEND;TZID=America/St_Johns:20260409T200000
DTSTAMP:20260422T063838
CREATED:20260325T221120Z
LAST-MODIFIED:20260325T221120Z
UID:10060315-1775761200-1775764800@nlpl.ca
SUMMARY:Board Annual General Meeting
DESCRIPTION:
URL:https://nlpl.ca/events/board-annual-general-meeting/
LOCATION:Corner Brook Public Library\, 4 West Street\, Corner Brook\, NL\, A2H 0C1\, Canada
END:VEVENT
BEGIN:VEVENT
DTSTART;TZID=America/St_Johns:20260410T093000
DTEND;TZID=America/St_Johns:20260410T113000
DTSTAMP:20260422T063838
CREATED:20251016T165338Z
LAST-MODIFIED:20251128T213700Z
UID:10052654-1775813400-1775820600@nlpl.ca
SUMMARY:Friday Free Play for Babies and Toddlers
DESCRIPTION:A drop-in weekly program at A.C. Hunter Children’s Library \nPlaygroup for ages 0-3. \nEvery Friday\, we open our playroom from 9:30 to 11:30am for babies and tots to play – a great chance to meet other caregivers! \nNo registration necessary.
URL:https://nlpl.ca/events/friday-free-play-for-babies-and-toddlers/2026-04-10/
LOCATION:St. John’s – A.C. Hunter Children’s Public Library\, 95 Allandale Road\, St. John's\, NL\, A1E 3A3\, Canada
CATEGORIES:Kids & Families,Storytime
ATTACH;FMTTYPE=image/jpeg:https://nlpl.ca/wp-content/uploads/2023/03/Events-Kid-Families.jpg
END:VEVENT
BEGIN:VEVENT
DTSTART;TZID=America/St_Johns:20260410T100000
DTEND;TZID=America/St_Johns:20260410T103000
DTSTAMP:20260422T063838
CREATED:20260225T131033Z
LAST-MODIFIED:20260225T131143Z
UID:10059500-1775815200-1775817000@nlpl.ca
SUMMARY:Storytime
DESCRIPTION:Gander Public Library – A 30 minute interactive program celebrating books\, rhymes\, movement\, songs and fun\, ages 0-5 years.
URL:https://nlpl.ca/events/family-storytime-13-2-2-2-2-2/2026-04-10/
LOCATION:Gander Public & Resource Library\, 6 Bell Place\, Gander\, NL\, A1V 1X2\, Canada
CATEGORIES:Kids & Families
ATTACH;FMTTYPE=image/jpeg:https://nlpl.ca/wp-content/uploads/2023/03/Events-Kid-Families.jpg
END:VEVENT
BEGIN:VEVENT
DTSTART;TZID=America/St_Johns:20260410T100000
DTEND;TZID=America/St_Johns:20260410T103000
DTSTAMP:20260422T063838
CREATED:20260312T151630Z
LAST-MODIFIED:20260330T114856Z
UID:10060412-1775815200-1775817000@nlpl.ca
SUMMARY:Spring Baby Storytime B - Fridays @10 am
DESCRIPTION:Embark on an exciting literacy adventure with your baby! \nJoin us for our 6-week winter session as we sing songs\, read engaging stories\, and enjoy some movement activities all while practicing our early literacy skills. Stick around afterwards for 30 minutes of free playtime and get to know your fellow parents. \nTime: 10am\, on Fridays\nAges: 0 – 18 months\nRegister online\, in-person\, or by calling the library at 709-737-3020\nThis registration is for all 6 sessions. First session is on April 10\,2026
URL:https://nlpl.ca/events/spring-baby-storytime-b-fridays-10-am/2026-04-10/
LOCATION:St. John’s – Marjorie Mews Public Library\, 12 Highland Drive\, St. John's\, NL\, A1A 3C4\, Canada
CATEGORIES:Storytime
ATTACH;FMTTYPE=image/jpeg:https://nlpl.ca/wp-content/uploads/2023/03/Events-Kid-Families.jpg
ORGANIZER;CN="St. John's - Marjorie Mews Public Library":MAILTO:MarjorieMews-Programming@nlpl.ca
END:VEVENT
BEGIN:VEVENT
DTSTART;TZID=America/St_Johns:20260410T100000
DTEND;TZID=America/St_Johns:20260410T120000
DTSTAMP:20260422T063838
CREATED:20260401T140130Z
LAST-MODIFIED:20260401T140130Z
UID:10060431-1775815200-1775822400@nlpl.ca
SUMMARY:Homeschool Hangout
DESCRIPTION:
URL:https://nlpl.ca/events/homeschool-hangout/2026-04-10/
LOCATION:Corner Brook Public Library\, 4 West Street\, Corner Brook\, NL\, A2H 0C1\, Canada
CATEGORIES:Kids & Families
END:VEVENT
BEGIN:VEVENT
DTSTART;TZID=America/St_Johns:20260410T101500
DTEND;TZID=America/St_Johns:20260410T114500
DTSTAMP:20260422T063838
CREATED:20251028T175624Z
LAST-MODIFIED:20260415T222620Z
UID:10061494-1775816100-1775821500@nlpl.ca
SUMMARY:Musical Munchkins
DESCRIPTION:Drop in to the Conception Bay South Public Library for Musical Munchkins! Hosted By the Family Resource Center.\nThis is a drop-in music and rhyme time for babies (newborn until walking) and their caregiver.
URL:https://nlpl.ca/events/musical-munchkins-2-3-2/2026-04-10/
LOCATION:Conception Bay South Public Library\, 10 Remembrance Square\, Conception Bay South\, NL\, Canada
CATEGORIES:Kids & Families
ATTACH;FMTTYPE=image/jpeg:https://nlpl.ca/wp-content/uploads/2023/03/Events-Kid-Families.jpg
END:VEVENT
BEGIN:VEVENT
DTSTART;TZID=America/St_Johns:20260410T103000
DTEND;TZID=America/St_Johns:20260410T110000
DTSTAMP:20260422T063838
CREATED:20260105T135443Z
LAST-MODIFIED:20260312T152214Z
UID:10059897-1775817000-1775818800@nlpl.ca
SUMMARY:Family Storytime
DESCRIPTION:Harmsworth Public Library – A 30-minute interactive program celebrating books\, rhymes\, movement\, songs\, and fun that is perfect for families with multiple children\, ages 0-5
URL:https://nlpl.ca/events/family-storytime-3/2026-04-10/
LOCATION:Grand Falls-Windsor (Harmsworth) Public Library\, 1 Cromer Avenue\, Grand Falls - Windsor\, NL\, A2A 1W9\, Canada
CATEGORIES:Kids & Families
ATTACH;FMTTYPE=image/jpeg:https://nlpl.ca/wp-content/uploads/2023/03/Events-Kid-Families.jpg
END:VEVENT
BEGIN:VEVENT
DTSTART;TZID=America/St_Johns:20260410T104500
DTEND;TZID=America/St_Johns:20260410T111500
DTSTAMP:20260422T063838
CREATED:20260225T130756Z
LAST-MODIFIED:20260225T130917Z
UID:10059495-1775817900-1775819700@nlpl.ca
SUMMARY:Baby Rhyme Time
DESCRIPTION:Grander Public Library – A program for babies and their caregivers that teaches new stories\, songs\, rhymes and more in an interactive early literacy rich environment. Babies 0-18 months.
URL:https://nlpl.ca/events/baby-circle-time-5-2-2-2-2-2/2026-04-10/
LOCATION:Gander Public & Resource Library\, 6 Bell Place\, Gander\, NL\, A1V 1X2\, Canada
CATEGORIES:Kids & Families
ATTACH;FMTTYPE=image/jpeg:https://nlpl.ca/wp-content/uploads/2023/03/Events-Kid-Families.jpg
END:VEVENT
BEGIN:VEVENT
DTSTART;TZID=America/St_Johns:20260410T120000
DTEND;TZID=America/St_Johns:20260410T130000
DTSTAMP:20260422T063838
CREATED:20260227T190301Z
LAST-MODIFIED:20260327T184255Z
UID:10060355-1775822400-1775826000@nlpl.ca
SUMMARY:Chill Out Hour
DESCRIPTION:Wednesday & Friday \n@ \n12:00pm-1:00pm \nPlay a board game \nPainting \nReading \nPuzzles \nDrawing \ncoloring \nMinute to win it 
URL:https://nlpl.ca/events/chill-out-hour-2-3-2-2-2-2/2026-04-10/
LOCATION:Fogo Island Public Library\, 1 Iceberg Arena Road\, Fogo Island Central\, NL\, A0G 2B0\, Canada
CATEGORIES:Teens
END:VEVENT
BEGIN:VEVENT
DTSTART;TZID=America/St_Johns:20260410T130000
DTEND;TZID=America/St_Johns:20260410T140000
DTSTAMP:20260422T063838
CREATED:20260402T152040Z
LAST-MODIFIED:20260402T152040Z
UID:10060550-1775826000-1775829600@nlpl.ca
SUMMARY:Friday Free Play!
DESCRIPTION:Drop in for fun in our children’s area! \n\n\nPuzzles\, games\, toys\, and crafts for everyone!
URL:https://nlpl.ca/events/friday-free-play/2026-04-10/
LOCATION:Clarenville Public Library\, 98 Manitoba Drive\, Clarenville\, NL\, A5A 1K7\, Canada
END:VEVENT
BEGIN:VEVENT
DTSTART;TZID=America/St_Johns:20260410T130000
DTEND;TZID=America/St_Johns:20260410T150000
DTSTAMP:20260422T063838
CREATED:20260319T170115Z
LAST-MODIFIED:20260319T170116Z
UID:10056779-1775826000-1775833200@nlpl.ca
SUMMARY:Drop In Play
DESCRIPTION:Visit the Port aux Basques Public Library every Friday afternoon for Drop In Play! A number of toys are available for free play. Enjoy a chance to get out of the house and socialize with other kids and caregivers.
URL:https://nlpl.ca/events/drop-in-play-2/2026-04-10/
LOCATION:Port aux Basques Public Library\, 8 Grand Bay\, Port aux Basques\, NL\, A0M 1C0\, Canada
CATEGORIES:Kids & Families
ATTACH;FMTTYPE=image/jpeg:https://nlpl.ca/wp-content/uploads/2023/03/Events-Kid-Families.jpg
END:VEVENT
BEGIN:VEVENT
DTSTART;TZID=America/St_Johns:20260410T140000
DTEND;TZID=America/St_Johns:20260410T160000
DTSTAMP:20260422T063838
CREATED:20260105T135729Z
LAST-MODIFIED:20260312T152751Z
UID:10059886-1775829600-1775836800@nlpl.ca
SUMMARY:Lego Free Play
DESCRIPTION:Harmsworth Public Library – What will you create? Create something fun at our LEGO free play!
URL:https://nlpl.ca/events/lego-free-play-6-2-2/2026-04-10/
LOCATION:Grand Falls-Windsor (Harmsworth) Public Library\, 1 Cromer Avenue\, Grand Falls - Windsor\, NL\, A2A 1W9\, Canada
CATEGORIES:Kids & Families
ATTACH;FMTTYPE=image/jpeg:https://nlpl.ca/wp-content/uploads/2023/03/Events-Kid-Families.jpg
END:VEVENT
BEGIN:VEVENT
DTSTART;TZID=America/St_Johns:20260410T140000
DTEND;TZID=America/St_Johns:20260410T163000
DTSTAMP:20260422T063838
CREATED:20260103T152206Z
LAST-MODIFIED:20260325T214908Z
UID:10060289-1775829600-1775838600@nlpl.ca
SUMMARY:LegoTime
DESCRIPTION:Show off your creativity and imagination with this drop-in program suitable for children of all ages (Lego recommended for ages 3+ and Duplo bricks available for younger siblings).
URL:https://nlpl.ca/events/legotime/2026-04-10/
LOCATION:Corner Brook Public Library\, 4 West Street\, Corner Brook\, NL\, A2H 0C1\, Canada
CATEGORIES:Kids & Families
END:VEVENT
BEGIN:VEVENT
DTSTART;TZID=America/St_Johns:20260410T140000
DTEND;TZID=America/St_Johns:20260410T163000
DTSTAMP:20260422T063838
CREATED:20260407T134939Z
LAST-MODIFIED:20260421T161545Z
UID:10060131-1775829600-1775838600@nlpl.ca
SUMMARY:Tech Help at CBS Public Library
DESCRIPTION:Book a one-on-one 30-minute tech help session on Friday afternoons. These sessions will be for basic tech help – including: accessing library books on Libby\, Microsoft Word or Google Docs\, email services\, setting up your new device\, and more!\n*Day-Of Registration Required – Please call the library (709-834-3620) from 10am-noon on the day you wish to book – let us know what device you will be bringing and what you need help with! Use of library computers\, laptops\, or tablets during these sessions is subject to availability.
URL:https://nlpl.ca/events/tech-help-at-cbs-public-library/2026-04-10/
LOCATION:Conception Bay South Public Library\, 10 Remembrance Square\, Conception Bay South\, NL\, Canada
CATEGORIES:Classes & Workshops
ATTACH;FMTTYPE=image/jpeg:https://nlpl.ca/wp-content/uploads/2023/03/Events-Classes-and-Workshops.jpg
END:VEVENT
END:VCALENDAR