BEGIN:VCALENDAR
VERSION:2.0
PRODID:-//Newfoundland &amp; Labrador Public Libraries - ECPv6.15.20//NONSGML v1.0//EN
CALSCALE:GREGORIAN
METHOD:PUBLISH
X-WR-CALNAME:Newfoundland &amp; Labrador Public Libraries
X-ORIGINAL-URL:https://nlpl.ca
X-WR-CALDESC:Events for Newfoundland &amp; Labrador Public Libraries
REFRESH-INTERVAL;VALUE=DURATION:PT1H
X-Robots-Tag:noindex
X-PUBLISHED-TTL:PT1H
BEGIN:VTIMEZONE
TZID:America/St_Johns
BEGIN:DAYLIGHT
TZOFFSETFROM:-0330
TZOFFSETTO:-0230
TZNAME:NDT
DTSTART:20250309T053000
END:DAYLIGHT
BEGIN:STANDARD
TZOFFSETFROM:-0230
TZOFFSETTO:-0330
TZNAME:NST
DTSTART:20251102T043000
END:STANDARD
BEGIN:DAYLIGHT
TZOFFSETFROM:-0330
TZOFFSETTO:-0230
TZNAME:NDT
DTSTART:20260308T053000
END:DAYLIGHT
BEGIN:STANDARD
TZOFFSETFROM:-0230
TZOFFSETTO:-0330
TZNAME:NST
DTSTART:20261101T043000
END:STANDARD
BEGIN:DAYLIGHT
TZOFFSETFROM:-0330
TZOFFSETTO:-0230
TZNAME:NDT
DTSTART:20270314T053000
END:DAYLIGHT
BEGIN:STANDARD
TZOFFSETFROM:-0230
TZOFFSETTO:-0330
TZNAME:NST
DTSTART:20271107T043000
END:STANDARD
END:VTIMEZONE
BEGIN:VEVENT
DTSTART;TZID=America/St_Johns:20260512T173000
DTEND;TZID=America/St_Johns:20260512T193000
DTSTAMP:20260421T223015
CREATED:20260105T144032Z
LAST-MODIFIED:20260312T152652Z
UID:10059926-1778607000-1778614200@nlpl.ca
SUMMARY:Dungeons & Dragons
DESCRIPTION:Harmsworth Public Library – Curious about Dungeons & Dragons? Are you looking to join a new group? Join us every Tuesday from 5:30 to 7:30 PM. \nNew and experienced players welcome. 13+ years. \nTo register\, phone #709-489-2303 or visit the library \n 
URL:https://nlpl.ca/events/dungeons-dragons-3-2/2026-05-12/
LOCATION:Grand Falls-Windsor (Harmsworth) Public Library\, 1 Cromer Avenue\, Grand Falls - Windsor\, NL\, A2A 1W9\, Canada
CATEGORIES:Hobbies, Crafts & Games
ATTACH;FMTTYPE=image/jpeg:https://nlpl.ca/wp-content/uploads/2023/03/Events-Hobbies-Crafts-and-Games.jpg
END:VEVENT
BEGIN:VEVENT
DTSTART;TZID=America/St_Johns:20260512T173000
DTEND;TZID=America/St_Johns:20260512T193000
DTSTAMP:20260421T223016
CREATED:20260319T165913Z
LAST-MODIFIED:20260319T165914Z
UID:10059827-1778607000-1778614200@nlpl.ca
SUMMARY:Creative Commons
DESCRIPTION:Join us at the Port aux Basques Public Library every Tuesday evening from 5:30-7:30 pm for Creative Commons. Bring any current arts\, crafts\, writing or musical project you’re working on and join other creatives to enjoy each other’s company and share the creative spark! Please provide your own art supplies.
URL:https://nlpl.ca/events/creative-commons-2/2026-05-12/
LOCATION:Port aux Basques Public Library\, 8 Grand Bay\, Port aux Basques\, NL\, A0M 1C0\, Canada
CATEGORIES:Hobbies, Crafts & Games
ATTACH;FMTTYPE=image/jpeg:https://nlpl.ca/wp-content/uploads/2023/03/Events-Hobbies-Crafts-and-Games.jpg
END:VEVENT
BEGIN:VEVENT
DTSTART;TZID=America/St_Johns:20260512T180000
DTEND;TZID=America/St_Johns:20260512T190000
DTSTAMP:20260421T223016
CREATED:20260102T193405Z
LAST-MODIFIED:20260102T193514Z
UID:10055596-1778608800-1778612400@nlpl.ca
SUMMARY:Sensory Hour
DESCRIPTION:Grander Public Library – Quiet Area\, Reduced Noise and Lighting. All ages.
URL:https://nlpl.ca/events/sensory-hour-2-2/2026-05-12/
LOCATION:Gander Public & Resource Library\, 6 Bell Place\, Gander\, NL\, A1V 1X2\, Canada
CATEGORIES:Heath & Wellbeing
ATTACH;FMTTYPE=image/jpeg:https://nlpl.ca/wp-content/uploads/2019/04/Depositphotos_3928992_xl-2015.jpg
END:VEVENT
BEGIN:VEVENT
DTSTART;TZID=America/St_Johns:20260512T180000
DTEND;TZID=America/St_Johns:20260512T193000
DTSTAMP:20260421T223016
CREATED:20260304T112626Z
LAST-MODIFIED:20260409T181151Z
UID:10059710-1778608800-1778614200@nlpl.ca
SUMMARY:What is Probate? with PLIAN
DESCRIPTION:St John’s – A.C. Hunter  \nWhat is probate exactly? Can you avoid it? Sara from PLIAN is here to answer those  questions and more.\nAdults only.
URL:https://nlpl.ca/events/what-is-probate-with-plian/
LOCATION:St. John’s – A.C. Hunter Public Library\, 125 Allandale Road\, St. John's\, NL\, A1B 3A3\, Canada
CATEGORIES:Information Session,Seniors
END:VEVENT
BEGIN:VEVENT
DTSTART;TZID=America/St_Johns:20260512T180000
DTEND;TZID=America/St_Johns:20260512T203000
DTSTAMP:20260421T223016
CREATED:20260407T222359Z
LAST-MODIFIED:20260407T222435Z
UID:10060885-1778608800-1778617800@nlpl.ca
SUMMARY:Adult Puzzle Night - Thursday May 26
DESCRIPTION:
URL:https://nlpl.ca/events/adult-puzzle-night-thursday-may-26/2026-05-12/
END:VEVENT
BEGIN:VEVENT
DTSTART;TZID=America/St_Johns:20260512T180000
DTEND;TZID=America/St_Johns:20260512T203000
DTSTAMP:20260421T223016
CREATED:20260407T222643Z
LAST-MODIFIED:20260407T222734Z
UID:10061146-1778608800-1778617800@nlpl.ca
SUMMARY:Adult Puzzle Night Every Tuesday! - Buchans Public Library
DESCRIPTION:Come to the library from 6:00 – 8:30 every Tuesday evening for Adult Puzzle Night! Friendly conversation\, coffee/ tea.
URL:https://nlpl.ca/events/adult-puzzle-night-every-tuesday-buchans-public-library/2026-05-12/
END:VEVENT
BEGIN:VEVENT
DTSTART;TZID=America/St_Johns:20260512T183000
DTEND;TZID=America/St_Johns:20260512T190000
DTSTAMP:20260421T223016
CREATED:20260105T134733Z
LAST-MODIFIED:20260312T153536Z
UID:10059883-1778610600-1778612400@nlpl.ca
SUMMARY:Bedtime Family Storytime
DESCRIPTION:Harmsworth Public Library – A 30-minute interactive program celebrating books\, rhymes\, movement\, songs\, and fun that is perfect for families with multiple children\, ages 0-5
URL:https://nlpl.ca/events/bedtime-family-storytime-2/2026-05-12/
LOCATION:Grand Falls-Windsor (Harmsworth) Public Library\, 1 Cromer Avenue\, Grand Falls - Windsor\, NL\, A2A 1W9\, Canada
CATEGORIES:Kids & Families
ATTACH;FMTTYPE=image/jpeg:https://nlpl.ca/wp-content/uploads/2023/03/Events-Kid-Families.jpg
END:VEVENT
BEGIN:VEVENT
DTSTART;TZID=America/St_Johns:20260512T183000
DTEND;TZID=America/St_Johns:20260512T193000
DTSTAMP:20260421T223016
CREATED:20260324T223001Z
LAST-MODIFIED:20260324T223001Z
UID:10060224-1778610600-1778614200@nlpl.ca
SUMMARY:Books & Broadway with NSO
DESCRIPTION:St John’s – A.C.Hunter Library Books and Music is back again. Books and Broadway and Broadway and books.  The stories from greatest stage coupled with the tunes that make them memorable.Join our very special guest NSO Assistant Concertmaster Dominic Greene. \nAll are welcome. No registration required.
URL:https://nlpl.ca/events/books-broadway-with-nso/
LOCATION:St. John’s – A.C. Hunter Public Library\, 125 Allandale Road\, St. John's\, NL\, A1B 3A3\, Canada
END:VEVENT
BEGIN:VEVENT
DTSTART;TZID=America/St_Johns:20260513T100000
DTEND;TZID=America/St_Johns:20260513T103000
DTSTAMP:20260421T223016
CREATED:20260312T152024Z
LAST-MODIFIED:20260330T115000Z
UID:10060411-1778666400-1778668200@nlpl.ca
SUMMARY:Spring Baby Storytime A - Wednesdays @10 am
DESCRIPTION:Embark on an exciting literacy adventure with your baby! \nJoin us for our 6-week winter session as we sing songs\, read engaging stories\, and enjoy some movement activities all while practicing our early literacy skills. Stick around afterwards for 30 minutes of free playtime and get to know your fellow parents. \nTime: 10 am\, on Wednesdays\nAges: 0 – 18 months\nRegister online\, in-person\, or by calling the library at 709-737-3020\nThis registration is for all 6 sessions. First session is on April 8th\, 2026. \n 
URL:https://nlpl.ca/events/spring-baby-storytime-a-wednesdays-10-am/2026-05-13/
LOCATION:St. John’s – Marjorie Mews Public Library\, 12 Highland Drive\, St. John's\, NL\, A1A 3C4\, Canada
CATEGORIES:Storytime
ATTACH;FMTTYPE=image/jpeg:https://nlpl.ca/wp-content/uploads/2023/03/Events-Kid-Families.jpg
ORGANIZER;CN="St. John's - Marjorie Mews Public Library":MAILTO:MarjorieMews-Programming@nlpl.ca
END:VEVENT
BEGIN:VEVENT
DTSTART;TZID=America/St_Johns:20260513T100000
DTEND;TZID=America/St_Johns:20260513T130000
DTSTAMP:20260421T223016
CREATED:20240903T132133Z
LAST-MODIFIED:20260415T215148Z
UID:10061447-1778666400-1778677200@nlpl.ca
SUMMARY:Rug Hooking
DESCRIPTION:Drop in group at the Conception Bay South Public Library for crafters to work on their own projects with company.\nAll skill levels are welcome.
URL:https://nlpl.ca/events/rug-hooking/2026-05-13/
LOCATION:Conception Bay South Public Library\, 10 Remembrance Square\, Conception Bay South\, NL\, Canada
CATEGORIES:Hobbies, Crafts & Games
ATTACH;FMTTYPE=image/jpeg:https://nlpl.ca/wp-content/uploads/2023/03/Events-Hobbies-Crafts-and-Games.jpg
ORGANIZER;CN="Conception Bay South Public Library":MAILTO:conceptionbaysouth@nlpl.ca
END:VEVENT
BEGIN:VEVENT
DTSTART;TZID=America/St_Johns:20260513T130000
DTEND;TZID=America/St_Johns:20260513T150000
DTSTAMP:20260421T223016
CREATED:20260103T151625Z
LAST-MODIFIED:20260325T214136Z
UID:10060240-1778677200-1778684400@nlpl.ca
SUMMARY:Rug Hooking Group
DESCRIPTION:Bring your supplies and current projects and join others for conversation and inspiration. New members and beginners are welcome!
URL:https://nlpl.ca/events/rug-hooking-group/2026-05-13/
LOCATION:Corner Brook Public Library\, 4 West Street\, Corner Brook\, NL\, A2H 0C1\, Canada
CATEGORIES:Holiday & Seasonal
END:VEVENT
BEGIN:VEVENT
DTSTART;TZID=America/St_Johns:20260513T130000
DTEND;TZID=America/St_Johns:20260513T153000
DTSTAMP:20260421T223016
CREATED:20260219T131709Z
LAST-MODIFIED:20260219T131709Z
UID:10059316-1778677200-1778686200@nlpl.ca
SUMMARY:Knitting Group
DESCRIPTION:Adult knitting group\, non-instructive. Join others who share in a love of knitting. Bring your projects and knit with friends\, old and new!
URL:https://nlpl.ca/events/knitting-group-2/2026-05-13/
LOCATION:Stephenville Public Library (Kindale)\, 45 Carolina Ave.\, Stephenville\, NL\, A2N 3P8\, Canada
CATEGORIES:Hobbies, Crafts & Games
ATTACH;FMTTYPE=image/jpeg:https://nlpl.ca/wp-content/uploads/2023/03/Events-Hobbies-Crafts-and-Games.jpg
END:VEVENT
BEGIN:VEVENT
DTSTART;TZID=America/St_Johns:20260513T133000
DTEND;TZID=America/St_Johns:20260513T140000
DTSTAMP:20260421T223016
CREATED:20260402T152717Z
LAST-MODIFIED:20260402T152717Z
UID:10060557-1778679000-1778680800@nlpl.ca
SUMMARY:Spring Baby Time
DESCRIPTION:Join us for Songs\, Rhymes\, Tickles\, and Bounces!! \n\n\nAges 0-12mon (best suited to pre-walkers) \n\n\nThursdays January 22- February 19th 1:30-2:00 \n\n\nPre-registration is required- No Card? No Problem. FB message us or email clarenville@nlpl.ca
URL:https://nlpl.ca/events/spring-baby-time/2026-05-13/
LOCATION:Clarenville Public Library\, 98 Manitoba Drive\, Clarenville\, NL\, A5A 1K7\, Canada
END:VEVENT
BEGIN:VEVENT
DTSTART;TZID=America/St_Johns:20260513T133000
DTEND;TZID=America/St_Johns:20260513T140000
DTSTAMP:20260421T223016
CREATED:20260416T185923Z
LAST-MODIFIED:20260416T185923Z
UID:10061512-1778679000-1778680800@nlpl.ca
SUMMARY:Storytime
DESCRIPTION:Storytime for the Kinderstart group will take place on Wednesdays at 1:30\, beginning April 29th. The Family Resource Centre has a program on Wednesday afternoons from 1:00-2:30. If you would like to start at the FRC and visit the library at 1:30\, that would be great.
URL:https://nlpl.ca/events/storytime-4/2026-05-13/
LOCATION:Centreville Public Library\, 2 Memory Lane\, Centreville\, NL\, A0G 4P0\, Canada
CATEGORIES:Kids & Families,Storytime
END:VEVENT
BEGIN:VEVENT
DTSTART;TZID=America/St_Johns:20260513T140000
DTEND;TZID=America/St_Johns:20260513T150000
DTSTAMP:20260421T223016
CREATED:20260305T170949Z
LAST-MODIFIED:20260305T171132Z
UID:10059724-1778680800-1778684400@nlpl.ca
SUMMARY:Children’s Story Time
DESCRIPTION:Pre-registration is mandatory for each Children’s Story Time
URL:https://nlpl.ca/events/childrens-story-time/2026-05-13/
LOCATION:Deer Lake Public Library\, 4 Poplar Road\, Deer Lake\, NL\, A8A 1Z4\, Canada
CATEGORIES:Kids & Families,Storytime
END:VEVENT
BEGIN:VEVENT
DTSTART;TZID=America/St_Johns:20260513T140000
DTEND;TZID=America/St_Johns:20260513T150000
DTSTAMP:20260421T223016
CREATED:20260406T165057Z
LAST-MODIFIED:20260406T165057Z
UID:10060591-1778680800-1778684400@nlpl.ca
SUMMARY:Drop-in Storytime
DESCRIPTION:A drop-in program at A.C. Hunter Children’s Library. \nDrop-in Storytime\nfor ages 0-5 \n30 minutes of stories\, songs\, rhymes and literacy tips for babies and toddlers\, followed by a playtime. No registration required! \nSelect Wednesdays and Thursdays in May and June:\nThurs May 7th 10am\nWed May 13\, 2pm\nThurs May 14\, 10am \nThurs June 4th 10am\nWed June 10\, 2pm\nThurs June 11\, 10am\nThus June 18\, 2pm
URL:https://nlpl.ca/events/drop-in-storytime-3/
LOCATION:St. John’s – A.C. Hunter Children’s Public Library\, 95 Allandale Road\, St. John's\, NL\, A1E 3A3\, Canada
CATEGORIES:Kids & Families,Storytime
END:VEVENT
BEGIN:VEVENT
DTSTART;TZID=America/St_Johns:20260513T140000
DTEND;TZID=America/St_Johns:20260513T153000
DTSTAMP:20260421T223016
CREATED:20260102T194258Z
LAST-MODIFIED:20260102T194922Z
UID:10055622-1778680800-1778686200@nlpl.ca
SUMMARY:Crafter's Corner
DESCRIPTION:Grander Public Library – Bring in a project that you are working on. Either it be knitting\, crochet\, rug hooking
URL:https://nlpl.ca/events/crafters-corner-3-2-2/2026-05-13/
LOCATION:Gander Public & Resource Library\, 6 Bell Place\, Gander\, NL\, A1V 1X2\, Canada
CATEGORIES:Hobbies, Crafts & Games
ATTACH;FMTTYPE=image/jpeg:https://nlpl.ca/wp-content/uploads/2023/03/Events-Hobbies-Crafts-and-Games.jpg
END:VEVENT
BEGIN:VEVENT
DTSTART;TZID=America/St_Johns:20260513T150000
DTEND;TZID=America/St_Johns:20260513T160000
DTSTAMP:20260421T223016
CREATED:20251103T201201Z
LAST-MODIFIED:20251125T194640Z
UID:10053858-1778684400-1778688000@nlpl.ca
SUMMARY:Family Passive Play
DESCRIPTION:
URL:https://nlpl.ca/events/family-passive-play/2026-05-13/
LOCATION:Bishop’s Falls Public Library\, 445 Main Street\, Bishop's Falls\, NL\, A0H 1C0\, Canada
END:VEVENT
BEGIN:VEVENT
DTSTART;TZID=America/St_Johns:20260513T180000
DTEND;TZID=America/St_Johns:20260513T190000
DTSTAMP:20260421T223016
CREATED:20240903T133648Z
LAST-MODIFIED:20260415T215847Z
UID:10061462-1778695200-1778698800@nlpl.ca
SUMMARY:Writer's Group
DESCRIPTION:Join us at the Conception Bay South Public Library! This is a drop in group for people with a passion for creative writing!
URL:https://nlpl.ca/events/writers-group/2026-05-13/
LOCATION:Conception Bay South Public Library\, 10 Remembrance Square\, Conception Bay South\, NL\, Canada
CATEGORIES:Book Clubs & Writer’s Groups
ATTACH;FMTTYPE=image/jpeg:https://nlpl.ca/wp-content/uploads/2023/03/Events-Book-Clubs-and-Writing-Groups.jpg
END:VEVENT
BEGIN:VEVENT
DTSTART;TZID=America/St_Johns:20260513T180000
DTEND;TZID=America/St_Johns:20260513T200000
DTSTAMP:20260421T223016
CREATED:20260401T214000Z
LAST-MODIFIED:20260401T214000Z
UID:10060446-1778695200-1778702400@nlpl.ca
SUMMARY:Game Night
DESCRIPTION:Join us every second Wednesday for a relaxed evening of board games at the library! Whether you’re a seasoned strategist or just in it for the laughs\, there’s a seat at the table for everyone.
URL:https://nlpl.ca/events/game-night-2/2026-05-13/
LOCATION:St. Anthony Public Library\, 95 West Street\, St. Anthony\, NL\, A0K 4S0\, Canada
CATEGORIES:Hobbies, Crafts & Games
ATTACH;FMTTYPE=image/jpeg:https://nlpl.ca/wp-content/uploads/2023/03/Events-Hobbies-Crafts-and-Games.jpg
ORGANIZER;CN="St. Anthony Pbulic Library":MAILTO:nsa@ill.nlpl.ca
END:VEVENT
BEGIN:VEVENT
DTSTART;TZID=America/St_Johns:20260513T183000
DTEND;TZID=America/St_Johns:20260513T193000
DTSTAMP:20260421T223016
CREATED:20260105T172608Z
LAST-MODIFIED:20260312T172454Z
UID:10059994-1778697000-1778700600@nlpl.ca
SUMMARY:One-on-One Tech Help
DESCRIPTION:Harmsworth Public Library – Do you have a shiny new piece of tech\, but you’re not sure how to use it? Need a little help figuring out how to download an e-book\, share a photo\, or use Microsoft Word? \nMake a one-on-one appointment every Wednesday with our Tech Host\, Joshua. \nWe can provide general help\, tailored tech training\, and show you where to find helpful resources online. \nPlease call #709-489-2303 or drop in to schedule a time.
URL:https://nlpl.ca/events/one-on-one-tech-help-2/2026-05-13/
LOCATION:Grand Falls-Windsor (Harmsworth) Public Library\, 1 Cromer Avenue\, Grand Falls - Windsor\, NL\, A2A 1W9\, Canada
CATEGORIES:Technology & Makerspace
ATTACH;FMTTYPE=image/jpeg:https://nlpl.ca/wp-content/uploads/2023/11/Events-Tech-Makerspace.jpg
END:VEVENT
BEGIN:VEVENT
DTSTART;TZID=America/St_Johns:20260513T183000
DTEND;TZID=America/St_Johns:20260513T193000
DTSTAMP:20260421T223016
CREATED:20260220T003413Z
LAST-MODIFIED:20260405T232013Z
UID:10059400-1778697000-1778700600@nlpl.ca
SUMMARY:Well Now: Mental Health for Moms
DESCRIPTION:Our friends form Lifewise will be here to talk about Mental Health for Moms. Mother’s Day is a day to celebrate moms and appreciate their efforts. Let’s also\,talk about their mental health.
URL:https://nlpl.ca/events/well-now-mental-health-for-moms/
LOCATION:St. John’s – A.C. Hunter Public Library\, 125 Allandale Road\, St. John's\, NL\, A1B 3A3\, Canada
CATEGORIES:Heath & Wellbeing
END:VEVENT
BEGIN:VEVENT
DTSTART;TZID=America/St_Johns:20260514T100000
DTEND;TZID=America/St_Johns:20260514T110000
DTSTAMP:20260421T223016
CREATED:20260406T165133Z
LAST-MODIFIED:20260406T165133Z
UID:10060592-1778752800-1778756400@nlpl.ca
SUMMARY:Drop-in Storytime
DESCRIPTION:A drop-in program at A.C. Hunter Children’s Library. \nDrop-in Storytime\nfor ages 0-5 \n30 minutes of stories\, songs\, rhymes and literacy tips for babies and toddlers\, followed by a playtime. No registration required! \nSelect Wednesdays and Thursdays in May and June:\nThurs May 7th 10am\nWed May 13\, 2pm\nThurs May 14\, 10am \nThurs June 4th 10am\nWed June 10\, 2pm\nThurs June 11\, 10am\nThus June 18\, 2pm
URL:https://nlpl.ca/events/drop-in-storytime-4/
LOCATION:St. John’s – A.C. Hunter Children’s Public Library\, 95 Allandale Road\, St. John's\, NL\, A1E 3A3\, Canada
CATEGORIES:Kids & Families,Storytime
END:VEVENT
BEGIN:VEVENT
DTSTART;TZID=America/St_Johns:20260514T100000
DTEND;TZID=America/St_Johns:20260514T120000
DTSTAMP:20260421T223016
CREATED:20240911T134337Z
LAST-MODIFIED:20260415T215627Z
UID:10061454-1778752800-1778760000@nlpl.ca
SUMMARY:Art Group
DESCRIPTION:Drop into the Conception Bay South Public Library  community room with any art project you are working on!\nThis is a group for adults.
URL:https://nlpl.ca/events/art-group/2026-05-14/
LOCATION:Conception Bay South Public Library\, 10 Remembrance Square\, Conception Bay South\, NL\, Canada
CATEGORIES:Arts & Culture,Hobbies, Crafts & Games
ATTACH;FMTTYPE=image/jpeg:https://nlpl.ca/wp-content/uploads/2023/03/Events-Hobbies-Crafts-and-Games.jpg
ORGANIZER;CN="Conception Bay South Public Library":MAILTO:conceptionbaysouth@nlpl.ca
END:VEVENT
BEGIN:VEVENT
DTSTART;TZID=America/St_Johns:20260514T100000
DTEND;TZID=America/St_Johns:20260514T120000
DTSTAMP:20260421T223016
CREATED:20260103T161028Z
LAST-MODIFIED:20260325T214958Z
UID:10060303-1778752800-1778760000@nlpl.ca
SUMMARY:Digital Learning+
DESCRIPTION:Small group workshops and classes for lifelong learning with a focus on digital literacy presented as part of The Murphy Centre’s ACCESS to Learning program. \nfree | registration required \nFor more information or registration contact: chrisjoseph@murphycentre.ca 709-640-6718 and/or reneesherstobetoff@murphycentre.ca 709-640-5616 \n  \n 
URL:https://nlpl.ca/events/digital-learning-2/2026-05-14/
LOCATION:Corner Brook Public Library\, 4 West Street\, Corner Brook\, NL\, A2H 0C1\, Canada
END:VEVENT
BEGIN:VEVENT
DTSTART;TZID=America/St_Johns:20260514T130000
DTEND;TZID=America/St_Johns:20260514T150000
DTSTAMP:20260421T223016
CREATED:20250702T192402Z
LAST-MODIFIED:20260410T152336Z
UID:10061431-1778763600-1778770800@nlpl.ca
SUMMARY:CBS Knitting Group
DESCRIPTION:Everyone is welcome ! Bring your project and meet up with fellow knitters!
URL:https://nlpl.ca/events/knitting-group-4/2026-05-14/
LOCATION:Conception Bay South Public Library\, 10 Remembrance Square\, Conception Bay South\, NL\, Canada
CATEGORIES:Hobbies, Crafts & Games
ATTACH;FMTTYPE=image/jpeg:https://nlpl.ca/wp-content/uploads/2023/03/Events-Hobbies-Crafts-and-Games.jpg
ORGANIZER;CN="Conception Bay South Public Library":MAILTO:conceptionbaysouth@nlpl.ca
END:VEVENT
BEGIN:VEVENT
DTSTART;TZID=America/St_Johns:20260514T130000
DTEND;TZID=America/St_Johns:20260514T150000
DTSTAMP:20260421T223016
CREATED:20260305T172547Z
LAST-MODIFIED:20260305T172547Z
UID:10059737-1778763600-1778770800@nlpl.ca
SUMMARY:Tech Thursday
DESCRIPTION:Drop in with your own device or we can use our devices- iPad or desktop or laptop. We can show you how to set up an email\, copy files\, or print files.
URL:https://nlpl.ca/events/tech-thursday/2026-05-14/
LOCATION:Deer Lake Public Library\, 4 Poplar Road\, Deer Lake\, NL\, A8A 1Z4\, Canada
END:VEVENT
BEGIN:VEVENT
DTSTART;TZID=America/St_Johns:20260514T140000
DTEND;TZID=America/St_Johns:20260514T143000
DTSTAMP:20260421T223016
CREATED:20260327T122700Z
LAST-MODIFIED:20260327T122700Z
UID:10060347-1778767200-1778769000@nlpl.ca
SUMMARY:Family Storytime
DESCRIPTION:A 30 minute interactive program celebrating books\, rhymes\, movement\, songs and fun that is perfect for\nfamilies with multiple children\, ages 1-5 years
URL:https://nlpl.ca/events/family-storytime-7/2026-05-14/
LOCATION:Stephenville Public Library (Kindale)\, 45 Carolina Ave.\, Stephenville\, NL\, A2N 3P8\, Canada
CATEGORIES:Kids & Families,Storytime
ATTACH;FMTTYPE=image/jpeg:https://nlpl.ca/wp-content/uploads/2023/03/Events-Kid-Families.jpg
END:VEVENT
BEGIN:VEVENT
DTSTART;TZID=America/St_Johns:20260514T140000
DTEND;TZID=America/St_Johns:20260514T160000
DTSTAMP:20260421T223016
CREATED:20260102T193222Z
LAST-MODIFIED:20260312T181405Z
UID:10055572-1778767200-1778774400@nlpl.ca
SUMMARY:Tech Thursdays
DESCRIPTION:Gander Public Library – Needing help with your cell phone\, tablet/IPad or Laptop? On Thursdays 2-4pm you can book an appointment for help!
URL:https://nlpl.ca/events/tech-thursdays-3/2026-05-14/
LOCATION:Gander Public & Resource Library\, 6 Bell Place\, Gander\, NL\, A1V 1X2\, Canada
CATEGORIES:Technology & Makerspace
ATTACH;FMTTYPE=image/jpeg:https://nlpl.ca/wp-content/uploads/2023/03/Events-Classes-and-Workshops.jpg
END:VEVENT
BEGIN:VEVENT
DTSTART;TZID=America/St_Johns:20260514T140000
DTEND;TZID=America/St_Johns:20260514T160000
DTSTAMP:20260421T223016
CREATED:20260105T133034Z
LAST-MODIFIED:20260312T152500Z
UID:10059918-1778767200-1778774400@nlpl.ca
SUMMARY:Knitting Circle
DESCRIPTION:Harmsworth Public Library – Drop-in and join us to knit and/or crochet\, improve your needle skills\, help a friend\, share patterns\, ideas and stories.\n\nBring your own supplies.
URL:https://nlpl.ca/events/knitting-circle-2/2026-05-14/
LOCATION:Grand Falls-Windsor (Harmsworth) Public Library\, 1 Cromer Avenue\, Grand Falls - Windsor\, NL\, A2A 1W9\, Canada
CATEGORIES:Hobbies, Crafts & Games
ATTACH;FMTTYPE=image/jpeg:https://nlpl.ca/wp-content/uploads/2023/03/Events-Hobbies-Crafts-and-Games.jpg
END:VEVENT
END:VCALENDAR