BEGIN:VCALENDAR
VERSION:2.0
PRODID:-//Newfoundland &amp; Labrador Public Libraries - ECPv6.15.20//NONSGML v1.0//EN
CALSCALE:GREGORIAN
METHOD:PUBLISH
X-WR-CALNAME:Newfoundland &amp; Labrador Public Libraries
X-ORIGINAL-URL:https://nlpl.ca
X-WR-CALDESC:Events for Newfoundland &amp; Labrador Public Libraries
REFRESH-INTERVAL;VALUE=DURATION:PT1H
X-Robots-Tag:noindex
X-PUBLISHED-TTL:PT1H
BEGIN:VTIMEZONE
TZID:America/St_Johns
BEGIN:DAYLIGHT
TZOFFSETFROM:-0330
TZOFFSETTO:-0230
TZNAME:NDT
DTSTART:20250309T053000
END:DAYLIGHT
BEGIN:STANDARD
TZOFFSETFROM:-0230
TZOFFSETTO:-0330
TZNAME:NST
DTSTART:20251102T043000
END:STANDARD
BEGIN:DAYLIGHT
TZOFFSETFROM:-0330
TZOFFSETTO:-0230
TZNAME:NDT
DTSTART:20260308T053000
END:DAYLIGHT
BEGIN:STANDARD
TZOFFSETFROM:-0230
TZOFFSETTO:-0330
TZNAME:NST
DTSTART:20261101T043000
END:STANDARD
BEGIN:DAYLIGHT
TZOFFSETFROM:-0330
TZOFFSETTO:-0230
TZNAME:NDT
DTSTART:20270314T053000
END:DAYLIGHT
BEGIN:STANDARD
TZOFFSETFROM:-0230
TZOFFSETTO:-0330
TZNAME:NST
DTSTART:20271107T043000
END:STANDARD
END:VTIMEZONE
BEGIN:VEVENT
DTSTART;TZID=America/St_Johns:20260317T150000
DTEND;TZID=America/St_Johns:20260317T160000
DTSTAMP:20260424T093943
CREATED:20251103T201201Z
LAST-MODIFIED:20251125T194640Z
UID:10053817-1773759600-1773763200@nlpl.ca
SUMMARY:Family Passive Play
DESCRIPTION:
URL:https://nlpl.ca/events/family-passive-play/2026-03-17/
LOCATION:Bishop’s Falls Public Library\, 445 Main Street\, Bishop's Falls\, NL\, A0H 1C0\, Canada
END:VEVENT
BEGIN:VEVENT
DTSTART;TZID=America/St_Johns:20260317T153000
DTEND;TZID=America/St_Johns:20260317T163000
DTSTAMP:20260424T093943
CREATED:20250821T155247Z
LAST-MODIFIED:20260415T221903Z
UID:10059525-1773761400-1773765000@nlpl.ca
SUMMARY:Baby Play Group
DESCRIPTION:Drop in to the Conception Bay South Public Library where the storytime room  will be open for baby play time\, with baby-friendly toys available! This is a drop-in program\, best suited for ages 0-2.
URL:https://nlpl.ca/events/baby-play-group/2026-03-17/
LOCATION:Conception Bay South Public Library\, 10 Remembrance Square\, Conception Bay South\, NL\, Canada
CATEGORIES:Kids & Families
ATTACH;FMTTYPE=image/jpeg:https://nlpl.ca/wp-content/uploads/2023/03/Events-Kid-Families.jpg
END:VEVENT
BEGIN:VEVENT
DTSTART;TZID=America/St_Johns:20260317T160000
DTEND;TZID=America/St_Johns:20260317T170000
DTSTAMP:20260424T093943
CREATED:20250630T172012Z
LAST-MODIFIED:20260312T153102Z
UID:10056076-1773763200-1773766800@nlpl.ca
SUMMARY:Sensory Hour
DESCRIPTION:Harmsworth Public Library – Sensory-friendly browsing hour that includes reduced lighting and reduced noise.
URL:https://nlpl.ca/events/sensory-hour-4-2/2026-03-17/
LOCATION:Grand Falls-Windsor (Harmsworth) Public Library\, 1 Cromer Avenue\, Grand Falls - Windsor\, NL\, A2A 1W9\, Canada
CATEGORIES:Heath & Wellbeing
END:VEVENT
BEGIN:VEVENT
DTSTART;TZID=America/St_Johns:20260317T173000
DTEND;TZID=America/St_Johns:20260317T193000
DTSTAMP:20260424T093943
CREATED:20260105T144032Z
LAST-MODIFIED:20260312T152652Z
UID:10056127-1773768600-1773775800@nlpl.ca
SUMMARY:Dungeons & Dragons
DESCRIPTION:Harmsworth Public Library – Curious about Dungeons & Dragons? Are you looking to join a new group? Join us every Tuesday from 5:30 to 7:30 PM. \nNew and experienced players welcome. 13+ years. \nTo register\, phone #709-489-2303 or visit the library \n 
URL:https://nlpl.ca/events/dungeons-dragons-3-2/2026-03-17/
LOCATION:Grand Falls-Windsor (Harmsworth) Public Library\, 1 Cromer Avenue\, Grand Falls - Windsor\, NL\, A2A 1W9\, Canada
CATEGORIES:Hobbies, Crafts & Games
ATTACH;FMTTYPE=image/jpeg:https://nlpl.ca/wp-content/uploads/2023/03/Events-Hobbies-Crafts-and-Games.jpg
END:VEVENT
BEGIN:VEVENT
DTSTART;TZID=America/St_Johns:20260317T173000
DTEND;TZID=America/St_Johns:20260317T193000
DTSTAMP:20260424T093943
CREATED:20260313T124304Z
LAST-MODIFIED:20260313T124304Z
UID:10060029-1773768600-1773775800@nlpl.ca
SUMMARY:Drop-In Tech Help
DESCRIPTION:Have questions about technology? Or want to learn more about programs like Microsoft Word and Excel? Drop by the library and our librarians will do their best to answer your questions!
URL:https://nlpl.ca/events/drop-in-tech-help/
LOCATION:Labrador City Public Library\, 306 Hudson Dr.\, Labrador City\, NL\, A2V 1L5\, Canada
CATEGORIES:Technology & Makerspace
ATTACH;FMTTYPE=image/jpeg:https://nlpl.ca/wp-content/uploads/2023/11/Events-Tech-Makerspace.jpg
END:VEVENT
BEGIN:VEVENT
DTSTART;TZID=America/St_Johns:20260317T180000
DTEND;TZID=America/St_Johns:20260317T183000
DTSTAMP:20260424T093943
CREATED:20260209T181613Z
LAST-MODIFIED:20260209T181613Z
UID:10059131-1773770400-1773772200@nlpl.ca
SUMMARY:Drop-in Evening Storytime
DESCRIPTION:This drop in event is at A.C. Hunter Children’s Library. \nEvening Storytime for ages 0-5 years \nStories\, rhymes\, songs and more! \nTuesday March 17 at 6:00pm \n  \nNo registration necessary.
URL:https://nlpl.ca/events/drop-in-evening-storytime/
LOCATION:St. John’s – A.C. Hunter Children’s Public Library\, 95 Allandale Road\, St. John's\, NL\, A1E 3A3\, Canada
CATEGORIES:Kids & Families,Storytime
END:VEVENT
BEGIN:VEVENT
DTSTART;TZID=America/St_Johns:20260317T180000
DTEND;TZID=America/St_Johns:20260317T190000
DTSTAMP:20260424T093943
CREATED:20260102T193405Z
LAST-MODIFIED:20260102T193514Z
UID:10055588-1773770400-1773774000@nlpl.ca
SUMMARY:Sensory Hour
DESCRIPTION:Grander Public Library – Quiet Area\, Reduced Noise and Lighting. All ages.
URL:https://nlpl.ca/events/sensory-hour-2-2/2026-03-17/
LOCATION:Gander Public & Resource Library\, 6 Bell Place\, Gander\, NL\, A1V 1X2\, Canada
CATEGORIES:Heath & Wellbeing
ATTACH;FMTTYPE=image/jpeg:https://nlpl.ca/wp-content/uploads/2019/04/Depositphotos_3928992_xl-2015.jpg
END:VEVENT
BEGIN:VEVENT
DTSTART;TZID=America/St_Johns:20260317T183000
DTEND;TZID=America/St_Johns:20260317T190000
DTSTAMP:20260424T093943
CREATED:20260105T134733Z
LAST-MODIFIED:20260312T153536Z
UID:10056140-1773772200-1773774000@nlpl.ca
SUMMARY:Bedtime Family Storytime
DESCRIPTION:Harmsworth Public Library – A 30-minute interactive program celebrating books\, rhymes\, movement\, songs\, and fun that is perfect for families with multiple children\, ages 0-5
URL:https://nlpl.ca/events/bedtime-family-storytime-2/2026-03-17/
LOCATION:Grand Falls-Windsor (Harmsworth) Public Library\, 1 Cromer Avenue\, Grand Falls - Windsor\, NL\, A2A 1W9\, Canada
CATEGORIES:Kids & Families
ATTACH;FMTTYPE=image/jpeg:https://nlpl.ca/wp-content/uploads/2023/03/Events-Kid-Families.jpg
END:VEVENT
BEGIN:VEVENT
DTSTART;TZID=America/St_Johns:20260317T183000
DTEND;TZID=America/St_Johns:20260317T193000
DTSTAMP:20260424T093943
CREATED:20260217T165018Z
LAST-MODIFIED:20260217T220405Z
UID:10059298-1773772200-1773775800@nlpl.ca
SUMMARY:Library Yoga
DESCRIPTION:Join yoga instructor Chelsea Humphries for a beginner-friendly yoga class here in the Library!
URL:https://nlpl.ca/events/library-yoga-2/
LOCATION:Corner Brook Public Library\, 4 West Street\, Corner Brook\, NL\, A2H 0C1\, Canada
CATEGORIES:Heath & Wellbeing
END:VEVENT
BEGIN:VEVENT
DTSTART;TZID=America/St_Johns:20260318T100000
DTEND;TZID=America/St_Johns:20260318T100000
DTSTAMP:20260424T093943
CREATED:20260120T180919Z
LAST-MODIFIED:20260120T181033Z
UID:10056973-1773828000-1773828000@nlpl.ca
SUMMARY:Family Storytime
DESCRIPTION:6 weeks of Spring Storytime! Storytime runs from March 18 to April 29 (no storytime April 8 due to spring break)\nFamily Storytime for ages 0-5 years\nWednesdays at 10:00am\n\n\n\nWhat is Family Storytime?\nThe staff will read books\, tell stories and lead rhymes and songs. Caregivers are encouraged to participate. Something for everyone! Great for families with multiple children. 25-30 minutes.  \n\n  \nREGISTRATION OPENS AT 9:30am Dec 12 – online or by calling 709-737-3953 \n\n\n\n  \n\n\n\n 
URL:https://nlpl.ca/events/family-storytime-4/2026-03-18/
LOCATION:St. John’s – A.C. Hunter Children’s Public Library\, 95 Allandale Road\, St. John's\, NL\, A1E 3A3\, Canada
CATEGORIES:Kids & Families,Storytime
END:VEVENT
BEGIN:VEVENT
DTSTART;TZID=America/St_Johns:20260318T100000
DTEND;TZID=America/St_Johns:20260318T130000
DTSTAMP:20260424T093943
CREATED:20240903T132133Z
LAST-MODIFIED:20260415T215148Z
UID:10059531-1773828000-1773838800@nlpl.ca
SUMMARY:Rug Hooking
DESCRIPTION:Drop in group at the Conception Bay South Public Library for crafters to work on their own projects with company.\nAll skill levels are welcome.
URL:https://nlpl.ca/events/rug-hooking/2026-03-18/
LOCATION:Conception Bay South Public Library\, 10 Remembrance Square\, Conception Bay South\, NL\, Canada
CATEGORIES:Hobbies, Crafts & Games
ATTACH;FMTTYPE=image/jpeg:https://nlpl.ca/wp-content/uploads/2023/03/Events-Hobbies-Crafts-and-Games.jpg
ORGANIZER;CN="Conception Bay South Public Library":MAILTO:conceptionbaysouth@nlpl.ca
END:VEVENT
BEGIN:VEVENT
DTSTART;TZID=America/St_Johns:20260318T110000
DTEND;TZID=America/St_Johns:20260318T120000
DTSTAMP:20260424T093943
CREATED:20260120T175158Z
LAST-MODIFIED:20260306T160205Z
UID:10056942-1773831600-1773835200@nlpl.ca
SUMMARY:Baby Storytime - Wednesday Morning
DESCRIPTION:A registered event at A.C. Hunter Children’s Library. \n6 weeks of Spring Storytime! Storytime runs from March 18 to April 29 (no storytime on April 8 due to spring break)\nBaby Storytime for ages 0-12 months\nWednesdays at 11:00am\n\n\n\nWhat is Baby Storytime?\nThe staff will lead caregivers in rhymes and songs with simple stories and tips for literacy. 20-25 minutes of storytime\, followed by a playtime. Birth – 12 months old \n\n  \nREGISTRATION OPENS AT 9:30am Mar 6 – online or by calling 709-737-3953 \n\n\n\n  \n\n\n\n 
URL:https://nlpl.ca/events/baby-storytime-wednesday-morning/2026-03-18/
LOCATION:St. John’s – A.C. Hunter Children’s Public Library\, 95 Allandale Road\, St. John's\, NL\, A1E 3A3\, Canada
CATEGORIES:Kids & Families,Storytime
END:VEVENT
BEGIN:VEVENT
DTSTART;TZID=America/St_Johns:20260318T130000
DTEND;TZID=America/St_Johns:20260318T150000
DTSTAMP:20260424T093943
CREATED:20260103T151625Z
LAST-MODIFIED:20260325T214136Z
UID:10055918-1773838800-1773846000@nlpl.ca
SUMMARY:Rug Hooking Group
DESCRIPTION:Bring your supplies and current projects and join others for conversation and inspiration. New members and beginners are welcome!
URL:https://nlpl.ca/events/rug-hooking-group/2026-03-18/
LOCATION:Corner Brook Public Library\, 4 West Street\, Corner Brook\, NL\, A2H 0C1\, Canada
CATEGORIES:Holiday & Seasonal
END:VEVENT
BEGIN:VEVENT
DTSTART;TZID=America/St_Johns:20260318T130000
DTEND;TZID=America/St_Johns:20260318T153000
DTSTAMP:20260424T093943
CREATED:20260219T131709Z
LAST-MODIFIED:20260219T131709Z
UID:10059308-1773838800-1773847800@nlpl.ca
SUMMARY:Knitting Group
DESCRIPTION:Adult knitting group\, non-instructive. Join others who share in a love of knitting. Bring your projects and knit with friends\, old and new!
URL:https://nlpl.ca/events/knitting-group-2/2026-03-18/
LOCATION:Stephenville Public Library (Kindale)\, 45 Carolina Ave.\, Stephenville\, NL\, A2N 3P8\, Canada
CATEGORIES:Hobbies, Crafts & Games
ATTACH;FMTTYPE=image/jpeg:https://nlpl.ca/wp-content/uploads/2023/03/Events-Hobbies-Crafts-and-Games.jpg
END:VEVENT
BEGIN:VEVENT
DTSTART;TZID=America/St_Johns:20260318T140000
DTEND;TZID=America/St_Johns:20260318T150000
DTSTAMP:20260424T093943
CREATED:20260120T175612Z
LAST-MODIFIED:20260120T175652Z
UID:10056948-1773842400-1773846000@nlpl.ca
SUMMARY:Baby Storytime - Wednesday Afternoon
DESCRIPTION:A registered event at A.C. Hunter Children’s Library. \n6 weeks of Spring Storytime! Storytime runs from March 18 to April 29 (no storytime on April 8 due to spring break)\nBaby Storytime for ages 0-12 months\nWednesdays at 2:00pm\n\n\n\nWhat is Baby Storytime?\nThe staff will lead caregivers in rhymes and songs with simple stories and tips for literacy. 20-25 minutes of storytime\, followed by a playtime. Birth – 12 months old \n\n  \nREGISTRATION OPENS AT 9:30am March 6 – online or by calling 709-737-3953 \n\n\n\n  \n\n\n\n 
URL:https://nlpl.ca/events/baby-storytime-wednesday-afternoon/2026-03-18/
LOCATION:St. John’s – A.C. Hunter Children’s Public Library\, 95 Allandale Road\, St. John's\, NL\, A1E 3A3\, Canada
CATEGORIES:Kids & Families,Storytime
END:VEVENT
BEGIN:VEVENT
DTSTART;TZID=America/St_Johns:20260318T140000
DTEND;TZID=America/St_Johns:20260318T150000
DTSTAMP:20260424T093943
CREATED:20260305T170949Z
LAST-MODIFIED:20260305T171132Z
UID:10059716-1773842400-1773846000@nlpl.ca
SUMMARY:Children’s Story Time
DESCRIPTION:Pre-registration is mandatory for each Children’s Story Time
URL:https://nlpl.ca/events/childrens-story-time/2026-03-18/
LOCATION:Deer Lake Public Library\, 4 Poplar Road\, Deer Lake\, NL\, A8A 1Z4\, Canada
CATEGORIES:Kids & Families,Storytime
END:VEVENT
BEGIN:VEVENT
DTSTART;TZID=America/St_Johns:20260318T140000
DTEND;TZID=America/St_Johns:20260318T153000
DTSTAMP:20260424T093943
CREATED:20260102T194258Z
LAST-MODIFIED:20260102T194922Z
UID:10055614-1773842400-1773847800@nlpl.ca
SUMMARY:Crafter's Corner
DESCRIPTION:Grander Public Library – Bring in a project that you are working on. Either it be knitting\, crochet\, rug hooking
URL:https://nlpl.ca/events/crafters-corner-3-2-2/2026-03-18/
LOCATION:Gander Public & Resource Library\, 6 Bell Place\, Gander\, NL\, A1V 1X2\, Canada
CATEGORIES:Hobbies, Crafts & Games
ATTACH;FMTTYPE=image/jpeg:https://nlpl.ca/wp-content/uploads/2023/03/Events-Hobbies-Crafts-and-Games.jpg
END:VEVENT
BEGIN:VEVENT
DTSTART;TZID=America/St_Johns:20260318T140000
DTEND;TZID=America/St_Johns:20260318T160000
DTSTAMP:20260424T093943
CREATED:20260202T192039Z
LAST-MODIFIED:20260202T192039Z
UID:10058029-1773842400-1773849600@nlpl.ca
SUMMARY:Drop-in Sensory Play
DESCRIPTION:Our library has acquired a small sensory table. \nEach Wednesday afternoon from 2-4pm we will have it out for free play. \nAll ages are welcome\, best suited to toddler and preschool age.
URL:https://nlpl.ca/events/drop-in-sensory-play/2026-03-18/
LOCATION:Labrador City Public Library\, 306 Hudson Dr.\, Labrador City\, NL\, A2V 1L5\, Canada
CATEGORIES:Kids & Families
ATTACH;FMTTYPE=image/jpeg:https://nlpl.ca/wp-content/uploads/2023/03/Events-Kid-Families.jpg
END:VEVENT
BEGIN:VEVENT
DTSTART;TZID=America/St_Johns:20260318T143000
DTEND;TZID=America/St_Johns:20260318T150000
DTSTAMP:20260424T093943
CREATED:20260115T180415Z
LAST-MODIFIED:20260303T184513Z
UID:10056901-1773844200-1773846000@nlpl.ca
SUMMARY:Pre-School Storytime
DESCRIPTION:Up to 5 Years Old!! Come and enjoy 30 minutes of music and stories!!
URL:https://nlpl.ca/events/baby-storytime-2/
LOCATION:Point Leamington Public Library\, 1 Rice's Drive\, Point Leamington\, NL\, A0H 1Z0\, Canada
CATEGORIES:Kids & Families,Storytime
END:VEVENT
BEGIN:VEVENT
DTSTART;TZID=America/St_Johns:20260318T150000
DTEND;TZID=America/St_Johns:20260318T160000
DTSTAMP:20260424T093943
CREATED:20251103T201201Z
LAST-MODIFIED:20251125T194640Z
UID:10053818-1773846000-1773849600@nlpl.ca
SUMMARY:Family Passive Play
DESCRIPTION:
URL:https://nlpl.ca/events/family-passive-play/2026-03-18/
LOCATION:Bishop’s Falls Public Library\, 445 Main Street\, Bishop's Falls\, NL\, A0H 1C0\, Canada
END:VEVENT
BEGIN:VEVENT
DTSTART;TZID=America/St_Johns:20260318T170000
DTEND;TZID=America/St_Johns:20260318T180000
DTSTAMP:20260424T093943
CREATED:20260210T144520Z
LAST-MODIFIED:20260210T144520Z
UID:10059137-1773853200-1773856800@nlpl.ca
SUMMARY:Craft Night
DESCRIPTION:Come join us for a night of crafts. Children from ages 2-10 can participate in a fun evening of making crafts.(a parent or guardian must be present). This event will take place beginning Wednesday Feb 25th and continuing on until March 25th from 5p.m-6p.m.
URL:https://nlpl.ca/events/craft-night-2/2026-03-18/
LOCATION:Port au Port Public Library\, 290 Main Road\, 290 Main Road\, NL\, A0N 1T0\, Canada
ATTACH;FMTTYPE=image/jpeg:https://nlpl.ca/wp-content/uploads/2023/03/Events-Kid-Families.jpg
END:VEVENT
BEGIN:VEVENT
DTSTART;TZID=America/St_Johns:20260318T180000
DTEND;TZID=America/St_Johns:20260318T190000
DTSTAMP:20260424T093943
CREATED:20240903T133648Z
LAST-MODIFIED:20260415T215847Z
UID:10059405-1773856800-1773860400@nlpl.ca
SUMMARY:Writer's Group
DESCRIPTION:Join us at the Conception Bay South Public Library! This is a drop in group for people with a passion for creative writing!
URL:https://nlpl.ca/events/writers-group/2026-03-18/
LOCATION:Conception Bay South Public Library\, 10 Remembrance Square\, Conception Bay South\, NL\, Canada
CATEGORIES:Book Clubs & Writer’s Groups
ATTACH;FMTTYPE=image/jpeg:https://nlpl.ca/wp-content/uploads/2023/03/Events-Book-Clubs-and-Writing-Groups.jpg
END:VEVENT
BEGIN:VEVENT
DTSTART;TZID=America/St_Johns:20260318T180000
DTEND;TZID=America/St_Johns:20260318T190000
DTSTAMP:20260424T093943
CREATED:20260305T141231Z
LAST-MODIFIED:20260318T175518Z
UID:10059714-1773856800-1773860400@nlpl.ca
SUMMARY:Storytelling and Self Expression through Photography with Kit Sora
DESCRIPTION:New Date! \nJoin Kit Sora for a magical evening chat where she will deep dive through her 11th straight year of her self portrait 52 series\, sharing inspiration\, prop selection\, shooting process\, and the final edits. Take a closer look at the behind the scenes of her passion project and get inspired along the way! \nAdult event. Registration is required.
URL:https://nlpl.ca/events/kitsora-2/
LOCATION:St. John’s – Michael Donovan Public Library\, 655 Topsail Rd\, St. John's\, NL\, A1E 2E3\, Canada
CATEGORIES:Arts & Culture,Special Event
ATTACH;FMTTYPE=image/jpeg:https://nlpl.ca/wp-content/uploads/2023/03/Events-Information-Sessions.jpg
END:VEVENT
BEGIN:VEVENT
DTSTART;TZID=America/St_Johns:20260318T180000
DTEND;TZID=America/St_Johns:20260318T193000
DTSTAMP:20260424T093943
CREATED:20251021T135423Z
LAST-MODIFIED:20251021T135423Z
UID:10052795-1773856800-1773862200@nlpl.ca
SUMMARY:D&D for Tweens (Grade 7-9)
DESCRIPTION:A.C. Hunter Children’s Library \nDungeons and Dragons for kids in grades 7-9 (ages 12-14) \nREGISTER HERE \nPlay D&D every second Wednesday from 6:00 to 7:30pm at the library! No experience or materials needed. \nStarting January 21st and continuing until April 1st \n___________________________________________ \nWhat is D&D?\nDungeons and Dragons is a table-top role playing game. Players create a character and use their dice to make choices in an interactive story narrated by the DM (Dungeon Master). Players will face combat and puzzles as they explore a world in their collective imaginations. \nD&D at the Library:\nThe DM is a staff member and players will play an ongoing story for 6 sessions\, over 12 weeks. Players are expected to be able to read their character sheet\, use basic addition and subtraction and listen to others.
URL:https://nlpl.ca/events/dd-for-tweens-grade-7-9-2/2026-03-18/
LOCATION:St. John’s – A.C. Hunter Children’s Public Library\, 95 Allandale Road\, St. John's\, NL\, A1E 3A3\, Canada
CATEGORIES:Hobbies, Crafts & Games,Kids & Families
END:VEVENT
BEGIN:VEVENT
DTSTART;TZID=America/St_Johns:20260318T183000
DTEND;TZID=America/St_Johns:20260318T193000
DTSTAMP:20260424T093943
CREATED:20260105T172608Z
LAST-MODIFIED:20260312T172454Z
UID:10056176-1773858600-1773862200@nlpl.ca
SUMMARY:One-on-One Tech Help
DESCRIPTION:Harmsworth Public Library – Do you have a shiny new piece of tech\, but you’re not sure how to use it? Need a little help figuring out how to download an e-book\, share a photo\, or use Microsoft Word? \nMake a one-on-one appointment every Wednesday with our Tech Host\, Joshua. \nWe can provide general help\, tailored tech training\, and show you where to find helpful resources online. \nPlease call #709-489-2303 or drop in to schedule a time.
URL:https://nlpl.ca/events/one-on-one-tech-help-2/2026-03-18/
LOCATION:Grand Falls-Windsor (Harmsworth) Public Library\, 1 Cromer Avenue\, Grand Falls - Windsor\, NL\, A2A 1W9\, Canada
CATEGORIES:Technology & Makerspace
ATTACH;FMTTYPE=image/jpeg:https://nlpl.ca/wp-content/uploads/2023/11/Events-Tech-Makerspace.jpg
END:VEVENT
BEGIN:VEVENT
DTSTART;TZID=America/St_Johns:20260318T183000
DTEND;TZID=America/St_Johns:20260318T200000
DTSTAMP:20260424T093943
CREATED:20260216T183311Z
LAST-MODIFIED:20260302T153538Z
UID:10059295-1773858600-1773864000@nlpl.ca
SUMMARY:What in the World: Trump: Back By Popular Demand?
DESCRIPTION:(Virtual)  \nWhat in The World is a new current affairs discussion program.\nThis time we are talking about Trump. \nJoin Dr. Scott Matthews online (via WebEx) .We will be discussing how Americans have never been so polarized in their views of the president\, leading many to conclude that the quality of the president’s performance in office no longer matters. But is that really true? This talk will discuss the response of the U.S. public to the highs and lows of President Trump’s second term. We’ll also look ahead to the 2026 congressional elections\, which will largely determine the fate of the president’s last 2 years in office.
URL:https://nlpl.ca/events/what-in-the-world-trump-back-by-popular-demand/
LOCATION:St. John’s – A.C. Hunter Public Library\, 125 Allandale Road\, St. John's\, NL\, A1B 3A3\, Canada
CATEGORIES:Information Session
END:VEVENT
BEGIN:VEVENT
DTSTART;TZID=America/St_Johns:20260319T093000
DTEND;TZID=America/St_Johns:20260319T113000
DTSTAMP:20260424T093943
CREATED:20251116T180857Z
LAST-MODIFIED:20260312T103447Z
UID:10055124-1773912600-1773919800@nlpl.ca
SUMMARY:Tech Help Thursdays
DESCRIPTION:A.C. Hunter Library St John’s – Does technology seem tricky? iPad seem impossible? Do you find your phone frustrating? Our staff can help. Thursday Mornings 9:30-11:30 3rd Floor. Bring your device and a couple questions and staff will help you to the best of our abilities. \nNo Registration\nFirst Come First Helped!
URL:https://nlpl.ca/events/tech-help-thursdays-2/2026-03-19/
LOCATION:St. John’s – A.C. Hunter Public Library\, 125 Allandale Road\, St. John's\, NL\, A1B 3A3\, Canada
CATEGORIES:Technology & Makerspace
ATTACH;FMTTYPE=image/jpeg:https://nlpl.ca/wp-content/uploads/2023/11/Events-Tech-Makerspace.jpg
END:VEVENT
BEGIN:VEVENT
DTSTART;TZID=America/St_Johns:20260319T100000
DTEND;TZID=America/St_Johns:20260319T103000
DTSTAMP:20260424T093943
CREATED:20260120T180319Z
LAST-MODIFIED:20260120T180319Z
UID:10056966-1773914400-1773916200@nlpl.ca
SUMMARY:Tots Storytime
DESCRIPTION:A registered event at A.C. Hunter Children’s Library. \n6 weeks of Spring Storytime! Storytime runs from March 19 to April 30 (no storytime on April 9 due to spring break)\nTots Storytime for ages 1-2 years (13-35 months) \nThursdays at 10:00am \n\n\n\nWhat is Tots Storytime?\nThe staff will read books\, tell stories and lead active rhymes and songs to engage toddlers. Caregivers participate alongside children. 20-25 minutes. For toddlers over 12 months and under 3. \n\n  \nREGISTRATION OPENS AT 9:30am Dec 12 – online or by calling 709-737-3953 \n\n\n\n  \n\n\n\n 
URL:https://nlpl.ca/events/tots-storytime/2026-03-19/
LOCATION:St. John’s – A.C. Hunter Children’s Public Library\, 95 Allandale Road\, St. John's\, NL\, A1E 3A3\, Canada
CATEGORIES:Kids & Families,Storytime
END:VEVENT
BEGIN:VEVENT
DTSTART;TZID=America/St_Johns:20260319T100000
DTEND;TZID=America/St_Johns:20260319T120000
DTSTAMP:20260424T093943
CREATED:20240911T134337Z
LAST-MODIFIED:20260415T215627Z
UID:10059409-1773914400-1773921600@nlpl.ca
SUMMARY:Art Group
DESCRIPTION:Drop into the Conception Bay South Public Library  community room with any art project you are working on!\nThis is a group for adults.
URL:https://nlpl.ca/events/art-group/2026-03-19/
LOCATION:Conception Bay South Public Library\, 10 Remembrance Square\, Conception Bay South\, NL\, Canada
CATEGORIES:Arts & Culture,Hobbies, Crafts & Games
ATTACH;FMTTYPE=image/jpeg:https://nlpl.ca/wp-content/uploads/2023/03/Events-Hobbies-Crafts-and-Games.jpg
ORGANIZER;CN="Conception Bay South Public Library":MAILTO:conceptionbaysouth@nlpl.ca
END:VEVENT
BEGIN:VEVENT
DTSTART;TZID=America/St_Johns:20260319T100000
DTEND;TZID=America/St_Johns:20260319T120000
DTSTAMP:20260424T093943
CREATED:20260103T161028Z
LAST-MODIFIED:20260325T214958Z
UID:10056019-1773914400-1773921600@nlpl.ca
SUMMARY:Digital Learning+
DESCRIPTION:Small group workshops and classes for lifelong learning with a focus on digital literacy presented as part of The Murphy Centre’s ACCESS to Learning program. \nfree | registration required \nFor more information or registration contact: chrisjoseph@murphycentre.ca 709-640-6718 and/or reneesherstobetoff@murphycentre.ca 709-640-5616 \n  \n 
URL:https://nlpl.ca/events/digital-learning-2/2026-03-19/
LOCATION:Corner Brook Public Library\, 4 West Street\, Corner Brook\, NL\, A2H 0C1\, Canada
END:VEVENT
END:VCALENDAR