BEGIN:VCALENDAR
VERSION:2.0
PRODID:-//Newfoundland &amp; Labrador Public Libraries - ECPv6.15.20//NONSGML v1.0//EN
CALSCALE:GREGORIAN
METHOD:PUBLISH
X-WR-CALNAME:Newfoundland &amp; Labrador Public Libraries
X-ORIGINAL-URL:https://nlpl.ca
X-WR-CALDESC:Events for Newfoundland &amp; Labrador Public Libraries
REFRESH-INTERVAL;VALUE=DURATION:PT1H
X-Robots-Tag:noindex
X-PUBLISHED-TTL:PT1H
BEGIN:VTIMEZONE
TZID:America/St_Johns
BEGIN:DAYLIGHT
TZOFFSETFROM:-0330
TZOFFSETTO:-0230
TZNAME:NDT
DTSTART:20250309T053000
END:DAYLIGHT
BEGIN:STANDARD
TZOFFSETFROM:-0230
TZOFFSETTO:-0330
TZNAME:NST
DTSTART:20251102T043000
END:STANDARD
BEGIN:DAYLIGHT
TZOFFSETFROM:-0330
TZOFFSETTO:-0230
TZNAME:NDT
DTSTART:20260308T053000
END:DAYLIGHT
BEGIN:STANDARD
TZOFFSETFROM:-0230
TZOFFSETTO:-0330
TZNAME:NST
DTSTART:20261101T043000
END:STANDARD
BEGIN:DAYLIGHT
TZOFFSETFROM:-0330
TZOFFSETTO:-0230
TZNAME:NDT
DTSTART:20270314T053000
END:DAYLIGHT
BEGIN:STANDARD
TZOFFSETFROM:-0230
TZOFFSETTO:-0330
TZNAME:NST
DTSTART:20271107T043000
END:STANDARD
END:VTIMEZONE
BEGIN:VEVENT
DTSTART;TZID=America/St_Johns:20260422T133000
DTEND;TZID=America/St_Johns:20260422T140000
DTSTAMP:20260424T152040
CREATED:20260402T152717Z
LAST-MODIFIED:20260402T152717Z
UID:10060554-1776864600-1776866400@nlpl.ca
SUMMARY:Spring Baby Time
DESCRIPTION:Join us for Songs\, Rhymes\, Tickles\, and Bounces!! \n\n\nAges 0-12mon (best suited to pre-walkers) \n\n\nThursdays January 22- February 19th 1:30-2:00 \n\n\nPre-registration is required- No Card? No Problem. FB message us or email clarenville@nlpl.ca
URL:https://nlpl.ca/events/spring-baby-time/2026-04-22/
LOCATION:Clarenville Public Library\, 98 Manitoba Drive\, Clarenville\, NL\, A5A 1K7\, Canada
END:VEVENT
BEGIN:VEVENT
DTSTART;TZID=America/St_Johns:20260422T130000
DTEND;TZID=America/St_Johns:20260422T153000
DTSTAMP:20260424T152040
CREATED:20260219T131709Z
LAST-MODIFIED:20260219T131709Z
UID:10059313-1776862800-1776871800@nlpl.ca
SUMMARY:Knitting Group
DESCRIPTION:Adult knitting group\, non-instructive. Join others who share in a love of knitting. Bring your projects and knit with friends\, old and new!
URL:https://nlpl.ca/events/knitting-group-2/2026-04-22/
LOCATION:Stephenville Public Library (Kindale)\, 45 Carolina Ave.\, Stephenville\, NL\, A2N 3P8\, Canada
CATEGORIES:Hobbies, Crafts & Games
ATTACH;FMTTYPE=image/jpeg:https://nlpl.ca/wp-content/uploads/2023/03/Events-Hobbies-Crafts-and-Games.jpg
END:VEVENT
BEGIN:VEVENT
DTSTART;TZID=America/St_Johns:20260422T130000
DTEND;TZID=America/St_Johns:20260422T150000
DTSTAMP:20260424T152040
CREATED:20260103T151625Z
LAST-MODIFIED:20260325T214136Z
UID:10060237-1776862800-1776870000@nlpl.ca
SUMMARY:Rug Hooking Group
DESCRIPTION:Bring your supplies and current projects and join others for conversation and inspiration. New members and beginners are welcome!
URL:https://nlpl.ca/events/rug-hooking-group/2026-04-22/
LOCATION:Corner Brook Public Library\, 4 West Street\, Corner Brook\, NL\, A2H 0C1\, Canada
CATEGORIES:Holiday & Seasonal
END:VEVENT
BEGIN:VEVENT
DTSTART;TZID=America/St_Johns:20260422T120000
DTEND;TZID=America/St_Johns:20260422T140000
DTSTAMP:20260424T152040
CREATED:20260402T151612Z
LAST-MODIFIED:20260402T151612Z
UID:10060547-1776859200-1776866400@nlpl.ca
SUMMARY:Spring Theme Adult Coloring
DESCRIPTION:Join Wednesdays in April for Spring Adult Coloring! \nAll supplies are provided\, but you are welcome to bring your own. 12-2pm (drop-in program)
URL:https://nlpl.ca/events/spring-theme-adult-coloring/2026-04-22/
LOCATION:Clarenville Public Library\, 98 Manitoba Drive\, Clarenville\, NL\, A5A 1K7\, Canada
END:VEVENT
BEGIN:VEVENT
DTSTART;TZID=America/St_Johns:20260422T120000
DTEND;TZID=America/St_Johns:20260422T130000
DTSTAMP:20260424T152040
CREATED:20260327T184759Z
LAST-MODIFIED:20260327T184827Z
UID:10060368-1776859200-1776862800@nlpl.ca
SUMMARY:Chill Out Hour
DESCRIPTION:Wednesday & Friday \n@ \n12:00pm-1:00pm \nPlay a board game \nPainting \nReading \nPuzzles \nDrawing \ncoloring \nMinute to win it 
URL:https://nlpl.ca/events/chill-out-hour-2-2-2-2-2-2-2-2/2026-04-22/
LOCATION:Fogo Island Public Library\, 1 Iceberg Arena Road\, Fogo Island Central\, NL\, A0G 2B0\, Canada
CATEGORIES:Teens
END:VEVENT
BEGIN:VEVENT
DTSTART;TZID=America/St_Johns:20260422T110000
DTEND;TZID=America/St_Johns:20260422T120000
DTSTAMP:20260424T152040
CREATED:20260327T184912Z
LAST-MODIFIED:20260327T184935Z
UID:10060372-1776855600-1776859200@nlpl.ca
SUMMARY:Preschool Storytime and Crafts
DESCRIPTION:Come join us for Storytime\, Rhymes\, Art and crafts. \nEvery Wednesday @ 2pm.
URL:https://nlpl.ca/events/preschool-storytime-and-crafts-3-2-3-2-2-2-2-2-2/2026-04-22/
LOCATION:Fogo Island Public Library\, 1 Iceberg Arena Road\, Fogo Island Central\, NL\, A0G 2B0\, Canada
CATEGORIES:Kids & Families
END:VEVENT
BEGIN:VEVENT
DTSTART;TZID=America/St_Johns:20260422T110000
DTEND;TZID=America/St_Johns:20260422T120000
DTSTAMP:20260424T152040
CREATED:20260120T175158Z
LAST-MODIFIED:20260306T160205Z
UID:10056946-1776855600-1776859200@nlpl.ca
SUMMARY:Baby Storytime - Wednesday Morning
DESCRIPTION:A registered event at A.C. Hunter Children’s Library. \n6 weeks of Spring Storytime! Storytime runs from March 18 to April 29 (no storytime on April 8 due to spring break)\nBaby Storytime for ages 0-12 months\nWednesdays at 11:00am\n\n\n\nWhat is Baby Storytime?\nThe staff will lead caregivers in rhymes and songs with simple stories and tips for literacy. 20-25 minutes of storytime\, followed by a playtime. Birth – 12 months old \n\n  \nREGISTRATION OPENS AT 9:30am Mar 6 – online or by calling 709-737-3953 \n\n\n\n  \n\n\n\n 
URL:https://nlpl.ca/events/baby-storytime-wednesday-morning/2026-04-22/
LOCATION:St. John’s – A.C. Hunter Children’s Public Library\, 95 Allandale Road\, St. John's\, NL\, A1E 3A3\, Canada
CATEGORIES:Kids & Families,Storytime
END:VEVENT
BEGIN:VEVENT
DTSTART;TZID=America/St_Johns:20260422T100000
DTEND;TZID=America/St_Johns:20260422T130000
DTSTAMP:20260424T152040
CREATED:20240903T132133Z
LAST-MODIFIED:20260415T215148Z
UID:10061444-1776852000-1776862800@nlpl.ca
SUMMARY:Rug Hooking
DESCRIPTION:Drop in group at the Conception Bay South Public Library for crafters to work on their own projects with company.\nAll skill levels are welcome.
URL:https://nlpl.ca/events/rug-hooking/2026-04-22/
LOCATION:Conception Bay South Public Library\, 10 Remembrance Square\, Conception Bay South\, NL\, Canada
CATEGORIES:Hobbies, Crafts & Games
ATTACH;FMTTYPE=image/jpeg:https://nlpl.ca/wp-content/uploads/2023/03/Events-Hobbies-Crafts-and-Games.jpg
ORGANIZER;CN="Conception Bay South Public Library":MAILTO:conceptionbaysouth@nlpl.ca
END:VEVENT
BEGIN:VEVENT
DTSTART;TZID=America/St_Johns:20260422T100000
DTEND;TZID=America/St_Johns:20260422T103000
DTSTAMP:20260424T152040
CREATED:20260312T152024Z
LAST-MODIFIED:20260330T115000Z
UID:10060408-1776852000-1776853800@nlpl.ca
SUMMARY:Spring Baby Storytime A - Wednesdays @10 am
DESCRIPTION:Embark on an exciting literacy adventure with your baby! \nJoin us for our 6-week winter session as we sing songs\, read engaging stories\, and enjoy some movement activities all while practicing our early literacy skills. Stick around afterwards for 30 minutes of free playtime and get to know your fellow parents. \nTime: 10 am\, on Wednesdays\nAges: 0 – 18 months\nRegister online\, in-person\, or by calling the library at 709-737-3020\nThis registration is for all 6 sessions. First session is on April 8th\, 2026. \n 
URL:https://nlpl.ca/events/spring-baby-storytime-a-wednesdays-10-am/2026-04-22/
LOCATION:St. John’s – Marjorie Mews Public Library\, 12 Highland Drive\, St. John's\, NL\, A1A 3C4\, Canada
CATEGORIES:Storytime
ATTACH;FMTTYPE=image/jpeg:https://nlpl.ca/wp-content/uploads/2023/03/Events-Kid-Families.jpg
ORGANIZER;CN="St. John's - Marjorie Mews Public Library":MAILTO:MarjorieMews-Programming@nlpl.ca
END:VEVENT
BEGIN:VEVENT
DTSTART;TZID=America/St_Johns:20260422T100000
DTEND;TZID=America/St_Johns:20260422T100000
DTSTAMP:20260424T152040
CREATED:20260120T180919Z
LAST-MODIFIED:20260120T181033Z
UID:10056978-1776852000-1776852000@nlpl.ca
SUMMARY:Family Storytime
DESCRIPTION:6 weeks of Spring Storytime! Storytime runs from March 18 to April 29 (no storytime April 8 due to spring break)\nFamily Storytime for ages 0-5 years\nWednesdays at 10:00am\n\n\n\nWhat is Family Storytime?\nThe staff will read books\, tell stories and lead rhymes and songs. Caregivers are encouraged to participate. Something for everyone! Great for families with multiple children. 25-30 minutes.  \n\n  \nREGISTRATION OPENS AT 9:30am Dec 12 – online or by calling 709-737-3953 \n\n\n\n  \n\n\n\n 
URL:https://nlpl.ca/events/family-storytime-4/2026-04-22/
LOCATION:St. John’s – A.C. Hunter Children’s Public Library\, 95 Allandale Road\, St. John's\, NL\, A1E 3A3\, Canada
CATEGORIES:Kids & Families,Storytime
END:VEVENT
BEGIN:VEVENT
DTSTART;TZID=America/St_Johns:20260421T190000
DTEND;TZID=America/St_Johns:20260421T210000
DTSTAMP:20260424T152040
CREATED:20260307T193359Z
LAST-MODIFIED:20260406T220404Z
UID:10059799-1776798000-1776805200@nlpl.ca
SUMMARY:Game Night
DESCRIPTION:Join us at the Bonavista Public Library for Game Night. Bring along some friends and your favourite game\, or come solo and join a table.
URL:https://nlpl.ca/events/game-night/
LOCATION:Bonavista Memorial Public Library\, 32 Church Street\, Bonavista\, NL\, A0C 1B0\, Canada
CATEGORIES:Hobbies, Crafts & Games
END:VEVENT
BEGIN:VEVENT
DTSTART;TZID=America/St_Johns:20260421T183000
DTEND;TZID=America/St_Johns:20260421T200000
DTSTAMP:20260424T152040
CREATED:20260421T162838Z
LAST-MODIFIED:20260421T162838Z
UID:10061555-1776796200-1776801600@nlpl.ca
SUMMARY:Social Night
DESCRIPTION:Come for an evening of relaxation.
URL:https://nlpl.ca/events/social-night-3/
LOCATION:Seal Cove (White Bay) Public Library\, 2 Council Road\, Seal Cove\, NL\, A0K 5E0\, Canada
END:VEVENT
BEGIN:VEVENT
DTSTART;TZID=America/St_Johns:20260421T183000
DTEND;TZID=America/St_Johns:20260421T200000
DTSTAMP:20260424T152040
CREATED:20260401T221920Z
LAST-MODIFIED:20260401T221920Z
UID:10060534-1776796200-1776801600@nlpl.ca
SUMMARY:St. Anthony Book Club
DESCRIPTION:Join the St. Anthony Public Library Book Club as we explore a new read each season! \nOur discussion meeting will be on Romantic Comedy by Curtis Sittenfeld. \nCome share your thoughts or simply enjoy the conversation.
URL:https://nlpl.ca/events/st-anthony-book-club/
LOCATION:St. Anthony Public Library\, 95 West Street\, St. Anthony\, NL\, A0K 4S0\, Canada
CATEGORIES:Book Clubs & Writer’s Groups
ATTACH;FMTTYPE=image/jpeg:https://nlpl.ca/wp-content/uploads/2023/03/Events-Book-Clubs-and-Writing-Groups.jpg
ORGANIZER;CN="St. Anthony Pbulic Library":MAILTO:nsa@ill.nlpl.ca
END:VEVENT
BEGIN:VEVENT
DTSTART;TZID=America/St_Johns:20260421T183000
DTEND;TZID=America/St_Johns:20260421T200000
DTSTAMP:20260424T152040
CREATED:20260222T152642Z
LAST-MODIFIED:20260421T110827Z
UID:10059441-1776796200-1776801600@nlpl.ca
SUMMARY:LOLA - Past Winners Panel Chat
DESCRIPTION:St. John’s – A.C. Hunter – VIRTUAL \nWe are rejuvenating our celebration with a celebration of our past. Join us for this virtual event as we catch up with some of our NL Reads past winners.\nGary Collins\, Trudy Morgan-Cole\, Tom Moore\, Ida Linehan Young and Michael Crummey. Will be here to chat about what the award meant and what they have been up to. Moderated by NL Collections librarian – Rachel Head. \nJoin us online from the comfort of your own home.\nCalll (709)737-3950 for more info.
URL:https://nlpl.ca/events/lola-past-winners-panel-chat/
LOCATION:St. John’s – A.C. Hunter Public Library\, 125 Allandale Road\, St. John's\, NL\, A1B 3A3\, Canada
CATEGORIES:Author Talks & Readings,Book Clubs & Writer’s Groups,Special Event
END:VEVENT
BEGIN:VEVENT
DTSTART;TZID=America/St_Johns:20260421T183000
DTEND;TZID=America/St_Johns:20260421T193000
DTSTAMP:20260424T152040
CREATED:20251120T143346Z
LAST-MODIFIED:20260325T150443Z
UID:10059430-1776796200-1776799800@nlpl.ca
SUMMARY:Nonfiction Bookclub
DESCRIPTION:St. John’s – A.C. Hunter Library Join Pamela on the 3rd floor for great conversations about awesome nonfiction books. This bookclub is for adults and will meet once every 2 months. \nApril’s book will be How to Say Babylon by Safiya Sinclair \nCall (709)737-3950 for more info.
URL:https://nlpl.ca/events/nonfiction-bookclub-2/2026-04-21/
LOCATION:St. John’s – A.C. Hunter Public Library\, 125 Allandale Road\, St. John's\, NL\, A1B 3A3\, Canada
CATEGORIES:Book Clubs & Writer’s Groups,Teens
ATTACH;FMTTYPE=image/jpeg:https://nlpl.ca/wp-content/uploads/2023/03/Events-Book-Clubs-and-Writing-Groups.jpg
END:VEVENT
BEGIN:VEVENT
DTSTART;TZID=America/St_Johns:20260421T180000
DTEND;TZID=America/St_Johns:20260421T203000
DTSTAMP:20260424T152040
CREATED:20260407T222643Z
LAST-MODIFIED:20260407T222734Z
UID:10061143-1776794400-1776803400@nlpl.ca
SUMMARY:Adult Puzzle Night Every Tuesday! - Buchans Public Library
DESCRIPTION:Come to the library from 6:00 – 8:30 every Tuesday evening for Adult Puzzle Night! Friendly conversation\, coffee/ tea.
URL:https://nlpl.ca/events/adult-puzzle-night-every-tuesday-buchans-public-library/2026-04-21/
END:VEVENT
BEGIN:VEVENT
DTSTART;TZID=America/St_Johns:20260421T180000
DTEND;TZID=America/St_Johns:20260421T203000
DTSTAMP:20260424T152040
CREATED:20260407T222359Z
LAST-MODIFIED:20260407T222435Z
UID:10060882-1776794400-1776803400@nlpl.ca
SUMMARY:Adult Puzzle Night - Thursday May 26
DESCRIPTION:
URL:https://nlpl.ca/events/adult-puzzle-night-thursday-may-26/2026-04-21/
END:VEVENT
BEGIN:VEVENT
DTSTART;TZID=America/St_Johns:20260421T180000
DTEND;TZID=America/St_Johns:20260421T190000
DTSTAMP:20260424T152040
CREATED:20260102T193405Z
LAST-MODIFIED:20260102T193514Z
UID:10055593-1776794400-1776798000@nlpl.ca
SUMMARY:Sensory Hour
DESCRIPTION:Grander Public Library – Quiet Area\, Reduced Noise and Lighting. All ages.
URL:https://nlpl.ca/events/sensory-hour-2-2/2026-04-21/
LOCATION:Gander Public & Resource Library\, 6 Bell Place\, Gander\, NL\, A1V 1X2\, Canada
CATEGORIES:Heath & Wellbeing
ATTACH;FMTTYPE=image/jpeg:https://nlpl.ca/wp-content/uploads/2019/04/Depositphotos_3928992_xl-2015.jpg
END:VEVENT
BEGIN:VEVENT
DTSTART;TZID=America/St_Johns:20260421T180000
DTEND;TZID=America/St_Johns:20260421T190000
DTSTAMP:20260424T152040
CREATED:20250530T151017Z
LAST-MODIFIED:20260327T183446Z
UID:10042040-1776794400-1776798000@nlpl.ca
SUMMARY:Adult Card Game
DESCRIPTION: @6pm \n\nCome for an hour of fun \n\nsnacks provided
URL:https://nlpl.ca/events/adult-card-game-2/
LOCATION:Fogo Island Public Library\, 1 Iceberg Arena Road\, Fogo Island Central\, NL\, A0G 2B0\, Canada
CATEGORIES:Hobbies, Crafts & Games
END:VEVENT
BEGIN:VEVENT
DTSTART;TZID=America/St_Johns:20260421T173000
DTEND;TZID=America/St_Johns:20260421T193000
DTSTAMP:20260424T152040
CREATED:20260319T165913Z
LAST-MODIFIED:20260319T165914Z
UID:10059824-1776792600-1776799800@nlpl.ca
SUMMARY:Creative Commons
DESCRIPTION:Join us at the Port aux Basques Public Library every Tuesday evening from 5:30-7:30 pm for Creative Commons. Bring any current arts\, crafts\, writing or musical project you’re working on and join other creatives to enjoy each other’s company and share the creative spark! Please provide your own art supplies.
URL:https://nlpl.ca/events/creative-commons-2/2026-04-21/
LOCATION:Port aux Basques Public Library\, 8 Grand Bay\, Port aux Basques\, NL\, A0M 1C0\, Canada
CATEGORIES:Hobbies, Crafts & Games
ATTACH;FMTTYPE=image/jpeg:https://nlpl.ca/wp-content/uploads/2023/03/Events-Hobbies-Crafts-and-Games.jpg
END:VEVENT
BEGIN:VEVENT
DTSTART;TZID=America/St_Johns:20260421T173000
DTEND;TZID=America/St_Johns:20260421T193000
DTSTAMP:20260424T152040
CREATED:20260105T144032Z
LAST-MODIFIED:20260312T152652Z
UID:10059923-1776792600-1776799800@nlpl.ca
SUMMARY:Dungeons & Dragons
DESCRIPTION:Harmsworth Public Library – Curious about Dungeons & Dragons? Are you looking to join a new group? Join us every Tuesday from 5:30 to 7:30 PM. \nNew and experienced players welcome. 13+ years. \nTo register\, phone #709-489-2303 or visit the library \n 
URL:https://nlpl.ca/events/dungeons-dragons-3-2/2026-04-21/
LOCATION:Grand Falls-Windsor (Harmsworth) Public Library\, 1 Cromer Avenue\, Grand Falls - Windsor\, NL\, A2A 1W9\, Canada
CATEGORIES:Hobbies, Crafts & Games
ATTACH;FMTTYPE=image/jpeg:https://nlpl.ca/wp-content/uploads/2023/03/Events-Hobbies-Crafts-and-Games.jpg
END:VEVENT
BEGIN:VEVENT
DTSTART;TZID=America/St_Johns:20260421T160000
DTEND;TZID=America/St_Johns:20260421T170000
DTSTAMP:20260424T152040
CREATED:20260327T185026Z
LAST-MODIFIED:20260327T185048Z
UID:10060375-1776787200-1776790800@nlpl.ca
SUMMARY:Drop in and Play
DESCRIPTION:This event will be ongoing throughout the summer. Drop in and play hour is every Tuesday  from 2:30 p.m. to 5 p.m.  children must be accompanied by an adult. Please call the library at \n709-266-2210 for more information. \n\n\n\n\n Add to calendar
URL:https://nlpl.ca/events/drop-in-and-play-2-2-2-2-2-2-2-2-2-2/2026-04-21/
LOCATION:Fogo Island Public Library\, 1 Iceberg Arena Road\, Fogo Island Central\, NL\, A0G 2B0\, Canada
CATEGORIES:Kids & Families
END:VEVENT
BEGIN:VEVENT
DTSTART;TZID=America/St_Johns:20260421T160000
DTEND;TZID=America/St_Johns:20260421T170000
DTSTAMP:20260424T152040
CREATED:20250630T172012Z
LAST-MODIFIED:20260312T153102Z
UID:10059947-1776787200-1776790800@nlpl.ca
SUMMARY:Sensory Hour
DESCRIPTION:Harmsworth Public Library – Sensory-friendly browsing hour that includes reduced lighting and reduced noise.
URL:https://nlpl.ca/events/sensory-hour-4-2/2026-04-21/
LOCATION:Grand Falls-Windsor (Harmsworth) Public Library\, 1 Cromer Avenue\, Grand Falls - Windsor\, NL\, A2A 1W9\, Canada
CATEGORIES:Heath & Wellbeing
END:VEVENT
BEGIN:VEVENT
DTSTART;TZID=America/St_Johns:20260421T153000
DTEND;TZID=America/St_Johns:20260421T163000
DTSTAMP:20260424T152040
CREATED:20250821T155247Z
LAST-MODIFIED:20260415T221903Z
UID:10061415-1776785400-1776789000@nlpl.ca
SUMMARY:Baby Play Group
DESCRIPTION:Drop in to the Conception Bay South Public Library where the storytime room  will be open for baby play time\, with baby-friendly toys available! This is a drop-in program\, best suited for ages 0-2.
URL:https://nlpl.ca/events/baby-play-group/2026-04-21/
LOCATION:Conception Bay South Public Library\, 10 Remembrance Square\, Conception Bay South\, NL\, Canada
CATEGORIES:Kids & Families
ATTACH;FMTTYPE=image/jpeg:https://nlpl.ca/wp-content/uploads/2023/03/Events-Kid-Families.jpg
END:VEVENT
BEGIN:VEVENT
DTSTART;TZID=America/St_Johns:20260421T150000
DTEND;TZID=America/St_Johns:20260421T170000
DTSTAMP:20260424T152040
CREATED:20260327T185539Z
LAST-MODIFIED:20260327T185540Z
UID:10060385-1776783600-1776790800@nlpl.ca
SUMMARY:Homework Club
DESCRIPTION:Need a place to study? \nCome to Library every Tuesday & Wednesday @ 3pm \nfor a quite place to study.
URL:https://nlpl.ca/events/homework-club-3-2-2-2-2-2-2-2/2026-04-21/
LOCATION:Fogo Island Public Library\, 1 Iceberg Arena Road\, Fogo Island Central\, NL\, A0G 2B0\, Canada
CATEGORIES:Classes & Workshops
END:VEVENT
BEGIN:VEVENT
DTSTART;TZID=America/St_Johns:20260421T150000
DTEND;TZID=America/St_Johns:20260421T160000
DTSTAMP:20260424T152040
CREATED:20260421T161517Z
LAST-MODIFIED:20260421T161517Z
UID:10061545-1776783600-1776787200@nlpl.ca
SUMMARY:Earth Day Fun Week!!
DESCRIPTION:Tuesday\, April 21st – DIY Seed Bombs \nWednesday\, April 22nd – Create a Tree for Earth Day! \nThursday\, April 23rd – Plastic Bottle Flower Pots!
URL:https://nlpl.ca/events/earth-day-fun-week/2026-04-21/
LOCATION:Point Leamington Public Library\, 1 Rice's Drive\, Point Leamington\, NL\, A0H 1Z0\, Canada
CATEGORIES:Hobbies, Crafts & Games,Kids & Families,Special Event
END:VEVENT
BEGIN:VEVENT
DTSTART;TZID=America/St_Johns:20260421T150000
DTEND;TZID=America/St_Johns:20260421T160000
DTSTAMP:20260424T152040
CREATED:20251103T201201Z
LAST-MODIFIED:20251125T194640Z
UID:10053842-1776783600-1776787200@nlpl.ca
SUMMARY:Family Passive Play
DESCRIPTION:
URL:https://nlpl.ca/events/family-passive-play/2026-04-21/
LOCATION:Bishop’s Falls Public Library\, 445 Main Street\, Bishop's Falls\, NL\, A0H 1C0\, Canada
END:VEVENT
BEGIN:VEVENT
DTSTART;TZID=America/St_Johns:20260421T140000
DTEND;TZID=America/St_Johns:20260421T153000
DTSTAMP:20260424T152040
CREATED:20260103T140335Z
LAST-MODIFIED:20260325T214626Z
UID:10060256-1776780000-1776785400@nlpl.ca
SUMMARY:BabyTime StoryTime
DESCRIPTION:Stories\, songs and rhymes for babies (ages 0-2) and parents/caregivers followed by playtime.
URL:https://nlpl.ca/events/babytime-storytime/2026-04-21/
LOCATION:Corner Brook Public Library\, 4 West Street\, Corner Brook\, NL\, A2H 0C1\, Canada
CATEGORIES:Kids & Families,Storytime
END:VEVENT
BEGIN:VEVENT
DTSTART;TZID=America/St_Johns:20260421T130000
DTEND;TZID=America/St_Johns:20260421T150000
DTSTAMP:20260424T152040
CREATED:20260325T161919Z
LAST-MODIFIED:20260325T161919Z
UID:10060227-1776776400-1776783600@nlpl.ca
SUMMARY:Service Canada Dental Care Information Session
DESCRIPTION:Service Canada will host an information session for The Canadian Dental Care Program (CDCP) On Tuesday\, April 21st from 1-3pm. CDCP requires members to renew their coverage every year. This year the renewal dates are from April 15th – June 2nd. \nRefreshments provided!
URL:https://nlpl.ca/events/service-canada-cdcp/
LOCATION:Happy Valley-Goose Bay Public Library\, Elizabeth Goudie Building; 141 Hamilton River Road\, Happy Valley-Goose Bay\, NL\, A0P 1E0\, Canada
CATEGORIES:Information Session
ATTACH;FMTTYPE=image/jpeg:https://nlpl.ca/wp-content/uploads/2023/03/Events-Information-Sessions.jpg
END:VEVENT
BEGIN:VEVENT
DTSTART;TZID=America/St_Johns:20260421T113000
DTEND;TZID=America/St_Johns:20260421T123000
DTSTAMP:20260424T152040
CREATED:20260227T193732Z
LAST-MODIFIED:20260418T174819Z
UID:10059392-1776771000-1776774600@nlpl.ca
SUMMARY:Tech Tuesdays
DESCRIPTION:Drop by the Ross King Memorial Library (Mount Pearl) from 11:30 AM – 12:30 PM on Tuesdays for our Tech Tuesdays program.  This program will give you tips on how to use devices such as a laptop\, tablet or cell phone as well as provide answers to your questions about how to use Library resources such as Libby\, Connect Pass\, and the NLPL Events Calendar and Catalogue.  This is a drop in program and is conducted on first-come\, first-serve basis.
URL:https://nlpl.ca/events/tech-tuesdays-3-2/2026-04-21/
LOCATION:Mount Pearl Public Library\, 65 Olympic Drive\, Mount Pearl\, NL\, A1N 5H6\, Canada
CATEGORIES:Classes & Workshops,Information Session,Technology & Makerspace
ORGANIZER;CN="Mount Pearl":MAILTO:mountpearl@nlpl.ca
END:VEVENT
END:VCALENDAR