BEGIN:VCALENDAR
VERSION:2.0
PRODID:-//Newfoundland &amp; Labrador Public Libraries - ECPv6.15.20//NONSGML v1.0//EN
CALSCALE:GREGORIAN
METHOD:PUBLISH
X-ORIGINAL-URL:https://nlpl.ca
X-WR-CALDESC:Events for Newfoundland &amp; Labrador Public Libraries
REFRESH-INTERVAL;VALUE=DURATION:PT1H
X-Robots-Tag:noindex
X-PUBLISHED-TTL:PT1H
BEGIN:VTIMEZONE
TZID:America/St_Johns
BEGIN:DAYLIGHT
TZOFFSETFROM:-0330
TZOFFSETTO:-0230
TZNAME:NDT
DTSTART:20250309T053000
END:DAYLIGHT
BEGIN:STANDARD
TZOFFSETFROM:-0230
TZOFFSETTO:-0330
TZNAME:NST
DTSTART:20251102T043000
END:STANDARD
BEGIN:DAYLIGHT
TZOFFSETFROM:-0330
TZOFFSETTO:-0230
TZNAME:NDT
DTSTART:20260308T053000
END:DAYLIGHT
BEGIN:STANDARD
TZOFFSETFROM:-0230
TZOFFSETTO:-0330
TZNAME:NST
DTSTART:20261101T043000
END:STANDARD
BEGIN:DAYLIGHT
TZOFFSETFROM:-0330
TZOFFSETTO:-0230
TZNAME:NDT
DTSTART:20270314T053000
END:DAYLIGHT
BEGIN:STANDARD
TZOFFSETFROM:-0230
TZOFFSETTO:-0330
TZNAME:NST
DTSTART:20271107T043000
END:STANDARD
END:VTIMEZONE
BEGIN:VEVENT
DTSTART;TZID=America/St_Johns:20260411T103000
DTEND;TZID=America/St_Johns:20260411T113000
DTSTAMP:20260424T075938
CREATED:20260103T140642Z
LAST-MODIFIED:20260325T214523Z
UID:10060247-1775903400-1775907000@nlpl.ca
SUMMARY:Family Storytime
DESCRIPTION:Stories\, songs and rhymes for the whole family! All ages and all abilities welcome
URL:https://nlpl.ca/events/family-storytime-2/2026-04-11/
LOCATION:Corner Brook Public Library\, 4 West Street\, Corner Brook\, NL\, A2H 0C1\, Canada
CATEGORIES:Kids & Families,Storytime
END:VEVENT
BEGIN:VEVENT
DTSTART;TZID=America/St_Johns:20260411T110000
DTEND;TZID=America/St_Johns:20260411T130000
DTSTAMP:20260424T075938
CREATED:20260319T170049Z
LAST-MODIFIED:20260319T170050Z
UID:10056831-1775905200-1775912400@nlpl.ca
SUMMARY:LEGO Builders
DESCRIPTION:Come out to the Port aux Basques Public Library for LEGO Builders. LEGO blocks are available\, along with a fun building table. Larger blocks are available for smaller children. Enjoy the fun and challenge of LEGO!
URL:https://nlpl.ca/events/lego-builders-2/2026-04-11/
LOCATION:Port aux Basques Public Library\, 8 Grand Bay\, Port aux Basques\, NL\, A0M 1C0\, Canada
CATEGORIES:Hobbies, Crafts & Games
ATTACH;FMTTYPE=image/jpeg:https://nlpl.ca/wp-content/uploads/2023/03/Events-Hobbies-Crafts-and-Games.jpg
END:VEVENT
BEGIN:VEVENT
DTSTART;TZID=America/St_Johns:20260411T110000
DTEND;TZID=America/St_Johns:20260411T143000
DTSTAMP:20260424T075938
CREATED:20260113T185623Z
LAST-MODIFIED:20260303T183651Z
UID:10059623-1775905200-1775917800@nlpl.ca
SUMMARY:LEGO Free Play
DESCRIPTION:LEGO Free Play at the Harbour Grace Public Library. Every Saturday from 11am-2:30pm. Drop in for some creative play! We supply the LEGO blocks. All you need to bring is your imagination! Children under 10 must be accompanied by a parent or guardian. No registration required.
URL:https://nlpl.ca/events/lego-free-play-3/2026-04-11/
LOCATION:Harbour Grace Public Library\, 106 Harvey Street\, Harbour Grace\, NL\, A0A 2M0\, Canada
END:VEVENT
BEGIN:VEVENT
DTSTART;TZID=America/St_Johns:20260411T110000
DTEND;TZID=America/St_Johns:20260411T150000
DTSTAMP:20260424T075938
CREATED:20260205T191657Z
LAST-MODIFIED:20260205T191754Z
UID:10058234-1775905200-1775919600@nlpl.ca
SUMMARY:Master Builders
DESCRIPTION:(5+) Passive program for open Lego play. We provide the Lego\, you provide the fun! Come and go anytime during 11am – 3pm on Saturdays.
URL:https://nlpl.ca/events/master-builders/2026-04-11/
LOCATION:Stephenville Public Library (Kindale)\, 45 Carolina Ave.\, Stephenville\, NL\, A2N 3P8\, Canada
CATEGORIES:Hobbies, Crafts & Games
ATTACH;FMTTYPE=image/jpeg:https://nlpl.ca/wp-content/uploads/2023/03/Events-Hobbies-Crafts-and-Games.jpg
END:VEVENT
BEGIN:VEVENT
DTSTART;TZID=America/St_Johns:20260411T140000
DTEND;TZID=America/St_Johns:20260411T150000
DTSTAMP:20260424T075938
CREATED:20260402T154019Z
LAST-MODIFIED:20260402T154019Z
UID:10060558-1775916000-1775919600@nlpl.ca
SUMMARY:National Pet Day Storytime with Gander SPCA
DESCRIPTION:Gander Public Library – All age- Join us in celebrating National Pet Day with the Gander & Area SPCA. To register or for more information please call: 709-651-5354 or email: gander@nlpl.ca
URL:https://nlpl.ca/events/national-pet-day-storytime-with-gander-spca/
LOCATION:Gander Public & Resource Library\, 6 Bell Place\, Gander\, NL\, A1V 1X2\, Canada
CATEGORIES:Kids & Families
ATTACH;FMTTYPE=image/jpeg:https://nlpl.ca/wp-content/uploads/2023/03/Events-Kid-Families.jpg
END:VEVENT
BEGIN:VEVENT
DTSTART;TZID=America/St_Johns:20260411T143000
DTEND;TZID=America/St_Johns:20260411T150000
DTSTAMP:20260424T075938
CREATED:20260123T142726Z
LAST-MODIFIED:20260411T112236Z
UID:10057094-1775917800-1775919600@nlpl.ca
SUMMARY:Saturday Preschool Storytime
DESCRIPTION:A registered program at A.C. Hunter Children’s Library \n  \nPreschool Storytime for ages 3 to 5 \nOur staff will lead stories\, rhymes and songs\, plus a little something extra! 30-45 minutes. \nSaturday April 11\, 2:30pm \n  \nRegistration for all March and April programs begins Friday Feb 20th at 9:30am.\nClick the above link or give us a call at 709-737-3953
URL:https://nlpl.ca/events/saturday-preschool-storytime-3/
LOCATION:St. John’s – A.C. Hunter Children’s Public Library\, 95 Allandale Road\, St. John's\, NL\, A1E 3A3\, Canada
CATEGORIES:Kids & Families,Storytime
END:VEVENT
BEGIN:VEVENT
DTSTART;TZID=America/St_Johns:20260411T143000
DTEND;TZID=America/St_Johns:20260411T153000
DTSTAMP:20260424T075938
CREATED:20260406T220757Z
LAST-MODIFIED:20260406T220757Z
UID:10060602-1775917800-1775921400@nlpl.ca
SUMMARY:Storytime
DESCRIPTION:Join us at the Bonavista Public Library for our next Storytime. Stories\, songs\, rhymes\, and a craft.
URL:https://nlpl.ca/events/storytime/
LOCATION:Bonavista Memorial Public Library\, 32 Church Street\, Bonavista\, NL\, A0C 1B0\, Canada
CATEGORIES:Kids & Families,Storytime
ATTACH;FMTTYPE=image/jpeg:https://nlpl.ca/wp-content/uploads/2023/03/Events-Kid-Families.jpg
END:VEVENT
BEGIN:VEVENT
DTSTART;TZID=America/St_Johns:20260413T140000
DTEND;TZID=America/St_Johns:20260413T160000
DTSTAMP:20260424T075938
CREATED:20250818T121419Z
LAST-MODIFIED:20260312T153407Z
UID:10059960-1776088800-1776096000@nlpl.ca
SUMMARY:Rug Hooking
DESCRIPTION:Harmsworth Public Library – Get “hooked” on rug making every Monday afternoon. Whether you are a beginner or a seasoned artist\, come share your rug-hooked works and techniques with a fun group of rug hookers.
URL:https://nlpl.ca/events/rug-hooking-2/2026-04-13/
LOCATION:Grand Falls-Windsor (Harmsworth) Public Library\, 1 Cromer Avenue\, Grand Falls - Windsor\, NL\, A2A 1W9\, Canada
CATEGORIES:Hobbies, Crafts & Games
ATTACH;FMTTYPE=image/jpeg:https://nlpl.ca/wp-content/uploads/2023/03/Events-Hobbies-Crafts-and-Games.jpg
END:VEVENT
BEGIN:VEVENT
DTSTART;TZID=America/St_Johns:20260413T150000
DTEND;TZID=America/St_Johns:20260413T160000
DTSTAMP:20260424T075938
CREATED:20251103T201201Z
LAST-MODIFIED:20251125T194640Z
UID:10053836-1776092400-1776096000@nlpl.ca
SUMMARY:Family Passive Play
DESCRIPTION:
URL:https://nlpl.ca/events/family-passive-play/2026-04-13/
LOCATION:Bishop’s Falls Public Library\, 445 Main Street\, Bishop's Falls\, NL\, A0H 1C0\, Canada
END:VEVENT
BEGIN:VEVENT
DTSTART;TZID=America/St_Johns:20260413T150000
DTEND;TZID=America/St_Johns:20260413T200000
DTSTAMP:20260424T075938
CREATED:20260304T172104Z
LAST-MODIFIED:20260317T164251Z
UID:10059631-1776092400-1776110400@nlpl.ca
SUMMARY:Quilting with Kay
DESCRIPTION:Come and enjoy an afternoon of beginner quilting with Kay Warford!!
URL:https://nlpl.ca/events/quilting-with-kay-2/2026-04-13/
LOCATION:Point Leamington Public Library\, 1 Rice's Drive\, Point Leamington\, NL\, A0H 1Z0\, Canada
CATEGORIES:Hobbies, Crafts & Games
END:VEVENT
BEGIN:VEVENT
DTSTART;TZID=America/St_Johns:20260413T180000
DTEND;TZID=America/St_Johns:20260413T200000
DTSTAMP:20260424T075938
CREATED:20251001T170959Z
LAST-MODIFIED:20251128T205518Z
UID:10051851-1776103200-1776110400@nlpl.ca
SUMMARY:Traditional NL Rug Hooking
DESCRIPTION:Drop in group at Point Leamington Public Library for rug hookers to work on their own projects.\nAll skill levels are welcome.
URL:https://nlpl.ca/events/traditional-nl-rug-hooking-2/2026-04-13/
LOCATION:Point Leamington Public Library\, 1 Rice's Drive\, Point Leamington\, NL\, A0H 1Z0\, Canada
CATEGORIES:Hobbies, Crafts & Games
ATTACH;FMTTYPE=image/jpeg:https://nlpl.ca/wp-content/uploads/2023/03/Events-Hobbies-Crafts-and-Games.jpg
END:VEVENT
BEGIN:VEVENT
DTSTART;TZID=America/St_Johns:20260413T190000
DTEND;TZID=America/St_Johns:20260413T210000
DTSTAMP:20260424T075938
CREATED:20260406T221410Z
LAST-MODIFIED:20260406T221410Z
UID:10060603-1776106800-1776114000@nlpl.ca
SUMMARY:Craft Night
DESCRIPTION:Join us at the Bonavista Public Library for our next Craft Night. Bring something you’re already working on\, or start something new. All skill levels welcome.
URL:https://nlpl.ca/events/craft-night/
LOCATION:Bonavista Memorial Public Library\, 32 Church Street\, Bonavista\, NL\, A0C 1B0\, Canada
CATEGORIES:Hobbies, Crafts & Games
ATTACH;FMTTYPE=image/jpeg:https://nlpl.ca/wp-content/uploads/2023/03/Events-Hobbies-Crafts-and-Games.jpg
END:VEVENT
BEGIN:VEVENT
DTSTART;TZID=America/St_Johns:20260414T060000
DTEND;TZID=America/St_Johns:20260414T193000
DTSTAMP:20260424T075938
CREATED:20251120T191835Z
LAST-MODIFIED:20251125T195038Z
UID:10055169-1776146400-1776195000@nlpl.ca
SUMMARY:Tuesday Night Tabletop Board Gaming
DESCRIPTION:New-Wes-Valley Public Libraries welcomes everyone to Tuesday night Board Gaming.  From 6 pm – 7:30 pm play from a wide selection of games from the libraries collection\, or bring you own.  Hope to see you there. \n 
URL:https://nlpl.ca/events/tuesday-night-tabletop-board-gaming/2026-04-14/
CATEGORIES:Hobbies, Crafts & Games
END:VEVENT
BEGIN:VEVENT
DTSTART;TZID=America/St_Johns:20260414T100000
DTEND;TZID=America/St_Johns:20260414T110000
DTSTAMP:20260424T075938
CREATED:20251015T144618Z
LAST-MODIFIED:20251015T161058Z
UID:10052609-1776160800-1776164400@nlpl.ca
SUMMARY:Family Story Time
DESCRIPTION:
URL:https://nlpl.ca/events/family-story-time-2/2026-04-14/
LOCATION:Bishop’s Falls Public Library\, 445 Main Street\, Bishop's Falls\, NL\, A0H 1C0\, Canada
CATEGORIES:Kids & Families,Storytime
END:VEVENT
BEGIN:VEVENT
DTSTART;TZID=America/St_Johns:20260414T100000
DTEND;TZID=America/St_Johns:20260414T120000
DTSTAMP:20260424T075938
CREATED:20260103T155608Z
LAST-MODIFIED:20260325T215109Z
UID:10060307-1776160800-1776168000@nlpl.ca
SUMMARY:Digital Learning+
DESCRIPTION:Small group workshops and classes for lifelong learning with a focus on digital literacy presented as part of The Murphy Centre’s ACCESS to Learning program. \nfree | registration required \nFor more information or registration contact: chrisjoseph@murphycentre.ca 709-640-6718 and/or reneesherstobetoff@murphycentre.ca 709-640-5616 \n  \n 
URL:https://nlpl.ca/events/digital-learning/2026-04-14/
LOCATION:Corner Brook Public Library\, 4 West Street\, Corner Brook\, NL\, A2H 0C1\, Canada
END:VEVENT
BEGIN:VEVENT
DTSTART;TZID=America/St_Johns:20260414T103000
DTEND;TZID=America/St_Johns:20260414T110000
DTSTAMP:20260424T075938
CREATED:20260110T135629Z
LAST-MODIFIED:20260110T135629Z
UID:10056644-1776162600-1776164400@nlpl.ca
SUMMARY:Tuesday\, Story Time
DESCRIPTION:Story Time \nTuesday 10:30-11:00 \nJanuary 13 to June 9th \nAges- birth to 5 years \nStory Time is half hour program\, filled with wonderful story books\, nursery rhymes\, songs and so much fun. \nLearning to read begins before children start school. From the time they are infants\, children learn language and other important skills that will help them learn to read. Developing early literacy skills makes it easier for children to learn to read once they begin school. \n“Remember\, the more we read together\, the happier we’ll be.”
URL:https://nlpl.ca/events/tuesday-story-time-14/
LOCATION:Carbonear Public Library\, 256 Water St.\, Carbonear\, NL\, A1Y 1C4\, Canada
CATEGORIES:Kids & Families,Storytime
ORGANIZER;CN="Carbonear Public Library":MAILTO:carbonear@nlpl.ca
END:VEVENT
BEGIN:VEVENT
DTSTART;TZID=America/St_Johns:20260414T103000
DTEND;TZID=America/St_Johns:20260414T110000
DTSTAMP:20260424T075938
CREATED:20260223T195656Z
LAST-MODIFIED:20260223T195656Z
UID:10059451-1776162600-1776164400@nlpl.ca
SUMMARY:Spring Family Story Time 2026
DESCRIPTION:Stephenville Crossing: A 30 minute interactive program celebrating books\, rhymes\, movement\, songs and fun that is perfect for families with multiple children\, ages 0-5 years. Learn\, grow\, and explore through 6 weeks of story time at the library!
URL:https://nlpl.ca/events/spring-family-story-time-2026/2026-04-14/
LOCATION:Stephenville Crossing Public Library\, 73 West Street\, Stephenville Crossing\, NL\, A0N 2C0\, Canada
CATEGORIES:Kids & Families,Storytime
ATTACH;FMTTYPE=image/jpeg:https://nlpl.ca/wp-content/uploads/2023/03/Events-Kid-Families.jpg
END:VEVENT
BEGIN:VEVENT
DTSTART;TZID=America/St_Johns:20260414T113000
DTEND;TZID=America/St_Johns:20260414T123000
DTSTAMP:20260424T075938
CREATED:20260227T193732Z
LAST-MODIFIED:20260418T174819Z
UID:10059391-1776166200-1776169800@nlpl.ca
SUMMARY:Tech Tuesdays
DESCRIPTION:Drop by the Ross King Memorial Library (Mount Pearl) from 11:30 AM – 12:30 PM on Tuesdays for our Tech Tuesdays program.  This program will give you tips on how to use devices such as a laptop\, tablet or cell phone as well as provide answers to your questions about how to use Library resources such as Libby\, Connect Pass\, and the NLPL Events Calendar and Catalogue.  This is a drop in program and is conducted on first-come\, first-serve basis.
URL:https://nlpl.ca/events/tech-tuesdays-3-2/2026-04-14/
LOCATION:Mount Pearl Public Library\, 65 Olympic Drive\, Mount Pearl\, NL\, A1N 5H6\, Canada
CATEGORIES:Classes & Workshops,Information Session,Technology & Makerspace
ORGANIZER;CN="Mount Pearl":MAILTO:mountpearl@nlpl.ca
END:VEVENT
BEGIN:VEVENT
DTSTART;TZID=America/St_Johns:20260414T140000
DTEND;TZID=America/St_Johns:20260414T153000
DTSTAMP:20260424T075938
CREATED:20250310T162548Z
LAST-MODIFIED:20260408T174230Z
UID:10059523-1776175200-1776180600@nlpl.ca
SUMMARY:Breastfeeding Clinic
DESCRIPTION:Drop in to the Conception Bay South Public Library for the Breastfeeding Clinic provided by Community Health\, Drop in for parents and babies.
URL:https://nlpl.ca/events/breastfeeding-clinic-3/2026-04-14/
LOCATION:Conception Bay South Public Library\, 10 Remembrance Square\, Conception Bay South\, NL\, Canada
CATEGORIES:Heath & Wellbeing,Kids & Families
ATTACH;FMTTYPE=image/jpeg:https://nlpl.ca/wp-content/uploads/2023/03/Events-Health-and-Wellbeing.jpg
ORGANIZER;CN="Conception Bay South Public Library":MAILTO:conceptionbaysouth@nlpl.ca
END:VEVENT
BEGIN:VEVENT
DTSTART;TZID=America/St_Johns:20260414T140000
DTEND;TZID=America/St_Johns:20260414T153000
DTSTAMP:20260424T075938
CREATED:20260103T135944Z
LAST-MODIFIED:20260325T214808Z
UID:10060259-1776175200-1776180600@nlpl.ca
SUMMARY:BabyTime PlayTime
DESCRIPTION:Drop-in for playtime and socializing for babies (ages 0-2) and parents/caregivers
URL:https://nlpl.ca/events/babytime-playtime/2026-04-14/
LOCATION:Corner Brook Public Library\, 4 West Street\, Corner Brook\, NL\, A2H 0C1\, Canada
END:VEVENT
BEGIN:VEVENT
DTSTART;TZID=America/St_Johns:20260414T150000
DTEND;TZID=America/St_Johns:20260414T160000
DTSTAMP:20260424T075938
CREATED:20251103T201201Z
LAST-MODIFIED:20251125T194640Z
UID:10053837-1776178800-1776182400@nlpl.ca
SUMMARY:Family Passive Play
DESCRIPTION:
URL:https://nlpl.ca/events/family-passive-play/2026-04-14/
LOCATION:Bishop’s Falls Public Library\, 445 Main Street\, Bishop's Falls\, NL\, A0H 1C0\, Canada
END:VEVENT
BEGIN:VEVENT
DTSTART;TZID=America/St_Johns:20260414T150000
DTEND;TZID=America/St_Johns:20260414T170000
DTSTAMP:20260424T075938
CREATED:20260327T185539Z
LAST-MODIFIED:20260327T185540Z
UID:10060384-1776178800-1776186000@nlpl.ca
SUMMARY:Homework Club
DESCRIPTION:Need a place to study? \nCome to Library every Tuesday & Wednesday @ 3pm \nfor a quite place to study.
URL:https://nlpl.ca/events/homework-club-3-2-2-2-2-2-2-2/2026-04-14/
LOCATION:Fogo Island Public Library\, 1 Iceberg Arena Road\, Fogo Island Central\, NL\, A0G 2B0\, Canada
CATEGORIES:Classes & Workshops
END:VEVENT
BEGIN:VEVENT
DTSTART;TZID=America/St_Johns:20260414T153000
DTEND;TZID=America/St_Johns:20260414T163000
DTSTAMP:20260424T075938
CREATED:20250821T155247Z
LAST-MODIFIED:20260415T221903Z
UID:10059529-1776180600-1776184200@nlpl.ca
SUMMARY:Baby Play Group
DESCRIPTION:Drop in to the Conception Bay South Public Library where the storytime room  will be open for baby play time\, with baby-friendly toys available! This is a drop-in program\, best suited for ages 0-2.
URL:https://nlpl.ca/events/baby-play-group/2026-04-14/
LOCATION:Conception Bay South Public Library\, 10 Remembrance Square\, Conception Bay South\, NL\, Canada
CATEGORIES:Kids & Families
ATTACH;FMTTYPE=image/jpeg:https://nlpl.ca/wp-content/uploads/2023/03/Events-Kid-Families.jpg
END:VEVENT
BEGIN:VEVENT
DTSTART;TZID=America/St_Johns:20260414T160000
DTEND;TZID=America/St_Johns:20260414T170000
DTSTAMP:20260424T075938
CREATED:20250630T172012Z
LAST-MODIFIED:20260312T153102Z
UID:10059946-1776182400-1776186000@nlpl.ca
SUMMARY:Sensory Hour
DESCRIPTION:Harmsworth Public Library – Sensory-friendly browsing hour that includes reduced lighting and reduced noise.
URL:https://nlpl.ca/events/sensory-hour-4-2/2026-04-14/
LOCATION:Grand Falls-Windsor (Harmsworth) Public Library\, 1 Cromer Avenue\, Grand Falls - Windsor\, NL\, A2A 1W9\, Canada
CATEGORIES:Heath & Wellbeing
END:VEVENT
BEGIN:VEVENT
DTSTART;TZID=America/St_Johns:20260414T160000
DTEND;TZID=America/St_Johns:20260414T170000
DTSTAMP:20260424T075938
CREATED:20260327T185026Z
LAST-MODIFIED:20260327T185048Z
UID:10060374-1776182400-1776186000@nlpl.ca
SUMMARY:Drop in and Play
DESCRIPTION:This event will be ongoing throughout the summer. Drop in and play hour is every Tuesday  from 2:30 p.m. to 5 p.m.  children must be accompanied by an adult. Please call the library at \n709-266-2210 for more information. \n\n\n\n\n Add to calendar
URL:https://nlpl.ca/events/drop-in-and-play-2-2-2-2-2-2-2-2-2-2/2026-04-14/
LOCATION:Fogo Island Public Library\, 1 Iceberg Arena Road\, Fogo Island Central\, NL\, A0G 2B0\, Canada
CATEGORIES:Kids & Families
END:VEVENT
BEGIN:VEVENT
DTSTART;TZID=America/St_Johns:20260414T173000
DTEND;TZID=America/St_Johns:20260414T193000
DTSTAMP:20260424T075938
CREATED:20260105T144032Z
LAST-MODIFIED:20260312T152652Z
UID:10059922-1776187800-1776195000@nlpl.ca
SUMMARY:Dungeons & Dragons
DESCRIPTION:Harmsworth Public Library – Curious about Dungeons & Dragons? Are you looking to join a new group? Join us every Tuesday from 5:30 to 7:30 PM. \nNew and experienced players welcome. 13+ years. \nTo register\, phone #709-489-2303 or visit the library \n 
URL:https://nlpl.ca/events/dungeons-dragons-3-2/2026-04-14/
LOCATION:Grand Falls-Windsor (Harmsworth) Public Library\, 1 Cromer Avenue\, Grand Falls - Windsor\, NL\, A2A 1W9\, Canada
CATEGORIES:Hobbies, Crafts & Games
ATTACH;FMTTYPE=image/jpeg:https://nlpl.ca/wp-content/uploads/2023/03/Events-Hobbies-Crafts-and-Games.jpg
END:VEVENT
BEGIN:VEVENT
DTSTART;TZID=America/St_Johns:20260414T173000
DTEND;TZID=America/St_Johns:20260414T193000
DTSTAMP:20260424T075938
CREATED:20260319T165913Z
LAST-MODIFIED:20260319T165914Z
UID:10059823-1776187800-1776195000@nlpl.ca
SUMMARY:Creative Commons
DESCRIPTION:Join us at the Port aux Basques Public Library every Tuesday evening from 5:30-7:30 pm for Creative Commons. Bring any current arts\, crafts\, writing or musical project you’re working on and join other creatives to enjoy each other’s company and share the creative spark! Please provide your own art supplies.
URL:https://nlpl.ca/events/creative-commons-2/2026-04-14/
LOCATION:Port aux Basques Public Library\, 8 Grand Bay\, Port aux Basques\, NL\, A0M 1C0\, Canada
CATEGORIES:Hobbies, Crafts & Games
ATTACH;FMTTYPE=image/jpeg:https://nlpl.ca/wp-content/uploads/2023/03/Events-Hobbies-Crafts-and-Games.jpg
END:VEVENT
BEGIN:VEVENT
DTSTART;TZID=America/St_Johns:20260414T173000
DTEND;TZID=America/St_Johns:20260414T193000
DTSTAMP:20260424T075938
CREATED:20260404T145410Z
LAST-MODIFIED:20260413T141211Z
UID:10060570-1776187800-1776195000@nlpl.ca
SUMMARY:SKEET Movie Screening
DESCRIPTION:In celebration of Canadian National Film Day the Port aux Basques Public Library will be hosting a showing of the movie “SKEET” \nRegistration is required as seating is limited. Please call 695-3471 to register or click the registration button above. \nAbout the film: \nSkeet is a 2024 award-winning NL/Canadian drama from director Nik Sexton and producer Mary Sexton\, Rink Rat Productions\, starring Sean Dalton and Jay Abdo. Fresh out of prison\, Billy Skinner returns to his transformed low-income neighbourhood\, now populated by Syrian refugees. Struggling to overcome his dark past\, Billy forges an unexpected bond with Mo\, a compassionate Syrian immigrant determined to build a better life for his family. \nAges: Adult/14+
URL:https://nlpl.ca/events/skeet-movie-screening/
LOCATION:Port aux Basques Public Library\, 8 Grand Bay\, Port aux Basques\, NL\, A0M 1C0\, Canada
CATEGORIES:Arts & Culture
END:VEVENT
BEGIN:VEVENT
DTSTART;TZID=America/St_Johns:20260414T173000
DTEND;TZID=America/St_Johns:20260414T193000
DTSTAMP:20260424T075938
CREATED:20260413T132357Z
LAST-MODIFIED:20260413T132357Z
UID:10061438-1776187800-1776195000@nlpl.ca
SUMMARY:Drop-In Tech Help
DESCRIPTION:Have questions about technology? Or want to learn more about programs like Microsoft Word and Excel? Drop by the library and our librarians will do their best to answer your questions! No sign-up required!
URL:https://nlpl.ca/events/drop-in-tech-help-2/2026-04-14/
CATEGORIES:Technology & Makerspace
ATTACH;FMTTYPE=image/jpeg:https://nlpl.ca/wp-content/uploads/2023/11/Events-Tech-Makerspace.jpg
END:VEVENT
BEGIN:VEVENT
DTSTART;TZID=America/St_Johns:20260414T180000
DTEND;TZID=America/St_Johns:20260414T190000
DTSTAMP:20260424T075938
CREATED:20250611T171253Z
LAST-MODIFIED:20260402T133848Z
UID:10043824-1776189600-1776193200@nlpl.ca
SUMMARY:Desperately Seeking Page Turners - Book Club
DESCRIPTION:Grander Public Library – Adult book club – Meets the second Tuesday of the month to discuss their book of choice
URL:https://nlpl.ca/events/desperately-seeking-page-turners-book-club-6/
LOCATION:Gander Public & Resource Library\, 6 Bell Place\, Gander\, NL\, A1V 1X2\, Canada
CATEGORIES:Book Clubs & Writer’s Groups
ATTACH;FMTTYPE=image/jpeg:https://nlpl.ca/wp-content/uploads/2023/03/Events-Book-Clubs-and-Writing-Groups.jpg
END:VEVENT
END:VCALENDAR