BEGIN:VCALENDAR
VERSION:2.0
PRODID:-//Newfoundland &amp; Labrador Public Libraries - ECPv6.15.20//NONSGML v1.0//EN
CALSCALE:GREGORIAN
METHOD:PUBLISH
X-WR-CALNAME:Newfoundland &amp; Labrador Public Libraries
X-ORIGINAL-URL:https://nlpl.ca
X-WR-CALDESC:Events for Newfoundland &amp; Labrador Public Libraries
REFRESH-INTERVAL;VALUE=DURATION:PT1H
X-Robots-Tag:noindex
X-PUBLISHED-TTL:PT1H
BEGIN:VTIMEZONE
TZID:America/St_Johns
BEGIN:DAYLIGHT
TZOFFSETFROM:-0330
TZOFFSETTO:-0230
TZNAME:NDT
DTSTART:20270314T053000
END:DAYLIGHT
BEGIN:STANDARD
TZOFFSETFROM:-0230
TZOFFSETTO:-0330
TZNAME:NST
DTSTART:20271107T043000
END:STANDARD
BEGIN:DAYLIGHT
TZOFFSETFROM:-0330
TZOFFSETTO:-0230
TZNAME:NDT
DTSTART:20280312T053000
END:DAYLIGHT
BEGIN:STANDARD
TZOFFSETFROM:-0230
TZOFFSETTO:-0330
TZNAME:NST
DTSTART:20281105T043000
END:STANDARD
BEGIN:DAYLIGHT
TZOFFSETFROM:-0330
TZOFFSETTO:-0230
TZNAME:NDT
DTSTART:20290311T053000
END:DAYLIGHT
BEGIN:STANDARD
TZOFFSETFROM:-0230
TZOFFSETTO:-0330
TZNAME:NST
DTSTART:20291104T043000
END:STANDARD
END:VTIMEZONE
BEGIN:VEVENT
DTSTART;TZID=America/St_Johns:20281017T180000
DTEND;TZID=America/St_Johns:20281017T203000
DTSTAMP:20260421T230137
CREATED:20260407T222359Z
LAST-MODIFIED:20260407T222435Z
UID:10061012-1855418400-1855427400@nlpl.ca
SUMMARY:Adult Puzzle Night - Thursday May 26
DESCRIPTION:
URL:https://nlpl.ca/events/adult-puzzle-night-thursday-may-26/2028-10-17/
LOCATION:NL
END:VEVENT
BEGIN:VEVENT
DTSTART;TZID=America/St_Johns:20281010T180000
DTEND;TZID=America/St_Johns:20281010T203000
DTSTAMP:20260421T230137
CREATED:20260407T222359Z
LAST-MODIFIED:20260407T222435Z
UID:10061011-1854813600-1854822600@nlpl.ca
SUMMARY:Adult Puzzle Night - Thursday May 26
DESCRIPTION:
URL:https://nlpl.ca/events/adult-puzzle-night-thursday-may-26/2028-10-10/
LOCATION:NL
END:VEVENT
BEGIN:VEVENT
DTSTART;TZID=America/St_Johns:20281003T180000
DTEND;TZID=America/St_Johns:20281003T203000
DTSTAMP:20260421T230137
CREATED:20260407T222359Z
LAST-MODIFIED:20260407T222435Z
UID:10061010-1854208800-1854217800@nlpl.ca
SUMMARY:Adult Puzzle Night - Thursday May 26
DESCRIPTION:
URL:https://nlpl.ca/events/adult-puzzle-night-thursday-may-26/2028-10-03/
LOCATION:NL
END:VEVENT
BEGIN:VEVENT
DTSTART;TZID=America/St_Johns:20280926T180000
DTEND;TZID=America/St_Johns:20280926T203000
DTSTAMP:20260421T230137
CREATED:20260407T222359Z
LAST-MODIFIED:20260407T222435Z
UID:10061009-1853604000-1853613000@nlpl.ca
SUMMARY:Adult Puzzle Night - Thursday May 26
DESCRIPTION:
URL:https://nlpl.ca/events/adult-puzzle-night-thursday-may-26/2028-09-26/
LOCATION:NL
END:VEVENT
BEGIN:VEVENT
DTSTART;TZID=America/St_Johns:20280919T180000
DTEND;TZID=America/St_Johns:20280919T203000
DTSTAMP:20260421T230137
CREATED:20260407T222359Z
LAST-MODIFIED:20260407T222435Z
UID:10061008-1852999200-1853008200@nlpl.ca
SUMMARY:Adult Puzzle Night - Thursday May 26
DESCRIPTION:
URL:https://nlpl.ca/events/adult-puzzle-night-thursday-may-26/2028-09-19/
LOCATION:NL
END:VEVENT
BEGIN:VEVENT
DTSTART;TZID=America/St_Johns:20280912T180000
DTEND;TZID=America/St_Johns:20280912T203000
DTSTAMP:20260421T230137
CREATED:20260407T222359Z
LAST-MODIFIED:20260407T222435Z
UID:10061007-1852394400-1852403400@nlpl.ca
SUMMARY:Adult Puzzle Night - Thursday May 26
DESCRIPTION:
URL:https://nlpl.ca/events/adult-puzzle-night-thursday-may-26/2028-09-12/
LOCATION:NL
END:VEVENT
BEGIN:VEVENT
DTSTART;TZID=America/St_Johns:20280905T180000
DTEND;TZID=America/St_Johns:20280905T203000
DTSTAMP:20260421T230137
CREATED:20260407T222359Z
LAST-MODIFIED:20260407T222435Z
UID:10061006-1851789600-1851798600@nlpl.ca
SUMMARY:Adult Puzzle Night - Thursday May 26
DESCRIPTION:
URL:https://nlpl.ca/events/adult-puzzle-night-thursday-may-26/2028-09-05/
LOCATION:NL
END:VEVENT
BEGIN:VEVENT
DTSTART;TZID=America/St_Johns:20280829T180000
DTEND;TZID=America/St_Johns:20280829T203000
DTSTAMP:20260421T230137
CREATED:20260407T222359Z
LAST-MODIFIED:20260407T222435Z
UID:10061005-1851184800-1851193800@nlpl.ca
SUMMARY:Adult Puzzle Night - Thursday May 26
DESCRIPTION:
URL:https://nlpl.ca/events/adult-puzzle-night-thursday-may-26/2028-08-29/
LOCATION:NL
END:VEVENT
BEGIN:VEVENT
DTSTART;TZID=America/St_Johns:20280822T180000
DTEND;TZID=America/St_Johns:20280822T203000
DTSTAMP:20260421T230137
CREATED:20260407T222359Z
LAST-MODIFIED:20260407T222435Z
UID:10061004-1850580000-1850589000@nlpl.ca
SUMMARY:Adult Puzzle Night - Thursday May 26
DESCRIPTION:
URL:https://nlpl.ca/events/adult-puzzle-night-thursday-may-26/2028-08-22/
LOCATION:NL
END:VEVENT
BEGIN:VEVENT
DTSTART;TZID=America/St_Johns:20280815T180000
DTEND;TZID=America/St_Johns:20280815T203000
DTSTAMP:20260421T230137
CREATED:20260407T222359Z
LAST-MODIFIED:20260407T222435Z
UID:10061003-1849975200-1849984200@nlpl.ca
SUMMARY:Adult Puzzle Night - Thursday May 26
DESCRIPTION:
URL:https://nlpl.ca/events/adult-puzzle-night-thursday-may-26/2028-08-15/
LOCATION:NL
END:VEVENT
BEGIN:VEVENT
DTSTART;TZID=America/St_Johns:20280808T180000
DTEND;TZID=America/St_Johns:20280808T203000
DTSTAMP:20260421T230137
CREATED:20260407T222359Z
LAST-MODIFIED:20260407T222435Z
UID:10061002-1849370400-1849379400@nlpl.ca
SUMMARY:Adult Puzzle Night - Thursday May 26
DESCRIPTION:
URL:https://nlpl.ca/events/adult-puzzle-night-thursday-may-26/2028-08-08/
LOCATION:NL
END:VEVENT
BEGIN:VEVENT
DTSTART;TZID=America/St_Johns:20280801T180000
DTEND;TZID=America/St_Johns:20280801T203000
DTSTAMP:20260421T230137
CREATED:20260407T222359Z
LAST-MODIFIED:20260407T222435Z
UID:10061001-1848765600-1848774600@nlpl.ca
SUMMARY:Adult Puzzle Night - Thursday May 26
DESCRIPTION:
URL:https://nlpl.ca/events/adult-puzzle-night-thursday-may-26/2028-08-01/
LOCATION:NL
END:VEVENT
BEGIN:VEVENT
DTSTART;TZID=America/St_Johns:20280725T180000
DTEND;TZID=America/St_Johns:20280725T203000
DTSTAMP:20260421T230137
CREATED:20260407T222359Z
LAST-MODIFIED:20260407T222435Z
UID:10061000-1848160800-1848169800@nlpl.ca
SUMMARY:Adult Puzzle Night - Thursday May 26
DESCRIPTION:
URL:https://nlpl.ca/events/adult-puzzle-night-thursday-may-26/2028-07-25/
LOCATION:NL
END:VEVENT
BEGIN:VEVENT
DTSTART;TZID=America/St_Johns:20280718T180000
DTEND;TZID=America/St_Johns:20280718T203000
DTSTAMP:20260421T230137
CREATED:20260407T222359Z
LAST-MODIFIED:20260407T222435Z
UID:10060999-1847556000-1847565000@nlpl.ca
SUMMARY:Adult Puzzle Night - Thursday May 26
DESCRIPTION:
URL:https://nlpl.ca/events/adult-puzzle-night-thursday-may-26/2028-07-18/
LOCATION:NL
END:VEVENT
BEGIN:VEVENT
DTSTART;TZID=America/St_Johns:20280711T180000
DTEND;TZID=America/St_Johns:20280711T203000
DTSTAMP:20260421T230137
CREATED:20260407T222359Z
LAST-MODIFIED:20260407T222435Z
UID:10060998-1846951200-1846960200@nlpl.ca
SUMMARY:Adult Puzzle Night - Thursday May 26
DESCRIPTION:
URL:https://nlpl.ca/events/adult-puzzle-night-thursday-may-26/2028-07-11/
LOCATION:NL
END:VEVENT
BEGIN:VEVENT
DTSTART;TZID=America/St_Johns:20280704T180000
DTEND;TZID=America/St_Johns:20280704T203000
DTSTAMP:20260421T230137
CREATED:20260407T222359Z
LAST-MODIFIED:20260407T222435Z
UID:10060997-1846346400-1846355400@nlpl.ca
SUMMARY:Adult Puzzle Night - Thursday May 26
DESCRIPTION:
URL:https://nlpl.ca/events/adult-puzzle-night-thursday-may-26/2028-07-04/
LOCATION:NL
END:VEVENT
BEGIN:VEVENT
DTSTART;TZID=America/St_Johns:20280627T180000
DTEND;TZID=America/St_Johns:20280627T203000
DTSTAMP:20260421T230137
CREATED:20260407T222359Z
LAST-MODIFIED:20260407T222435Z
UID:10060996-1845741600-1845750600@nlpl.ca
SUMMARY:Adult Puzzle Night - Thursday May 26
DESCRIPTION:
URL:https://nlpl.ca/events/adult-puzzle-night-thursday-may-26/2028-06-27/
LOCATION:NL
END:VEVENT
BEGIN:VEVENT
DTSTART;TZID=America/St_Johns:20280620T180000
DTEND;TZID=America/St_Johns:20280620T203000
DTSTAMP:20260421T230137
CREATED:20260407T222359Z
LAST-MODIFIED:20260407T222435Z
UID:10060995-1845136800-1845145800@nlpl.ca
SUMMARY:Adult Puzzle Night - Thursday May 26
DESCRIPTION:
URL:https://nlpl.ca/events/adult-puzzle-night-thursday-may-26/2028-06-20/
LOCATION:NL
END:VEVENT
BEGIN:VEVENT
DTSTART;TZID=America/St_Johns:20280613T180000
DTEND;TZID=America/St_Johns:20280613T203000
DTSTAMP:20260421T230137
CREATED:20260407T222359Z
LAST-MODIFIED:20260407T222435Z
UID:10060994-1844532000-1844541000@nlpl.ca
SUMMARY:Adult Puzzle Night - Thursday May 26
DESCRIPTION:
URL:https://nlpl.ca/events/adult-puzzle-night-thursday-may-26/2028-06-13/
LOCATION:NL
END:VEVENT
BEGIN:VEVENT
DTSTART;TZID=America/St_Johns:20280606T180000
DTEND;TZID=America/St_Johns:20280606T203000
DTSTAMP:20260421T230137
CREATED:20260407T222359Z
LAST-MODIFIED:20260407T222435Z
UID:10060993-1843927200-1843936200@nlpl.ca
SUMMARY:Adult Puzzle Night - Thursday May 26
DESCRIPTION:
URL:https://nlpl.ca/events/adult-puzzle-night-thursday-may-26/2028-06-06/
LOCATION:NL
END:VEVENT
BEGIN:VEVENT
DTSTART;TZID=America/St_Johns:20280530T180000
DTEND;TZID=America/St_Johns:20280530T203000
DTSTAMP:20260421T230137
CREATED:20260407T222359Z
LAST-MODIFIED:20260407T222435Z
UID:10060992-1843322400-1843331400@nlpl.ca
SUMMARY:Adult Puzzle Night - Thursday May 26
DESCRIPTION:
URL:https://nlpl.ca/events/adult-puzzle-night-thursday-may-26/2028-05-30/
LOCATION:NL
END:VEVENT
BEGIN:VEVENT
DTSTART;TZID=America/St_Johns:20280523T180000
DTEND;TZID=America/St_Johns:20280523T203000
DTSTAMP:20260421T230137
CREATED:20260407T222359Z
LAST-MODIFIED:20260407T222435Z
UID:10060991-1842717600-1842726600@nlpl.ca
SUMMARY:Adult Puzzle Night - Thursday May 26
DESCRIPTION:
URL:https://nlpl.ca/events/adult-puzzle-night-thursday-may-26/2028-05-23/
LOCATION:NL
END:VEVENT
BEGIN:VEVENT
DTSTART;TZID=America/St_Johns:20280516T180000
DTEND;TZID=America/St_Johns:20280516T203000
DTSTAMP:20260421T230137
CREATED:20260407T222359Z
LAST-MODIFIED:20260407T222435Z
UID:10060990-1842112800-1842121800@nlpl.ca
SUMMARY:Adult Puzzle Night - Thursday May 26
DESCRIPTION:
URL:https://nlpl.ca/events/adult-puzzle-night-thursday-may-26/2028-05-16/
LOCATION:NL
END:VEVENT
BEGIN:VEVENT
DTSTART;TZID=America/St_Johns:20280509T180000
DTEND;TZID=America/St_Johns:20280509T203000
DTSTAMP:20260421T230137
CREATED:20260407T222359Z
LAST-MODIFIED:20260407T222435Z
UID:10060989-1841508000-1841517000@nlpl.ca
SUMMARY:Adult Puzzle Night - Thursday May 26
DESCRIPTION:
URL:https://nlpl.ca/events/adult-puzzle-night-thursday-may-26/2028-05-09/
LOCATION:NL
END:VEVENT
BEGIN:VEVENT
DTSTART;TZID=America/St_Johns:20280502T180000
DTEND;TZID=America/St_Johns:20280502T203000
DTSTAMP:20260421T230137
CREATED:20260407T222359Z
LAST-MODIFIED:20260407T222435Z
UID:10060988-1840903200-1840912200@nlpl.ca
SUMMARY:Adult Puzzle Night - Thursday May 26
DESCRIPTION:
URL:https://nlpl.ca/events/adult-puzzle-night-thursday-may-26/2028-05-02/
LOCATION:NL
END:VEVENT
BEGIN:VEVENT
DTSTART;TZID=America/St_Johns:20280425T180000
DTEND;TZID=America/St_Johns:20280425T203000
DTSTAMP:20260421T230137
CREATED:20260407T222359Z
LAST-MODIFIED:20260407T222435Z
UID:10060987-1840298400-1840307400@nlpl.ca
SUMMARY:Adult Puzzle Night - Thursday May 26
DESCRIPTION:
URL:https://nlpl.ca/events/adult-puzzle-night-thursday-may-26/2028-04-25/
LOCATION:NL
END:VEVENT
BEGIN:VEVENT
DTSTART;TZID=America/St_Johns:20280418T180000
DTEND;TZID=America/St_Johns:20280418T203000
DTSTAMP:20260421T230137
CREATED:20260407T222359Z
LAST-MODIFIED:20260407T222435Z
UID:10060986-1839693600-1839702600@nlpl.ca
SUMMARY:Adult Puzzle Night - Thursday May 26
DESCRIPTION:
URL:https://nlpl.ca/events/adult-puzzle-night-thursday-may-26/2028-04-18/
LOCATION:NL
END:VEVENT
BEGIN:VEVENT
DTSTART;TZID=America/St_Johns:20280411T180000
DTEND;TZID=America/St_Johns:20280411T203000
DTSTAMP:20260421T230137
CREATED:20260407T222359Z
LAST-MODIFIED:20260407T222435Z
UID:10060985-1839088800-1839097800@nlpl.ca
SUMMARY:Adult Puzzle Night - Thursday May 26
DESCRIPTION:
URL:https://nlpl.ca/events/adult-puzzle-night-thursday-may-26/2028-04-11/
LOCATION:NL
END:VEVENT
BEGIN:VEVENT
DTSTART;TZID=America/St_Johns:20280404T180000
DTEND;TZID=America/St_Johns:20280404T203000
DTSTAMP:20260421T230137
CREATED:20260407T222359Z
LAST-MODIFIED:20260407T222435Z
UID:10060984-1838484000-1838493000@nlpl.ca
SUMMARY:Adult Puzzle Night - Thursday May 26
DESCRIPTION:
URL:https://nlpl.ca/events/adult-puzzle-night-thursday-may-26/2028-04-04/
LOCATION:NL
END:VEVENT
BEGIN:VEVENT
DTSTART;TZID=America/St_Johns:20280328T180000
DTEND;TZID=America/St_Johns:20280328T203000
DTSTAMP:20260421T230137
CREATED:20260407T222359Z
LAST-MODIFIED:20260407T222435Z
UID:10060983-1837879200-1837888200@nlpl.ca
SUMMARY:Adult Puzzle Night - Thursday May 26
DESCRIPTION:
URL:https://nlpl.ca/events/adult-puzzle-night-thursday-may-26/2028-03-28/
LOCATION:NL
END:VEVENT
END:VCALENDAR