BEGIN:VCALENDAR
VERSION:2.0
PRODID:-//Newfoundland &amp; Labrador Public Libraries - ECPv6.15.20//NONSGML v1.0//EN
CALSCALE:GREGORIAN
METHOD:PUBLISH
X-ORIGINAL-URL:https://nlpl.ca
X-WR-CALDESC:Events for Newfoundland &amp; Labrador Public Libraries
REFRESH-INTERVAL;VALUE=DURATION:PT1H
X-Robots-Tag:noindex
X-PUBLISHED-TTL:PT1H
BEGIN:VTIMEZONE
TZID:America/St_Johns
BEGIN:DAYLIGHT
TZOFFSETFROM:-0330
TZOFFSETTO:-0230
TZNAME:NDT
DTSTART:20250309T053000
END:DAYLIGHT
BEGIN:STANDARD
TZOFFSETFROM:-0230
TZOFFSETTO:-0330
TZNAME:NST
DTSTART:20251102T043000
END:STANDARD
BEGIN:DAYLIGHT
TZOFFSETFROM:-0330
TZOFFSETTO:-0230
TZNAME:NDT
DTSTART:20260308T053000
END:DAYLIGHT
BEGIN:STANDARD
TZOFFSETFROM:-0230
TZOFFSETTO:-0330
TZNAME:NST
DTSTART:20261101T043000
END:STANDARD
BEGIN:DAYLIGHT
TZOFFSETFROM:-0330
TZOFFSETTO:-0230
TZNAME:NDT
DTSTART:20270314T053000
END:DAYLIGHT
BEGIN:STANDARD
TZOFFSETFROM:-0230
TZOFFSETTO:-0330
TZNAME:NST
DTSTART:20271107T043000
END:STANDARD
END:VTIMEZONE
BEGIN:VEVENT
DTSTART;TZID=America/St_Johns:20260602T173000
DTEND;TZID=America/St_Johns:20260602T193000
DTSTAMP:20260421T093935
CREATED:20260319T165913Z
LAST-MODIFIED:20260319T165914Z
UID:10059830-1780421400-1780428600@nlpl.ca
SUMMARY:Creative Commons
DESCRIPTION:Join us at the Port aux Basques Public Library every Tuesday evening from 5:30-7:30 pm for Creative Commons. Bring any current arts\, crafts\, writing or musical project you’re working on and join other creatives to enjoy each other’s company and share the creative spark! Please provide your own art supplies.
URL:https://nlpl.ca/events/creative-commons-2/2026-06-02/
LOCATION:Port aux Basques Public Library\, 8 Grand Bay\, Port aux Basques\, NL\, A0M 1C0\, Canada
CATEGORIES:Hobbies, Crafts & Games
ATTACH;FMTTYPE=image/jpeg:https://nlpl.ca/wp-content/uploads/2023/03/Events-Hobbies-Crafts-and-Games.jpg
END:VEVENT
BEGIN:VEVENT
DTSTART;TZID=America/St_Johns:20260602T180000
DTEND;TZID=America/St_Johns:20260602T190000
DTSTAMP:20260421T093935
CREATED:20260102T193405Z
LAST-MODIFIED:20260102T193514Z
UID:10055599-1780423200-1780426800@nlpl.ca
SUMMARY:Sensory Hour
DESCRIPTION:Grander Public Library – Quiet Area\, Reduced Noise and Lighting. All ages.
URL:https://nlpl.ca/events/sensory-hour-2-2/2026-06-02/
LOCATION:Gander Public & Resource Library\, 6 Bell Place\, Gander\, NL\, A1V 1X2\, Canada
CATEGORIES:Heath & Wellbeing
ATTACH;FMTTYPE=image/jpeg:https://nlpl.ca/wp-content/uploads/2019/04/Depositphotos_3928992_xl-2015.jpg
END:VEVENT
BEGIN:VEVENT
DTSTART;TZID=America/St_Johns:20260602T180000
DTEND;TZID=America/St_Johns:20260602T203000
DTSTAMP:20260421T093935
CREATED:20260407T222359Z
LAST-MODIFIED:20260407T222435Z
UID:10060888-1780423200-1780432200@nlpl.ca
SUMMARY:Adult Puzzle Night - Thursday May 26
DESCRIPTION:
URL:https://nlpl.ca/events/adult-puzzle-night-thursday-may-26/2026-06-02/
LOCATION:NL
END:VEVENT
BEGIN:VEVENT
DTSTART;TZID=America/St_Johns:20260602T180000
DTEND;TZID=America/St_Johns:20260602T203000
DTSTAMP:20260421T093935
CREATED:20260407T222643Z
LAST-MODIFIED:20260407T222734Z
UID:10061149-1780423200-1780432200@nlpl.ca
SUMMARY:Adult Puzzle Night Every Tuesday! - Buchans Public Library
DESCRIPTION:Come to the library from 6:00 – 8:30 every Tuesday evening for Adult Puzzle Night! Friendly conversation\, coffee/ tea.
URL:https://nlpl.ca/events/adult-puzzle-night-every-tuesday-buchans-public-library/2026-06-02/
LOCATION:NL
END:VEVENT
BEGIN:VEVENT
DTSTART;TZID=America/St_Johns:20260603T100000
DTEND;TZID=America/St_Johns:20260603T130000
DTSTAMP:20260421T093935
CREATED:20240903T132133Z
LAST-MODIFIED:20260415T215148Z
UID:10061450-1780480800-1780491600@nlpl.ca
SUMMARY:Rug Hooking
DESCRIPTION:Drop in group at the Conception Bay South Public Library for crafters to work on their own projects with company.\nAll skill levels are welcome.
URL:https://nlpl.ca/events/rug-hooking/2026-06-03/
LOCATION:Conception Bay South Public Library\, 10 Remembrance Square\, Conception Bay South\, NL\, Canada
CATEGORIES:Hobbies, Crafts & Games
ATTACH;FMTTYPE=image/jpeg:https://nlpl.ca/wp-content/uploads/2023/03/Events-Hobbies-Crafts-and-Games.jpg
ORGANIZER;CN="Conception Bay South Public Library":MAILTO:conceptionbaysouth@nlpl.ca
END:VEVENT
BEGIN:VEVENT
DTSTART;TZID=America/St_Johns:20260603T130000
DTEND;TZID=America/St_Johns:20260603T153000
DTSTAMP:20260421T093935
CREATED:20260219T131709Z
LAST-MODIFIED:20260219T131709Z
UID:10059319-1780491600-1780500600@nlpl.ca
SUMMARY:Knitting Group
DESCRIPTION:Adult knitting group\, non-instructive. Join others who share in a love of knitting. Bring your projects and knit with friends\, old and new!
URL:https://nlpl.ca/events/knitting-group-2/2026-06-03/
LOCATION:Stephenville Public Library (Kindale)\, 45 Carolina Ave.\, Stephenville\, NL\, A2N 3P8\, Canada
CATEGORIES:Hobbies, Crafts & Games
ATTACH;FMTTYPE=image/jpeg:https://nlpl.ca/wp-content/uploads/2023/03/Events-Hobbies-Crafts-and-Games.jpg
END:VEVENT
BEGIN:VEVENT
DTSTART;TZID=America/St_Johns:20260603T133000
DTEND;TZID=America/St_Johns:20260603T140000
DTSTAMP:20260421T093935
CREATED:20260416T185923Z
LAST-MODIFIED:20260416T185923Z
UID:10061515-1780493400-1780495200@nlpl.ca
SUMMARY:Storytime
DESCRIPTION:Storytime for the Kinderstart group will take place on Wednesdays at 1:30\, beginning April 29th. The Family Resource Centre has a program on Wednesday afternoons from 1:00-2:30. If you would like to start at the FRC and visit the library at 1:30\, that would be great.
URL:https://nlpl.ca/events/storytime-4/2026-06-03/
LOCATION:Centreville Public Library\, 2 Memory Lane\, Centreville\, NL\, A0G 4P0\, Canada
CATEGORIES:Kids & Families,Storytime
END:VEVENT
BEGIN:VEVENT
DTSTART;TZID=America/St_Johns:20260603T140000
DTEND;TZID=America/St_Johns:20260603T153000
DTSTAMP:20260421T093935
CREATED:20260102T194258Z
LAST-MODIFIED:20260102T194922Z
UID:10055625-1780495200-1780500600@nlpl.ca
SUMMARY:Crafter's Corner
DESCRIPTION:Grander Public Library – Bring in a project that you are working on. Either it be knitting\, crochet\, rug hooking
URL:https://nlpl.ca/events/crafters-corner-3-2-2/2026-06-03/
LOCATION:Gander Public & Resource Library\, 6 Bell Place\, Gander\, NL\, A1V 1X2\, Canada
CATEGORIES:Hobbies, Crafts & Games
ATTACH;FMTTYPE=image/jpeg:https://nlpl.ca/wp-content/uploads/2023/03/Events-Hobbies-Crafts-and-Games.jpg
END:VEVENT
BEGIN:VEVENT
DTSTART;TZID=America/St_Johns:20260603T180000
DTEND;TZID=America/St_Johns:20260603T190000
DTSTAMP:20260421T093935
CREATED:20240903T133648Z
LAST-MODIFIED:20260415T215847Z
UID:10061465-1780509600-1780513200@nlpl.ca
SUMMARY:Writer's Group
DESCRIPTION:Join us at the Conception Bay South Public Library! This is a drop in group for people with a passion for creative writing!
URL:https://nlpl.ca/events/writers-group/2026-06-03/
LOCATION:Conception Bay South Public Library\, 10 Remembrance Square\, Conception Bay South\, NL\, Canada
CATEGORIES:Book Clubs & Writer’s Groups
ATTACH;FMTTYPE=image/jpeg:https://nlpl.ca/wp-content/uploads/2023/03/Events-Book-Clubs-and-Writing-Groups.jpg
END:VEVENT
BEGIN:VEVENT
DTSTART;TZID=America/St_Johns:20260603T180000
DTEND;TZID=America/St_Johns:20260603T200000
DTSTAMP:20260421T093935
CREATED:20260401T215009Z
LAST-MODIFIED:20260401T215009Z
UID:10060478-1780509600-1780516800@nlpl.ca
SUMMARY:Craft and Chat
DESCRIPTION:In partnership with the Association for New Canadians\, join us every second Wednesday for Craft and Chat! Bring along your works-in-progress and enjoy a cozy evening of creativity and conversation with fellow makers.
URL:https://nlpl.ca/events/craft-and-chat/2026-06-03/
LOCATION:St. Anthony Public Library\, 95 West Street\, St. Anthony\, NL\, A0K 4S0\, Canada
CATEGORIES:Hobbies, Crafts & Games
ATTACH;FMTTYPE=image/jpeg:https://nlpl.ca/wp-content/uploads/2023/03/Events-Hobbies-Crafts-and-Games.jpg
ORGANIZER;CN="St. Anthony Pbulic Library":MAILTO:nsa@ill.nlpl.ca
END:VEVENT
BEGIN:VEVENT
DTSTART;TZID=America/St_Johns:20260603T183000
DTEND;TZID=America/St_Johns:20260603T193000
DTSTAMP:20260421T093935
CREATED:20260105T172608Z
LAST-MODIFIED:20260312T172454Z
UID:10059997-1780511400-1780515000@nlpl.ca
SUMMARY:One-on-One Tech Help
DESCRIPTION:Harmsworth Public Library – Do you have a shiny new piece of tech\, but you’re not sure how to use it? Need a little help figuring out how to download an e-book\, share a photo\, or use Microsoft Word? \nMake a one-on-one appointment every Wednesday with our Tech Host\, Joshua. \nWe can provide general help\, tailored tech training\, and show you where to find helpful resources online. \nPlease call #709-489-2303 or drop in to schedule a time.
URL:https://nlpl.ca/events/one-on-one-tech-help-2/2026-06-03/
LOCATION:Grand Falls-Windsor (Harmsworth) Public Library\, 1 Cromer Avenue\, Grand Falls - Windsor\, NL\, A2A 1W9\, Canada
CATEGORIES:Technology & Makerspace
ATTACH;FMTTYPE=image/jpeg:https://nlpl.ca/wp-content/uploads/2023/11/Events-Tech-Makerspace.jpg
END:VEVENT
BEGIN:VEVENT
DTSTART;TZID=America/St_Johns:20260604T100000
DTEND;TZID=America/St_Johns:20260604T110000
DTSTAMP:20260421T093935
CREATED:20260401T215530Z
LAST-MODIFIED:20260401T215530Z
UID:10060508-1780567200-1780570800@nlpl.ca
SUMMARY:Little Learners
DESCRIPTION:Join us in a fun and relaxed setting where kids can enjoy stories\, crafts\, STEM activities\, and more!
URL:https://nlpl.ca/events/little-learners/2026-06-04/
LOCATION:St. Anthony Public Library\, 95 West Street\, St. Anthony\, NL\, A0K 4S0\, Canada
CATEGORIES:Kids & Families
ATTACH;FMTTYPE=image/jpeg:https://nlpl.ca/wp-content/uploads/2023/03/Events-Kid-Families.jpg
ORGANIZER;CN="St. Anthony Pbulic Library":MAILTO:nsa@ill.nlpl.ca
END:VEVENT
BEGIN:VEVENT
DTSTART;TZID=America/St_Johns:20260604T100000
DTEND;TZID=America/St_Johns:20260604T110000
DTSTAMP:20260421T093935
CREATED:20260406T165205Z
LAST-MODIFIED:20260406T165205Z
UID:10060593-1780567200-1780570800@nlpl.ca
SUMMARY:Drop-in Storytime
DESCRIPTION:A drop-in program at A.C. Hunter Children’s Library. \nDrop-in Storytime\nfor ages 0-5 \n30 minutes of stories\, songs\, rhymes and literacy tips for babies and toddlers\, followed by a playtime. No registration required! \nSelect Wednesdays and Thursdays in May and June:\nThurs May 7th 10am\nWed May 13\, 2pm\nThurs May 14\, 10am \nThurs June 4th 10am\nWed June 10\, 2pm\nThurs June 11\, 10am\nThus June 18\, 2pm
URL:https://nlpl.ca/events/drop-in-storytime-5/
LOCATION:St. John’s – A.C. Hunter Children’s Public Library\, 95 Allandale Road\, St. John's\, NL\, A1E 3A3\, Canada
CATEGORIES:Kids & Families,Storytime
END:VEVENT
BEGIN:VEVENT
DTSTART;TZID=America/St_Johns:20260604T100000
DTEND;TZID=America/St_Johns:20260604T120000
DTSTAMP:20260421T093935
CREATED:20240911T134337Z
LAST-MODIFIED:20260415T215627Z
UID:10061457-1780567200-1780574400@nlpl.ca
SUMMARY:Art Group
DESCRIPTION:Drop into the Conception Bay South Public Library  community room with any art project you are working on!\nThis is a group for adults.
URL:https://nlpl.ca/events/art-group/2026-06-04/
LOCATION:Conception Bay South Public Library\, 10 Remembrance Square\, Conception Bay South\, NL\, Canada
CATEGORIES:Arts & Culture,Hobbies, Crafts & Games
ATTACH;FMTTYPE=image/jpeg:https://nlpl.ca/wp-content/uploads/2023/03/Events-Hobbies-Crafts-and-Games.jpg
ORGANIZER;CN="Conception Bay South Public Library":MAILTO:conceptionbaysouth@nlpl.ca
END:VEVENT
BEGIN:VEVENT
DTSTART;TZID=America/St_Johns:20260604T130000
DTEND;TZID=America/St_Johns:20260604T150000
DTSTAMP:20260421T093935
CREATED:20250702T192402Z
LAST-MODIFIED:20260410T152336Z
UID:10061434-1780578000-1780585200@nlpl.ca
SUMMARY:CBS Knitting Group
DESCRIPTION:Everyone is welcome ! Bring your project and meet up with fellow knitters!
URL:https://nlpl.ca/events/knitting-group-4/2026-06-04/
LOCATION:Conception Bay South Public Library\, 10 Remembrance Square\, Conception Bay South\, NL\, Canada
CATEGORIES:Hobbies, Crafts & Games
ATTACH;FMTTYPE=image/jpeg:https://nlpl.ca/wp-content/uploads/2023/03/Events-Hobbies-Crafts-and-Games.jpg
ORGANIZER;CN="Conception Bay South Public Library":MAILTO:conceptionbaysouth@nlpl.ca
END:VEVENT
BEGIN:VEVENT
DTSTART;TZID=America/St_Johns:20260604T130000
DTEND;TZID=America/St_Johns:20260604T150000
DTSTAMP:20260421T093935
CREATED:20260305T172547Z
LAST-MODIFIED:20260305T172547Z
UID:10059740-1780578000-1780585200@nlpl.ca
SUMMARY:Tech Thursday
DESCRIPTION:Drop in with your own device or we can use our devices- iPad or desktop or laptop. We can show you how to set up an email\, copy files\, or print files.
URL:https://nlpl.ca/events/tech-thursday/2026-06-04/
LOCATION:Deer Lake Public Library\, 4 Poplar Road\, Deer Lake\, NL\, A8A 1Z4\, Canada
END:VEVENT
BEGIN:VEVENT
DTSTART;TZID=America/St_Johns:20260604T130000
DTEND;TZID=America/St_Johns:20260604T153000
DTSTAMP:20260421T093935
CREATED:20260105T173639Z
LAST-MODIFIED:20260312T152947Z
UID:10059944-1780578000-1780587000@nlpl.ca
SUMMARY:Home Readers Service
DESCRIPTION:Harmsworth Public Library – The Home Reader Service delivers materials free of charge to residents within our community who are unable to visit the library. \nThis service will deliver new books and take back previously loaned materials on a rotating schedule. \nPlease call #709-489-2303 for further details. \n 
URL:https://nlpl.ca/events/home-readers-service-2-2-2/2026-06-04/
LOCATION:Grand Falls-Windsor (Harmsworth) Public Library\, 1 Cromer Avenue\, Grand Falls - Windsor\, NL\, A2A 1W9\, Canada
CATEGORIES:Heath & Wellbeing
END:VEVENT
BEGIN:VEVENT
DTSTART;TZID=America/St_Johns:20260604T140000
DTEND;TZID=America/St_Johns:20260604T143000
DTSTAMP:20260421T093935
CREATED:20260327T122700Z
LAST-MODIFIED:20260327T122700Z
UID:10060350-1780581600-1780583400@nlpl.ca
SUMMARY:Family Storytime
DESCRIPTION:A 30 minute interactive program celebrating books\, rhymes\, movement\, songs and fun that is perfect for\nfamilies with multiple children\, ages 1-5 years
URL:https://nlpl.ca/events/family-storytime-7/2026-06-04/
LOCATION:Stephenville Public Library (Kindale)\, 45 Carolina Ave.\, Stephenville\, NL\, A2N 3P8\, Canada
CATEGORIES:Kids & Families,Storytime
ATTACH;FMTTYPE=image/jpeg:https://nlpl.ca/wp-content/uploads/2023/03/Events-Kid-Families.jpg
END:VEVENT
BEGIN:VEVENT
DTSTART;TZID=America/St_Johns:20260604T140000
DTEND;TZID=America/St_Johns:20260604T160000
DTSTAMP:20260421T093935
CREATED:20260102T193222Z
LAST-MODIFIED:20260312T181405Z
UID:10055575-1780581600-1780588800@nlpl.ca
SUMMARY:Tech Thursdays
DESCRIPTION:Gander Public Library – Needing help with your cell phone\, tablet/IPad or Laptop? On Thursdays 2-4pm you can book an appointment for help!
URL:https://nlpl.ca/events/tech-thursdays-3/2026-06-04/
LOCATION:Gander Public & Resource Library\, 6 Bell Place\, Gander\, NL\, A1V 1X2\, Canada
CATEGORIES:Technology & Makerspace
ATTACH;FMTTYPE=image/jpeg:https://nlpl.ca/wp-content/uploads/2023/03/Events-Classes-and-Workshops.jpg
END:VEVENT
BEGIN:VEVENT
DTSTART;TZID=America/St_Johns:20260604T153000
DTEND;TZID=America/St_Johns:20260604T163000
DTSTAMP:20260421T093935
CREATED:20260406T123845Z
LAST-MODIFIED:20260406T124001Z
UID:10060582-1780587000-1780590600@nlpl.ca
SUMMARY:Crafternoon - June
DESCRIPTION:A registered program at A.C. Hunter Children’s Library. \nCrafternoon\nfor ages 5-9\nThursday June 4\, 3:30pm \nCreate a craft project to take home! This hour-long program includes a story and fun facts as well as a craft. \n  \nRegistration for all May/June programs begins Friday April 24 at 9:30am. Click the registration button or call 709-737-3953. \nPlease note: May and June crafternoons will not include a French language compontant. \n  \n 
URL:https://nlpl.ca/events/crafternoon-june/
LOCATION:St. John’s – A.C. Hunter Children’s Public Library\, 95 Allandale Road\, St. John's\, NL\, A1E 3A3\, Canada
CATEGORIES:Hobbies, Crafts & Games,Kids & Families,Storytime
END:VEVENT
BEGIN:VEVENT
DTSTART;TZID=America/St_Johns:20260604T160000
DTEND;TZID=America/St_Johns:20260604T170000
DTSTAMP:20260421T093935
CREATED:20260105T162909Z
LAST-MODIFIED:20260312T172342Z
UID:10059984-1780588800-1780592400@nlpl.ca
SUMMARY:One-on-One Tech Help
DESCRIPTION:Harmsworth Public Library – Do you have a shiny new piece of tech\, but you’re not sure how to use it? Need a little help figuring out how to download an e-book\, share a photo\, or use Microsoft Word? \nMake a one-on-one appointment every Wednesday with our Tech Host\, Joshua. \nWe can provide general help\, tailored tech training\, and show you where to find helpful resources online. \nPlease call #709-489-2303 or drop in to schedule a time.
URL:https://nlpl.ca/events/one-on-one-tech-help-2-2/2026-06-04/
LOCATION:Grand Falls-Windsor (Harmsworth) Public Library\, 1 Cromer Avenue\, Grand Falls - Windsor\, NL\, A2A 1W9\, Canada
CATEGORIES:Technology & Makerspace
END:VEVENT
BEGIN:VEVENT
DTSTART;TZID=America/St_Johns:20260604T180000
DTEND;TZID=America/St_Johns:20260604T190000
DTSTAMP:20260421T093935
CREATED:20260105T161946Z
LAST-MODIFIED:20260312T152847Z
UID:10059938-1780596000-1780599600@nlpl.ca
SUMMARY:Sensory Hour
DESCRIPTION:Harmsworth Public Library – Sensory-friendly browsing hour that includes reduced lighting and reduced noise.
URL:https://nlpl.ca/events/sensory-hour-2/2026-06-04/
LOCATION:Grand Falls-Windsor (Harmsworth) Public Library\, 1 Cromer Avenue\, Grand Falls - Windsor\, NL\, A2A 1W9\, Canada
CATEGORIES:Heath & Wellbeing
END:VEVENT
BEGIN:VEVENT
DTSTART;TZID=America/St_Johns:20260605T093000
DTEND;TZID=America/St_Johns:20260605T113000
DTSTAMP:20260421T093935
CREATED:20251016T165338Z
LAST-MODIFIED:20251128T213700Z
UID:10052662-1780651800-1780659000@nlpl.ca
SUMMARY:Friday Free Play for Babies and Toddlers
DESCRIPTION:A drop-in weekly program at A.C. Hunter Children’s Library \nPlaygroup for ages 0-3. \nEvery Friday\, we open our playroom from 9:30 to 11:30am for babies and tots to play – a great chance to meet other caregivers! \nNo registration necessary.
URL:https://nlpl.ca/events/friday-free-play-for-babies-and-toddlers/2026-06-05/
LOCATION:St. John’s – A.C. Hunter Children’s Public Library\, 95 Allandale Road\, St. John's\, NL\, A1E 3A3\, Canada
CATEGORIES:Kids & Families,Storytime
ATTACH;FMTTYPE=image/jpeg:https://nlpl.ca/wp-content/uploads/2023/03/Events-Kid-Families.jpg
END:VEVENT
BEGIN:VEVENT
DTSTART;TZID=America/St_Johns:20260605T100000
DTEND;TZID=America/St_Johns:20260605T120000
DTSTAMP:20260421T093935
CREATED:20260401T140130Z
LAST-MODIFIED:20260401T140130Z
UID:10060435-1780653600-1780660800@nlpl.ca
SUMMARY:Homeschool Hangout
DESCRIPTION:
URL:https://nlpl.ca/events/homeschool-hangout/2026-06-05/
LOCATION:Corner Brook Public Library\, 4 West Street\, Corner Brook\, NL\, A2H 0C1\, Canada
CATEGORIES:Kids & Families
END:VEVENT
BEGIN:VEVENT
DTSTART;TZID=America/St_Johns:20260605T101500
DTEND;TZID=America/St_Johns:20260605T114500
DTSTAMP:20260421T093935
CREATED:20251028T175624Z
LAST-MODIFIED:20260415T222620Z
UID:10061502-1780654500-1780659900@nlpl.ca
SUMMARY:Musical Munchkins
DESCRIPTION:Drop in to the Conception Bay South Public Library for Musical Munchkins! Hosted By the Family Resource Center.\nThis is a drop-in music and rhyme time for babies (newborn until walking) and their caregiver.
URL:https://nlpl.ca/events/musical-munchkins-2-3-2/2026-06-05/
LOCATION:Conception Bay South Public Library\, 10 Remembrance Square\, Conception Bay South\, NL\, Canada
CATEGORIES:Kids & Families
ATTACH;FMTTYPE=image/jpeg:https://nlpl.ca/wp-content/uploads/2023/03/Events-Kid-Families.jpg
END:VEVENT
BEGIN:VEVENT
DTSTART;TZID=America/St_Johns:20260605T140000
DTEND;TZID=America/St_Johns:20260605T160000
DTSTAMP:20260421T093935
CREATED:20260105T135729Z
LAST-MODIFIED:20260312T152751Z
UID:10059934-1780668000-1780675200@nlpl.ca
SUMMARY:Lego Free Play
DESCRIPTION:Harmsworth Public Library – What will you create? Create something fun at our LEGO free play!
URL:https://nlpl.ca/events/lego-free-play-6-2-2/2026-06-05/
LOCATION:Grand Falls-Windsor (Harmsworth) Public Library\, 1 Cromer Avenue\, Grand Falls - Windsor\, NL\, A2A 1W9\, Canada
CATEGORIES:Kids & Families
ATTACH;FMTTYPE=image/jpeg:https://nlpl.ca/wp-content/uploads/2023/03/Events-Kid-Families.jpg
END:VEVENT
BEGIN:VEVENT
DTSTART;TZID=America/St_Johns:20260606T100000
DTEND;TZID=America/St_Johns:20260606T103000
DTSTAMP:20260421T093935
CREATED:20260406T170041Z
LAST-MODIFIED:20260406T170041Z
UID:10060597-1780740000-1780741800@nlpl.ca
SUMMARY:Drop-in Baby Storytime
DESCRIPTION:A drop in program at A.C. Hunter Children’s Library \nBaby Storytime\nfor ages 0-12 months\nSongs\, rhymes and early literacy tips for caregivers. 30 minutes. \nNo registration is required for our Saturday storytime for pre-walking babies!  \n\n10:00am\nSaturday June 6 and June 20
URL:https://nlpl.ca/events/drop-in-baby-storytime-2/
LOCATION:St. John’s – A.C. Hunter Children’s Public Library\, 95 Allandale Road\, St. John's\, NL\, A1E 3A3\, Canada
CATEGORIES:Kids & Families,Storytime
END:VEVENT
BEGIN:VEVENT
DTSTART;TZID=America/St_Johns:20260606T100000
DTEND;TZID=America/St_Johns:20260606T163000
DTSTAMP:20260421T093935
CREATED:20260227T195830Z
LAST-MODIFIED:20260418T175236Z
UID:10061534-1780740000-1780763400@nlpl.ca
SUMMARY:Lego Free Play
DESCRIPTION:Join us at the Ross King Memorial Library (Mount Pearl) every Saturday for Lego Free Play.  We have Lego building blocks available every Saturday from 10am until 4:30pm.  Drop in and create something amazing!
URL:https://nlpl.ca/events/lego-free-play-2-2/2026-06-06/
LOCATION:Mount Pearl Public Library\, 65 Olympic Drive\, Mount Pearl\, NL\, A1N 5H6\, Canada
CATEGORIES:Kids & Families
ORGANIZER;CN="Mount Pearl":MAILTO:mountpearl@nlpl.ca
END:VEVENT
BEGIN:VEVENT
DTSTART;TZID=America/St_Johns:20260606T103000
DTEND;TZID=America/St_Johns:20260606T110000
DTSTAMP:20260421T093935
CREATED:20260312T183434Z
LAST-MODIFIED:20260418T175434Z
UID:10060009-1780741800-1780743600@nlpl.ca
SUMMARY:Saturday Storytime (Drop-In)
DESCRIPTION:Join us at the Ross King Memorial Library (Mount Pearl) for a Family Storytime every Saturday at 10:30am.  This Storytime features stories\, songs and rhymes and is geared for children ages 0-5 years and their caregivers.  Storytime lasts approximately 20-30 minutes (no registration required).
URL:https://nlpl.ca/events/drop-in-storytime-2-2/2026-06-06/
LOCATION:Mount Pearl Public Library\, 65 Olympic Drive\, Mount Pearl\, NL\, A1N 5H6\, Canada
CATEGORIES:Kids & Families,Storytime
ORGANIZER;CN="Mount Pearl":MAILTO:mountpearl@nlpl.ca
END:VEVENT
BEGIN:VEVENT
DTSTART;TZID=America/St_Johns:20260606T110000
DTEND;TZID=America/St_Johns:20260606T113000
DTSTAMP:20260421T093935
CREATED:20260323T174337Z
LAST-MODIFIED:20260323T174337Z
UID:10060209-1780743600-1780745400@nlpl.ca
SUMMARY:Family Storytime
DESCRIPTION:Join us at the CBS Public Library with the whole family for Storytime!\nThis is for all ages and drop in.
URL:https://nlpl.ca/events/family-storytime-6/2026-06-06/
LOCATION:Conception Bay South Public Library\, 10 Remembrance Square\, Conception Bay South\, NL\, Canada
CATEGORIES:Storytime
ATTACH;FMTTYPE=image/jpeg:https://nlpl.ca/wp-content/uploads/2023/03/Events-Kid-Families.jpg
ORGANIZER;CN="Conception Bay South Public Library":MAILTO:conceptionbaysouth@nlpl.ca
END:VEVENT
END:VCALENDAR