BEGIN:VCALENDAR
VERSION:2.0
PRODID:-//Newfoundland &amp; Labrador Public Libraries - ECPv6.15.20//NONSGML v1.0//EN
CALSCALE:GREGORIAN
METHOD:PUBLISH
X-ORIGINAL-URL:https://nlpl.ca
X-WR-CALDESC:Events for Newfoundland &amp; Labrador Public Libraries
REFRESH-INTERVAL;VALUE=DURATION:PT1H
X-Robots-Tag:noindex
X-PUBLISHED-TTL:PT1H
BEGIN:VTIMEZONE
TZID:America/St_Johns
BEGIN:DAYLIGHT
TZOFFSETFROM:-0330
TZOFFSETTO:-0230
TZNAME:NDT
DTSTART:20270314T053000
END:DAYLIGHT
BEGIN:STANDARD
TZOFFSETFROM:-0230
TZOFFSETTO:-0330
TZNAME:NST
DTSTART:20271107T043000
END:STANDARD
BEGIN:DAYLIGHT
TZOFFSETFROM:-0330
TZOFFSETTO:-0230
TZNAME:NDT
DTSTART:20280312T053000
END:DAYLIGHT
BEGIN:STANDARD
TZOFFSETFROM:-0230
TZOFFSETTO:-0330
TZNAME:NST
DTSTART:20281105T043000
END:STANDARD
BEGIN:DAYLIGHT
TZOFFSETFROM:-0330
TZOFFSETTO:-0230
TZNAME:NDT
DTSTART:20290311T053000
END:DAYLIGHT
BEGIN:STANDARD
TZOFFSETFROM:-0230
TZOFFSETTO:-0330
TZNAME:NST
DTSTART:20291104T043000
END:STANDARD
BEGIN:DAYLIGHT
TZOFFSETFROM:-0330
TZOFFSETTO:-0230
TZNAME:NDT
DTSTART:20300310T053000
END:DAYLIGHT
BEGIN:STANDARD
TZOFFSETFROM:-0230
TZOFFSETTO:-0330
TZNAME:NST
DTSTART:20301103T043000
END:STANDARD
END:VTIMEZONE
BEGIN:VEVENT
DTSTART;TZID=America/St_Johns:20280815T180000
DTEND;TZID=America/St_Johns:20280815T203000
DTSTAMP:20260422T200405
CREATED:20260407T222359Z
LAST-MODIFIED:20260407T222435Z
UID:10061003-1849975200-1849984200@nlpl.ca
SUMMARY:Adult Puzzle Night - Thursday May 26
DESCRIPTION:
URL:https://nlpl.ca/events/adult-puzzle-night-thursday-may-26/2028-08-15/
LOCATION:NL
END:VEVENT
BEGIN:VEVENT
DTSTART;TZID=America/St_Johns:20280822T180000
DTEND;TZID=America/St_Johns:20280822T203000
DTSTAMP:20260422T200405
CREATED:20260407T222359Z
LAST-MODIFIED:20260407T222435Z
UID:10061004-1850580000-1850589000@nlpl.ca
SUMMARY:Adult Puzzle Night - Thursday May 26
DESCRIPTION:
URL:https://nlpl.ca/events/adult-puzzle-night-thursday-may-26/2028-08-22/
LOCATION:NL
END:VEVENT
BEGIN:VEVENT
DTSTART;TZID=America/St_Johns:20280829T180000
DTEND;TZID=America/St_Johns:20280829T203000
DTSTAMP:20260422T200405
CREATED:20260407T222359Z
LAST-MODIFIED:20260407T222435Z
UID:10061005-1851184800-1851193800@nlpl.ca
SUMMARY:Adult Puzzle Night - Thursday May 26
DESCRIPTION:
URL:https://nlpl.ca/events/adult-puzzle-night-thursday-may-26/2028-08-29/
LOCATION:NL
END:VEVENT
BEGIN:VEVENT
DTSTART;TZID=America/St_Johns:20280905T180000
DTEND;TZID=America/St_Johns:20280905T203000
DTSTAMP:20260422T200405
CREATED:20260407T222359Z
LAST-MODIFIED:20260407T222435Z
UID:10061006-1851789600-1851798600@nlpl.ca
SUMMARY:Adult Puzzle Night - Thursday May 26
DESCRIPTION:
URL:https://nlpl.ca/events/adult-puzzle-night-thursday-may-26/2028-09-05/
LOCATION:NL
END:VEVENT
BEGIN:VEVENT
DTSTART;TZID=America/St_Johns:20280912T180000
DTEND;TZID=America/St_Johns:20280912T203000
DTSTAMP:20260422T200405
CREATED:20260407T222359Z
LAST-MODIFIED:20260407T222435Z
UID:10061007-1852394400-1852403400@nlpl.ca
SUMMARY:Adult Puzzle Night - Thursday May 26
DESCRIPTION:
URL:https://nlpl.ca/events/adult-puzzle-night-thursday-may-26/2028-09-12/
LOCATION:NL
END:VEVENT
BEGIN:VEVENT
DTSTART;TZID=America/St_Johns:20280919T180000
DTEND;TZID=America/St_Johns:20280919T203000
DTSTAMP:20260422T200405
CREATED:20260407T222359Z
LAST-MODIFIED:20260407T222435Z
UID:10061008-1852999200-1853008200@nlpl.ca
SUMMARY:Adult Puzzle Night - Thursday May 26
DESCRIPTION:
URL:https://nlpl.ca/events/adult-puzzle-night-thursday-may-26/2028-09-19/
LOCATION:NL
END:VEVENT
BEGIN:VEVENT
DTSTART;TZID=America/St_Johns:20280926T180000
DTEND;TZID=America/St_Johns:20280926T203000
DTSTAMP:20260422T200405
CREATED:20260407T222359Z
LAST-MODIFIED:20260407T222435Z
UID:10061009-1853604000-1853613000@nlpl.ca
SUMMARY:Adult Puzzle Night - Thursday May 26
DESCRIPTION:
URL:https://nlpl.ca/events/adult-puzzle-night-thursday-may-26/2028-09-26/
LOCATION:NL
END:VEVENT
BEGIN:VEVENT
DTSTART;TZID=America/St_Johns:20281003T180000
DTEND;TZID=America/St_Johns:20281003T203000
DTSTAMP:20260422T200405
CREATED:20260407T222359Z
LAST-MODIFIED:20260407T222435Z
UID:10061010-1854208800-1854217800@nlpl.ca
SUMMARY:Adult Puzzle Night - Thursday May 26
DESCRIPTION:
URL:https://nlpl.ca/events/adult-puzzle-night-thursday-may-26/2028-10-03/
LOCATION:NL
END:VEVENT
BEGIN:VEVENT
DTSTART;TZID=America/St_Johns:20281010T180000
DTEND;TZID=America/St_Johns:20281010T203000
DTSTAMP:20260422T200405
CREATED:20260407T222359Z
LAST-MODIFIED:20260407T222435Z
UID:10061011-1854813600-1854822600@nlpl.ca
SUMMARY:Adult Puzzle Night - Thursday May 26
DESCRIPTION:
URL:https://nlpl.ca/events/adult-puzzle-night-thursday-may-26/2028-10-10/
LOCATION:NL
END:VEVENT
BEGIN:VEVENT
DTSTART;TZID=America/St_Johns:20281017T180000
DTEND;TZID=America/St_Johns:20281017T203000
DTSTAMP:20260422T200405
CREATED:20260407T222359Z
LAST-MODIFIED:20260407T222435Z
UID:10061012-1855418400-1855427400@nlpl.ca
SUMMARY:Adult Puzzle Night - Thursday May 26
DESCRIPTION:
URL:https://nlpl.ca/events/adult-puzzle-night-thursday-may-26/2028-10-17/
LOCATION:NL
END:VEVENT
BEGIN:VEVENT
DTSTART;TZID=America/St_Johns:20281024T180000
DTEND;TZID=America/St_Johns:20281024T203000
DTSTAMP:20260422T200405
CREATED:20260407T222359Z
LAST-MODIFIED:20260407T222435Z
UID:10061013-1856023200-1856032200@nlpl.ca
SUMMARY:Adult Puzzle Night - Thursday May 26
DESCRIPTION:
URL:https://nlpl.ca/events/adult-puzzle-night-thursday-may-26/2028-10-24/
LOCATION:NL
END:VEVENT
BEGIN:VEVENT
DTSTART;TZID=America/St_Johns:20281031T180000
DTEND;TZID=America/St_Johns:20281031T203000
DTSTAMP:20260422T200405
CREATED:20260407T222359Z
LAST-MODIFIED:20260407T222435Z
UID:10061014-1856628000-1856637000@nlpl.ca
SUMMARY:Adult Puzzle Night - Thursday May 26
DESCRIPTION:
URL:https://nlpl.ca/events/adult-puzzle-night-thursday-may-26/2028-10-31/
LOCATION:NL
END:VEVENT
BEGIN:VEVENT
DTSTART;TZID=America/St_Johns:20281107T180000
DTEND;TZID=America/St_Johns:20281107T203000
DTSTAMP:20260422T200405
CREATED:20260407T222359Z
LAST-MODIFIED:20260407T222435Z
UID:10061015-1857232800-1857241800@nlpl.ca
SUMMARY:Adult Puzzle Night - Thursday May 26
DESCRIPTION:
URL:https://nlpl.ca/events/adult-puzzle-night-thursday-may-26/2028-11-07/
LOCATION:NL
END:VEVENT
BEGIN:VEVENT
DTSTART;TZID=America/St_Johns:20281114T180000
DTEND;TZID=America/St_Johns:20281114T203000
DTSTAMP:20260422T200405
CREATED:20260407T222359Z
LAST-MODIFIED:20260407T222435Z
UID:10061016-1857837600-1857846600@nlpl.ca
SUMMARY:Adult Puzzle Night - Thursday May 26
DESCRIPTION:
URL:https://nlpl.ca/events/adult-puzzle-night-thursday-may-26/2028-11-14/
LOCATION:NL
END:VEVENT
BEGIN:VEVENT
DTSTART;TZID=America/St_Johns:20281121T180000
DTEND;TZID=America/St_Johns:20281121T203000
DTSTAMP:20260422T200405
CREATED:20260407T222359Z
LAST-MODIFIED:20260407T222435Z
UID:10061017-1858442400-1858451400@nlpl.ca
SUMMARY:Adult Puzzle Night - Thursday May 26
DESCRIPTION:
URL:https://nlpl.ca/events/adult-puzzle-night-thursday-may-26/2028-11-21/
LOCATION:NL
END:VEVENT
BEGIN:VEVENT
DTSTART;TZID=America/St_Johns:20281128T180000
DTEND;TZID=America/St_Johns:20281128T203000
DTSTAMP:20260422T200405
CREATED:20260407T222359Z
LAST-MODIFIED:20260407T222435Z
UID:10061018-1859047200-1859056200@nlpl.ca
SUMMARY:Adult Puzzle Night - Thursday May 26
DESCRIPTION:
URL:https://nlpl.ca/events/adult-puzzle-night-thursday-may-26/2028-11-28/
LOCATION:NL
END:VEVENT
BEGIN:VEVENT
DTSTART;TZID=America/St_Johns:20281205T180000
DTEND;TZID=America/St_Johns:20281205T203000
DTSTAMP:20260422T200405
CREATED:20260407T222359Z
LAST-MODIFIED:20260407T222435Z
UID:10061019-1859652000-1859661000@nlpl.ca
SUMMARY:Adult Puzzle Night - Thursday May 26
DESCRIPTION:
URL:https://nlpl.ca/events/adult-puzzle-night-thursday-may-26/2028-12-05/
LOCATION:NL
END:VEVENT
BEGIN:VEVENT
DTSTART;TZID=America/St_Johns:20281212T180000
DTEND;TZID=America/St_Johns:20281212T203000
DTSTAMP:20260422T200405
CREATED:20260407T222359Z
LAST-MODIFIED:20260407T222435Z
UID:10061020-1860256800-1860265800@nlpl.ca
SUMMARY:Adult Puzzle Night - Thursday May 26
DESCRIPTION:
URL:https://nlpl.ca/events/adult-puzzle-night-thursday-may-26/2028-12-12/
LOCATION:NL
END:VEVENT
BEGIN:VEVENT
DTSTART;TZID=America/St_Johns:20281219T180000
DTEND;TZID=America/St_Johns:20281219T203000
DTSTAMP:20260422T200405
CREATED:20260407T222359Z
LAST-MODIFIED:20260407T222435Z
UID:10061021-1860861600-1860870600@nlpl.ca
SUMMARY:Adult Puzzle Night - Thursday May 26
DESCRIPTION:
URL:https://nlpl.ca/events/adult-puzzle-night-thursday-may-26/2028-12-19/
LOCATION:NL
END:VEVENT
BEGIN:VEVENT
DTSTART;TZID=America/St_Johns:20281226T180000
DTEND;TZID=America/St_Johns:20281226T203000
DTSTAMP:20260422T200405
CREATED:20260407T222359Z
LAST-MODIFIED:20260407T222435Z
UID:10061022-1861466400-1861475400@nlpl.ca
SUMMARY:Adult Puzzle Night - Thursday May 26
DESCRIPTION:
URL:https://nlpl.ca/events/adult-puzzle-night-thursday-may-26/2028-12-26/
LOCATION:NL
END:VEVENT
BEGIN:VEVENT
DTSTART;TZID=America/St_Johns:20290102T180000
DTEND;TZID=America/St_Johns:20290102T203000
DTSTAMP:20260422T200405
CREATED:20260407T222359Z
LAST-MODIFIED:20260407T222435Z
UID:10061023-1862071200-1862080200@nlpl.ca
SUMMARY:Adult Puzzle Night - Thursday May 26
DESCRIPTION:
URL:https://nlpl.ca/events/adult-puzzle-night-thursday-may-26/2029-01-02/
LOCATION:NL
END:VEVENT
BEGIN:VEVENT
DTSTART;TZID=America/St_Johns:20290109T180000
DTEND;TZID=America/St_Johns:20290109T203000
DTSTAMP:20260422T200405
CREATED:20260407T222359Z
LAST-MODIFIED:20260407T222435Z
UID:10061024-1862676000-1862685000@nlpl.ca
SUMMARY:Adult Puzzle Night - Thursday May 26
DESCRIPTION:
URL:https://nlpl.ca/events/adult-puzzle-night-thursday-may-26/2029-01-09/
LOCATION:NL
END:VEVENT
BEGIN:VEVENT
DTSTART;TZID=America/St_Johns:20290116T180000
DTEND;TZID=America/St_Johns:20290116T203000
DTSTAMP:20260422T200405
CREATED:20260407T222359Z
LAST-MODIFIED:20260407T222435Z
UID:10061025-1863280800-1863289800@nlpl.ca
SUMMARY:Adult Puzzle Night - Thursday May 26
DESCRIPTION:
URL:https://nlpl.ca/events/adult-puzzle-night-thursday-may-26/2029-01-16/
LOCATION:NL
END:VEVENT
BEGIN:VEVENT
DTSTART;TZID=America/St_Johns:20290123T180000
DTEND;TZID=America/St_Johns:20290123T203000
DTSTAMP:20260422T200405
CREATED:20260407T222359Z
LAST-MODIFIED:20260407T222435Z
UID:10061026-1863885600-1863894600@nlpl.ca
SUMMARY:Adult Puzzle Night - Thursday May 26
DESCRIPTION:
URL:https://nlpl.ca/events/adult-puzzle-night-thursday-may-26/2029-01-23/
LOCATION:NL
END:VEVENT
BEGIN:VEVENT
DTSTART;TZID=America/St_Johns:20290130T180000
DTEND;TZID=America/St_Johns:20290130T203000
DTSTAMP:20260422T200405
CREATED:20260407T222359Z
LAST-MODIFIED:20260407T222435Z
UID:10061027-1864490400-1864499400@nlpl.ca
SUMMARY:Adult Puzzle Night - Thursday May 26
DESCRIPTION:
URL:https://nlpl.ca/events/adult-puzzle-night-thursday-may-26/2029-01-30/
LOCATION:NL
END:VEVENT
BEGIN:VEVENT
DTSTART;TZID=America/St_Johns:20290206T180000
DTEND;TZID=America/St_Johns:20290206T203000
DTSTAMP:20260422T200405
CREATED:20260407T222359Z
LAST-MODIFIED:20260407T222435Z
UID:10061028-1865095200-1865104200@nlpl.ca
SUMMARY:Adult Puzzle Night - Thursday May 26
DESCRIPTION:
URL:https://nlpl.ca/events/adult-puzzle-night-thursday-may-26/2029-02-06/
LOCATION:NL
END:VEVENT
BEGIN:VEVENT
DTSTART;TZID=America/St_Johns:20290213T180000
DTEND;TZID=America/St_Johns:20290213T203000
DTSTAMP:20260422T200405
CREATED:20260407T222359Z
LAST-MODIFIED:20260407T222435Z
UID:10061029-1865700000-1865709000@nlpl.ca
SUMMARY:Adult Puzzle Night - Thursday May 26
DESCRIPTION:
URL:https://nlpl.ca/events/adult-puzzle-night-thursday-may-26/2029-02-13/
LOCATION:NL
END:VEVENT
BEGIN:VEVENT
DTSTART;TZID=America/St_Johns:20290220T180000
DTEND;TZID=America/St_Johns:20290220T203000
DTSTAMP:20260422T200405
CREATED:20260407T222359Z
LAST-MODIFIED:20260407T222435Z
UID:10061030-1866304800-1866313800@nlpl.ca
SUMMARY:Adult Puzzle Night - Thursday May 26
DESCRIPTION:
URL:https://nlpl.ca/events/adult-puzzle-night-thursday-may-26/2029-02-20/
LOCATION:NL
END:VEVENT
BEGIN:VEVENT
DTSTART;TZID=America/St_Johns:20290227T180000
DTEND;TZID=America/St_Johns:20290227T203000
DTSTAMP:20260422T200405
CREATED:20260407T222359Z
LAST-MODIFIED:20260407T222435Z
UID:10061031-1866909600-1866918600@nlpl.ca
SUMMARY:Adult Puzzle Night - Thursday May 26
DESCRIPTION:
URL:https://nlpl.ca/events/adult-puzzle-night-thursday-may-26/2029-02-27/
LOCATION:NL
END:VEVENT
BEGIN:VEVENT
DTSTART;TZID=America/St_Johns:20290306T180000
DTEND;TZID=America/St_Johns:20290306T203000
DTSTAMP:20260422T200405
CREATED:20260407T222359Z
LAST-MODIFIED:20260407T222435Z
UID:10061032-1867514400-1867523400@nlpl.ca
SUMMARY:Adult Puzzle Night - Thursday May 26
DESCRIPTION:
URL:https://nlpl.ca/events/adult-puzzle-night-thursday-may-26/2029-03-06/
LOCATION:NL
END:VEVENT
END:VCALENDAR