BEGIN:VCALENDAR
VERSION:2.0
PRODID:-//Newfoundland &amp; Labrador Public Libraries - ECPv6.15.20//NONSGML v1.0//EN
CALSCALE:GREGORIAN
METHOD:PUBLISH
X-ORIGINAL-URL:https://nlpl.ca
X-WR-CALDESC:Events for Newfoundland &amp; Labrador Public Libraries
REFRESH-INTERVAL;VALUE=DURATION:PT1H
X-Robots-Tag:noindex
X-PUBLISHED-TTL:PT1H
BEGIN:VTIMEZONE
TZID:America/St_Johns
BEGIN:DAYLIGHT
TZOFFSETFROM:-0330
TZOFFSETTO:-0230
TZNAME:NDT
DTSTART:20280312T053000
END:DAYLIGHT
BEGIN:STANDARD
TZOFFSETFROM:-0230
TZOFFSETTO:-0330
TZNAME:NST
DTSTART:20281105T043000
END:STANDARD
BEGIN:DAYLIGHT
TZOFFSETFROM:-0330
TZOFFSETTO:-0230
TZNAME:NDT
DTSTART:20290311T053000
END:DAYLIGHT
BEGIN:STANDARD
TZOFFSETFROM:-0230
TZOFFSETTO:-0330
TZNAME:NST
DTSTART:20291104T043000
END:STANDARD
BEGIN:DAYLIGHT
TZOFFSETFROM:-0330
TZOFFSETTO:-0230
TZNAME:NDT
DTSTART:20300310T053000
END:DAYLIGHT
BEGIN:STANDARD
TZOFFSETFROM:-0230
TZOFFSETTO:-0330
TZNAME:NST
DTSTART:20301103T043000
END:STANDARD
END:VTIMEZONE
BEGIN:VEVENT
DTSTART;TZID=America/St_Johns:20290313T180000
DTEND;TZID=America/St_Johns:20290313T203000
DTSTAMP:20260421T212401
CREATED:20260407T222359Z
LAST-MODIFIED:20260407T222435Z
UID:10061033-1868119200-1868128200@nlpl.ca
SUMMARY:Adult Puzzle Night - Thursday May 26
DESCRIPTION:
URL:https://nlpl.ca/events/adult-puzzle-night-thursday-may-26/2029-03-13/
LOCATION:NL
END:VEVENT
BEGIN:VEVENT
DTSTART;TZID=America/St_Johns:20290320T180000
DTEND;TZID=America/St_Johns:20290320T203000
DTSTAMP:20260421T212401
CREATED:20260407T222359Z
LAST-MODIFIED:20260407T222435Z
UID:10061034-1868724000-1868733000@nlpl.ca
SUMMARY:Adult Puzzle Night - Thursday May 26
DESCRIPTION:
URL:https://nlpl.ca/events/adult-puzzle-night-thursday-may-26/2029-03-20/
LOCATION:NL
END:VEVENT
BEGIN:VEVENT
DTSTART;TZID=America/St_Johns:20290327T180000
DTEND;TZID=America/St_Johns:20290327T203000
DTSTAMP:20260421T212401
CREATED:20260407T222359Z
LAST-MODIFIED:20260407T222435Z
UID:10061035-1869328800-1869337800@nlpl.ca
SUMMARY:Adult Puzzle Night - Thursday May 26
DESCRIPTION:
URL:https://nlpl.ca/events/adult-puzzle-night-thursday-may-26/2029-03-27/
LOCATION:NL
END:VEVENT
BEGIN:VEVENT
DTSTART;TZID=America/St_Johns:20290403T180000
DTEND;TZID=America/St_Johns:20290403T203000
DTSTAMP:20260421T212401
CREATED:20260407T222359Z
LAST-MODIFIED:20260407T222435Z
UID:10061036-1869933600-1869942600@nlpl.ca
SUMMARY:Adult Puzzle Night - Thursday May 26
DESCRIPTION:
URL:https://nlpl.ca/events/adult-puzzle-night-thursday-may-26/2029-04-03/
LOCATION:NL
END:VEVENT
BEGIN:VEVENT
DTSTART;TZID=America/St_Johns:20290410T180000
DTEND;TZID=America/St_Johns:20290410T203000
DTSTAMP:20260421T212401
CREATED:20260407T222359Z
LAST-MODIFIED:20260407T222435Z
UID:10061037-1870538400-1870547400@nlpl.ca
SUMMARY:Adult Puzzle Night - Thursday May 26
DESCRIPTION:
URL:https://nlpl.ca/events/adult-puzzle-night-thursday-may-26/2029-04-10/
LOCATION:NL
END:VEVENT
BEGIN:VEVENT
DTSTART;TZID=America/St_Johns:20290417T180000
DTEND;TZID=America/St_Johns:20290417T203000
DTSTAMP:20260421T212401
CREATED:20260407T222359Z
LAST-MODIFIED:20260407T222435Z
UID:10061038-1871143200-1871152200@nlpl.ca
SUMMARY:Adult Puzzle Night - Thursday May 26
DESCRIPTION:
URL:https://nlpl.ca/events/adult-puzzle-night-thursday-may-26/2029-04-17/
LOCATION:NL
END:VEVENT
BEGIN:VEVENT
DTSTART;TZID=America/St_Johns:20290424T180000
DTEND;TZID=America/St_Johns:20290424T203000
DTSTAMP:20260421T212401
CREATED:20260407T222359Z
LAST-MODIFIED:20260407T222435Z
UID:10061039-1871748000-1871757000@nlpl.ca
SUMMARY:Adult Puzzle Night - Thursday May 26
DESCRIPTION:
URL:https://nlpl.ca/events/adult-puzzle-night-thursday-may-26/2029-04-24/
LOCATION:NL
END:VEVENT
BEGIN:VEVENT
DTSTART;TZID=America/St_Johns:20290501T180000
DTEND;TZID=America/St_Johns:20290501T203000
DTSTAMP:20260421T212401
CREATED:20260407T222359Z
LAST-MODIFIED:20260407T222435Z
UID:10061040-1872352800-1872361800@nlpl.ca
SUMMARY:Adult Puzzle Night - Thursday May 26
DESCRIPTION:
URL:https://nlpl.ca/events/adult-puzzle-night-thursday-may-26/2029-05-01/
LOCATION:NL
END:VEVENT
BEGIN:VEVENT
DTSTART;TZID=America/St_Johns:20290508T180000
DTEND;TZID=America/St_Johns:20290508T203000
DTSTAMP:20260421T212401
CREATED:20260407T222359Z
LAST-MODIFIED:20260407T222435Z
UID:10061041-1872957600-1872966600@nlpl.ca
SUMMARY:Adult Puzzle Night - Thursday May 26
DESCRIPTION:
URL:https://nlpl.ca/events/adult-puzzle-night-thursday-may-26/2029-05-08/
LOCATION:NL
END:VEVENT
BEGIN:VEVENT
DTSTART;TZID=America/St_Johns:20290515T180000
DTEND;TZID=America/St_Johns:20290515T203000
DTSTAMP:20260421T212402
CREATED:20260407T222359Z
LAST-MODIFIED:20260407T222435Z
UID:10061042-1873562400-1873571400@nlpl.ca
SUMMARY:Adult Puzzle Night - Thursday May 26
DESCRIPTION:
URL:https://nlpl.ca/events/adult-puzzle-night-thursday-may-26/2029-05-15/
LOCATION:NL
END:VEVENT
BEGIN:VEVENT
DTSTART;TZID=America/St_Johns:20290522T180000
DTEND;TZID=America/St_Johns:20290522T203000
DTSTAMP:20260421T212402
CREATED:20260407T222359Z
LAST-MODIFIED:20260407T222435Z
UID:10061043-1874167200-1874176200@nlpl.ca
SUMMARY:Adult Puzzle Night - Thursday May 26
DESCRIPTION:
URL:https://nlpl.ca/events/adult-puzzle-night-thursday-may-26/2029-05-22/
LOCATION:NL
END:VEVENT
BEGIN:VEVENT
DTSTART;TZID=America/St_Johns:20290529T180000
DTEND;TZID=America/St_Johns:20290529T203000
DTSTAMP:20260421T212402
CREATED:20260407T222359Z
LAST-MODIFIED:20260407T222435Z
UID:10061044-1874772000-1874781000@nlpl.ca
SUMMARY:Adult Puzzle Night - Thursday May 26
DESCRIPTION:
URL:https://nlpl.ca/events/adult-puzzle-night-thursday-may-26/2029-05-29/
LOCATION:NL
END:VEVENT
BEGIN:VEVENT
DTSTART;TZID=America/St_Johns:20290605T180000
DTEND;TZID=America/St_Johns:20290605T203000
DTSTAMP:20260421T212402
CREATED:20260407T222359Z
LAST-MODIFIED:20260407T222435Z
UID:10061045-1875376800-1875385800@nlpl.ca
SUMMARY:Adult Puzzle Night - Thursday May 26
DESCRIPTION:
URL:https://nlpl.ca/events/adult-puzzle-night-thursday-may-26/2029-06-05/
LOCATION:NL
END:VEVENT
BEGIN:VEVENT
DTSTART;TZID=America/St_Johns:20290612T180000
DTEND;TZID=America/St_Johns:20290612T203000
DTSTAMP:20260421T212402
CREATED:20260407T222359Z
LAST-MODIFIED:20260407T222435Z
UID:10061046-1875981600-1875990600@nlpl.ca
SUMMARY:Adult Puzzle Night - Thursday May 26
DESCRIPTION:
URL:https://nlpl.ca/events/adult-puzzle-night-thursday-may-26/2029-06-12/
LOCATION:NL
END:VEVENT
BEGIN:VEVENT
DTSTART;TZID=America/St_Johns:20290619T180000
DTEND;TZID=America/St_Johns:20290619T203000
DTSTAMP:20260421T212402
CREATED:20260407T222359Z
LAST-MODIFIED:20260407T222435Z
UID:10061047-1876586400-1876595400@nlpl.ca
SUMMARY:Adult Puzzle Night - Thursday May 26
DESCRIPTION:
URL:https://nlpl.ca/events/adult-puzzle-night-thursday-may-26/2029-06-19/
LOCATION:NL
END:VEVENT
BEGIN:VEVENT
DTSTART;TZID=America/St_Johns:20290626T180000
DTEND;TZID=America/St_Johns:20290626T203000
DTSTAMP:20260421T212402
CREATED:20260407T222359Z
LAST-MODIFIED:20260407T222435Z
UID:10061048-1877191200-1877200200@nlpl.ca
SUMMARY:Adult Puzzle Night - Thursday May 26
DESCRIPTION:
URL:https://nlpl.ca/events/adult-puzzle-night-thursday-may-26/2029-06-26/
LOCATION:NL
END:VEVENT
BEGIN:VEVENT
DTSTART;TZID=America/St_Johns:20290703T180000
DTEND;TZID=America/St_Johns:20290703T203000
DTSTAMP:20260421T212402
CREATED:20260407T222359Z
LAST-MODIFIED:20260407T222435Z
UID:10061049-1877796000-1877805000@nlpl.ca
SUMMARY:Adult Puzzle Night - Thursday May 26
DESCRIPTION:
URL:https://nlpl.ca/events/adult-puzzle-night-thursday-may-26/2029-07-03/
LOCATION:NL
END:VEVENT
BEGIN:VEVENT
DTSTART;TZID=America/St_Johns:20290710T180000
DTEND;TZID=America/St_Johns:20290710T203000
DTSTAMP:20260421T212402
CREATED:20260407T222359Z
LAST-MODIFIED:20260407T222435Z
UID:10061050-1878400800-1878409800@nlpl.ca
SUMMARY:Adult Puzzle Night - Thursday May 26
DESCRIPTION:
URL:https://nlpl.ca/events/adult-puzzle-night-thursday-may-26/2029-07-10/
LOCATION:NL
END:VEVENT
BEGIN:VEVENT
DTSTART;TZID=America/St_Johns:20290717T180000
DTEND;TZID=America/St_Johns:20290717T203000
DTSTAMP:20260421T212402
CREATED:20260407T222359Z
LAST-MODIFIED:20260407T222435Z
UID:10061051-1879005600-1879014600@nlpl.ca
SUMMARY:Adult Puzzle Night - Thursday May 26
DESCRIPTION:
URL:https://nlpl.ca/events/adult-puzzle-night-thursday-may-26/2029-07-17/
LOCATION:NL
END:VEVENT
BEGIN:VEVENT
DTSTART;TZID=America/St_Johns:20290724T180000
DTEND;TZID=America/St_Johns:20290724T203000
DTSTAMP:20260421T212402
CREATED:20260407T222359Z
LAST-MODIFIED:20260407T222435Z
UID:10061052-1879610400-1879619400@nlpl.ca
SUMMARY:Adult Puzzle Night - Thursday May 26
DESCRIPTION:
URL:https://nlpl.ca/events/adult-puzzle-night-thursday-may-26/2029-07-24/
LOCATION:NL
END:VEVENT
BEGIN:VEVENT
DTSTART;TZID=America/St_Johns:20290731T180000
DTEND;TZID=America/St_Johns:20290731T203000
DTSTAMP:20260421T212402
CREATED:20260407T222359Z
LAST-MODIFIED:20260407T222435Z
UID:10061053-1880215200-1880224200@nlpl.ca
SUMMARY:Adult Puzzle Night - Thursday May 26
DESCRIPTION:
URL:https://nlpl.ca/events/adult-puzzle-night-thursday-may-26/2029-07-31/
LOCATION:NL
END:VEVENT
BEGIN:VEVENT
DTSTART;TZID=America/St_Johns:20290807T180000
DTEND;TZID=America/St_Johns:20290807T203000
DTSTAMP:20260421T212402
CREATED:20260407T222359Z
LAST-MODIFIED:20260407T222435Z
UID:10061054-1880820000-1880829000@nlpl.ca
SUMMARY:Adult Puzzle Night - Thursday May 26
DESCRIPTION:
URL:https://nlpl.ca/events/adult-puzzle-night-thursday-may-26/2029-08-07/
LOCATION:NL
END:VEVENT
BEGIN:VEVENT
DTSTART;TZID=America/St_Johns:20290814T180000
DTEND;TZID=America/St_Johns:20290814T203000
DTSTAMP:20260421T212402
CREATED:20260407T222359Z
LAST-MODIFIED:20260407T222435Z
UID:10061055-1881424800-1881433800@nlpl.ca
SUMMARY:Adult Puzzle Night - Thursday May 26
DESCRIPTION:
URL:https://nlpl.ca/events/adult-puzzle-night-thursday-may-26/2029-08-14/
LOCATION:NL
END:VEVENT
BEGIN:VEVENT
DTSTART;TZID=America/St_Johns:20290821T180000
DTEND;TZID=America/St_Johns:20290821T203000
DTSTAMP:20260421T212402
CREATED:20260407T222359Z
LAST-MODIFIED:20260407T222435Z
UID:10061056-1882029600-1882038600@nlpl.ca
SUMMARY:Adult Puzzle Night - Thursday May 26
DESCRIPTION:
URL:https://nlpl.ca/events/adult-puzzle-night-thursday-may-26/2029-08-21/
LOCATION:NL
END:VEVENT
BEGIN:VEVENT
DTSTART;TZID=America/St_Johns:20290828T180000
DTEND;TZID=America/St_Johns:20290828T203000
DTSTAMP:20260421T212402
CREATED:20260407T222359Z
LAST-MODIFIED:20260407T222435Z
UID:10061057-1882634400-1882643400@nlpl.ca
SUMMARY:Adult Puzzle Night - Thursday May 26
DESCRIPTION:
URL:https://nlpl.ca/events/adult-puzzle-night-thursday-may-26/2029-08-28/
LOCATION:NL
END:VEVENT
BEGIN:VEVENT
DTSTART;TZID=America/St_Johns:20290904T180000
DTEND;TZID=America/St_Johns:20290904T203000
DTSTAMP:20260421T212402
CREATED:20260407T222359Z
LAST-MODIFIED:20260407T222435Z
UID:10061058-1883239200-1883248200@nlpl.ca
SUMMARY:Adult Puzzle Night - Thursday May 26
DESCRIPTION:
URL:https://nlpl.ca/events/adult-puzzle-night-thursday-may-26/2029-09-04/
LOCATION:NL
END:VEVENT
BEGIN:VEVENT
DTSTART;TZID=America/St_Johns:20290911T180000
DTEND;TZID=America/St_Johns:20290911T203000
DTSTAMP:20260421T212402
CREATED:20260407T222359Z
LAST-MODIFIED:20260407T222435Z
UID:10061059-1883844000-1883853000@nlpl.ca
SUMMARY:Adult Puzzle Night - Thursday May 26
DESCRIPTION:
URL:https://nlpl.ca/events/adult-puzzle-night-thursday-may-26/2029-09-11/
LOCATION:NL
END:VEVENT
BEGIN:VEVENT
DTSTART;TZID=America/St_Johns:20290918T180000
DTEND;TZID=America/St_Johns:20290918T203000
DTSTAMP:20260421T212402
CREATED:20260407T222359Z
LAST-MODIFIED:20260407T222435Z
UID:10061060-1884448800-1884457800@nlpl.ca
SUMMARY:Adult Puzzle Night - Thursday May 26
DESCRIPTION:
URL:https://nlpl.ca/events/adult-puzzle-night-thursday-may-26/2029-09-18/
LOCATION:NL
END:VEVENT
BEGIN:VEVENT
DTSTART;TZID=America/St_Johns:20290925T180000
DTEND;TZID=America/St_Johns:20290925T203000
DTSTAMP:20260421T212402
CREATED:20260407T222359Z
LAST-MODIFIED:20260407T222435Z
UID:10061061-1885053600-1885062600@nlpl.ca
SUMMARY:Adult Puzzle Night - Thursday May 26
DESCRIPTION:
URL:https://nlpl.ca/events/adult-puzzle-night-thursday-may-26/2029-09-25/
LOCATION:NL
END:VEVENT
BEGIN:VEVENT
DTSTART;TZID=America/St_Johns:20291002T180000
DTEND;TZID=America/St_Johns:20291002T203000
DTSTAMP:20260421T212402
CREATED:20260407T222359Z
LAST-MODIFIED:20260407T222435Z
UID:10061062-1885658400-1885667400@nlpl.ca
SUMMARY:Adult Puzzle Night - Thursday May 26
DESCRIPTION:
URL:https://nlpl.ca/events/adult-puzzle-night-thursday-may-26/2029-10-02/
LOCATION:NL
END:VEVENT
END:VCALENDAR