BEGIN:VCALENDAR
VERSION:2.0
PRODID:-//Newfoundland &amp; Labrador Public Libraries - ECPv6.15.20//NONSGML v1.0//EN
CALSCALE:GREGORIAN
METHOD:PUBLISH
X-ORIGINAL-URL:https://nlpl.ca
X-WR-CALDESC:Events for Newfoundland &amp; Labrador Public Libraries
REFRESH-INTERVAL;VALUE=DURATION:PT1H
X-Robots-Tag:noindex
X-PUBLISHED-TTL:PT1H
BEGIN:VTIMEZONE
TZID:America/St_Johns
BEGIN:DAYLIGHT
TZOFFSETFROM:-0330
TZOFFSETTO:-0230
TZNAME:NDT
DTSTART:20250309T053000
END:DAYLIGHT
BEGIN:STANDARD
TZOFFSETFROM:-0230
TZOFFSETTO:-0330
TZNAME:NST
DTSTART:20251102T043000
END:STANDARD
BEGIN:DAYLIGHT
TZOFFSETFROM:-0330
TZOFFSETTO:-0230
TZNAME:NDT
DTSTART:20260308T053000
END:DAYLIGHT
BEGIN:STANDARD
TZOFFSETFROM:-0230
TZOFFSETTO:-0330
TZNAME:NST
DTSTART:20261101T043000
END:STANDARD
BEGIN:DAYLIGHT
TZOFFSETFROM:-0330
TZOFFSETTO:-0230
TZNAME:NDT
DTSTART:20270314T053000
END:DAYLIGHT
BEGIN:STANDARD
TZOFFSETFROM:-0230
TZOFFSETTO:-0330
TZNAME:NST
DTSTART:20271107T043000
END:STANDARD
END:VTIMEZONE
BEGIN:VEVENT
DTSTART;TZID=America/St_Johns:20260507T140000
DTEND;TZID=America/St_Johns:20260507T150000
DTSTAMP:20260421T222429
CREATED:20260406T143323Z
LAST-MODIFIED:20260406T143323Z
UID:10060588-1778162400-1778166000@nlpl.ca
SUMMARY:Mother's Day Storytime
DESCRIPTION:Join us for a Mother’s Day Storytime on May 7th 2026 from 2pm-3pm! Ages 1-6 are welcome. All supplies will be provided.
URL:https://nlpl.ca/events/mothers-day-storytime/
LOCATION:Wabush Public Library\, 15 Whiteway Dr.\, Wabush\, NL\, A0R 1B0\, Canada
CATEGORIES:Kids & Families,Storytime
ATTACH;FMTTYPE=image/jpeg:https://nlpl.ca/wp-content/uploads/2023/03/Events-Kid-Families.jpg
END:VEVENT
BEGIN:VEVENT
DTSTART;TZID=America/St_Johns:20260507T140000
DTEND;TZID=America/St_Johns:20260507T160000
DTSTAMP:20260421T222429
CREATED:20260102T193222Z
LAST-MODIFIED:20260312T181405Z
UID:10055571-1778162400-1778169600@nlpl.ca
SUMMARY:Tech Thursdays
DESCRIPTION:Gander Public Library – Needing help with your cell phone\, tablet/IPad or Laptop? On Thursdays 2-4pm you can book an appointment for help!
URL:https://nlpl.ca/events/tech-thursdays-3/2026-05-07/
LOCATION:Gander Public & Resource Library\, 6 Bell Place\, Gander\, NL\, A1V 1X2\, Canada
CATEGORIES:Technology & Makerspace
ATTACH;FMTTYPE=image/jpeg:https://nlpl.ca/wp-content/uploads/2023/03/Events-Classes-and-Workshops.jpg
END:VEVENT
BEGIN:VEVENT
DTSTART;TZID=America/St_Johns:20260507T140000
DTEND;TZID=America/St_Johns:20260507T160000
DTSTAMP:20260421T222429
CREATED:20260105T133034Z
LAST-MODIFIED:20260312T152500Z
UID:10059917-1778162400-1778169600@nlpl.ca
SUMMARY:Knitting Circle
DESCRIPTION:Harmsworth Public Library – Drop-in and join us to knit and/or crochet\, improve your needle skills\, help a friend\, share patterns\, ideas and stories.\n\nBring your own supplies.
URL:https://nlpl.ca/events/knitting-circle-2/2026-05-07/
LOCATION:Grand Falls-Windsor (Harmsworth) Public Library\, 1 Cromer Avenue\, Grand Falls - Windsor\, NL\, A2A 1W9\, Canada
CATEGORIES:Hobbies, Crafts & Games
ATTACH;FMTTYPE=image/jpeg:https://nlpl.ca/wp-content/uploads/2023/03/Events-Hobbies-Crafts-and-Games.jpg
END:VEVENT
BEGIN:VEVENT
DTSTART;TZID=America/St_Johns:20260507T150000
DTEND;TZID=America/St_Johns:20260507T160000
DTSTAMP:20260421T222429
CREATED:20251103T201201Z
LAST-MODIFIED:20251125T194640Z
UID:10053854-1778166000-1778169600@nlpl.ca
SUMMARY:Family Passive Play
DESCRIPTION:
URL:https://nlpl.ca/events/family-passive-play/2026-05-07/
LOCATION:Bishop’s Falls Public Library\, 445 Main Street\, Bishop's Falls\, NL\, A0H 1C0\, Canada
END:VEVENT
BEGIN:VEVENT
DTSTART;TZID=America/St_Johns:20260507T153000
DTEND;TZID=America/St_Johns:20260507T163000
DTSTAMP:20260421T222429
CREATED:20260122T181059Z
LAST-MODIFIED:20260406T123324Z
UID:10057015-1778167800-1778171400@nlpl.ca
SUMMARY:Discovery Club
DESCRIPTION:A registered program at A.C. Hunter Children’s Library \nDiscovery Club for ages 6-10 \nAn hour of hands-on fun with our friends from MUN Let’s Talk Science!  \nThurs. May 7 at 3:30pm \n  \nRegistration for all Mar/Apr programs opens Friday Feb 20 at 9:30am. Click the above link to register or call us at 709-737-3953.
URL:https://nlpl.ca/events/discovery-club-3/
LOCATION:St. John’s – A.C. Hunter Children’s Public Library\, 95 Allandale Road\, St. John's\, NL\, A1E 3A3\, Canada
CATEGORIES:Hobbies, Crafts & Games,Kids & Families
END:VEVENT
BEGIN:VEVENT
DTSTART;TZID=America/St_Johns:20260507T153000
DTEND;TZID=America/St_Johns:20260507T163000
DTSTAMP:20260421T222429
CREATED:20260406T123731Z
LAST-MODIFIED:20260406T124558Z
UID:10060581-1778167800-1778171400@nlpl.ca
SUMMARY:Crafternoon - May
DESCRIPTION:A registered program at A.C. Hunter Children’s Library. \nCrafternoon\nfor ages 5-9\nThursday May 7\, 3:30pm \nCreate a craft project to take home! This hour-long program includes a story and fun facts as well as a craft. \n  \nRegistration for all May/June programs begins Friday April 24 at 9:30am. Click the registration button or call 709-737-3953. \nPlease note: May and June crafternoons will not include a French language compontant. \n  \n 
URL:https://nlpl.ca/events/crafternoon-may/
LOCATION:St. John’s – A.C. Hunter Children’s Public Library\, 95 Allandale Road\, St. John's\, NL\, A1E 3A3\, Canada
CATEGORIES:Hobbies, Crafts & Games,Kids & Families,Storytime
END:VEVENT
BEGIN:VEVENT
DTSTART;TZID=America/St_Johns:20260507T153000
DTEND;TZID=America/St_Johns:20260507T170000
DTSTAMP:20260421T222429
CREATED:20250905T155750Z
LAST-MODIFIED:20251128T204710Z
UID:10049990-1778167800-1778173200@nlpl.ca
SUMMARY:Lego Play Hour at Bay Roberts Public Library
DESCRIPTION:Thursdays\, this fall\, from 3:30 to 5 pm expand your imagination with mountains of Lego blocks. Create and make friends. \nRegistration not necessary.
URL:https://nlpl.ca/events/lego-play-hour-at-bay-roberts-public-library/2026-05-07/
LOCATION:Bay Roberts Public Library\, 76 Cross Road\, Bay Roberts\, NL\, A0A 1G0\, Canada
ATTACH;FMTTYPE=image/jpeg:https://nlpl.ca/wp-content/uploads/2023/03/Events-Kid-Families.jpg
END:VEVENT
BEGIN:VEVENT
DTSTART;TZID=America/St_Johns:20260507T160000
DTEND;TZID=America/St_Johns:20260507T170000
DTSTAMP:20260421T222429
CREATED:20260105T162909Z
LAST-MODIFIED:20260312T172342Z
UID:10059980-1778169600-1778173200@nlpl.ca
SUMMARY:One-on-One Tech Help
DESCRIPTION:Harmsworth Public Library – Do you have a shiny new piece of tech\, but you’re not sure how to use it? Need a little help figuring out how to download an e-book\, share a photo\, or use Microsoft Word? \nMake a one-on-one appointment every Wednesday with our Tech Host\, Joshua. \nWe can provide general help\, tailored tech training\, and show you where to find helpful resources online. \nPlease call #709-489-2303 or drop in to schedule a time.
URL:https://nlpl.ca/events/one-on-one-tech-help-2-2/2026-05-07/
LOCATION:Grand Falls-Windsor (Harmsworth) Public Library\, 1 Cromer Avenue\, Grand Falls - Windsor\, NL\, A2A 1W9\, Canada
CATEGORIES:Technology & Makerspace
END:VEVENT
BEGIN:VEVENT
DTSTART;TZID=America/St_Johns:20260507T180000
DTEND;TZID=America/St_Johns:20260507T190000
DTSTAMP:20260421T222429
CREATED:20260105T161946Z
LAST-MODIFIED:20260312T152847Z
UID:10059908-1778176800-1778180400@nlpl.ca
SUMMARY:Sensory Hour
DESCRIPTION:Harmsworth Public Library – Sensory-friendly browsing hour that includes reduced lighting and reduced noise.
URL:https://nlpl.ca/events/sensory-hour-2/2026-05-07/
LOCATION:Grand Falls-Windsor (Harmsworth) Public Library\, 1 Cromer Avenue\, Grand Falls - Windsor\, NL\, A2A 1W9\, Canada
CATEGORIES:Heath & Wellbeing
END:VEVENT
BEGIN:VEVENT
DTSTART;TZID=America/St_Johns:20260508T093000
DTEND;TZID=America/St_Johns:20260508T113000
DTSTAMP:20260421T222429
CREATED:20251016T165338Z
LAST-MODIFIED:20251128T213700Z
UID:10052658-1778232600-1778239800@nlpl.ca
SUMMARY:Friday Free Play for Babies and Toddlers
DESCRIPTION:A drop-in weekly program at A.C. Hunter Children’s Library \nPlaygroup for ages 0-3. \nEvery Friday\, we open our playroom from 9:30 to 11:30am for babies and tots to play – a great chance to meet other caregivers! \nNo registration necessary.
URL:https://nlpl.ca/events/friday-free-play-for-babies-and-toddlers/2026-05-08/
LOCATION:St. John’s – A.C. Hunter Children’s Public Library\, 95 Allandale Road\, St. John's\, NL\, A1E 3A3\, Canada
CATEGORIES:Kids & Families,Storytime
ATTACH;FMTTYPE=image/jpeg:https://nlpl.ca/wp-content/uploads/2023/03/Events-Kid-Families.jpg
END:VEVENT
BEGIN:VEVENT
DTSTART;TZID=America/St_Johns:20260508T100000
DTEND;TZID=America/St_Johns:20260508T103000
DTSTAMP:20260421T222429
CREATED:20260312T151630Z
LAST-MODIFIED:20260330T114856Z
UID:10060416-1778234400-1778236200@nlpl.ca
SUMMARY:Spring Baby Storytime B - Fridays @10 am
DESCRIPTION:Embark on an exciting literacy adventure with your baby! \nJoin us for our 6-week winter session as we sing songs\, read engaging stories\, and enjoy some movement activities all while practicing our early literacy skills. Stick around afterwards for 30 minutes of free playtime and get to know your fellow parents. \nTime: 10am\, on Fridays\nAges: 0 – 18 months\nRegister online\, in-person\, or by calling the library at 709-737-3020\nThis registration is for all 6 sessions. First session is on April 10\,2026
URL:https://nlpl.ca/events/spring-baby-storytime-b-fridays-10-am/2026-05-08/
LOCATION:St. John’s – Marjorie Mews Public Library\, 12 Highland Drive\, St. John's\, NL\, A1A 3C4\, Canada
CATEGORIES:Storytime
ATTACH;FMTTYPE=image/jpeg:https://nlpl.ca/wp-content/uploads/2023/03/Events-Kid-Families.jpg
ORGANIZER;CN="St. John's - Marjorie Mews Public Library":MAILTO:MarjorieMews-Programming@nlpl.ca
END:VEVENT
BEGIN:VEVENT
DTSTART;TZID=America/St_Johns:20260508T100000
DTEND;TZID=America/St_Johns:20260508T120000
DTSTAMP:20260421T222429
CREATED:20260401T140130Z
LAST-MODIFIED:20260401T140130Z
UID:10060433-1778234400-1778241600@nlpl.ca
SUMMARY:Homeschool Hangout
DESCRIPTION:
URL:https://nlpl.ca/events/homeschool-hangout/2026-05-08/
LOCATION:Corner Brook Public Library\, 4 West Street\, Corner Brook\, NL\, A2H 0C1\, Canada
CATEGORIES:Kids & Families
END:VEVENT
BEGIN:VEVENT
DTSTART;TZID=America/St_Johns:20260508T101500
DTEND;TZID=America/St_Johns:20260508T114500
DTSTAMP:20260421T222429
CREATED:20251028T175624Z
LAST-MODIFIED:20260415T222620Z
UID:10061498-1778235300-1778240700@nlpl.ca
SUMMARY:Musical Munchkins
DESCRIPTION:Drop in to the Conception Bay South Public Library for Musical Munchkins! Hosted By the Family Resource Center.\nThis is a drop-in music and rhyme time for babies (newborn until walking) and their caregiver.
URL:https://nlpl.ca/events/musical-munchkins-2-3-2/2026-05-08/
LOCATION:Conception Bay South Public Library\, 10 Remembrance Square\, Conception Bay South\, NL\, Canada
CATEGORIES:Kids & Families
ATTACH;FMTTYPE=image/jpeg:https://nlpl.ca/wp-content/uploads/2023/03/Events-Kid-Families.jpg
END:VEVENT
BEGIN:VEVENT
DTSTART;TZID=America/St_Johns:20260508T103000
DTEND;TZID=America/St_Johns:20260508T110000
DTSTAMP:20260421T222429
CREATED:20260105T135443Z
LAST-MODIFIED:20260312T152214Z
UID:10059899-1778236200-1778238000@nlpl.ca
SUMMARY:Family Storytime
DESCRIPTION:Harmsworth Public Library – A 30-minute interactive program celebrating books\, rhymes\, movement\, songs\, and fun that is perfect for families with multiple children\, ages 0-5
URL:https://nlpl.ca/events/family-storytime-3/2026-05-08/
LOCATION:Grand Falls-Windsor (Harmsworth) Public Library\, 1 Cromer Avenue\, Grand Falls - Windsor\, NL\, A2A 1W9\, Canada
CATEGORIES:Kids & Families
ATTACH;FMTTYPE=image/jpeg:https://nlpl.ca/wp-content/uploads/2023/03/Events-Kid-Families.jpg
END:VEVENT
BEGIN:VEVENT
DTSTART;TZID=America/St_Johns:20260508T130000
DTEND;TZID=America/St_Johns:20260508T150000
DTSTAMP:20260421T222429
CREATED:20260319T170115Z
LAST-MODIFIED:20260319T170116Z
UID:10056783-1778245200-1778252400@nlpl.ca
SUMMARY:Drop In Play
DESCRIPTION:Visit the Port aux Basques Public Library every Friday afternoon for Drop In Play! A number of toys are available for free play. Enjoy a chance to get out of the house and socialize with other kids and caregivers.
URL:https://nlpl.ca/events/drop-in-play-2/2026-05-08/
LOCATION:Port aux Basques Public Library\, 8 Grand Bay\, Port aux Basques\, NL\, A0M 1C0\, Canada
CATEGORIES:Kids & Families
ATTACH;FMTTYPE=image/jpeg:https://nlpl.ca/wp-content/uploads/2023/03/Events-Kid-Families.jpg
END:VEVENT
BEGIN:VEVENT
DTSTART;TZID=America/St_Johns:20260508T140000
DTEND;TZID=America/St_Johns:20260508T160000
DTSTAMP:20260421T222429
CREATED:20260105T135729Z
LAST-MODIFIED:20260312T152751Z
UID:10059890-1778248800-1778256000@nlpl.ca
SUMMARY:Lego Free Play
DESCRIPTION:Harmsworth Public Library – What will you create? Create something fun at our LEGO free play!
URL:https://nlpl.ca/events/lego-free-play-6-2-2/2026-05-08/
LOCATION:Grand Falls-Windsor (Harmsworth) Public Library\, 1 Cromer Avenue\, Grand Falls - Windsor\, NL\, A2A 1W9\, Canada
CATEGORIES:Kids & Families
ATTACH;FMTTYPE=image/jpeg:https://nlpl.ca/wp-content/uploads/2023/03/Events-Kid-Families.jpg
END:VEVENT
BEGIN:VEVENT
DTSTART;TZID=America/St_Johns:20260508T140000
DTEND;TZID=America/St_Johns:20260508T163000
DTSTAMP:20260421T222429
CREATED:20260103T152206Z
LAST-MODIFIED:20260325T214908Z
UID:10060293-1778248800-1778257800@nlpl.ca
SUMMARY:LegoTime
DESCRIPTION:Show off your creativity and imagination with this drop-in program suitable for children of all ages (Lego recommended for ages 3+ and Duplo bricks available for younger siblings).
URL:https://nlpl.ca/events/legotime/2026-05-08/
LOCATION:Corner Brook Public Library\, 4 West Street\, Corner Brook\, NL\, A2H 0C1\, Canada
CATEGORIES:Kids & Families
END:VEVENT
BEGIN:VEVENT
DTSTART;TZID=America/St_Johns:20260508T140000
DTEND;TZID=America/St_Johns:20260508T163000
DTSTAMP:20260421T222429
CREATED:20260407T134939Z
LAST-MODIFIED:20260421T161545Z
UID:10060135-1778248800-1778257800@nlpl.ca
SUMMARY:Tech Help at CBS Public Library
DESCRIPTION:Book a one-on-one 30-minute tech help session on Friday afternoons. These sessions will be for basic tech help – including: accessing library books on Libby\, Microsoft Word or Google Docs\, email services\, setting up your new device\, and more!\n*Day-Of Registration Required – Please call the library (709-834-3620) from 10am-noon on the day you wish to book – let us know what device you will be bringing and what you need help with! Use of library computers\, laptops\, or tablets during these sessions is subject to availability.
URL:https://nlpl.ca/events/tech-help-at-cbs-public-library/2026-05-08/
LOCATION:Conception Bay South Public Library\, 10 Remembrance Square\, Conception Bay South\, NL\, Canada
CATEGORIES:Classes & Workshops
ATTACH;FMTTYPE=image/jpeg:https://nlpl.ca/wp-content/uploads/2023/03/Events-Classes-and-Workshops.jpg
END:VEVENT
BEGIN:VEVENT
DTSTART;TZID=America/St_Johns:20260508T143000
DTEND;TZID=America/St_Johns:20260508T160000
DTSTAMP:20260421T222429
CREATED:20260404T151226Z
LAST-MODIFIED:20260420T141252Z
UID:10060571-1778250600-1778256000@nlpl.ca
SUMMARY:The Process of Evacuation with the Canadian Red Cross
DESCRIPTION:St John’s – A.C. Hunter Library  \n\n\n\nJoin us online or in person for this information session with our friend from Eastern NL Canadian Red Cross. We will talk about how to get ready to evacuate at a moment’s notice. \nThis program is for adults and teens aged 16+ \nPlease call 709-737-3950 for more information
URL:https://nlpl.ca/events/the-process-of-evacuation-with-the-red-cross/
LOCATION:St. John’s – A.C. Hunter Public Library\, 125 Allandale Road\, St. John's\, NL\, A1B 3A3\, Canada
CATEGORIES:Information Session,Seniors
END:VEVENT
BEGIN:VEVENT
DTSTART;TZID=America/St_Johns:20260508T150000
DTEND;TZID=America/St_Johns:20260508T160000
DTSTAMP:20260421T222429
CREATED:20251103T201201Z
LAST-MODIFIED:20251125T194640Z
UID:10053855-1778252400-1778256000@nlpl.ca
SUMMARY:Family Passive Play
DESCRIPTION:
URL:https://nlpl.ca/events/family-passive-play/2026-05-08/
LOCATION:Bishop’s Falls Public Library\, 445 Main Street\, Bishop's Falls\, NL\, A0H 1C0\, Canada
END:VEVENT
BEGIN:VEVENT
DTSTART;TZID=America/St_Johns:20260509T100000
DTEND;TZID=America/St_Johns:20260509T110000
DTSTAMP:20260421T222429
CREATED:20260406T124407Z
LAST-MODIFIED:20260408T221109Z
UID:10060584-1778320800-1778324400@nlpl.ca
SUMMARY:Tots Saturday Storytime
DESCRIPTION:A registered program at A.C. Hunter Children’s Library. \nTots Saturday Storytime\nfor ages 1-2 years (3-36 months) \nSat May 9\, 10:00am \n30 minutes of stories\, rhymes and songs for active toddlers\, followed by a playtime. \nRegistration for all May/June programs begins Friday April 24 at 9:30am. Click the registration button or call 709-737-3953. \nDon’t forget to sign up for June Tots too!
URL:https://nlpl.ca/events/totssat/
LOCATION:St. John’s – A.C. Hunter Children’s Public Library\, 95 Allandale Road\, St. John's\, NL\, A1E 3A3\, Canada
CATEGORIES:Hobbies, Crafts & Games,Kids & Families,Storytime
END:VEVENT
BEGIN:VEVENT
DTSTART;TZID=America/St_Johns:20260509T100000
DTEND;TZID=America/St_Johns:20260509T120000
DTSTAMP:20260421T222429
CREATED:20260220T191022Z
LAST-MODIFIED:20260223T075830Z
UID:10059427-1778320800-1778328000@nlpl.ca
SUMMARY:Getting Around & Managing FIles Online with Digital Seniors NL
DESCRIPTION:St. John’s – A.C. Hunter Library Join our friends from Digital Seniors NL as we work with google maps and google drive. Bring your own device or borrow one from the library with your library card.
URL:https://nlpl.ca/events/getting-around-managing-files-online-with-digital-seniors-nl/
LOCATION:St. John’s – A.C. Hunter Public Library\, 125 Allandale Road\, St. John's\, NL\, A1B 3A3\, Canada
CATEGORIES:Classes & Workshops,Seniors,Technology & Makerspace
ATTACH;FMTTYPE=image/jpeg:https://nlpl.ca/wp-content/uploads/2023/11/Events-Tech-Makerspace.jpg
END:VEVENT
BEGIN:VEVENT
DTSTART;TZID=America/St_Johns:20260509T100000
DTEND;TZID=America/St_Johns:20260509T163000
DTSTAMP:20260421T222429
CREATED:20260227T195830Z
LAST-MODIFIED:20260418T175236Z
UID:10060045-1778320800-1778344200@nlpl.ca
SUMMARY:Lego Free Play
DESCRIPTION:Join us at the Ross King Memorial Library (Mount Pearl) every Saturday for Lego Free Play.  We have Lego building blocks available every Saturday from 10am until 4:30pm.  Drop in and create something amazing!
URL:https://nlpl.ca/events/lego-free-play-2-2/2026-05-09/
LOCATION:Mount Pearl Public Library\, 65 Olympic Drive\, Mount Pearl\, NL\, A1N 5H6\, Canada
CATEGORIES:Kids & Families
ORGANIZER;CN="Mount Pearl":MAILTO:mountpearl@nlpl.ca
END:VEVENT
BEGIN:VEVENT
DTSTART;TZID=America/St_Johns:20260509T103000
DTEND;TZID=America/St_Johns:20260509T110000
DTSTAMP:20260421T222429
CREATED:20260312T183434Z
LAST-MODIFIED:20260418T175434Z
UID:10060005-1778322600-1778324400@nlpl.ca
SUMMARY:Saturday Storytime (Drop-In)
DESCRIPTION:Join us at the Ross King Memorial Library (Mount Pearl) for a Family Storytime every Saturday at 10:30am.  This Storytime features stories\, songs and rhymes and is geared for children ages 0-5 years and their caregivers.  Storytime lasts approximately 20-30 minutes (no registration required).
URL:https://nlpl.ca/events/drop-in-storytime-2-2/2026-05-09/
LOCATION:Mount Pearl Public Library\, 65 Olympic Drive\, Mount Pearl\, NL\, A1N 5H6\, Canada
CATEGORIES:Kids & Families,Storytime
ORGANIZER;CN="Mount Pearl":MAILTO:mountpearl@nlpl.ca
END:VEVENT
BEGIN:VEVENT
DTSTART;TZID=America/St_Johns:20260509T103000
DTEND;TZID=America/St_Johns:20260509T113000
DTSTAMP:20260421T222429
CREATED:20250620T171441Z
LAST-MODIFIED:20260402T134453Z
UID:10044253-1778322600-1778326200@nlpl.ca
SUMMARY:The Saturday Morning Book Club
DESCRIPTION:Grander Public Library – Adult book club – Meets one Saturday a month to discuss the book of their choice
URL:https://nlpl.ca/events/the-saturday-morning-book-club-4/
LOCATION:Gander Public & Resource Library\, 6 Bell Place\, Gander\, NL\, A1V 1X2\, Canada
CATEGORIES:Book Clubs & Writer’s Groups
ATTACH;FMTTYPE=image/jpeg:https://nlpl.ca/wp-content/uploads/2023/03/Events-Book-Clubs-and-Writing-Groups.jpg
END:VEVENT
BEGIN:VEVENT
DTSTART;TZID=America/St_Johns:20260509T103000
DTEND;TZID=America/St_Johns:20260509T113000
DTSTAMP:20260421T222429
CREATED:20260103T140642Z
LAST-MODIFIED:20260325T214523Z
UID:10060251-1778322600-1778326200@nlpl.ca
SUMMARY:Family Storytime
DESCRIPTION:Stories\, songs and rhymes for the whole family! All ages and all abilities welcome
URL:https://nlpl.ca/events/family-storytime-2/2026-05-09/
LOCATION:Corner Brook Public Library\, 4 West Street\, Corner Brook\, NL\, A2H 0C1\, Canada
CATEGORIES:Kids & Families,Storytime
END:VEVENT
BEGIN:VEVENT
DTSTART;TZID=America/St_Johns:20260509T110000
DTEND;TZID=America/St_Johns:20260509T113000
DTSTAMP:20260421T222429
CREATED:20260323T174337Z
LAST-MODIFIED:20260323T174337Z
UID:10060205-1778324400-1778326200@nlpl.ca
SUMMARY:Family Storytime
DESCRIPTION:Join us at the CBS Public Library with the whole family for Storytime!\nThis is for all ages and drop in.
URL:https://nlpl.ca/events/family-storytime-6/2026-05-09/
LOCATION:Conception Bay South Public Library\, 10 Remembrance Square\, Conception Bay South\, NL\, Canada
CATEGORIES:Storytime
ATTACH;FMTTYPE=image/jpeg:https://nlpl.ca/wp-content/uploads/2023/03/Events-Kid-Families.jpg
ORGANIZER;CN="Conception Bay South Public Library":MAILTO:conceptionbaysouth@nlpl.ca
END:VEVENT
BEGIN:VEVENT
DTSTART;TZID=America/St_Johns:20260509T110000
DTEND;TZID=America/St_Johns:20260509T130000
DTSTAMP:20260421T222429
CREATED:20260319T170049Z
LAST-MODIFIED:20260319T170050Z
UID:10056835-1778324400-1778331600@nlpl.ca
SUMMARY:LEGO Builders
DESCRIPTION:Come out to the Port aux Basques Public Library for LEGO Builders. LEGO blocks are available\, along with a fun building table. Larger blocks are available for smaller children. Enjoy the fun and challenge of LEGO!
URL:https://nlpl.ca/events/lego-builders-2/2026-05-09/
LOCATION:Port aux Basques Public Library\, 8 Grand Bay\, Port aux Basques\, NL\, A0M 1C0\, Canada
CATEGORIES:Hobbies, Crafts & Games
ATTACH;FMTTYPE=image/jpeg:https://nlpl.ca/wp-content/uploads/2023/03/Events-Hobbies-Crafts-and-Games.jpg
END:VEVENT
BEGIN:VEVENT
DTSTART;TZID=America/St_Johns:20260509T110000
DTEND;TZID=America/St_Johns:20260509T150000
DTSTAMP:20260421T222429
CREATED:20260205T191657Z
LAST-MODIFIED:20260205T191754Z
UID:10058238-1778324400-1778338800@nlpl.ca
SUMMARY:Master Builders
DESCRIPTION:(5+) Passive program for open Lego play. We provide the Lego\, you provide the fun! Come and go anytime during 11am – 3pm on Saturdays.
URL:https://nlpl.ca/events/master-builders/2026-05-09/
LOCATION:Stephenville Public Library (Kindale)\, 45 Carolina Ave.\, Stephenville\, NL\, A2N 3P8\, Canada
CATEGORIES:Hobbies, Crafts & Games
ATTACH;FMTTYPE=image/jpeg:https://nlpl.ca/wp-content/uploads/2023/03/Events-Hobbies-Crafts-and-Games.jpg
END:VEVENT
BEGIN:VEVENT
DTSTART;TZID=America/St_Johns:20260509T113000
DTEND;TZID=America/St_Johns:20260509T120000
DTSTAMP:20260421T222429
CREATED:20260110T141357Z
LAST-MODIFIED:20260110T141357Z
UID:10056668-1778326200-1778328000@nlpl.ca
SUMMARY:Saturday\, Story Time
DESCRIPTION:Story Time \nSaturday \nTime: 11:30-12:00 \nJanuary 17 to June 13th \nAges- birth to 5 years \nStory Time is half hour program\, filled with wonderful story books\, nursery rhymes\, songs and so much fun. \nLearning to read begins before children start school. From the time they are infants\, children learn language and other important skills that will help them learn to read. Developing early literacy skills makes it easier for children to learn to read once they begin school. \n“Remember\, the more we read together\, the happier we’ll be.”
URL:https://nlpl.ca/events/saturday-story-time-21/
LOCATION:Carbonear Public Library\, 256 Water St.\, Carbonear\, NL\, A1Y 1C4\, Canada
CATEGORIES:Kids & Families,Storytime
ORGANIZER;CN="Carbonear Public Library":MAILTO:carbonear@nlpl.ca
END:VEVENT
END:VCALENDAR