BEGIN:VCALENDAR
VERSION:2.0
PRODID:-//Newfoundland &amp; Labrador Public Libraries - ECPv6.15.20//NONSGML v1.0//EN
CALSCALE:GREGORIAN
METHOD:PUBLISH
X-ORIGINAL-URL:https://nlpl.ca
X-WR-CALDESC:Events for Newfoundland &amp; Labrador Public Libraries
REFRESH-INTERVAL;VALUE=DURATION:PT1H
X-Robots-Tag:noindex
X-PUBLISHED-TTL:PT1H
BEGIN:VTIMEZONE
TZID:America/St_Johns
BEGIN:DAYLIGHT
TZOFFSETFROM:-0330
TZOFFSETTO:-0230
TZNAME:NDT
DTSTART:20250309T053000
END:DAYLIGHT
BEGIN:STANDARD
TZOFFSETFROM:-0230
TZOFFSETTO:-0330
TZNAME:NST
DTSTART:20251102T043000
END:STANDARD
BEGIN:DAYLIGHT
TZOFFSETFROM:-0330
TZOFFSETTO:-0230
TZNAME:NDT
DTSTART:20260308T053000
END:DAYLIGHT
BEGIN:STANDARD
TZOFFSETFROM:-0230
TZOFFSETTO:-0330
TZNAME:NST
DTSTART:20261101T043000
END:STANDARD
BEGIN:DAYLIGHT
TZOFFSETFROM:-0330
TZOFFSETTO:-0230
TZNAME:NDT
DTSTART:20270314T053000
END:DAYLIGHT
BEGIN:STANDARD
TZOFFSETFROM:-0230
TZOFFSETTO:-0330
TZNAME:NST
DTSTART:20271107T043000
END:STANDARD
END:VTIMEZONE
BEGIN:VEVENT
DTSTART;TZID=America/St_Johns:20260417T140000
DTEND;TZID=America/St_Johns:20260417T160000
DTSTAMP:20260425T004223
CREATED:20260105T135729Z
LAST-MODIFIED:20260312T152751Z
UID:10059887-1776434400-1776441600@nlpl.ca
SUMMARY:Lego Free Play
DESCRIPTION:Harmsworth Public Library – What will you create? Create something fun at our LEGO free play!
URL:https://nlpl.ca/events/lego-free-play-6-2-2/2026-04-17/
LOCATION:Grand Falls-Windsor (Harmsworth) Public Library\, 1 Cromer Avenue\, Grand Falls - Windsor\, NL\, A2A 1W9\, Canada
CATEGORIES:Kids & Families
ATTACH;FMTTYPE=image/jpeg:https://nlpl.ca/wp-content/uploads/2023/03/Events-Kid-Families.jpg
END:VEVENT
BEGIN:VEVENT
DTSTART;TZID=America/St_Johns:20260417T140000
DTEND;TZID=America/St_Johns:20260417T163000
DTSTAMP:20260425T004223
CREATED:20260103T152206Z
LAST-MODIFIED:20260325T214908Z
UID:10060290-1776434400-1776443400@nlpl.ca
SUMMARY:LegoTime
DESCRIPTION:Show off your creativity and imagination with this drop-in program suitable for children of all ages (Lego recommended for ages 3+ and Duplo bricks available for younger siblings).
URL:https://nlpl.ca/events/legotime/2026-04-17/
LOCATION:Corner Brook Public Library\, 4 West Street\, Corner Brook\, NL\, A2H 0C1\, Canada
CATEGORIES:Kids & Families
END:VEVENT
BEGIN:VEVENT
DTSTART;TZID=America/St_Johns:20260417T140000
DTEND;TZID=America/St_Johns:20260417T163000
DTSTAMP:20260425T004223
CREATED:20260407T134939Z
LAST-MODIFIED:20260421T161545Z
UID:10060132-1776434400-1776443400@nlpl.ca
SUMMARY:Tech Help at CBS Public Library
DESCRIPTION:Book a one-on-one 30-minute tech help session on Friday afternoons. These sessions will be for basic tech help – including: accessing library books on Libby\, Microsoft Word or Google Docs\, email services\, setting up your new device\, and more!\n*Day-Of Registration Required – Please call the library (709-834-3620) from 10am-noon on the day you wish to book – let us know what device you will be bringing and what you need help with! Use of library computers\, laptops\, or tablets during these sessions is subject to availability.
URL:https://nlpl.ca/events/tech-help-at-cbs-public-library/2026-04-17/
LOCATION:Conception Bay South Public Library\, 10 Remembrance Square\, Conception Bay South\, NL\, Canada
CATEGORIES:Classes & Workshops
ATTACH;FMTTYPE=image/jpeg:https://nlpl.ca/wp-content/uploads/2023/03/Events-Classes-and-Workshops.jpg
END:VEVENT
BEGIN:VEVENT
DTSTART;TZID=America/St_Johns:20260417T143000
DTEND;TZID=America/St_Johns:20260417T150000
DTSTAMP:20260425T004223
CREATED:20260225T182717Z
LAST-MODIFIED:20260416T173116Z
UID:10059510-1776436200-1776438000@nlpl.ca
SUMMARY:Tots Time - Fridays @ 2:30PM
DESCRIPTION:Set your little one on the road to literacy and join us for our 6 week tots time session! The staff will lead caregivers and toddlers in rhymes and songs\, read simple\, interactive stories and play with puppets and props!\nTots Time is for children aged 18mos-3yrs.\nTots Time will be held on Fridays @ 2:30PM and will run for 30 minutes followed by a short playtime or simple craft!\nThis session will start on Friday April 17th and finish on May 22nd.
URL:https://nlpl.ca/events/ttf/
LOCATION:St. John’s – Michael Donovan Public Library\, 655 Topsail Rd\, St. John's\, NL\, A1E 2E3\, Canada
CATEGORIES:Kids & Families,Storytime
END:VEVENT
BEGIN:VEVENT
DTSTART;TZID=America/St_Johns:20260417T143000
DTEND;TZID=America/St_Johns:20260417T153000
DTSTAMP:20260425T004223
CREATED:20260312T190249Z
LAST-MODIFIED:20260422T125419Z
UID:10060022-1776436200-1776439800@nlpl.ca
SUMMARY:FAB - Friday Afternoon Book Club
DESCRIPTION:Join us on the 3rd Friday of each month September to June.\nThis book club is run by library staff and we read all genres and subjects. Everyone is welcome. \nFor May we are discussing The Uncharted Flight of Olivia West by Sara Ackerman\nEmail juliamayo@nlpl.ca for more info
URL:https://nlpl.ca/events/friday-afternoon-book-club-2/2026-04-17/
LOCATION:St. John’s – A.C. Hunter Public Library\, 125 Allandale Road\, St. John's\, NL\, A1B 3A3\, Canada
CATEGORIES:Book Clubs & Writer’s Groups,Seniors
END:VEVENT
BEGIN:VEVENT
DTSTART;TZID=America/St_Johns:20260417T150000
DTEND;TZID=America/St_Johns:20260417T160000
DTSTAMP:20260425T004223
CREATED:20251103T201201Z
LAST-MODIFIED:20251125T194640Z
UID:10053840-1776438000-1776441600@nlpl.ca
SUMMARY:Family Passive Play
DESCRIPTION:
URL:https://nlpl.ca/events/family-passive-play/2026-04-17/
LOCATION:Bishop’s Falls Public Library\, 445 Main Street\, Bishop's Falls\, NL\, A0H 1C0\, Canada
END:VEVENT
BEGIN:VEVENT
DTSTART;TZID=America/St_Johns:20260417T150000
DTEND;TZID=America/St_Johns:20260417T160000
DTSTAMP:20260425T004223
CREATED:20260327T184018Z
LAST-MODIFIED:20260327T184046Z
UID:10060353-1776438000-1776441600@nlpl.ca
SUMMARY:Lego Free Play Afternoon
DESCRIPTION:Let your imagination run wild with Legos. \nBuild and create.
URL:https://nlpl.ca/events/lego-free-play-afternoon-3-2-2-2-2-2-2-2-2-2-2/2026-04-17/
LOCATION:Fogo Island Public Library\, 1 Iceberg Arena Road\, Fogo Island Central\, NL\, A0G 2B0\, Canada
CATEGORIES:Kids & Families
END:VEVENT
BEGIN:VEVENT
DTSTART;TZID=America/St_Johns:20260417T190000
DTEND;TZID=America/St_Johns:20260417T210000
DTSTAMP:20260425T004223
CREATED:20260323T173132Z
LAST-MODIFIED:20260416T172326Z
UID:10060130-1776452400-1776459600@nlpl.ca
SUMMARY:Skeet screening for National Canadian Film Day
DESCRIPTION:  \n \nTorbay Public Library is hosting a free screening of Skeet at 7 PM on Friday\, April 17/26 \nAbout the film: \nSkeet is a 2024 award-winning NL/Canadian drama from director Nik Sexton and producer Mary Sexton\, Rink Rat Productions\, starring Sean Dalton and Jay Abdo. Fresh out of prison\, Billy Skinner returns to his transformed low-income neighbourhood\, now populated by Syrian refugees. Struggling to overcome his dark past\, Billy forges an unexpected bond with Mo\, a compassionate Syrian immigrant determined to build a better life for his family. \nAges: Adult/16+ \nRegister: online from the NLPL events calendar\, call Torbay Public Library at (709) 437-6571 during open hours\, or email torbay@nlpl.ca. Seats are limited. \n  \n  \n 
URL:https://nlpl.ca/events/skeet-screening-for-national-canadian-film-day/
LOCATION:Torbay Public Library\, 1339C Torbay Road\, Torbay\, NL\, A1K 1B2\, Canada
CATEGORIES:Arts & Culture,Films,NL History & Heritage,Special Event
END:VEVENT
BEGIN:VEVENT
DTSTART;TZID=America/St_Johns:20260418T100000
DTEND;TZID=America/St_Johns:20260418T110000
DTSTAMP:20260425T004223
CREATED:20260123T142550Z
LAST-MODIFIED:20260123T142607Z
UID:10057093-1776506400-1776510000@nlpl.ca
SUMMARY:Saturday Tots Storytime
DESCRIPTION:A registered program at A.C. Hunter Children’s Library \nTots Storytime for ages 1 to 2 years (13 to 35 months) \nOur staff will lead stories and active song and rhymes for toddlers! 30 minutes of storytime\, plus a little something extra! \nSaturday April 18\, 10:00am \n  \nRegistration for all March and April programs begins Friday Feb 20th at 9:30am.\nClick the above link or give us a call at 709-737-3953!
URL:https://nlpl.ca/events/saturday-tots-storytime-2/
LOCATION:St. John’s – A.C. Hunter Children’s Public Library\, 95 Allandale Road\, St. John's\, NL\, A1E 3A3\, Canada
CATEGORIES:Kids & Families,Storytime
END:VEVENT
BEGIN:VEVENT
DTSTART;TZID=America/St_Johns:20260418T100000
DTEND;TZID=America/St_Johns:20260418T140000
DTSTAMP:20260425T004223
CREATED:20260202T192359Z
LAST-MODIFIED:20260202T192359Z
UID:10058046-1776506400-1776520800@nlpl.ca
SUMMARY:Drop-in Lego Play
DESCRIPTION:We provide the space and Lego’s\, you provide the fun and creativity!
URL:https://nlpl.ca/events/drop-in-lego-play/2026-04-18/
LOCATION:Labrador City Public Library\, 306 Hudson Dr.\, Labrador City\, NL\, A2V 1L5\, Canada
CATEGORIES:Kids & Families
ATTACH;FMTTYPE=image/jpeg:https://nlpl.ca/wp-content/uploads/2023/03/Events-Kid-Families.jpg
END:VEVENT
BEGIN:VEVENT
DTSTART;TZID=America/St_Johns:20260418T100000
DTEND;TZID=America/St_Johns:20260418T163000
DTSTAMP:20260425T004223
CREATED:20260227T195830Z
LAST-MODIFIED:20260418T175236Z
UID:10060042-1776506400-1776529800@nlpl.ca
SUMMARY:Lego Free Play
DESCRIPTION:Join us at the Ross King Memorial Library (Mount Pearl) every Saturday for Lego Free Play.  We have Lego building blocks available every Saturday from 10am until 4:30pm.  Drop in and create something amazing!
URL:https://nlpl.ca/events/lego-free-play-2-2/2026-04-18/
LOCATION:Mount Pearl Public Library\, 65 Olympic Drive\, Mount Pearl\, NL\, A1N 5H6\, Canada
CATEGORIES:Kids & Families
ORGANIZER;CN="Mount Pearl":MAILTO:mountpearl@nlpl.ca
END:VEVENT
BEGIN:VEVENT
DTSTART;TZID=America/St_Johns:20260418T103000
DTEND;TZID=America/St_Johns:20260418T110000
DTSTAMP:20260425T004223
CREATED:20260312T183434Z
LAST-MODIFIED:20260418T175434Z
UID:10060002-1776508200-1776510000@nlpl.ca
SUMMARY:Saturday Storytime (Drop-In)
DESCRIPTION:Join us at the Ross King Memorial Library (Mount Pearl) for a Family Storytime every Saturday at 10:30am.  This Storytime features stories\, songs and rhymes and is geared for children ages 0-5 years and their caregivers.  Storytime lasts approximately 20-30 minutes (no registration required).
URL:https://nlpl.ca/events/drop-in-storytime-2-2/2026-04-18/
LOCATION:Mount Pearl Public Library\, 65 Olympic Drive\, Mount Pearl\, NL\, A1N 5H6\, Canada
CATEGORIES:Kids & Families,Storytime
ORGANIZER;CN="Mount Pearl":MAILTO:mountpearl@nlpl.ca
END:VEVENT
BEGIN:VEVENT
DTSTART;TZID=America/St_Johns:20260418T103000
DTEND;TZID=America/St_Johns:20260418T113000
DTSTAMP:20260425T004223
CREATED:20260103T140642Z
LAST-MODIFIED:20260325T214523Z
UID:10060248-1776508200-1776511800@nlpl.ca
SUMMARY:Family Storytime
DESCRIPTION:Stories\, songs and rhymes for the whole family! All ages and all abilities welcome
URL:https://nlpl.ca/events/family-storytime-2/2026-04-18/
LOCATION:Corner Brook Public Library\, 4 West Street\, Corner Brook\, NL\, A2H 0C1\, Canada
CATEGORIES:Kids & Families,Storytime
END:VEVENT
BEGIN:VEVENT
DTSTART;TZID=America/St_Johns:20260418T103000
DTEND;TZID=America/St_Johns:20260418T113000
DTSTAMP:20260425T004223
CREATED:20260107T181135Z
LAST-MODIFIED:20260107T181552Z
UID:10056538-1776508200-1776511800@nlpl.ca
SUMMARY:Storytime!
DESCRIPTION:Join us as Port aux Basques Public Library for storytime! It’s a great way to have your child enjoy the library and foster a lifelong love of reading. Come and enjoy some books\, songs\, poems and rhymes. Toys and games are also available for free play.
URL:https://nlpl.ca/events/storytime-3/2026-04-18/
LOCATION:Port aux Basques Public Library\, 8 Grand Bay\, Port aux Basques\, NL\, A0M 1C0\, Canada
CATEGORIES:Kids & Families,Storytime
ATTACH;FMTTYPE=image/jpeg:https://nlpl.ca/wp-content/uploads/2023/03/Events-Kid-Families.jpg
END:VEVENT
BEGIN:VEVENT
DTSTART;TZID=America/St_Johns:20260418T110000
DTEND;TZID=America/St_Johns:20260418T120000
DTSTAMP:20260425T004223
CREATED:20260313T180738Z
LAST-MODIFIED:20260326T134418Z
UID:10060017-1776510000-1776513600@nlpl.ca
SUMMARY:Spectacular Spies
DESCRIPTION:Register online for this awesome event on Sat. Apr. 18th from 11am-12pm at the Ross King Memorial Library (Mount Pearl).  Participants will write messages with invisible ink\, make and decipher top secret spy codes and create new identities!  This program is for children ages 6-12 years.  Children under 10 years must be accompanied by an adult.
URL:https://nlpl.ca/events/spectacular-spies/
LOCATION:Mount Pearl Public Library\, 65 Olympic Drive\, Mount Pearl\, NL\, A1N 5H6\, Canada
CATEGORIES:Kids & Families
ORGANIZER;CN="Mount Pearl":MAILTO:mountpearl@nlpl.ca
END:VEVENT
BEGIN:VEVENT
DTSTART;TZID=America/St_Johns:20260418T110000
DTEND;TZID=America/St_Johns:20260418T130000
DTSTAMP:20260425T004223
CREATED:20260319T170049Z
LAST-MODIFIED:20260319T170050Z
UID:10056832-1776510000-1776517200@nlpl.ca
SUMMARY:LEGO Builders
DESCRIPTION:Come out to the Port aux Basques Public Library for LEGO Builders. LEGO blocks are available\, along with a fun building table. Larger blocks are available for smaller children. Enjoy the fun and challenge of LEGO!
URL:https://nlpl.ca/events/lego-builders-2/2026-04-18/
LOCATION:Port aux Basques Public Library\, 8 Grand Bay\, Port aux Basques\, NL\, A0M 1C0\, Canada
CATEGORIES:Hobbies, Crafts & Games
ATTACH;FMTTYPE=image/jpeg:https://nlpl.ca/wp-content/uploads/2023/03/Events-Hobbies-Crafts-and-Games.jpg
END:VEVENT
BEGIN:VEVENT
DTSTART;TZID=America/St_Johns:20260418T110000
DTEND;TZID=America/St_Johns:20260418T150000
DTSTAMP:20260425T004223
CREATED:20260205T191657Z
LAST-MODIFIED:20260205T191754Z
UID:10058235-1776510000-1776524400@nlpl.ca
SUMMARY:Master Builders
DESCRIPTION:(5+) Passive program for open Lego play. We provide the Lego\, you provide the fun! Come and go anytime during 11am – 3pm on Saturdays.
URL:https://nlpl.ca/events/master-builders/2026-04-18/
LOCATION:Stephenville Public Library (Kindale)\, 45 Carolina Ave.\, Stephenville\, NL\, A2N 3P8\, Canada
CATEGORIES:Hobbies, Crafts & Games
ATTACH;FMTTYPE=image/jpeg:https://nlpl.ca/wp-content/uploads/2023/03/Events-Hobbies-Crafts-and-Games.jpg
END:VEVENT
BEGIN:VEVENT
DTSTART;TZID=America/St_Johns:20260418T113000
DTEND;TZID=America/St_Johns:20260418T120000
DTSTAMP:20260425T004223
CREATED:20260110T141125Z
LAST-MODIFIED:20260110T141146Z
UID:10056664-1776511800-1776513600@nlpl.ca
SUMMARY:Saturday\, Story Time
DESCRIPTION:Story Time \nSaturday \nTime: 11:30-12:00 \nJanuary 17 to June 13th \nAges- birth to 5 years \nStory Time is half hour program\, filled with wonderful story books\, nursery rhymes\, songs and so much fun. \nLearning to read begins before children start school. From the time they are infants\, children learn language and other important skills that will help them learn to read. Developing early literacy skills makes it easier for children to learn to read once they begin school. \n“Remember\, the more we read together\, the happier we’ll be.”
URL:https://nlpl.ca/events/saturday-story-time-18/
LOCATION:Carbonear Public Library\, 256 Water St.\, Carbonear\, NL\, A1Y 1C4\, Canada
CATEGORIES:Kids & Families,Storytime
ORGANIZER;CN="Carbonear Public Library":MAILTO:carbonear@nlpl.ca
END:VEVENT
BEGIN:VEVENT
DTSTART;TZID=America/St_Johns:20260418T113000
DTEND;TZID=America/St_Johns:20260418T120000
DTSTAMP:20260425T004223
CREATED:20260110T141214Z
LAST-MODIFIED:20260110T141214Z
UID:10056665-1776511800-1776513600@nlpl.ca
SUMMARY:Saturday\, Story Time
DESCRIPTION:Story Time \nSaturday \nTime: 11:30-12:00 \nJanuary 17 to June 13th \nAges- birth to 5 years \nStory Time is half hour program\, filled with wonderful story books\, nursery rhymes\, songs and so much fun. \nLearning to read begins before children start school. From the time they are infants\, children learn language and other important skills that will help them learn to read. Developing early literacy skills makes it easier for children to learn to read once they begin school. \n“Remember\, the more we read together\, the happier we’ll be.”
URL:https://nlpl.ca/events/saturday-story-time-19/
LOCATION:Carbonear Public Library\, 256 Water St.\, Carbonear\, NL\, A1Y 1C4\, Canada
CATEGORIES:Kids & Families,Storytime
ORGANIZER;CN="Carbonear Public Library":MAILTO:carbonear@nlpl.ca
END:VEVENT
BEGIN:VEVENT
DTSTART;TZID=America/St_Johns:20260418T143000
DTEND;TZID=America/St_Johns:20260418T153000
DTSTAMP:20260425T004223
CREATED:20260303T224900Z
LAST-MODIFIED:20260417T155825Z
UID:10059707-1776522600-1776526200@nlpl.ca
SUMMARY:Poetry for Pooches with St John Ambulance Therapy Dogs
DESCRIPTION:April is poetry month and nothing goes better with poems than pups! Come and grab a poem to read to our guest therapy dogs.\nAll ages! No registration!
URL:https://nlpl.ca/events/poetry-for-pooches/
LOCATION:St. John’s – A.C. Hunter Public Library\, 125 Allandale Road\, St. John's\, NL\, A1B 3A3\, Canada
CATEGORIES:Arts & Culture,Book Clubs & Writer’s Groups,Kids & Families,Special Event
END:VEVENT
BEGIN:VEVENT
DTSTART;TZID=America/St_Johns:20260418T143000
DTEND;TZID=America/St_Johns:20260418T163000
DTSTAMP:20260425T004223
CREATED:20251113T195310Z
LAST-MODIFIED:20260307T190309Z
UID:10059435-1776522600-1776529800@nlpl.ca
SUMMARY:Write Around The Corner with Hannah Jenkins
DESCRIPTION:Join writer and staff member Hannah Jenkins in this engaging monthly writing group. Come together to share your projects\, gather fresh ideas\, and connect with fellow writers. \nThis creative writing group and feedback circle aims to provide constructive critiques on your work and foster an exchange of ideas among writers. To respect everyone’s time\, we kindly request that participants limit the material they bring to each meeting and\, whenever possible\, share their writing with the group beforehand to minimize reading time during the session.\nPlease send your submissions to writearoundthecornergroup@gmail.com​. \nOverall\, the goal of this program is to unite writers\, encouraging new connections while offering and receiving inspiration\, feedback\, and advice on their works in progress (WIPs).
URL:https://nlpl.ca/events/write-around-the-corner-with-hannah-jenkins-3/2026-04-18/
LOCATION:St. John’s – A.C. Hunter Public Library\, 125 Allandale Road\, St. John's\, NL\, A1B 3A3\, Canada
CATEGORIES:Arts & Culture,Book Clubs & Writer’s Groups
END:VEVENT
BEGIN:VEVENT
DTSTART;TZID=America/St_Johns:20260418T190000
DTEND;TZID=America/St_Johns:20260514T194500
DTSTAMP:20260425T004223
CREATED:20260418T182108Z
LAST-MODIFIED:20260418T182210Z
UID:10061519-1776538800-1778787900@nlpl.ca
SUMMARY:Book Club (Accessible Formats)
DESCRIPTION:Join us at the Ross King Memorial Library (Mount Pearl) for our monthly Book Club.  We meet on the second Wednesday of the month from 7-7:45pm.  Our May meeting will be held on Wed. May 13th and we’ll be discussing Amy Tintera’s “Listen for the Lie”.  This is a drop-in event (no registration required).  Print copies of the book will be available at the library’s front desk\, audio versions are available on Libby and CELA.
URL:https://nlpl.ca/events/book-club-accessible-formats-2/
LOCATION:Mount Pearl Public Library\, 65 Olympic Drive\, Mount Pearl\, NL\, A1N 5H6\, Canada
CATEGORIES:Book Clubs & Writer’s Groups
ORGANIZER;CN="Mount Pearl":MAILTO:mountpearl@nlpl.ca
END:VEVENT
BEGIN:VEVENT
DTSTART;TZID=America/St_Johns:20260420T150000
DTEND;TZID=America/St_Johns:20260420T160000
DTSTAMP:20260425T004223
CREATED:20251103T201201Z
LAST-MODIFIED:20251125T194640Z
UID:10053841-1776697200-1776700800@nlpl.ca
SUMMARY:Family Passive Play
DESCRIPTION:
URL:https://nlpl.ca/events/family-passive-play/2026-04-20/
LOCATION:Bishop’s Falls Public Library\, 445 Main Street\, Bishop's Falls\, NL\, A0H 1C0\, Canada
END:VEVENT
BEGIN:VEVENT
DTSTART;TZID=America/St_Johns:20260420T150000
DTEND;TZID=America/St_Johns:20260420T200000
DTSTAMP:20260425T004223
CREATED:20260304T172104Z
LAST-MODIFIED:20260317T164251Z
UID:10059632-1776697200-1776715200@nlpl.ca
SUMMARY:Quilting with Kay
DESCRIPTION:Come and enjoy an afternoon of beginner quilting with Kay Warford!!
URL:https://nlpl.ca/events/quilting-with-kay-2/2026-04-20/
LOCATION:Point Leamington Public Library\, 1 Rice's Drive\, Point Leamington\, NL\, A0H 1Z0\, Canada
CATEGORIES:Hobbies, Crafts & Games
END:VEVENT
BEGIN:VEVENT
DTSTART;TZID=America/St_Johns:20260420T180000
DTEND;TZID=America/St_Johns:20260420T200000
DTSTAMP:20260425T004223
CREATED:20251001T170959Z
LAST-MODIFIED:20251128T205518Z
UID:10051852-1776708000-1776715200@nlpl.ca
SUMMARY:Traditional NL Rug Hooking
DESCRIPTION:Drop in group at Point Leamington Public Library for rug hookers to work on their own projects.\nAll skill levels are welcome.
URL:https://nlpl.ca/events/traditional-nl-rug-hooking-2/2026-04-20/
LOCATION:Point Leamington Public Library\, 1 Rice's Drive\, Point Leamington\, NL\, A0H 1Z0\, Canada
CATEGORIES:Hobbies, Crafts & Games
ATTACH;FMTTYPE=image/jpeg:https://nlpl.ca/wp-content/uploads/2023/03/Events-Hobbies-Crafts-and-Games.jpg
END:VEVENT
BEGIN:VEVENT
DTSTART;TZID=America/St_Johns:20260421T060000
DTEND;TZID=America/St_Johns:20260421T193000
DTSTAMP:20260425T004223
CREATED:20251120T191835Z
LAST-MODIFIED:20251125T195038Z
UID:10055170-1776751200-1776799800@nlpl.ca
SUMMARY:Tuesday Night Tabletop Board Gaming
DESCRIPTION:New-Wes-Valley Public Libraries welcomes everyone to Tuesday night Board Gaming.  From 6 pm – 7:30 pm play from a wide selection of games from the libraries collection\, or bring you own.  Hope to see you there. \n 
URL:https://nlpl.ca/events/tuesday-night-tabletop-board-gaming/2026-04-21/
CATEGORIES:Hobbies, Crafts & Games
END:VEVENT
BEGIN:VEVENT
DTSTART;TZID=America/St_Johns:20260421T100000
DTEND;TZID=America/St_Johns:20260421T110000
DTSTAMP:20260425T004223
CREATED:20251015T144618Z
LAST-MODIFIED:20251015T161058Z
UID:10052610-1776765600-1776769200@nlpl.ca
SUMMARY:Family Story Time
DESCRIPTION:
URL:https://nlpl.ca/events/family-story-time-2/2026-04-21/
LOCATION:Bishop’s Falls Public Library\, 445 Main Street\, Bishop's Falls\, NL\, A0H 1C0\, Canada
CATEGORIES:Kids & Families,Storytime
END:VEVENT
BEGIN:VEVENT
DTSTART;TZID=America/St_Johns:20260421T100000
DTEND;TZID=America/St_Johns:20260421T120000
DTSTAMP:20260425T004223
CREATED:20260103T155608Z
LAST-MODIFIED:20260325T215109Z
UID:10060308-1776765600-1776772800@nlpl.ca
SUMMARY:Digital Learning+
DESCRIPTION:Small group workshops and classes for lifelong learning with a focus on digital literacy presented as part of The Murphy Centre’s ACCESS to Learning program. \nfree | registration required \nFor more information or registration contact: chrisjoseph@murphycentre.ca 709-640-6718 and/or reneesherstobetoff@murphycentre.ca 709-640-5616 \n  \n 
URL:https://nlpl.ca/events/digital-learning/2026-04-21/
LOCATION:Corner Brook Public Library\, 4 West Street\, Corner Brook\, NL\, A2H 0C1\, Canada
END:VEVENT
BEGIN:VEVENT
DTSTART;TZID=America/St_Johns:20260421T103000
DTEND;TZID=America/St_Johns:20260421T110000
DTSTAMP:20260425T004223
CREATED:20260110T135700Z
LAST-MODIFIED:20260110T135700Z
UID:10056645-1776767400-1776769200@nlpl.ca
SUMMARY:Tuesday\, Story Time
DESCRIPTION:Story Time \nTuesday 10:30-11:00 \nJanuary 13 to June 9th \nAges- birth to 5 years \nStory Time is half hour program\, filled with wonderful story books\, nursery rhymes\, songs and so much fun. \nLearning to read begins before children start school. From the time they are infants\, children learn language and other important skills that will help them learn to read. Developing early literacy skills makes it easier for children to learn to read once they begin school. \n“Remember\, the more we read together\, the happier we’ll be.”
URL:https://nlpl.ca/events/tuesday-story-time-15/
LOCATION:Carbonear Public Library\, 256 Water St.\, Carbonear\, NL\, A1Y 1C4\, Canada
CATEGORIES:Kids & Families,Storytime
ORGANIZER;CN="Carbonear Public Library":MAILTO:carbonear@nlpl.ca
END:VEVENT
BEGIN:VEVENT
DTSTART;TZID=America/St_Johns:20260421T103000
DTEND;TZID=America/St_Johns:20260421T110000
DTSTAMP:20260425T004223
CREATED:20260223T195656Z
LAST-MODIFIED:20260223T195656Z
UID:10059452-1776767400-1776769200@nlpl.ca
SUMMARY:Spring Family Story Time 2026
DESCRIPTION:Stephenville Crossing: A 30 minute interactive program celebrating books\, rhymes\, movement\, songs and fun that is perfect for families with multiple children\, ages 0-5 years. Learn\, grow\, and explore through 6 weeks of story time at the library!
URL:https://nlpl.ca/events/spring-family-story-time-2026/2026-04-21/
LOCATION:Stephenville Crossing Public Library\, 73 West Street\, Stephenville Crossing\, NL\, A0N 2C0\, Canada
CATEGORIES:Kids & Families,Storytime
ATTACH;FMTTYPE=image/jpeg:https://nlpl.ca/wp-content/uploads/2023/03/Events-Kid-Families.jpg
END:VEVENT
END:VCALENDAR