BEGIN:VCALENDAR
VERSION:2.0
PRODID:-//Newfoundland &amp; Labrador Public Libraries - ECPv6.15.20//NONSGML v1.0//EN
CALSCALE:GREGORIAN
METHOD:PUBLISH
X-WR-CALNAME:Newfoundland &amp; Labrador Public Libraries
X-ORIGINAL-URL:https://nlpl.ca
X-WR-CALDESC:Events for Newfoundland &amp; Labrador Public Libraries
REFRESH-INTERVAL;VALUE=DURATION:PT1H
X-Robots-Tag:noindex
X-PUBLISHED-TTL:PT1H
BEGIN:VTIMEZONE
TZID:America/St_Johns
BEGIN:DAYLIGHT
TZOFFSETFROM:-0330
TZOFFSETTO:-0230
TZNAME:NDT
DTSTART:20250309T053000
END:DAYLIGHT
BEGIN:STANDARD
TZOFFSETFROM:-0230
TZOFFSETTO:-0330
TZNAME:NST
DTSTART:20251102T043000
END:STANDARD
BEGIN:DAYLIGHT
TZOFFSETFROM:-0330
TZOFFSETTO:-0230
TZNAME:NDT
DTSTART:20260308T053000
END:DAYLIGHT
BEGIN:STANDARD
TZOFFSETFROM:-0230
TZOFFSETTO:-0330
TZNAME:NST
DTSTART:20261101T043000
END:STANDARD
BEGIN:DAYLIGHT
TZOFFSETFROM:-0330
TZOFFSETTO:-0230
TZNAME:NDT
DTSTART:20270314T053000
END:DAYLIGHT
BEGIN:STANDARD
TZOFFSETFROM:-0230
TZOFFSETTO:-0330
TZNAME:NST
DTSTART:20271107T043000
END:STANDARD
END:VTIMEZONE
BEGIN:VEVENT
DTSTART;TZID=America/St_Johns:20260624T180000
DTEND;TZID=America/St_Johns:20260624T190000
DTSTAMP:20260421T132614
CREATED:20240903T133648Z
LAST-MODIFIED:20260415T215847Z
UID:10061468-1782324000-1782327600@nlpl.ca
SUMMARY:Writer's Group
DESCRIPTION:Join us at the Conception Bay South Public Library! This is a drop in group for people with a passion for creative writing!
URL:https://nlpl.ca/events/writers-group/2026-06-24/
LOCATION:Conception Bay South Public Library\, 10 Remembrance Square\, Conception Bay South\, NL\, Canada
CATEGORIES:Book Clubs & Writer’s Groups
ATTACH;FMTTYPE=image/jpeg:https://nlpl.ca/wp-content/uploads/2023/03/Events-Book-Clubs-and-Writing-Groups.jpg
END:VEVENT
BEGIN:VEVENT
DTSTART;TZID=America/St_Johns:20260624T140000
DTEND;TZID=America/St_Johns:20260624T153000
DTSTAMP:20260421T132614
CREATED:20260102T194258Z
LAST-MODIFIED:20260102T194922Z
UID:10055628-1782309600-1782315000@nlpl.ca
SUMMARY:Crafter's Corner
DESCRIPTION:Grander Public Library – Bring in a project that you are working on. Either it be knitting\, crochet\, rug hooking
URL:https://nlpl.ca/events/crafters-corner-3-2-2/2026-06-24/
LOCATION:Gander Public & Resource Library\, 6 Bell Place\, Gander\, NL\, A1V 1X2\, Canada
CATEGORIES:Hobbies, Crafts & Games
ATTACH;FMTTYPE=image/jpeg:https://nlpl.ca/wp-content/uploads/2023/03/Events-Hobbies-Crafts-and-Games.jpg
END:VEVENT
BEGIN:VEVENT
DTSTART;TZID=America/St_Johns:20260624T130000
DTEND;TZID=America/St_Johns:20260624T153000
DTSTAMP:20260421T132614
CREATED:20260219T131709Z
LAST-MODIFIED:20260219T131709Z
UID:10059322-1782306000-1782315000@nlpl.ca
SUMMARY:Knitting Group
DESCRIPTION:Adult knitting group\, non-instructive. Join others who share in a love of knitting. Bring your projects and knit with friends\, old and new!
URL:https://nlpl.ca/events/knitting-group-2/2026-06-24/
LOCATION:Stephenville Public Library (Kindale)\, 45 Carolina Ave.\, Stephenville\, NL\, A2N 3P8\, Canada
CATEGORIES:Hobbies, Crafts & Games
ATTACH;FMTTYPE=image/jpeg:https://nlpl.ca/wp-content/uploads/2023/03/Events-Hobbies-Crafts-and-Games.jpg
END:VEVENT
BEGIN:VEVENT
DTSTART;TZID=America/St_Johns:20260623T183000
DTEND;TZID=America/St_Johns:20260623T193000
DTSTAMP:20260421T132614
CREATED:20251120T143346Z
LAST-MODIFIED:20260325T150443Z
UID:10059431-1782239400-1782243000@nlpl.ca
SUMMARY:Nonfiction Bookclub
DESCRIPTION:St. John’s – A.C. Hunter Library Join Pamela on the 3rd floor for great conversations about awesome nonfiction books. This bookclub is for adults and will meet once every 2 months. \nApril’s book will be How to Say Babylon by Safiya Sinclair \nCall (709)737-3950 for more info.
URL:https://nlpl.ca/events/nonfiction-bookclub-2/2026-06-23/
LOCATION:St. John’s – A.C. Hunter Public Library\, 125 Allandale Road\, St. John's\, NL\, A1B 3A3\, Canada
CATEGORIES:Book Clubs & Writer’s Groups,Teens
ATTACH;FMTTYPE=image/jpeg:https://nlpl.ca/wp-content/uploads/2023/03/Events-Book-Clubs-and-Writing-Groups.jpg
END:VEVENT
BEGIN:VEVENT
DTSTART;TZID=America/St_Johns:20260623T180000
DTEND;TZID=America/St_Johns:20260623T203000
DTSTAMP:20260421T132614
CREATED:20260407T222643Z
LAST-MODIFIED:20260407T222734Z
UID:10061152-1782237600-1782246600@nlpl.ca
SUMMARY:Adult Puzzle Night Every Tuesday! - Buchans Public Library
DESCRIPTION:Come to the library from 6:00 – 8:30 every Tuesday evening for Adult Puzzle Night! Friendly conversation\, coffee/ tea.
URL:https://nlpl.ca/events/adult-puzzle-night-every-tuesday-buchans-public-library/2026-06-23/
LOCATION:NL
END:VEVENT
BEGIN:VEVENT
DTSTART;TZID=America/St_Johns:20260623T180000
DTEND;TZID=America/St_Johns:20260623T203000
DTSTAMP:20260421T132614
CREATED:20260407T222359Z
LAST-MODIFIED:20260407T222435Z
UID:10060891-1782237600-1782246600@nlpl.ca
SUMMARY:Adult Puzzle Night - Thursday May 26
DESCRIPTION:
URL:https://nlpl.ca/events/adult-puzzle-night-thursday-may-26/2026-06-23/
LOCATION:NL
END:VEVENT
BEGIN:VEVENT
DTSTART;TZID=America/St_Johns:20260623T180000
DTEND;TZID=America/St_Johns:20260623T190000
DTSTAMP:20260421T132614
CREATED:20260102T193405Z
LAST-MODIFIED:20260102T193514Z
UID:10055602-1782237600-1782241200@nlpl.ca
SUMMARY:Sensory Hour
DESCRIPTION:Grander Public Library – Quiet Area\, Reduced Noise and Lighting. All ages.
URL:https://nlpl.ca/events/sensory-hour-2-2/2026-06-23/
LOCATION:Gander Public & Resource Library\, 6 Bell Place\, Gander\, NL\, A1V 1X2\, Canada
CATEGORIES:Heath & Wellbeing
ATTACH;FMTTYPE=image/jpeg:https://nlpl.ca/wp-content/uploads/2019/04/Depositphotos_3928992_xl-2015.jpg
END:VEVENT
BEGIN:VEVENT
DTSTART;TZID=America/St_Johns:20260623T173000
DTEND;TZID=America/St_Johns:20260623T193000
DTSTAMP:20260421T132614
CREATED:20260105T144032Z
LAST-MODIFIED:20260312T152652Z
UID:10059932-1782235800-1782243000@nlpl.ca
SUMMARY:Dungeons & Dragons
DESCRIPTION:Harmsworth Public Library – Curious about Dungeons & Dragons? Are you looking to join a new group? Join us every Tuesday from 5:30 to 7:30 PM. \nNew and experienced players welcome. 13+ years. \nTo register\, phone #709-489-2303 or visit the library \n 
URL:https://nlpl.ca/events/dungeons-dragons-3-2/2026-06-23/
LOCATION:Grand Falls-Windsor (Harmsworth) Public Library\, 1 Cromer Avenue\, Grand Falls - Windsor\, NL\, A2A 1W9\, Canada
CATEGORIES:Hobbies, Crafts & Games
ATTACH;FMTTYPE=image/jpeg:https://nlpl.ca/wp-content/uploads/2023/03/Events-Hobbies-Crafts-and-Games.jpg
END:VEVENT
BEGIN:VEVENT
DTSTART;TZID=America/St_Johns:20260623T160000
DTEND;TZID=America/St_Johns:20260623T170000
DTSTAMP:20260421T132614
CREATED:20250630T172012Z
LAST-MODIFIED:20260312T153102Z
UID:10059956-1782230400-1782234000@nlpl.ca
SUMMARY:Sensory Hour
DESCRIPTION:Harmsworth Public Library – Sensory-friendly browsing hour that includes reduced lighting and reduced noise.
URL:https://nlpl.ca/events/sensory-hour-4-2/2026-06-23/
LOCATION:Grand Falls-Windsor (Harmsworth) Public Library\, 1 Cromer Avenue\, Grand Falls - Windsor\, NL\, A2A 1W9\, Canada
CATEGORIES:Heath & Wellbeing
END:VEVENT
BEGIN:VEVENT
DTSTART;TZID=America/St_Johns:20260623T153000
DTEND;TZID=America/St_Johns:20260623T163000
DTSTAMP:20260421T132614
CREATED:20250821T155247Z
LAST-MODIFIED:20260415T221903Z
UID:10061472-1782228600-1782232200@nlpl.ca
SUMMARY:Baby Play Group
DESCRIPTION:Drop in to the Conception Bay South Public Library where the storytime room  will be open for baby play time\, with baby-friendly toys available! This is a drop-in program\, best suited for ages 0-2.
URL:https://nlpl.ca/events/baby-play-group/2026-06-23/
LOCATION:Conception Bay South Public Library\, 10 Remembrance Square\, Conception Bay South\, NL\, Canada
CATEGORIES:Kids & Families
ATTACH;FMTTYPE=image/jpeg:https://nlpl.ca/wp-content/uploads/2023/03/Events-Kid-Families.jpg
END:VEVENT
BEGIN:VEVENT
DTSTART;TZID=America/St_Johns:20260623T140000
DTEND;TZID=America/St_Johns:20260623T153000
DTSTAMP:20260421T132614
CREATED:20260103T135944Z
LAST-MODIFIED:20260325T214808Z
UID:10060264-1782223200-1782228600@nlpl.ca
SUMMARY:BabyTime PlayTime
DESCRIPTION:Drop-in for playtime and socializing for babies (ages 0-2) and parents/caregivers
URL:https://nlpl.ca/events/babytime-playtime/2026-06-23/
LOCATION:Corner Brook Public Library\, 4 West Street\, Corner Brook\, NL\, A2H 0C1\, Canada
END:VEVENT
BEGIN:VEVENT
DTSTART;TZID=America/St_Johns:20260623T113000
DTEND;TZID=America/St_Johns:20260623T123000
DTSTAMP:20260421T132614
CREATED:20260227T193732Z
LAST-MODIFIED:20260418T174819Z
UID:10061529-1782214200-1782217800@nlpl.ca
SUMMARY:Tech Tuesdays
DESCRIPTION:Drop by the Ross King Memorial Library (Mount Pearl) from 11:30 AM – 12:30 PM on Tuesdays for our Tech Tuesdays program.  This program will give you tips on how to use devices such as a laptop\, tablet or cell phone as well as provide answers to your questions about how to use Library resources such as Libby\, Connect Pass\, and the NLPL Events Calendar and Catalogue.  This is a drop in program and is conducted on first-come\, first-serve basis.
URL:https://nlpl.ca/events/tech-tuesdays-3-2/2026-06-23/
LOCATION:Mount Pearl Public Library\, 65 Olympic Drive\, Mount Pearl\, NL\, A1N 5H6\, Canada
CATEGORIES:Classes & Workshops,Information Session,Technology & Makerspace
ORGANIZER;CN="Mount Pearl":MAILTO:mountpearl@nlpl.ca
END:VEVENT
BEGIN:VEVENT
DTSTART;TZID=America/St_Johns:20260623T100000
DTEND;TZID=America/St_Johns:20260623T110000
DTSTAMP:20260421T132614
CREATED:20251015T144618Z
LAST-MODIFIED:20251015T161058Z
UID:10052619-1782208800-1782212400@nlpl.ca
SUMMARY:Family Story Time
DESCRIPTION:
URL:https://nlpl.ca/events/family-story-time-2/2026-06-23/
LOCATION:Bishop’s Falls Public Library\, 445 Main Street\, Bishop's Falls\, NL\, A0H 1C0\, Canada
CATEGORIES:Kids & Families,Storytime
END:VEVENT
BEGIN:VEVENT
DTSTART;TZID=America/St_Johns:20260622T190000
DTEND;TZID=America/St_Johns:20260622T200000
DTSTAMP:20260421T132614
CREATED:20260407T184854Z
LAST-MODIFIED:20260407T184854Z
UID:10060606-1782154800-1782158400@nlpl.ca
SUMMARY:Buchans Public Library Book Club
DESCRIPTION:Our Spring Book Club has now begun with the book The Maid written by Nita Prose. First meeting will be Monday April 27th\, 7:00pm. 2 copies left for anyone who wishes to join us!
URL:https://nlpl.ca/events/buchans-public-library-book-club/2026-06-22/
LOCATION:NL
END:VEVENT
BEGIN:VEVENT
DTSTART;TZID=America/St_Johns:20260622T180000
DTEND;TZID=America/St_Johns:20260622T200000
DTSTAMP:20260421T132614
CREATED:20251001T170959Z
LAST-MODIFIED:20251128T205518Z
UID:10051861-1782151200-1782158400@nlpl.ca
SUMMARY:Traditional NL Rug Hooking
DESCRIPTION:Drop in group at Point Leamington Public Library for rug hookers to work on their own projects.\nAll skill levels are welcome.
URL:https://nlpl.ca/events/traditional-nl-rug-hooking-2/2026-06-22/
LOCATION:Point Leamington Public Library\, 1 Rice's Drive\, Point Leamington\, NL\, A0H 1Z0\, Canada
CATEGORIES:Hobbies, Crafts & Games
ATTACH;FMTTYPE=image/jpeg:https://nlpl.ca/wp-content/uploads/2023/03/Events-Hobbies-Crafts-and-Games.jpg
END:VEVENT
BEGIN:VEVENT
DTSTART;TZID=America/St_Johns:20260620T143000
DTEND;TZID=America/St_Johns:20260620T153000
DTSTAMP:20260421T132614
CREATED:20260406T125226Z
LAST-MODIFIED:20260410T141505Z
UID:10060587-1781965800-1781969400@nlpl.ca
SUMMARY:Preschool Saturday Storytime
DESCRIPTION:A registered program at A.C. Hunter Children’s Library. \nPreschool Saturday Storytime\nfor ages 3-5 years \nSat June 20\, 2:30pm \n30 minutes of stories\, rhymes and songs plus a craft and tips for kindergarten readiness. \nRegistration for all May/June programs begins Friday April 24 at 9:30am. Click the registration button or call 709-737-3953. \n 
URL:https://nlpl.ca/events/preschool-saturday-storytime-2/
LOCATION:St. John’s – A.C. Hunter Children’s Public Library\, 95 Allandale Road\, St. John's\, NL\, A1E 3A3\, Canada
CATEGORIES:Hobbies, Crafts & Games,Kids & Families,Storytime
END:VEVENT
BEGIN:VEVENT
DTSTART;TZID=America/St_Johns:20260620T110000
DTEND;TZID=America/St_Johns:20260620T150000
DTSTAMP:20260421T132614
CREATED:20260205T191657Z
LAST-MODIFIED:20260205T191754Z
UID:10058244-1781953200-1781967600@nlpl.ca
SUMMARY:Master Builders
DESCRIPTION:(5+) Passive program for open Lego play. We provide the Lego\, you provide the fun! Come and go anytime during 11am – 3pm on Saturdays.
URL:https://nlpl.ca/events/master-builders/2026-06-20/
LOCATION:Stephenville Public Library (Kindale)\, 45 Carolina Ave.\, Stephenville\, NL\, A2N 3P8\, Canada
CATEGORIES:Hobbies, Crafts & Games
ATTACH;FMTTYPE=image/jpeg:https://nlpl.ca/wp-content/uploads/2023/03/Events-Hobbies-Crafts-and-Games.jpg
END:VEVENT
BEGIN:VEVENT
DTSTART;TZID=America/St_Johns:20260620T103000
DTEND;TZID=America/St_Johns:20260620T110000
DTSTAMP:20260421T132614
CREATED:20260312T183434Z
LAST-MODIFIED:20260418T175434Z
UID:10060011-1781951400-1781953200@nlpl.ca
SUMMARY:Saturday Storytime (Drop-In)
DESCRIPTION:Join us at the Ross King Memorial Library (Mount Pearl) for a Family Storytime every Saturday at 10:30am.  This Storytime features stories\, songs and rhymes and is geared for children ages 0-5 years and their caregivers.  Storytime lasts approximately 20-30 minutes (no registration required).
URL:https://nlpl.ca/events/drop-in-storytime-2-2/2026-06-20/
LOCATION:Mount Pearl Public Library\, 65 Olympic Drive\, Mount Pearl\, NL\, A1N 5H6\, Canada
CATEGORIES:Kids & Families,Storytime
ORGANIZER;CN="Mount Pearl":MAILTO:mountpearl@nlpl.ca
END:VEVENT
BEGIN:VEVENT
DTSTART;TZID=America/St_Johns:20260620T100000
DTEND;TZID=America/St_Johns:20260620T163000
DTSTAMP:20260421T132614
CREATED:20260227T195830Z
LAST-MODIFIED:20260418T175236Z
UID:10061536-1781949600-1781973000@nlpl.ca
SUMMARY:Lego Free Play
DESCRIPTION:Join us at the Ross King Memorial Library (Mount Pearl) every Saturday for Lego Free Play.  We have Lego building blocks available every Saturday from 10am until 4:30pm.  Drop in and create something amazing!
URL:https://nlpl.ca/events/lego-free-play-2-2/2026-06-20/
LOCATION:Mount Pearl Public Library\, 65 Olympic Drive\, Mount Pearl\, NL\, A1N 5H6\, Canada
CATEGORIES:Kids & Families
ORGANIZER;CN="Mount Pearl":MAILTO:mountpearl@nlpl.ca
END:VEVENT
BEGIN:VEVENT
DTSTART;TZID=America/St_Johns:20260620T100000
DTEND;TZID=America/St_Johns:20260620T103000
DTSTAMP:20260421T132614
CREATED:20260406T170339Z
LAST-MODIFIED:20260406T170339Z
UID:10060601-1781949600-1781951400@nlpl.ca
SUMMARY:Drop-in Baby Storytime
DESCRIPTION:A drop in program at A.C. Hunter Children’s Library \nBaby Storytime\nfor ages 0-12 months\nSongs\, rhymes and early literacy tips for caregivers. 30 minutes. \nNo registration is required for our Saturday storytime for pre-walking babies!  \n\n10:00am\nSaturday June 6 and June 20
URL:https://nlpl.ca/events/drop-in-baby-storytime-3/
LOCATION:St. John’s – A.C. Hunter Children’s Public Library\, 95 Allandale Road\, St. John's\, NL\, A1E 3A3\, Canada
CATEGORIES:Kids & Families,Storytime
END:VEVENT
BEGIN:VEVENT
DTSTART;TZID=America/St_Johns:20260619T143000
DTEND;TZID=America/St_Johns:20260619T153000
DTSTAMP:20260421T132614
CREATED:20260312T190249Z
LAST-MODIFIED:20260312T190250Z
UID:10060023-1781879400-1781883000@nlpl.ca
SUMMARY:FAB - Friday Afternoon Book Club
DESCRIPTION:Join us on the 3rd Friday of each month September to June.\nThis book club is run by library staff and we read all genres and subjects. Everyone is welcome. \nFor March we are discussing Circe by Madeline Miller\nEmail juliamayo@nlpl.ca for more info
URL:https://nlpl.ca/events/friday-afternoon-book-club-2/2026-06-19/
LOCATION:St. John’s – A.C. Hunter Public Library\, 125 Allandale Road\, St. John's\, NL\, A1B 3A3\, Canada
CATEGORIES:Book Clubs & Writer’s Groups,Seniors
END:VEVENT
BEGIN:VEVENT
DTSTART;TZID=America/St_Johns:20260619T140000
DTEND;TZID=America/St_Johns:20260619T160000
DTSTAMP:20260421T132614
CREATED:20260105T135729Z
LAST-MODIFIED:20260312T152751Z
UID:10059936-1781877600-1781884800@nlpl.ca
SUMMARY:Lego Free Play
DESCRIPTION:Harmsworth Public Library – What will you create? Create something fun at our LEGO free play!
URL:https://nlpl.ca/events/lego-free-play-6-2-2/2026-06-19/
LOCATION:Grand Falls-Windsor (Harmsworth) Public Library\, 1 Cromer Avenue\, Grand Falls - Windsor\, NL\, A2A 1W9\, Canada
CATEGORIES:Kids & Families
ATTACH;FMTTYPE=image/jpeg:https://nlpl.ca/wp-content/uploads/2023/03/Events-Kid-Families.jpg
END:VEVENT
BEGIN:VEVENT
DTSTART;TZID=America/St_Johns:20260619T101500
DTEND;TZID=America/St_Johns:20260619T114500
DTSTAMP:20260421T132614
CREATED:20251028T175624Z
LAST-MODIFIED:20260415T222620Z
UID:10061504-1781864100-1781869500@nlpl.ca
SUMMARY:Musical Munchkins
DESCRIPTION:Drop in to the Conception Bay South Public Library for Musical Munchkins! Hosted By the Family Resource Center.\nThis is a drop-in music and rhyme time for babies (newborn until walking) and their caregiver.
URL:https://nlpl.ca/events/musical-munchkins-2-3-2/2026-06-19/
LOCATION:Conception Bay South Public Library\, 10 Remembrance Square\, Conception Bay South\, NL\, Canada
CATEGORIES:Kids & Families
ATTACH;FMTTYPE=image/jpeg:https://nlpl.ca/wp-content/uploads/2023/03/Events-Kid-Families.jpg
END:VEVENT
BEGIN:VEVENT
DTSTART;TZID=America/St_Johns:20260619T100000
DTEND;TZID=America/St_Johns:20260619T120000
DTSTAMP:20260421T132614
CREATED:20260401T140130Z
LAST-MODIFIED:20260401T140130Z
UID:10060436-1781863200-1781870400@nlpl.ca
SUMMARY:Homeschool Hangout
DESCRIPTION:
URL:https://nlpl.ca/events/homeschool-hangout/2026-06-19/
LOCATION:Corner Brook Public Library\, 4 West Street\, Corner Brook\, NL\, A2H 0C1\, Canada
CATEGORIES:Kids & Families
END:VEVENT
BEGIN:VEVENT
DTSTART;TZID=America/St_Johns:20260619T100000
DTEND;TZID=America/St_Johns:20260619T110000
DTSTAMP:20260421T132614
CREATED:20260406T121934Z
LAST-MODIFIED:20260406T124651Z
UID:10060577-1781863200-1781866800@nlpl.ca
SUMMARY:Baby's First Father's Day Craft
DESCRIPTION:A registered program at A.C. Hunter Children’s Library. \nBaby’s First Father’s Day Craft\nfor ages 0-12months \nCreate a special craft for Father’s day with your baby! Program includes stories and rhymes plus a craft.\nPlease bring two caregivers if possible. \nRegistration for all May/June programs begins Friday April 24 at 9:30am. Click the registration button or call 709-737-3953. \n 
URL:https://nlpl.ca/events/fathersday/
LOCATION:St. John’s – A.C. Hunter Children’s Public Library\, 95 Allandale Road\, St. John's\, NL\, A1E 3A3\, Canada
CATEGORIES:Hobbies, Crafts & Games,Kids & Families,Storytime
END:VEVENT
BEGIN:VEVENT
DTSTART;TZID=America/St_Johns:20260619T093000
DTEND;TZID=America/St_Johns:20260619T113000
DTSTAMP:20260421T132614
CREATED:20251016T165338Z
LAST-MODIFIED:20251128T213700Z
UID:10052664-1781861400-1781868600@nlpl.ca
SUMMARY:Friday Free Play for Babies and Toddlers
DESCRIPTION:A drop-in weekly program at A.C. Hunter Children’s Library \nPlaygroup for ages 0-3. \nEvery Friday\, we open our playroom from 9:30 to 11:30am for babies and tots to play – a great chance to meet other caregivers! \nNo registration necessary.
URL:https://nlpl.ca/events/friday-free-play-for-babies-and-toddlers/2026-06-19/
LOCATION:St. John’s – A.C. Hunter Children’s Public Library\, 95 Allandale Road\, St. John's\, NL\, A1E 3A3\, Canada
CATEGORIES:Kids & Families,Storytime
ATTACH;FMTTYPE=image/jpeg:https://nlpl.ca/wp-content/uploads/2023/03/Events-Kid-Families.jpg
END:VEVENT
BEGIN:VEVENT
DTSTART;TZID=America/St_Johns:20260618T180000
DTEND;TZID=America/St_Johns:20260618T190000
DTSTAMP:20260421T132614
CREATED:20260105T161946Z
LAST-MODIFIED:20260312T152847Z
UID:10059940-1781805600-1781809200@nlpl.ca
SUMMARY:Sensory Hour
DESCRIPTION:Harmsworth Public Library – Sensory-friendly browsing hour that includes reduced lighting and reduced noise.
URL:https://nlpl.ca/events/sensory-hour-2/2026-06-18/
LOCATION:Grand Falls-Windsor (Harmsworth) Public Library\, 1 Cromer Avenue\, Grand Falls - Windsor\, NL\, A2A 1W9\, Canada
CATEGORIES:Heath & Wellbeing
END:VEVENT
BEGIN:VEVENT
DTSTART;TZID=America/St_Johns:20260618T160000
DTEND;TZID=America/St_Johns:20260618T170000
DTSTAMP:20260421T132614
CREATED:20260105T162909Z
LAST-MODIFIED:20260312T172342Z
UID:10059986-1781798400-1781802000@nlpl.ca
SUMMARY:One-on-One Tech Help
DESCRIPTION:Harmsworth Public Library – Do you have a shiny new piece of tech\, but you’re not sure how to use it? Need a little help figuring out how to download an e-book\, share a photo\, or use Microsoft Word? \nMake a one-on-one appointment every Wednesday with our Tech Host\, Joshua. \nWe can provide general help\, tailored tech training\, and show you where to find helpful resources online. \nPlease call #709-489-2303 or drop in to schedule a time.
URL:https://nlpl.ca/events/one-on-one-tech-help-2-2/2026-06-18/
LOCATION:Grand Falls-Windsor (Harmsworth) Public Library\, 1 Cromer Avenue\, Grand Falls - Windsor\, NL\, A2A 1W9\, Canada
CATEGORIES:Technology & Makerspace
END:VEVENT
BEGIN:VEVENT
DTSTART;TZID=America/St_Johns:20260618T140000
DTEND;TZID=America/St_Johns:20260618T160000
DTSTAMP:20260421T132614
CREATED:20260102T193222Z
LAST-MODIFIED:20260312T181405Z
UID:10055577-1781791200-1781798400@nlpl.ca
SUMMARY:Tech Thursdays
DESCRIPTION:Gander Public Library – Needing help with your cell phone\, tablet/IPad or Laptop? On Thursdays 2-4pm you can book an appointment for help!
URL:https://nlpl.ca/events/tech-thursdays-3/2026-06-18/
LOCATION:Gander Public & Resource Library\, 6 Bell Place\, Gander\, NL\, A1V 1X2\, Canada
CATEGORIES:Technology & Makerspace
ATTACH;FMTTYPE=image/jpeg:https://nlpl.ca/wp-content/uploads/2023/03/Events-Classes-and-Workshops.jpg
END:VEVENT
BEGIN:VEVENT
DTSTART;TZID=America/St_Johns:20260618T140000
DTEND;TZID=America/St_Johns:20260618T150000
DTSTAMP:20260421T132614
CREATED:20260406T165540Z
LAST-MODIFIED:20260406T165540Z
UID:10060596-1781791200-1781794800@nlpl.ca
SUMMARY:Drop-in Storytime
DESCRIPTION:A drop-in program at A.C. Hunter Children’s Library. \nDrop-in Storytime\nfor ages 0-5 \n30 minutes of stories\, songs\, rhymes and literacy tips for babies and toddlers\, followed by a playtime. No registration required! \nSelect Wednesdays and Thursdays in May and June:\nThurs May 7th 10am\nWed May 13\, 2pm\nThurs May 14\, 10am \nThurs June 4th 10am\nWed June 10\, 2pm\nThurs June 11\, 10am\nThus June 18\, 2pm
URL:https://nlpl.ca/events/drop-in-storytime-8/
LOCATION:St. John’s – A.C. Hunter Children’s Public Library\, 95 Allandale Road\, St. John's\, NL\, A1E 3A3\, Canada
CATEGORIES:Kids & Families,Storytime
END:VEVENT
END:VCALENDAR