BEGIN:VCALENDAR
VERSION:2.0
PRODID:-//Newfoundland &amp; Labrador Public Libraries - ECPv6.15.20//NONSGML v1.0//EN
CALSCALE:GREGORIAN
METHOD:PUBLISH
X-WR-CALNAME:Newfoundland &amp; Labrador Public Libraries
X-ORIGINAL-URL:https://nlpl.ca
X-WR-CALDESC:Events for Newfoundland &amp; Labrador Public Libraries
REFRESH-INTERVAL;VALUE=DURATION:PT1H
X-Robots-Tag:noindex
X-PUBLISHED-TTL:PT1H
BEGIN:VTIMEZONE
TZID:America/St_Johns
BEGIN:DAYLIGHT
TZOFFSETFROM:-0330
TZOFFSETTO:-0230
TZNAME:NDT
DTSTART:20250309T053000
END:DAYLIGHT
BEGIN:STANDARD
TZOFFSETFROM:-0230
TZOFFSETTO:-0330
TZNAME:NST
DTSTART:20251102T043000
END:STANDARD
BEGIN:DAYLIGHT
TZOFFSETFROM:-0330
TZOFFSETTO:-0230
TZNAME:NDT
DTSTART:20260308T053000
END:DAYLIGHT
BEGIN:STANDARD
TZOFFSETFROM:-0230
TZOFFSETTO:-0330
TZNAME:NST
DTSTART:20261101T043000
END:STANDARD
BEGIN:DAYLIGHT
TZOFFSETFROM:-0330
TZOFFSETTO:-0230
TZNAME:NDT
DTSTART:20270314T053000
END:DAYLIGHT
BEGIN:STANDARD
TZOFFSETFROM:-0230
TZOFFSETTO:-0330
TZNAME:NST
DTSTART:20271107T043000
END:STANDARD
END:VTIMEZONE
BEGIN:VEVENT
DTSTART;TZID=America/St_Johns:20260227T140000
DTEND;TZID=America/St_Johns:20260227T163000
DTSTAMP:20260425T094049
CREATED:20260103T152206Z
LAST-MODIFIED:20260325T214908Z
UID:10055933-1772200800-1772209800@nlpl.ca
SUMMARY:LegoTime
DESCRIPTION:Show off your creativity and imagination with this drop-in program suitable for children of all ages (Lego recommended for ages 3+ and Duplo bricks available for younger siblings).
URL:https://nlpl.ca/events/legotime/2026-02-27/
LOCATION:Corner Brook Public Library\, 4 West Street\, Corner Brook\, NL\, A2H 0C1\, Canada
CATEGORIES:Kids & Families
END:VEVENT
BEGIN:VEVENT
DTSTART;TZID=America/St_Johns:20260227T140000
DTEND;TZID=America/St_Johns:20260227T160000
DTSTAMP:20260425T094049
CREATED:20260105T135729Z
LAST-MODIFIED:20260312T152751Z
UID:10056113-1772200800-1772208000@nlpl.ca
SUMMARY:Lego Free Play
DESCRIPTION:Harmsworth Public Library – What will you create? Create something fun at our LEGO free play!
URL:https://nlpl.ca/events/lego-free-play-6-2-2/2026-02-27/
LOCATION:Grand Falls-Windsor (Harmsworth) Public Library\, 1 Cromer Avenue\, Grand Falls - Windsor\, NL\, A2A 1W9\, Canada
CATEGORIES:Kids & Families
ATTACH;FMTTYPE=image/jpeg:https://nlpl.ca/wp-content/uploads/2023/03/Events-Kid-Families.jpg
END:VEVENT
BEGIN:VEVENT
DTSTART;TZID=America/St_Johns:20260227T103000
DTEND;TZID=America/St_Johns:20260227T110000
DTSTAMP:20260425T094049
CREATED:20260105T135443Z
LAST-MODIFIED:20260312T152214Z
UID:10059895-1772188200-1772190000@nlpl.ca
SUMMARY:Family Storytime
DESCRIPTION:Harmsworth Public Library – A 30-minute interactive program celebrating books\, rhymes\, movement\, songs\, and fun that is perfect for families with multiple children\, ages 0-5
URL:https://nlpl.ca/events/family-storytime-3/2026-02-27/
LOCATION:Grand Falls-Windsor (Harmsworth) Public Library\, 1 Cromer Avenue\, Grand Falls - Windsor\, NL\, A2A 1W9\, Canada
CATEGORIES:Kids & Families
ATTACH;FMTTYPE=image/jpeg:https://nlpl.ca/wp-content/uploads/2023/03/Events-Kid-Families.jpg
END:VEVENT
BEGIN:VEVENT
DTSTART;TZID=America/St_Johns:20260227T101500
DTEND;TZID=America/St_Johns:20260227T114500
DTSTAMP:20260425T094049
CREATED:20251028T175624Z
LAST-MODIFIED:20260415T222620Z
UID:10061488-1772187300-1772192700@nlpl.ca
SUMMARY:Musical Munchkins
DESCRIPTION:Drop in to the Conception Bay South Public Library for Musical Munchkins! Hosted By the Family Resource Center.\nThis is a drop-in music and rhyme time for babies (newborn until walking) and their caregiver.
URL:https://nlpl.ca/events/musical-munchkins-2-3-2/2026-02-27/
LOCATION:Conception Bay South Public Library\, 10 Remembrance Square\, Conception Bay South\, NL\, Canada
CATEGORIES:Kids & Families
ATTACH;FMTTYPE=image/jpeg:https://nlpl.ca/wp-content/uploads/2023/03/Events-Kid-Families.jpg
END:VEVENT
BEGIN:VEVENT
DTSTART;TZID=America/St_Johns:20260227T093000
DTEND;TZID=America/St_Johns:20260227T113000
DTSTAMP:20260425T094049
CREATED:20251016T165338Z
LAST-MODIFIED:20251128T213700Z
UID:10052649-1772184600-1772191800@nlpl.ca
SUMMARY:Friday Free Play for Babies and Toddlers
DESCRIPTION:A drop-in weekly program at A.C. Hunter Children’s Library \nPlaygroup for ages 0-3. \nEvery Friday\, we open our playroom from 9:30 to 11:30am for babies and tots to play – a great chance to meet other caregivers! \nNo registration necessary.
URL:https://nlpl.ca/events/friday-free-play-for-babies-and-toddlers/2026-02-27/
LOCATION:St. John’s – A.C. Hunter Children’s Public Library\, 95 Allandale Road\, St. John's\, NL\, A1E 3A3\, Canada
CATEGORIES:Kids & Families,Storytime
ATTACH;FMTTYPE=image/jpeg:https://nlpl.ca/wp-content/uploads/2023/03/Events-Kid-Families.jpg
END:VEVENT
BEGIN:VEVENT
DTSTART;TZID=America/St_Johns:20260226T183000
DTEND;TZID=America/St_Johns:20260226T193000
DTSTAMP:20260425T094049
CREATED:20260105T132355Z
LAST-MODIFIED:20260312T150456Z
UID:10056030-1772130600-1772134200@nlpl.ca
SUMMARY:Adult Book Club
DESCRIPTION:Harmsworth Public Library – Join us in our monthly book club where we discuss books\, discover new authors and genres\, meet new people\, and share insights in a relaxed setting. \n 
URL:https://nlpl.ca/events/harmsworth-adult-book-club-2/2026-02-26/
LOCATION:Grand Falls-Windsor (Harmsworth) Public Library\, 1 Cromer Avenue\, Grand Falls - Windsor\, NL\, A2A 1W9\, Canada
CATEGORIES:Book Clubs & Writer’s Groups
ATTACH;FMTTYPE=image/jpeg:https://nlpl.ca/wp-content/uploads/2023/03/Events-Book-Clubs-and-Writing-Groups.jpg
END:VEVENT
BEGIN:VEVENT
DTSTART;TZID=America/St_Johns:20260226T183000
DTEND;TZID=America/St_Johns:20260226T193000
DTSTAMP:20260425T094049
CREATED:20260102T143217Z
LAST-MODIFIED:20260410T152013Z
UID:10055497-1772130600-1772134200@nlpl.ca
SUMMARY:Bonsai Newfoundland
DESCRIPTION:Come and learn how to get started with the beautiful art of Bonsai at the Conception Bay South Public Library ! \nThis is a free program presented by George Jarvis
URL:https://nlpl.ca/events/bonsai-newfoundland/2026-02-26/
LOCATION:Conception Bay South Public Library\, 10 Remembrance Square\, Conception Bay South\, NL\, Canada
CATEGORIES:Classes & Workshops
ATTACH;FMTTYPE=image/jpeg:https://nlpl.ca/wp-content/uploads/2023/03/Events-Information-Sessions.jpg
ORGANIZER;CN="Conception Bay South Public Library":MAILTO:conceptionbaysouth@nlpl.ca
END:VEVENT
BEGIN:VEVENT
DTSTART;TZID=America/St_Johns:20260226T180000
DTEND;TZID=America/St_Johns:20260226T190000
DTSTAMP:20260425T094049
CREATED:20260105T161946Z
LAST-MODIFIED:20260312T152847Z
UID:10056148-1772128800-1772132400@nlpl.ca
SUMMARY:Sensory Hour
DESCRIPTION:Harmsworth Public Library – Sensory-friendly browsing hour that includes reduced lighting and reduced noise.
URL:https://nlpl.ca/events/sensory-hour-2/2026-02-26/
LOCATION:Grand Falls-Windsor (Harmsworth) Public Library\, 1 Cromer Avenue\, Grand Falls - Windsor\, NL\, A2A 1W9\, Canada
CATEGORIES:Heath & Wellbeing
END:VEVENT
BEGIN:VEVENT
DTSTART;TZID=America/St_Johns:20260226T160000
DTEND;TZID=America/St_Johns:20260226T170000
DTSTAMP:20260425T094049
CREATED:20260105T162909Z
LAST-MODIFIED:20260312T172342Z
UID:10056161-1772121600-1772125200@nlpl.ca
SUMMARY:One-on-One Tech Help
DESCRIPTION:Harmsworth Public Library – Do you have a shiny new piece of tech\, but you’re not sure how to use it? Need a little help figuring out how to download an e-book\, share a photo\, or use Microsoft Word? \nMake a one-on-one appointment every Wednesday with our Tech Host\, Joshua. \nWe can provide general help\, tailored tech training\, and show you where to find helpful resources online. \nPlease call #709-489-2303 or drop in to schedule a time.
URL:https://nlpl.ca/events/one-on-one-tech-help-2-2/2026-02-26/
LOCATION:Grand Falls-Windsor (Harmsworth) Public Library\, 1 Cromer Avenue\, Grand Falls - Windsor\, NL\, A2A 1W9\, Canada
CATEGORIES:Technology & Makerspace
END:VEVENT
BEGIN:VEVENT
DTSTART;TZID=America/St_Johns:20260226T153000
DTEND;TZID=America/St_Johns:20260226T170000
DTSTAMP:20260425T094049
CREATED:20250905T155750Z
LAST-MODIFIED:20251128T204710Z
UID:10049980-1772119800-1772125200@nlpl.ca
SUMMARY:Lego Play Hour at Bay Roberts Public Library
DESCRIPTION:Thursdays\, this fall\, from 3:30 to 5 pm expand your imagination with mountains of Lego blocks. Create and make friends. \nRegistration not necessary.
URL:https://nlpl.ca/events/lego-play-hour-at-bay-roberts-public-library/2026-02-26/
LOCATION:Bay Roberts Public Library\, 76 Cross Road\, Bay Roberts\, NL\, A0A 1G0\, Canada
ATTACH;FMTTYPE=image/jpeg:https://nlpl.ca/wp-content/uploads/2023/03/Events-Kid-Families.jpg
END:VEVENT
END:VCALENDAR