BEGIN:VCALENDAR
VERSION:2.0
PRODID:-//Newfoundland &amp; Labrador Public Libraries - ECPv6.15.20//NONSGML v1.0//EN
CALSCALE:GREGORIAN
METHOD:PUBLISH
X-ORIGINAL-URL:https://nlpl.ca
X-WR-CALDESC:Events for Newfoundland &amp; Labrador Public Libraries
REFRESH-INTERVAL;VALUE=DURATION:PT1H
X-Robots-Tag:noindex
X-PUBLISHED-TTL:PT1H
BEGIN:VTIMEZONE
TZID:America/St_Johns
BEGIN:DAYLIGHT
TZOFFSETFROM:-0330
TZOFFSETTO:-0230
TZNAME:NDT
DTSTART:20250309T053000
END:DAYLIGHT
BEGIN:STANDARD
TZOFFSETFROM:-0230
TZOFFSETTO:-0330
TZNAME:NST
DTSTART:20251102T043000
END:STANDARD
BEGIN:DAYLIGHT
TZOFFSETFROM:-0330
TZOFFSETTO:-0230
TZNAME:NDT
DTSTART:20260308T053000
END:DAYLIGHT
BEGIN:STANDARD
TZOFFSETFROM:-0230
TZOFFSETTO:-0330
TZNAME:NST
DTSTART:20261101T043000
END:STANDARD
BEGIN:DAYLIGHT
TZOFFSETFROM:-0330
TZOFFSETTO:-0230
TZNAME:NDT
DTSTART:20270314T053000
END:DAYLIGHT
BEGIN:STANDARD
TZOFFSETFROM:-0230
TZOFFSETTO:-0330
TZNAME:NST
DTSTART:20271107T043000
END:STANDARD
END:VTIMEZONE
BEGIN:VEVENT
DTSTART;TZID=America/St_Johns:20260423T100000
DTEND;TZID=America/St_Johns:20260423T103000
DTSTAMP:20260425T152453
CREATED:20260120T180319Z
LAST-MODIFIED:20260120T180319Z
UID:10056970-1776938400-1776940200@nlpl.ca
SUMMARY:Tots Storytime
DESCRIPTION:A registered event at A.C. Hunter Children’s Library. \n6 weeks of Spring Storytime! Storytime runs from March 19 to April 30 (no storytime on April 9 due to spring break)\nTots Storytime for ages 1-2 years (13-35 months) \nThursdays at 10:00am \n\n\n\nWhat is Tots Storytime?\nThe staff will read books\, tell stories and lead active rhymes and songs to engage toddlers. Caregivers participate alongside children. 20-25 minutes. For toddlers over 12 months and under 3. \n\n  \nREGISTRATION OPENS AT 9:30am Dec 12 – online or by calling 709-737-3953 \n\n\n\n  \n\n\n\n 
URL:https://nlpl.ca/events/tots-storytime/2026-04-23/
LOCATION:St. John’s – A.C. Hunter Children’s Public Library\, 95 Allandale Road\, St. John's\, NL\, A1E 3A3\, Canada
CATEGORIES:Kids & Families,Storytime
END:VEVENT
BEGIN:VEVENT
DTSTART;TZID=America/St_Johns:20260423T100000
DTEND;TZID=America/St_Johns:20260423T110000
DTSTAMP:20260425T152453
CREATED:20260401T215530Z
LAST-MODIFIED:20260401T215530Z
UID:10060505-1776938400-1776942000@nlpl.ca
SUMMARY:Little Learners
DESCRIPTION:Join us in a fun and relaxed setting where kids can enjoy stories\, crafts\, STEM activities\, and more!
URL:https://nlpl.ca/events/little-learners/2026-04-23/
LOCATION:St. Anthony Public Library\, 95 West Street\, St. Anthony\, NL\, A0K 4S0\, Canada
CATEGORIES:Kids & Families
ATTACH;FMTTYPE=image/jpeg:https://nlpl.ca/wp-content/uploads/2023/03/Events-Kid-Families.jpg
ORGANIZER;CN="St. Anthony Pbulic Library":MAILTO:nsa@ill.nlpl.ca
END:VEVENT
BEGIN:VEVENT
DTSTART;TZID=America/St_Johns:20260423T100000
DTEND;TZID=America/St_Johns:20260423T120000
DTSTAMP:20260425T152453
CREATED:20240911T134337Z
LAST-MODIFIED:20260415T215627Z
UID:10059811-1776938400-1776945600@nlpl.ca
SUMMARY:Art Group
DESCRIPTION:Drop into the Conception Bay South Public Library  community room with any art project you are working on!\nThis is a group for adults.
URL:https://nlpl.ca/events/art-group/2026-04-23/
LOCATION:Conception Bay South Public Library\, 10 Remembrance Square\, Conception Bay South\, NL\, Canada
CATEGORIES:Arts & Culture,Hobbies, Crafts & Games
ATTACH;FMTTYPE=image/jpeg:https://nlpl.ca/wp-content/uploads/2023/03/Events-Hobbies-Crafts-and-Games.jpg
ORGANIZER;CN="Conception Bay South Public Library":MAILTO:conceptionbaysouth@nlpl.ca
END:VEVENT
BEGIN:VEVENT
DTSTART;TZID=America/St_Johns:20260423T100000
DTEND;TZID=America/St_Johns:20260423T120000
DTSTAMP:20260425T152453
CREATED:20260103T161028Z
LAST-MODIFIED:20260325T214958Z
UID:10060300-1776938400-1776945600@nlpl.ca
SUMMARY:Digital Learning+
DESCRIPTION:Small group workshops and classes for lifelong learning with a focus on digital literacy presented as part of The Murphy Centre’s ACCESS to Learning program. \nfree | registration required \nFor more information or registration contact: chrisjoseph@murphycentre.ca 709-640-6718 and/or reneesherstobetoff@murphycentre.ca 709-640-5616 \n  \n 
URL:https://nlpl.ca/events/digital-learning-2/2026-04-23/
LOCATION:Corner Brook Public Library\, 4 West Street\, Corner Brook\, NL\, A2H 0C1\, Canada
END:VEVENT
BEGIN:VEVENT
DTSTART;TZID=America/St_Johns:20260423T110000
DTEND;TZID=America/St_Johns:20260423T113000
DTSTAMP:20260425T152453
CREATED:20260120T181823Z
LAST-MODIFIED:20260120T181823Z
UID:10056985-1776942000-1776943800@nlpl.ca
SUMMARY:Preschool Storytime
DESCRIPTION:A registered event at A.C. Hunter Children’s Library. \n6 weeks of Spring Storytime! Storytime runs from March 19 to April 30 (no storytime April 9 due to spring break)\nPreschool Storytime for ages 3-5 years\nThursdays at 11:00am \n\n\n\nWhat is Preschool Storytime?\nFor children ready for a little more independence! The staff will read books\, tell stories and lead rhymes and songs. Caregivers remain in the room. 30 minutes. \n\n  \nREGISTRATION OPENS AT 9:30am March 6 – online or by calling 709-737-3953 \n\n\n\n  \n\n\n\n 
URL:https://nlpl.ca/events/preschool-storytime-2/2026-04-23/
LOCATION:St. John’s – A.C. Hunter Children’s Public Library\, 95 Allandale Road\, St. John's\, NL\, A1E 3A3\, Canada
CATEGORIES:Storytime
END:VEVENT
BEGIN:VEVENT
DTSTART;TZID=America/St_Johns:20260423T130000
DTEND;TZID=America/St_Johns:20260423T150000
DTSTAMP:20260425T152453
CREATED:20250702T192402Z
LAST-MODIFIED:20260410T152336Z
UID:10059424-1776949200-1776956400@nlpl.ca
SUMMARY:CBS Knitting Group
DESCRIPTION:Everyone is welcome ! Bring your project and meet up with fellow knitters!
URL:https://nlpl.ca/events/knitting-group-4/2026-04-23/
LOCATION:Conception Bay South Public Library\, 10 Remembrance Square\, Conception Bay South\, NL\, Canada
CATEGORIES:Hobbies, Crafts & Games
ATTACH;FMTTYPE=image/jpeg:https://nlpl.ca/wp-content/uploads/2023/03/Events-Hobbies-Crafts-and-Games.jpg
ORGANIZER;CN="Conception Bay South Public Library":MAILTO:conceptionbaysouth@nlpl.ca
END:VEVENT
BEGIN:VEVENT
DTSTART;TZID=America/St_Johns:20260423T130000
DTEND;TZID=America/St_Johns:20260423T150000
DTSTAMP:20260425T152453
CREATED:20260305T172547Z
LAST-MODIFIED:20260305T172547Z
UID:10059734-1776949200-1776956400@nlpl.ca
SUMMARY:Tech Thursday
DESCRIPTION:Drop in with your own device or we can use our devices- iPad or desktop or laptop. We can show you how to set up an email\, copy files\, or print files.
URL:https://nlpl.ca/events/tech-thursday/2026-04-23/
LOCATION:Deer Lake Public Library\, 4 Poplar Road\, Deer Lake\, NL\, A8A 1Z4\, Canada
END:VEVENT
BEGIN:VEVENT
DTSTART;TZID=America/St_Johns:20260423T140000
DTEND;TZID=America/St_Johns:20260423T140000
DTSTAMP:20260425T152453
CREATED:20260120T175935Z
LAST-MODIFIED:20260306T131114Z
UID:10056963-1776952800-1776952800@nlpl.ca
SUMMARY:Baby Storytime - Thursday Afternoon
DESCRIPTION:A registered event at A.C. Hunter Children’s Library. \n6 weeks of Spring Storytime! Storytime runs from March 19 to April 30 (no storytime on April 9 due to spring break)\nBaby Storytime for ages 0-12 months\nThursdays at 2:00pm \n\n\n\nWhat is Baby Storytime?\nThe staff will lead caregivers in rhymes and songs with simple stories and tips for literacy. 20-25 minutes of storytime\, followed by a playtime. Birth – 12 months old \n\n  \nREGISTRATION OPENS AT 9:30am March 6 – online or by calling 709-737-3953 \n\n\n\n  \n\n\n\n 
URL:https://nlpl.ca/events/baby-storytime-thursday-afternoon/2026-04-23/
LOCATION:St. John’s – A.C. Hunter Children’s Public Library\, 95 Allandale Road\, St. John's\, NL\, A1E 3A3\, Canada
CATEGORIES:Kids & Families,Storytime
END:VEVENT
BEGIN:VEVENT
DTSTART;TZID=America/St_Johns:20260423T140000
DTEND;TZID=America/St_Johns:20260423T143000
DTSTAMP:20260425T152453
CREATED:20260327T122700Z
LAST-MODIFIED:20260327T122700Z
UID:10060344-1776952800-1776954600@nlpl.ca
SUMMARY:Family Storytime
DESCRIPTION:A 30 minute interactive program celebrating books\, rhymes\, movement\, songs and fun that is perfect for\nfamilies with multiple children\, ages 1-5 years
URL:https://nlpl.ca/events/family-storytime-7/2026-04-23/
LOCATION:Stephenville Public Library (Kindale)\, 45 Carolina Ave.\, Stephenville\, NL\, A2N 3P8\, Canada
CATEGORIES:Kids & Families,Storytime
ATTACH;FMTTYPE=image/jpeg:https://nlpl.ca/wp-content/uploads/2023/03/Events-Kid-Families.jpg
END:VEVENT
BEGIN:VEVENT
DTSTART;TZID=America/St_Johns:20260423T140000
DTEND;TZID=America/St_Johns:20260423T160000
DTSTAMP:20260425T152453
CREATED:20260102T193222Z
LAST-MODIFIED:20260312T181405Z
UID:10055569-1776952800-1776960000@nlpl.ca
SUMMARY:Tech Thursdays
DESCRIPTION:Gander Public Library – Needing help with your cell phone\, tablet/IPad or Laptop? On Thursdays 2-4pm you can book an appointment for help!
URL:https://nlpl.ca/events/tech-thursdays-3/2026-04-23/
LOCATION:Gander Public & Resource Library\, 6 Bell Place\, Gander\, NL\, A1V 1X2\, Canada
CATEGORIES:Technology & Makerspace
ATTACH;FMTTYPE=image/jpeg:https://nlpl.ca/wp-content/uploads/2023/03/Events-Classes-and-Workshops.jpg
END:VEVENT
BEGIN:VEVENT
DTSTART;TZID=America/St_Johns:20260423T140000
DTEND;TZID=America/St_Johns:20260423T160000
DTSTAMP:20260425T152453
CREATED:20260105T133034Z
LAST-MODIFIED:20260312T152500Z
UID:10059915-1776952800-1776960000@nlpl.ca
SUMMARY:Knitting Circle
DESCRIPTION:Harmsworth Public Library – Drop-in and join us to knit and/or crochet\, improve your needle skills\, help a friend\, share patterns\, ideas and stories.\n\nBring your own supplies.
URL:https://nlpl.ca/events/knitting-circle-2/2026-04-23/
LOCATION:Grand Falls-Windsor (Harmsworth) Public Library\, 1 Cromer Avenue\, Grand Falls - Windsor\, NL\, A2A 1W9\, Canada
CATEGORIES:Hobbies, Crafts & Games
ATTACH;FMTTYPE=image/jpeg:https://nlpl.ca/wp-content/uploads/2023/03/Events-Hobbies-Crafts-and-Games.jpg
END:VEVENT
BEGIN:VEVENT
DTSTART;TZID=America/St_Johns:20260423T143000
DTEND;TZID=America/St_Johns:20260423T150000
DTSTAMP:20260425T152453
CREATED:20260421T161710Z
LAST-MODIFIED:20260421T161710Z
UID:10061552-1776954600-1776956400@nlpl.ca
SUMMARY:Pre-School Storytime
DESCRIPTION:Come and join us for 30 minutes of stories and songs!!
URL:https://nlpl.ca/events/pre-school-storytime/
LOCATION:Point Leamington Public Library\, 1 Rice's Drive\, Point Leamington\, NL\, A0H 1Z0\, Canada
CATEGORIES:Kids & Families,Storytime
END:VEVENT
BEGIN:VEVENT
DTSTART;TZID=America/St_Johns:20260423T143000
DTEND;TZID=America/St_Johns:20260423T153000
DTSTAMP:20260425T152453
CREATED:20260410T134036Z
LAST-MODIFIED:20260410T134036Z
UID:10061414-1776954600-1776958200@nlpl.ca
SUMMARY:Pasadena Public Library and Service Canada - Canadian Dental Plan Renewal
DESCRIPTION:Do you have questions about the Canadian Dental Care Plan?\nWho qualifies and how to apply?\nHow to renew your coverage for the 2026-2027 benefit year?\nJoin us for a free information session with Service Canada! \nWhen?\nOn Thursday\, April 23\, 2026\n2:30 pm – 3:30 pm \nWhere?\nPasadena Public Library\n16 Tenth Ave\, Pasadena\, NL A0L 1K0\nPhone: (709) 686-2792
URL:https://nlpl.ca/events/pasadena-public-library-and-service-canada-canadian-dental-plan-renewal/
LOCATION:Pasadena Public Library\, 16 Tenth Avenue\, Pasadena\, NL\, A0L 1K0\, Canada
END:VEVENT
BEGIN:VEVENT
DTSTART;TZID=America/St_Johns:20260423T150000
DTEND;TZID=America/St_Johns:20260423T160000
DTSTAMP:20260425T152453
CREATED:20251103T201201Z
LAST-MODIFIED:20251125T194640Z
UID:10053844-1776956400-1776960000@nlpl.ca
SUMMARY:Family Passive Play
DESCRIPTION:
URL:https://nlpl.ca/events/family-passive-play/2026-04-23/
LOCATION:Bishop’s Falls Public Library\, 445 Main Street\, Bishop's Falls\, NL\, A0H 1C0\, Canada
END:VEVENT
BEGIN:VEVENT
DTSTART;TZID=America/St_Johns:20260423T150000
DTEND;TZID=America/St_Johns:20260423T160000
DTSTAMP:20260425T152453
CREATED:20260402T145707Z
LAST-MODIFIED:20260402T145707Z
UID:10060543-1776956400-1776960000@nlpl.ca
SUMMARY:Tech Thursdays: Tech Help Drop-in
DESCRIPTION:Have tech questions? Need help navigating your phone\, tablet\, laptop or e-reader? Visit our student volunteers on Thursdays 3-4!
URL:https://nlpl.ca/events/tech-thursdays-tech-help-drop-in/2026-04-23/
LOCATION:Clarenville Public Library\, 98 Manitoba Drive\, Clarenville\, NL\, A5A 1K7\, Canada
END:VEVENT
BEGIN:VEVENT
DTSTART;TZID=America/St_Johns:20260423T150000
DTEND;TZID=America/St_Johns:20260423T160000
DTSTAMP:20260425T152453
CREATED:20260421T161517Z
LAST-MODIFIED:20260421T161517Z
UID:10061547-1776956400-1776960000@nlpl.ca
SUMMARY:Earth Day Fun Week!!
DESCRIPTION:Tuesday\, April 21st – DIY Seed Bombs \nWednesday\, April 22nd – Create a Tree for Earth Day! \nThursday\, April 23rd – Plastic Bottle Flower Pots!
URL:https://nlpl.ca/events/earth-day-fun-week/2026-04-23/
LOCATION:Point Leamington Public Library\, 1 Rice's Drive\, Point Leamington\, NL\, A0H 1Z0\, Canada
CATEGORIES:Hobbies, Crafts & Games,Kids & Families,Special Event
END:VEVENT
BEGIN:VEVENT
DTSTART;TZID=America/St_Johns:20260423T150000
DTEND;TZID=America/St_Johns:20260423T170000
DTSTAMP:20260425T152453
CREATED:20260423T154340Z
LAST-MODIFIED:20260423T154340Z
UID:10061570-1776956400-1776963600@nlpl.ca
SUMMARY:Free Lego Play Bay Roberts Public Library
DESCRIPTION:Every Thursday from 3 pm to 5 pm the library will have free Lego play at the library.
URL:https://nlpl.ca/events/free-lego-play-bay-roberts-public-library/2026-04-23/
CATEGORIES:Hobbies, Crafts & Games
END:VEVENT
BEGIN:VEVENT
DTSTART;TZID=America/St_Johns:20260423T153000
DTEND;TZID=America/St_Johns:20260423T163000
DTSTAMP:20260425T152453
CREATED:20260122T181353Z
LAST-MODIFIED:20260416T123909Z
UID:10057017-1776958200-1776961800@nlpl.ca
SUMMARY:Crafternoon
DESCRIPTION:A registered event at A.C. Hunter Children’s Library. \nCrafternoon\nMake a fun craft to take home! This month’s theme is Olympics!\nThursday Apr 23  @ 3:30pm |  ages 5-9 \n  \nRegistration for all Mar/Apr programs opens Friday Feb 20 at 9:30am. Click the above link to register or call us at 709-737-3953. \n 
URL:https://nlpl.ca/events/crafternoon-5/
LOCATION:St. John’s – A.C. Hunter Children’s Public Library\, 95 Allandale Road\, St. John's\, NL\, A1E 3A3\, Canada
CATEGORIES:Hobbies, Crafts & Games,Kids & Families
END:VEVENT
BEGIN:VEVENT
DTSTART;TZID=America/St_Johns:20260423T153000
DTEND;TZID=America/St_Johns:20260423T170000
DTSTAMP:20260425T152453
CREATED:20250905T155750Z
LAST-MODIFIED:20251128T204710Z
UID:10049988-1776958200-1776963600@nlpl.ca
SUMMARY:Lego Play Hour at Bay Roberts Public Library
DESCRIPTION:Thursdays\, this fall\, from 3:30 to 5 pm expand your imagination with mountains of Lego blocks. Create and make friends. \nRegistration not necessary.
URL:https://nlpl.ca/events/lego-play-hour-at-bay-roberts-public-library/2026-04-23/
LOCATION:Bay Roberts Public Library\, 76 Cross Road\, Bay Roberts\, NL\, A0A 1G0\, Canada
ATTACH;FMTTYPE=image/jpeg:https://nlpl.ca/wp-content/uploads/2023/03/Events-Kid-Families.jpg
END:VEVENT
BEGIN:VEVENT
DTSTART;TZID=America/St_Johns:20260423T153000
DTEND;TZID=America/St_Johns:20260423T170000
DTSTAMP:20260425T152453
CREATED:20260327T184441Z
LAST-MODIFIED:20260327T184508Z
UID:10060360-1776958200-1776963600@nlpl.ca
SUMMARY:Crafters Hour
DESCRIPTION:Design Your own Craft at the library: \nCanvas Painting \nDrawing \nPastel painting \nor you can bring a project with you. \n 
URL:https://nlpl.ca/events/crafters-hour-6-2-2-2-2-2-2-2-2-2-2/2026-04-23/
LOCATION:Fogo Island Public Library\, 1 Iceberg Arena Road\, Fogo Island Central\, NL\, A0G 2B0\, Canada
CATEGORIES:Hobbies, Crafts & Games
END:VEVENT
BEGIN:VEVENT
DTSTART;TZID=America/St_Johns:20260423T160000
DTEND;TZID=America/St_Johns:20260423T170000
DTSTAMP:20260425T152454
CREATED:20260105T162909Z
LAST-MODIFIED:20260312T172342Z
UID:10059978-1776960000-1776963600@nlpl.ca
SUMMARY:One-on-One Tech Help
DESCRIPTION:Harmsworth Public Library – Do you have a shiny new piece of tech\, but you’re not sure how to use it? Need a little help figuring out how to download an e-book\, share a photo\, or use Microsoft Word? \nMake a one-on-one appointment every Wednesday with our Tech Host\, Joshua. \nWe can provide general help\, tailored tech training\, and show you where to find helpful resources online. \nPlease call #709-489-2303 or drop in to schedule a time.
URL:https://nlpl.ca/events/one-on-one-tech-help-2-2/2026-04-23/
LOCATION:Grand Falls-Windsor (Harmsworth) Public Library\, 1 Cromer Avenue\, Grand Falls - Windsor\, NL\, A2A 1W9\, Canada
CATEGORIES:Technology & Makerspace
END:VEVENT
BEGIN:VEVENT
DTSTART;TZID=America/St_Johns:20260423T180000
DTEND;TZID=America/St_Johns:20260423T190000
DTSTAMP:20260425T152454
CREATED:20260105T161946Z
LAST-MODIFIED:20260312T152847Z
UID:10059906-1776967200-1776970800@nlpl.ca
SUMMARY:Sensory Hour
DESCRIPTION:Harmsworth Public Library – Sensory-friendly browsing hour that includes reduced lighting and reduced noise.
URL:https://nlpl.ca/events/sensory-hour-2/2026-04-23/
LOCATION:Grand Falls-Windsor (Harmsworth) Public Library\, 1 Cromer Avenue\, Grand Falls - Windsor\, NL\, A2A 1W9\, Canada
CATEGORIES:Heath & Wellbeing
END:VEVENT
BEGIN:VEVENT
DTSTART;TZID=America/St_Johns:20260423T180000
DTEND;TZID=America/St_Johns:20260423T190000
DTSTAMP:20260425T152454
CREATED:20260327T183655Z
LAST-MODIFIED:20260327T183740Z
UID:10060352-1776967200-1776970800@nlpl.ca
SUMMARY:Knitting Circle
DESCRIPTION:Bring your project with you or create a new one. \nKnitting Patterns printing \n\nthere will be a Lunch provided
URL:https://nlpl.ca/events/knitting-circle-3-2-2-2-2-2-2-2-2-2-2/2026-04-23/
LOCATION:Fogo Island Public Library\, 1 Iceberg Arena Road\, Fogo Island Central\, NL\, A0G 2B0\, Canada
CATEGORIES:Hobbies, Crafts & Games
END:VEVENT
BEGIN:VEVENT
DTSTART;TZID=America/St_Johns:20260423T180000
DTEND;TZID=America/St_Johns:20260423T190000
DTSTAMP:20260425T152454
CREATED:20260330T173344Z
LAST-MODIFIED:20260330T173344Z
UID:10060421-1776967200-1776970800@nlpl.ca
SUMMARY:Candle Painting
DESCRIPTION:Let’s try out the newest trend of painting candles. \nAll supplies are provided. \nAges 16+
URL:https://nlpl.ca/events/candle-painting/
LOCATION:Labrador City Public Library\, 306 Hudson Dr.\, Labrador City\, NL\, A2V 1L5\, Canada
CATEGORIES:Hobbies, Crafts & Games
ATTACH;FMTTYPE=image/jpeg:https://nlpl.ca/wp-content/uploads/2023/03/Events-Hobbies-Crafts-and-Games.jpg
END:VEVENT
BEGIN:VEVENT
DTSTART;TZID=America/St_Johns:20260423T180000
DTEND;TZID=America/St_Johns:20260423T193000
DTSTAMP:20260425T152454
CREATED:20260402T161200Z
LAST-MODIFIED:20260402T161200Z
UID:10060561-1776967200-1776972600@nlpl.ca
SUMMARY:Project: Bling that Book
DESCRIPTION:Unleash Your Inner Designer: Bling Your Book! We’re transforming ordinary book covers into sparkling masterpieces. At this hands-on crafting session\, you’ll decorate a book with gems\, giving it a total glow-up. Whether it’s a journal\, planner\, or beloved novel\, come customize it with our supply of rhinestones\, adhesive\, and tools. Adult program. BYOB (Bring your own book). 6:00-7:30
URL:https://nlpl.ca/events/project-bling-that-book/
LOCATION:Clarenville Public Library\, 98 Manitoba Drive\, Clarenville\, NL\, A5A 1K7\, Canada
END:VEVENT
BEGIN:VEVENT
DTSTART;TZID=America/St_Johns:20260424T093000
DTEND;TZID=America/St_Johns:20260424T113000
DTSTAMP:20260425T152454
CREATED:20251016T165338Z
LAST-MODIFIED:20251128T213700Z
UID:10052656-1777023000-1777030200@nlpl.ca
SUMMARY:Friday Free Play for Babies and Toddlers
DESCRIPTION:A drop-in weekly program at A.C. Hunter Children’s Library \nPlaygroup for ages 0-3. \nEvery Friday\, we open our playroom from 9:30 to 11:30am for babies and tots to play – a great chance to meet other caregivers! \nNo registration necessary.
URL:https://nlpl.ca/events/friday-free-play-for-babies-and-toddlers/2026-04-24/
LOCATION:St. John’s – A.C. Hunter Children’s Public Library\, 95 Allandale Road\, St. John's\, NL\, A1E 3A3\, Canada
CATEGORIES:Kids & Families,Storytime
ATTACH;FMTTYPE=image/jpeg:https://nlpl.ca/wp-content/uploads/2023/03/Events-Kid-Families.jpg
END:VEVENT
BEGIN:VEVENT
DTSTART;TZID=America/St_Johns:20260424T100000
DTEND;TZID=America/St_Johns:20260424T103000
DTSTAMP:20260425T152454
CREATED:20260312T151630Z
LAST-MODIFIED:20260330T114856Z
UID:10060414-1777024800-1777026600@nlpl.ca
SUMMARY:Spring Baby Storytime B - Fridays @10 am
DESCRIPTION:Embark on an exciting literacy adventure with your baby! \nJoin us for our 6-week winter session as we sing songs\, read engaging stories\, and enjoy some movement activities all while practicing our early literacy skills. Stick around afterwards for 30 minutes of free playtime and get to know your fellow parents. \nTime: 10am\, on Fridays\nAges: 0 – 18 months\nRegister online\, in-person\, or by calling the library at 709-737-3020\nThis registration is for all 6 sessions. First session is on April 10\,2026
URL:https://nlpl.ca/events/spring-baby-storytime-b-fridays-10-am/2026-04-24/
LOCATION:St. John’s – Marjorie Mews Public Library\, 12 Highland Drive\, St. John's\, NL\, A1A 3C4\, Canada
CATEGORIES:Storytime
ATTACH;FMTTYPE=image/jpeg:https://nlpl.ca/wp-content/uploads/2023/03/Events-Kid-Families.jpg
ORGANIZER;CN="St. John's - Marjorie Mews Public Library":MAILTO:MarjorieMews-Programming@nlpl.ca
END:VEVENT
BEGIN:VEVENT
DTSTART;TZID=America/St_Johns:20260424T100000
DTEND;TZID=America/St_Johns:20260424T120000
DTSTAMP:20260425T152454
CREATED:20260401T140130Z
LAST-MODIFIED:20260401T140130Z
UID:10060432-1777024800-1777032000@nlpl.ca
SUMMARY:Homeschool Hangout
DESCRIPTION:
URL:https://nlpl.ca/events/homeschool-hangout/2026-04-24/
LOCATION:Corner Brook Public Library\, 4 West Street\, Corner Brook\, NL\, A2H 0C1\, Canada
CATEGORIES:Kids & Families
END:VEVENT
BEGIN:VEVENT
DTSTART;TZID=America/St_Johns:20260424T101500
DTEND;TZID=America/St_Johns:20260424T114500
DTSTAMP:20260425T152454
CREATED:20251028T175624Z
LAST-MODIFIED:20260415T222620Z
UID:10061496-1777025700-1777031100@nlpl.ca
SUMMARY:Musical Munchkins
DESCRIPTION:Drop in to the Conception Bay South Public Library for Musical Munchkins! Hosted By the Family Resource Center.\nThis is a drop-in music and rhyme time for babies (newborn until walking) and their caregiver.
URL:https://nlpl.ca/events/musical-munchkins-2-3-2/2026-04-24/
LOCATION:Conception Bay South Public Library\, 10 Remembrance Square\, Conception Bay South\, NL\, Canada
CATEGORIES:Kids & Families
ATTACH;FMTTYPE=image/jpeg:https://nlpl.ca/wp-content/uploads/2023/03/Events-Kid-Families.jpg
END:VEVENT
BEGIN:VEVENT
DTSTART;TZID=America/St_Johns:20260424T103000
DTEND;TZID=America/St_Johns:20260424T120000
DTSTAMP:20260425T152454
CREATED:20260402T172149Z
LAST-MODIFIED:20260415T185159Z
UID:10060563-1777026600-1777032000@nlpl.ca
SUMMARY:Coffee and Crafting- Bee Hive Candle Holders
DESCRIPTION:Join us for a craft and a coffee (or tea)! This month we will be making Bee Hive Candle Holders. April 24th 10:30-12:00 Pre-register required. No card? No Problem. FB message us or email clarenville@nlpl.ca
URL:https://nlpl.ca/events/coffee-and-crafting-bee-hive-candle-holders/
LOCATION:Clarenville Public Library\, 98 Manitoba Drive\, Clarenville\, NL\, A5A 1K7\, Canada
END:VEVENT
END:VCALENDAR