BEGIN:VCALENDAR
VERSION:2.0
PRODID:-//Newfoundland &amp; Labrador Public Libraries - ECPv6.15.20//NONSGML v1.0//EN
CALSCALE:GREGORIAN
METHOD:PUBLISH
X-WR-CALNAME:Newfoundland &amp; Labrador Public Libraries
X-ORIGINAL-URL:https://nlpl.ca
X-WR-CALDESC:Events for Newfoundland &amp; Labrador Public Libraries
REFRESH-INTERVAL;VALUE=DURATION:PT1H
X-Robots-Tag:noindex
X-PUBLISHED-TTL:PT1H
BEGIN:VTIMEZONE
TZID:America/St_Johns
BEGIN:DAYLIGHT
TZOFFSETFROM:-0330
TZOFFSETTO:-0230
TZNAME:NDT
DTSTART:20250309T053000
END:DAYLIGHT
BEGIN:STANDARD
TZOFFSETFROM:-0230
TZOFFSETTO:-0330
TZNAME:NST
DTSTART:20251102T043000
END:STANDARD
BEGIN:DAYLIGHT
TZOFFSETFROM:-0330
TZOFFSETTO:-0230
TZNAME:NDT
DTSTART:20260308T053000
END:DAYLIGHT
BEGIN:STANDARD
TZOFFSETFROM:-0230
TZOFFSETTO:-0330
TZNAME:NST
DTSTART:20261101T043000
END:STANDARD
BEGIN:DAYLIGHT
TZOFFSETFROM:-0330
TZOFFSETTO:-0230
TZNAME:NDT
DTSTART:20270314T053000
END:DAYLIGHT
BEGIN:STANDARD
TZOFFSETFROM:-0230
TZOFFSETTO:-0330
TZNAME:NST
DTSTART:20271107T043000
END:STANDARD
END:VTIMEZONE
BEGIN:VEVENT
DTSTART;TZID=America/St_Johns:20260527T190000
DTEND;TZID=America/St_Johns:20260527T194500
DTSTAMP:20260421T150903
CREATED:20260418T173550Z
LAST-MODIFIED:20260418T173552Z
UID:10059374-1779908400-1779911100@nlpl.ca
SUMMARY:Parents Night Out Book Club
DESCRIPTION:Join us at the Ross King Memorial Library (Mount Pearl) for a book club for parents of young children.  We meet on the fourth Wednesday of the month from 7-7:45 pm.  Ask for a copy of the book at the front desk of the library.  Call (709)368-3603 or email mountpearl@nlpl.ca for more information.  Our May meeting will be held on Wed. May 27th and we’ll be discussing Emily Henry’s “Funny Story”. Please note:  Childcare is not provided for this event.
URL:https://nlpl.ca/events/parents-night-out-book-club-2-3-2/2026-05-27/
LOCATION:Mount Pearl Public Library\, 65 Olympic Drive\, Mount Pearl\, NL\, A1N 5H6\, Canada
CATEGORIES:Book Clubs & Writer’s Groups
ORGANIZER;CN="Mount Pearl":MAILTO:mountpearl@nlpl.ca
END:VEVENT
BEGIN:VEVENT
DTSTART;TZID=America/St_Johns:20260527T183000
DTEND;TZID=America/St_Johns:20260527T193000
DTSTAMP:20260421T150903
CREATED:20260105T172608Z
LAST-MODIFIED:20260312T172454Z
UID:10059996-1779906600-1779910200@nlpl.ca
SUMMARY:One-on-One Tech Help
DESCRIPTION:Harmsworth Public Library – Do you have a shiny new piece of tech\, but you’re not sure how to use it? Need a little help figuring out how to download an e-book\, share a photo\, or use Microsoft Word? \nMake a one-on-one appointment every Wednesday with our Tech Host\, Joshua. \nWe can provide general help\, tailored tech training\, and show you where to find helpful resources online. \nPlease call #709-489-2303 or drop in to schedule a time.
URL:https://nlpl.ca/events/one-on-one-tech-help-2/2026-05-27/
LOCATION:Grand Falls-Windsor (Harmsworth) Public Library\, 1 Cromer Avenue\, Grand Falls - Windsor\, NL\, A2A 1W9\, Canada
CATEGORIES:Technology & Makerspace
ATTACH;FMTTYPE=image/jpeg:https://nlpl.ca/wp-content/uploads/2023/11/Events-Tech-Makerspace.jpg
END:VEVENT
BEGIN:VEVENT
DTSTART;TZID=America/St_Johns:20260527T183000
DTEND;TZID=America/St_Johns:20260527T193000
DTSTAMP:20260421T150903
CREATED:20260105T134523Z
LAST-MODIFIED:20260312T150617Z
UID:10059878-1779906600-1779910200@nlpl.ca
SUMMARY:Teen Book Club
DESCRIPTION:Harmsworth Public Library – Join us in our monthly teen book club where we discover new authors and genres\, meet new people\, and share insights in a relaxed setting..
URL:https://nlpl.ca/events/teen-book-club-2/2026-05-27/
LOCATION:Grand Falls-Windsor (Harmsworth) Public Library\, 1 Cromer Avenue\, Grand Falls - Windsor\, NL\, A2A 1W9\, Canada
CATEGORIES:Book Clubs & Writer’s Groups
ATTACH;FMTTYPE=image/jpeg:https://nlpl.ca/wp-content/uploads/2023/03/Events-Book-Clubs-and-Writing-Groups.jpg
END:VEVENT
BEGIN:VEVENT
DTSTART;TZID=America/St_Johns:20260527T180000
DTEND;TZID=America/St_Johns:20260527T200000
DTSTAMP:20260421T150903
CREATED:20260401T214000Z
LAST-MODIFIED:20260401T214000Z
UID:10060447-1779904800-1779912000@nlpl.ca
SUMMARY:Game Night
DESCRIPTION:Join us every second Wednesday for a relaxed evening of board games at the library! Whether you’re a seasoned strategist or just in it for the laughs\, there’s a seat at the table for everyone.
URL:https://nlpl.ca/events/game-night-2/2026-05-27/
LOCATION:St. Anthony Public Library\, 95 West Street\, St. Anthony\, NL\, A0K 4S0\, Canada
CATEGORIES:Hobbies, Crafts & Games
ATTACH;FMTTYPE=image/jpeg:https://nlpl.ca/wp-content/uploads/2023/03/Events-Hobbies-Crafts-and-Games.jpg
ORGANIZER;CN="St. Anthony Pbulic Library":MAILTO:nsa@ill.nlpl.ca
END:VEVENT
BEGIN:VEVENT
DTSTART;TZID=America/St_Johns:20260527T180000
DTEND;TZID=America/St_Johns:20260527T190000
DTSTAMP:20260421T150903
CREATED:20240903T133648Z
LAST-MODIFIED:20260415T215847Z
UID:10061464-1779904800-1779908400@nlpl.ca
SUMMARY:Writer's Group
DESCRIPTION:Join us at the Conception Bay South Public Library! This is a drop in group for people with a passion for creative writing!
URL:https://nlpl.ca/events/writers-group/2026-05-27/
LOCATION:Conception Bay South Public Library\, 10 Remembrance Square\, Conception Bay South\, NL\, Canada
CATEGORIES:Book Clubs & Writer’s Groups
ATTACH;FMTTYPE=image/jpeg:https://nlpl.ca/wp-content/uploads/2023/03/Events-Book-Clubs-and-Writing-Groups.jpg
END:VEVENT
BEGIN:VEVENT
DTSTART;TZID=America/St_Johns:20260527T150000
DTEND;TZID=America/St_Johns:20260527T160000
DTSTAMP:20260421T150903
CREATED:20251103T201201Z
LAST-MODIFIED:20251125T194640Z
UID:10053868-1779894000-1779897600@nlpl.ca
SUMMARY:Family Passive Play
DESCRIPTION:
URL:https://nlpl.ca/events/family-passive-play/2026-05-27/
LOCATION:Bishop’s Falls Public Library\, 445 Main Street\, Bishop's Falls\, NL\, A0H 1C0\, Canada
END:VEVENT
BEGIN:VEVENT
DTSTART;TZID=America/St_Johns:20260527T140000
DTEND;TZID=America/St_Johns:20260527T153000
DTSTAMP:20260421T150903
CREATED:20260102T194258Z
LAST-MODIFIED:20260102T194922Z
UID:10055624-1779890400-1779895800@nlpl.ca
SUMMARY:Crafter's Corner
DESCRIPTION:Grander Public Library – Bring in a project that you are working on. Either it be knitting\, crochet\, rug hooking
URL:https://nlpl.ca/events/crafters-corner-3-2-2/2026-05-27/
LOCATION:Gander Public & Resource Library\, 6 Bell Place\, Gander\, NL\, A1V 1X2\, Canada
CATEGORIES:Hobbies, Crafts & Games
ATTACH;FMTTYPE=image/jpeg:https://nlpl.ca/wp-content/uploads/2023/03/Events-Hobbies-Crafts-and-Games.jpg
END:VEVENT
BEGIN:VEVENT
DTSTART;TZID=America/St_Johns:20260527T140000
DTEND;TZID=America/St_Johns:20260527T150000
DTSTAMP:20260421T150903
CREATED:20260305T170949Z
LAST-MODIFIED:20260305T171132Z
UID:10059726-1779890400-1779894000@nlpl.ca
SUMMARY:Children’s Story Time
DESCRIPTION:Pre-registration is mandatory for each Children’s Story Time
URL:https://nlpl.ca/events/childrens-story-time/2026-05-27/
LOCATION:Deer Lake Public Library\, 4 Poplar Road\, Deer Lake\, NL\, A8A 1Z4\, Canada
CATEGORIES:Kids & Families,Storytime
END:VEVENT
BEGIN:VEVENT
DTSTART;TZID=America/St_Johns:20260527T133000
DTEND;TZID=America/St_Johns:20260527T140000
DTSTAMP:20260421T150903
CREATED:20260416T185923Z
LAST-MODIFIED:20260416T185923Z
UID:10061514-1779888600-1779890400@nlpl.ca
SUMMARY:Storytime
DESCRIPTION:Storytime for the Kinderstart group will take place on Wednesdays at 1:30\, beginning April 29th. The Family Resource Centre has a program on Wednesday afternoons from 1:00-2:30. If you would like to start at the FRC and visit the library at 1:30\, that would be great.
URL:https://nlpl.ca/events/storytime-4/2026-05-27/
LOCATION:Centreville Public Library\, 2 Memory Lane\, Centreville\, NL\, A0G 4P0\, Canada
CATEGORIES:Kids & Families,Storytime
END:VEVENT
BEGIN:VEVENT
DTSTART;TZID=America/St_Johns:20260527T130000
DTEND;TZID=America/St_Johns:20260527T153000
DTSTAMP:20260421T150903
CREATED:20260219T131709Z
LAST-MODIFIED:20260219T131709Z
UID:10059318-1779886800-1779895800@nlpl.ca
SUMMARY:Knitting Group
DESCRIPTION:Adult knitting group\, non-instructive. Join others who share in a love of knitting. Bring your projects and knit with friends\, old and new!
URL:https://nlpl.ca/events/knitting-group-2/2026-05-27/
LOCATION:Stephenville Public Library (Kindale)\, 45 Carolina Ave.\, Stephenville\, NL\, A2N 3P8\, Canada
CATEGORIES:Hobbies, Crafts & Games
ATTACH;FMTTYPE=image/jpeg:https://nlpl.ca/wp-content/uploads/2023/03/Events-Hobbies-Crafts-and-Games.jpg
END:VEVENT
BEGIN:VEVENT
DTSTART;TZID=America/St_Johns:20260527T130000
DTEND;TZID=America/St_Johns:20260527T150000
DTSTAMP:20260421T150903
CREATED:20260103T151625Z
LAST-MODIFIED:20260325T214136Z
UID:10060242-1779886800-1779894000@nlpl.ca
SUMMARY:Rug Hooking Group
DESCRIPTION:Bring your supplies and current projects and join others for conversation and inspiration. New members and beginners are welcome!
URL:https://nlpl.ca/events/rug-hooking-group/2026-05-27/
LOCATION:Corner Brook Public Library\, 4 West Street\, Corner Brook\, NL\, A2H 0C1\, Canada
CATEGORIES:Holiday & Seasonal
END:VEVENT
BEGIN:VEVENT
DTSTART;TZID=America/St_Johns:20260527T100000
DTEND;TZID=America/St_Johns:20260527T130000
DTSTAMP:20260421T150903
CREATED:20240903T132133Z
LAST-MODIFIED:20260415T215148Z
UID:10061449-1779876000-1779886800@nlpl.ca
SUMMARY:Rug Hooking
DESCRIPTION:Drop in group at the Conception Bay South Public Library for crafters to work on their own projects with company.\nAll skill levels are welcome.
URL:https://nlpl.ca/events/rug-hooking/2026-05-27/
LOCATION:Conception Bay South Public Library\, 10 Remembrance Square\, Conception Bay South\, NL\, Canada
CATEGORIES:Hobbies, Crafts & Games
ATTACH;FMTTYPE=image/jpeg:https://nlpl.ca/wp-content/uploads/2023/03/Events-Hobbies-Crafts-and-Games.jpg
ORGANIZER;CN="Conception Bay South Public Library":MAILTO:conceptionbaysouth@nlpl.ca
END:VEVENT
BEGIN:VEVENT
DTSTART;TZID=America/St_Johns:20260526T183000
DTEND;TZID=America/St_Johns:20260526T190000
DTSTAMP:20260421T150903
CREATED:20260105T134733Z
LAST-MODIFIED:20260312T153536Z
UID:10059885-1779820200-1779822000@nlpl.ca
SUMMARY:Bedtime Family Storytime
DESCRIPTION:Harmsworth Public Library – A 30-minute interactive program celebrating books\, rhymes\, movement\, songs\, and fun that is perfect for families with multiple children\, ages 0-5
URL:https://nlpl.ca/events/bedtime-family-storytime-2/2026-05-26/
LOCATION:Grand Falls-Windsor (Harmsworth) Public Library\, 1 Cromer Avenue\, Grand Falls - Windsor\, NL\, A2A 1W9\, Canada
CATEGORIES:Kids & Families
ATTACH;FMTTYPE=image/jpeg:https://nlpl.ca/wp-content/uploads/2023/03/Events-Kid-Families.jpg
END:VEVENT
BEGIN:VEVENT
DTSTART;TZID=America/St_Johns:20260526T180000
DTEND;TZID=America/St_Johns:20260526T203000
DTSTAMP:20260421T150903
CREATED:20260407T222643Z
LAST-MODIFIED:20260407T222734Z
UID:10061148-1779818400-1779827400@nlpl.ca
SUMMARY:Adult Puzzle Night Every Tuesday! - Buchans Public Library
DESCRIPTION:Come to the library from 6:00 – 8:30 every Tuesday evening for Adult Puzzle Night! Friendly conversation\, coffee/ tea.
URL:https://nlpl.ca/events/adult-puzzle-night-every-tuesday-buchans-public-library/2026-05-26/
LOCATION:NL
END:VEVENT
BEGIN:VEVENT
DTSTART;TZID=America/St_Johns:20260526T180000
DTEND;TZID=America/St_Johns:20260526T203000
DTSTAMP:20260421T150903
CREATED:20260407T222359Z
LAST-MODIFIED:20260407T222435Z
UID:10060887-1779818400-1779827400@nlpl.ca
SUMMARY:Adult Puzzle Night - Thursday May 26
DESCRIPTION:
URL:https://nlpl.ca/events/adult-puzzle-night-thursday-may-26/2026-05-26/
LOCATION:NL
END:VEVENT
BEGIN:VEVENT
DTSTART;TZID=America/St_Johns:20260526T180000
DTEND;TZID=America/St_Johns:20260526T193000
DTSTAMP:20260421T150903
CREATED:20260406T123243Z
LAST-MODIFIED:20260406T124720Z
UID:10060580-1779818400-1779823800@nlpl.ca
SUMMARY:Tween Art Night
DESCRIPTION:A registered program at A.C. Hunter Children’s Library. \nTween Art Night\nFor ages 9-13\nTuesday May 26\, 6:15pm \nCreate an art project just for older kids! \n  \nRegistration for all May/June programs begins Friday April 24 at 9:30am. Click the registration button or call 709-737-3953. \nPlease note: this will be the final Tween Art Night for the school year.  \n 
URL:https://nlpl.ca/events/tween-art-night-5/
LOCATION:St. John’s – A.C. Hunter Children’s Public Library\, 95 Allandale Road\, St. John's\, NL\, A1E 3A3\, Canada
CATEGORIES:Hobbies, Crafts & Games,Kids & Families,Storytime
END:VEVENT
BEGIN:VEVENT
DTSTART;TZID=America/St_Johns:20260526T180000
DTEND;TZID=America/St_Johns:20260526T190000
DTSTAMP:20260421T150903
CREATED:20260102T193405Z
LAST-MODIFIED:20260102T193514Z
UID:10055598-1779818400-1779822000@nlpl.ca
SUMMARY:Sensory Hour
DESCRIPTION:Grander Public Library – Quiet Area\, Reduced Noise and Lighting. All ages.
URL:https://nlpl.ca/events/sensory-hour-2-2/2026-05-26/
LOCATION:Gander Public & Resource Library\, 6 Bell Place\, Gander\, NL\, A1V 1X2\, Canada
CATEGORIES:Heath & Wellbeing
ATTACH;FMTTYPE=image/jpeg:https://nlpl.ca/wp-content/uploads/2019/04/Depositphotos_3928992_xl-2015.jpg
END:VEVENT
BEGIN:VEVENT
DTSTART;TZID=America/St_Johns:20260526T173000
DTEND;TZID=America/St_Johns:20260526T193000
DTSTAMP:20260421T150903
CREATED:20260319T165913Z
LAST-MODIFIED:20260319T165914Z
UID:10059829-1779816600-1779823800@nlpl.ca
SUMMARY:Creative Commons
DESCRIPTION:Join us at the Port aux Basques Public Library every Tuesday evening from 5:30-7:30 pm for Creative Commons. Bring any current arts\, crafts\, writing or musical project you’re working on and join other creatives to enjoy each other’s company and share the creative spark! Please provide your own art supplies.
URL:https://nlpl.ca/events/creative-commons-2/2026-05-26/
LOCATION:Port aux Basques Public Library\, 8 Grand Bay\, Port aux Basques\, NL\, A0M 1C0\, Canada
CATEGORIES:Hobbies, Crafts & Games
ATTACH;FMTTYPE=image/jpeg:https://nlpl.ca/wp-content/uploads/2023/03/Events-Hobbies-Crafts-and-Games.jpg
END:VEVENT
BEGIN:VEVENT
DTSTART;TZID=America/St_Johns:20260526T173000
DTEND;TZID=America/St_Johns:20260526T193000
DTSTAMP:20260421T150903
CREATED:20260105T144032Z
LAST-MODIFIED:20260312T152652Z
UID:10059928-1779816600-1779823800@nlpl.ca
SUMMARY:Dungeons & Dragons
DESCRIPTION:Harmsworth Public Library – Curious about Dungeons & Dragons? Are you looking to join a new group? Join us every Tuesday from 5:30 to 7:30 PM. \nNew and experienced players welcome. 13+ years. \nTo register\, phone #709-489-2303 or visit the library \n 
URL:https://nlpl.ca/events/dungeons-dragons-3-2/2026-05-26/
LOCATION:Grand Falls-Windsor (Harmsworth) Public Library\, 1 Cromer Avenue\, Grand Falls - Windsor\, NL\, A2A 1W9\, Canada
CATEGORIES:Hobbies, Crafts & Games
ATTACH;FMTTYPE=image/jpeg:https://nlpl.ca/wp-content/uploads/2023/03/Events-Hobbies-Crafts-and-Games.jpg
END:VEVENT
BEGIN:VEVENT
DTSTART;TZID=America/St_Johns:20260526T160000
DTEND;TZID=America/St_Johns:20260526T170000
DTSTAMP:20260421T150903
CREATED:20250630T172012Z
LAST-MODIFIED:20260312T153102Z
UID:10059952-1779811200-1779814800@nlpl.ca
SUMMARY:Sensory Hour
DESCRIPTION:Harmsworth Public Library – Sensory-friendly browsing hour that includes reduced lighting and reduced noise.
URL:https://nlpl.ca/events/sensory-hour-4-2/2026-05-26/
LOCATION:Grand Falls-Windsor (Harmsworth) Public Library\, 1 Cromer Avenue\, Grand Falls - Windsor\, NL\, A2A 1W9\, Canada
CATEGORIES:Heath & Wellbeing
END:VEVENT
BEGIN:VEVENT
DTSTART;TZID=America/St_Johns:20260526T153000
DTEND;TZID=America/St_Johns:20260526T163000
DTSTAMP:20260421T150903
CREATED:20250821T155247Z
LAST-MODIFIED:20260415T221903Z
UID:10061420-1779809400-1779813000@nlpl.ca
SUMMARY:Baby Play Group
DESCRIPTION:Drop in to the Conception Bay South Public Library where the storytime room  will be open for baby play time\, with baby-friendly toys available! This is a drop-in program\, best suited for ages 0-2.
URL:https://nlpl.ca/events/baby-play-group/2026-05-26/
LOCATION:Conception Bay South Public Library\, 10 Remembrance Square\, Conception Bay South\, NL\, Canada
CATEGORIES:Kids & Families
ATTACH;FMTTYPE=image/jpeg:https://nlpl.ca/wp-content/uploads/2023/03/Events-Kid-Families.jpg
END:VEVENT
BEGIN:VEVENT
DTSTART;TZID=America/St_Johns:20260526T153000
DTEND;TZID=America/St_Johns:20260526T160000
DTSTAMP:20260421T150903
CREATED:20260323T174050Z
LAST-MODIFIED:20260323T174610Z
UID:10060212-1779809400-1779811200@nlpl.ca
SUMMARY:Baby Storytime
DESCRIPTION:Join us at the CBS Public library for themed story times with your little ones! Suitable for ages 0-2\, Drop in
URL:https://nlpl.ca/events/baby-storytime/2026-05-26/
LOCATION:Conception Bay South Public Library\, 10 Remembrance Square\, Conception Bay South\, NL\, Canada
CATEGORIES:Storytime
ATTACH;FMTTYPE=image/jpeg:https://nlpl.ca/wp-content/uploads/2023/03/Events-Kid-Families.jpg
ORGANIZER;CN="Conception Bay South Public Library":MAILTO:conceptionbaysouth@nlpl.ca
END:VEVENT
BEGIN:VEVENT
DTSTART;TZID=America/St_Johns:20260526T150000
DTEND;TZID=America/St_Johns:20260526T160000
DTSTAMP:20260421T150903
CREATED:20251103T201201Z
LAST-MODIFIED:20251125T194640Z
UID:10053867-1779807600-1779811200@nlpl.ca
SUMMARY:Family Passive Play
DESCRIPTION:
URL:https://nlpl.ca/events/family-passive-play/2026-05-26/
LOCATION:Bishop’s Falls Public Library\, 445 Main Street\, Bishop's Falls\, NL\, A0H 1C0\, Canada
END:VEVENT
BEGIN:VEVENT
DTSTART;TZID=America/St_Johns:20260526T140000
DTEND;TZID=America/St_Johns:20260526T153000
DTSTAMP:20260421T150903
CREATED:20260103T135944Z
LAST-MODIFIED:20260325T214808Z
UID:10060262-1779804000-1779809400@nlpl.ca
SUMMARY:BabyTime PlayTime
DESCRIPTION:Drop-in for playtime and socializing for babies (ages 0-2) and parents/caregivers
URL:https://nlpl.ca/events/babytime-playtime/2026-05-26/
LOCATION:Corner Brook Public Library\, 4 West Street\, Corner Brook\, NL\, A2H 0C1\, Canada
END:VEVENT
BEGIN:VEVENT
DTSTART;TZID=America/St_Johns:20260526T140000
DTEND;TZID=America/St_Johns:20260526T153000
DTSTAMP:20260421T150903
CREATED:20250310T162548Z
LAST-MODIFIED:20260408T174230Z
UID:10061406-1779804000-1779809400@nlpl.ca
SUMMARY:Breastfeeding Clinic
DESCRIPTION:Drop in to the Conception Bay South Public Library for the Breastfeeding Clinic provided by Community Health\, Drop in for parents and babies.
URL:https://nlpl.ca/events/breastfeeding-clinic-3/2026-05-26/
LOCATION:Conception Bay South Public Library\, 10 Remembrance Square\, Conception Bay South\, NL\, Canada
CATEGORIES:Heath & Wellbeing,Kids & Families
ATTACH;FMTTYPE=image/jpeg:https://nlpl.ca/wp-content/uploads/2023/03/Events-Health-and-Wellbeing.jpg
ORGANIZER;CN="Conception Bay South Public Library":MAILTO:conceptionbaysouth@nlpl.ca
END:VEVENT
BEGIN:VEVENT
DTSTART;TZID=America/St_Johns:20260526T113000
DTEND;TZID=America/St_Johns:20260526T123000
DTSTAMP:20260421T150903
CREATED:20260227T193732Z
LAST-MODIFIED:20260418T174819Z
UID:10061525-1779795000-1779798600@nlpl.ca
SUMMARY:Tech Tuesdays
DESCRIPTION:Drop by the Ross King Memorial Library (Mount Pearl) from 11:30 AM – 12:30 PM on Tuesdays for our Tech Tuesdays program.  This program will give you tips on how to use devices such as a laptop\, tablet or cell phone as well as provide answers to your questions about how to use Library resources such as Libby\, Connect Pass\, and the NLPL Events Calendar and Catalogue.  This is a drop in program and is conducted on first-come\, first-serve basis.
URL:https://nlpl.ca/events/tech-tuesdays-3-2/2026-05-26/
LOCATION:Mount Pearl Public Library\, 65 Olympic Drive\, Mount Pearl\, NL\, A1N 5H6\, Canada
CATEGORIES:Classes & Workshops,Information Session,Technology & Makerspace
ORGANIZER;CN="Mount Pearl":MAILTO:mountpearl@nlpl.ca
END:VEVENT
BEGIN:VEVENT
DTSTART;TZID=America/St_Johns:20260526T103000
DTEND;TZID=America/St_Johns:20260526T110000
DTSTAMP:20260421T150903
CREATED:20260110T135903Z
LAST-MODIFIED:20260110T135932Z
UID:10056649-1779791400-1779793200@nlpl.ca
SUMMARY:Tuesday\, Story Time
DESCRIPTION:Story Time \nTuesday 10:30-11:00 \nJanuary 13 to June 9th \nAges- birth to 5 years \nStory Time is half hour program\, filled with wonderful story books\, nursery rhymes\, songs and so much fun. \nLearning to read begins before children start school. From the time they are infants\, children learn language and other important skills that will help them learn to read. Developing early literacy skills makes it easier for children to learn to read once they begin school. \n“Remember\, the more we read together\, the happier we’ll be.”
URL:https://nlpl.ca/events/tuesday-story-time-19/
LOCATION:Carbonear Public Library\, 256 Water St.\, Carbonear\, NL\, A1Y 1C4\, Canada
CATEGORIES:Kids & Families,Storytime
ORGANIZER;CN="Carbonear Public Library":MAILTO:carbonear@nlpl.ca
END:VEVENT
BEGIN:VEVENT
DTSTART;TZID=America/St_Johns:20260526T100000
DTEND;TZID=America/St_Johns:20260526T120000
DTSTAMP:20260421T150903
CREATED:20260103T155608Z
LAST-MODIFIED:20260325T215109Z
UID:10060313-1779789600-1779796800@nlpl.ca
SUMMARY:Digital Learning+
DESCRIPTION:Small group workshops and classes for lifelong learning with a focus on digital literacy presented as part of The Murphy Centre’s ACCESS to Learning program. \nfree | registration required \nFor more information or registration contact: chrisjoseph@murphycentre.ca 709-640-6718 and/or reneesherstobetoff@murphycentre.ca 709-640-5616 \n  \n 
URL:https://nlpl.ca/events/digital-learning/2026-05-26/
LOCATION:Corner Brook Public Library\, 4 West Street\, Corner Brook\, NL\, A2H 0C1\, Canada
END:VEVENT
BEGIN:VEVENT
DTSTART;TZID=America/St_Johns:20260526T100000
DTEND;TZID=America/St_Johns:20260526T110000
DTSTAMP:20260421T150903
CREATED:20251015T144618Z
LAST-MODIFIED:20251015T161058Z
UID:10052615-1779789600-1779793200@nlpl.ca
SUMMARY:Family Story Time
DESCRIPTION:
URL:https://nlpl.ca/events/family-story-time-2/2026-05-26/
LOCATION:Bishop’s Falls Public Library\, 445 Main Street\, Bishop's Falls\, NL\, A0H 1C0\, Canada
CATEGORIES:Kids & Families,Storytime
END:VEVENT
BEGIN:VEVENT
DTSTART;TZID=America/St_Johns:20260526T060000
DTEND;TZID=America/St_Johns:20260526T193000
DTSTAMP:20260421T150903
CREATED:20251120T191835Z
LAST-MODIFIED:20251125T195038Z
UID:10055175-1779775200-1779823800@nlpl.ca
SUMMARY:Tuesday Night Tabletop Board Gaming
DESCRIPTION:New-Wes-Valley Public Libraries welcomes everyone to Tuesday night Board Gaming.  From 6 pm – 7:30 pm play from a wide selection of games from the libraries collection\, or bring you own.  Hope to see you there. \n 
URL:https://nlpl.ca/events/tuesday-night-tabletop-board-gaming/2026-05-26/
LOCATION:NL
CATEGORIES:Hobbies, Crafts & Games
END:VEVENT
END:VCALENDAR