BEGIN:VCALENDAR
VERSION:2.0
PRODID:-//Newfoundland &amp; Labrador Public Libraries - ECPv6.15.20//NONSGML v1.0//EN
CALSCALE:GREGORIAN
METHOD:PUBLISH
X-WR-CALNAME:Newfoundland &amp; Labrador Public Libraries
X-ORIGINAL-URL:https://nlpl.ca
X-WR-CALDESC:Events for Newfoundland &amp; Labrador Public Libraries
REFRESH-INTERVAL;VALUE=DURATION:PT1H
X-Robots-Tag:noindex
X-PUBLISHED-TTL:PT1H
BEGIN:VTIMEZONE
TZID:America/St_Johns
BEGIN:DAYLIGHT
TZOFFSETFROM:-0330
TZOFFSETTO:-0230
TZNAME:NDT
DTSTART:20250309T053000
END:DAYLIGHT
BEGIN:STANDARD
TZOFFSETFROM:-0230
TZOFFSETTO:-0330
TZNAME:NST
DTSTART:20251102T043000
END:STANDARD
BEGIN:DAYLIGHT
TZOFFSETFROM:-0330
TZOFFSETTO:-0230
TZNAME:NDT
DTSTART:20260308T053000
END:DAYLIGHT
BEGIN:STANDARD
TZOFFSETFROM:-0230
TZOFFSETTO:-0330
TZNAME:NST
DTSTART:20261101T043000
END:STANDARD
BEGIN:DAYLIGHT
TZOFFSETFROM:-0330
TZOFFSETTO:-0230
TZNAME:NDT
DTSTART:20270314T053000
END:DAYLIGHT
BEGIN:STANDARD
TZOFFSETFROM:-0230
TZOFFSETTO:-0330
TZNAME:NST
DTSTART:20271107T043000
END:STANDARD
END:VTIMEZONE
BEGIN:VEVENT
DTSTART;TZID=America/St_Johns:20260305T100000
DTEND;TZID=America/St_Johns:20260305T120000
DTSTAMP:20260421T081317
CREATED:20240911T134337Z
LAST-MODIFIED:20260415T215627Z
UID:10059407-1772704800-1772712000@nlpl.ca
SUMMARY:Art Group
DESCRIPTION:Drop into the Conception Bay South Public Library  community room with any art project you are working on!\nThis is a group for adults.
URL:https://nlpl.ca/events/art-group/2026-03-05/
LOCATION:Conception Bay South Public Library\, 10 Remembrance Square\, Conception Bay South\, NL\, Canada
CATEGORIES:Arts & Culture,Hobbies, Crafts & Games
ATTACH;FMTTYPE=image/jpeg:https://nlpl.ca/wp-content/uploads/2023/03/Events-Hobbies-Crafts-and-Games.jpg
ORGANIZER;CN="Conception Bay South Public Library":MAILTO:conceptionbaysouth@nlpl.ca
END:VEVENT
BEGIN:VEVENT
DTSTART;TZID=America/St_Johns:20260305T100000
DTEND;TZID=America/St_Johns:20260305T120000
DTSTAMP:20260421T081317
CREATED:20260103T161028Z
LAST-MODIFIED:20260325T214958Z
UID:10056017-1772704800-1772712000@nlpl.ca
SUMMARY:Digital Learning+
DESCRIPTION:Small group workshops and classes for lifelong learning with a focus on digital literacy presented as part of The Murphy Centre’s ACCESS to Learning program. \nfree | registration required \nFor more information or registration contact: chrisjoseph@murphycentre.ca 709-640-6718 and/or reneesherstobetoff@murphycentre.ca 709-640-5616 \n  \n 
URL:https://nlpl.ca/events/digital-learning-2/2026-03-05/
LOCATION:Corner Brook Public Library\, 4 West Street\, Corner Brook\, NL\, A2H 0C1\, Canada
END:VEVENT
BEGIN:VEVENT
DTSTART;TZID=America/St_Johns:20260305T130000
DTEND;TZID=America/St_Johns:20260305T150000
DTSTAMP:20260421T081317
CREATED:20250702T192402Z
LAST-MODIFIED:20260410T152336Z
UID:10059417-1772715600-1772722800@nlpl.ca
SUMMARY:CBS Knitting Group
DESCRIPTION:Everyone is welcome ! Bring your project and meet up with fellow knitters!
URL:https://nlpl.ca/events/knitting-group-4/2026-03-05/
LOCATION:Conception Bay South Public Library\, 10 Remembrance Square\, Conception Bay South\, NL\, Canada
CATEGORIES:Hobbies, Crafts & Games
ATTACH;FMTTYPE=image/jpeg:https://nlpl.ca/wp-content/uploads/2023/03/Events-Hobbies-Crafts-and-Games.jpg
ORGANIZER;CN="Conception Bay South Public Library":MAILTO:conceptionbaysouth@nlpl.ca
END:VEVENT
BEGIN:VEVENT
DTSTART;TZID=America/St_Johns:20260305T130000
DTEND;TZID=America/St_Johns:20260305T150000
DTSTAMP:20260421T081317
CREATED:20260305T172547Z
LAST-MODIFIED:20260305T172547Z
UID:10059727-1772715600-1772722800@nlpl.ca
SUMMARY:Tech Thursday
DESCRIPTION:Drop in with your own device or we can use our devices- iPad or desktop or laptop. We can show you how to set up an email\, copy files\, or print files.
URL:https://nlpl.ca/events/tech-thursday/2026-03-05/
LOCATION:Deer Lake Public Library\, 4 Poplar Road\, Deer Lake\, NL\, A8A 1Z4\, Canada
END:VEVENT
BEGIN:VEVENT
DTSTART;TZID=America/St_Johns:20260305T130000
DTEND;TZID=America/St_Johns:20260305T153000
DTSTAMP:20260421T081317
CREATED:20260105T173639Z
LAST-MODIFIED:20260312T152947Z
UID:10056029-1772715600-1772724600@nlpl.ca
SUMMARY:Home Readers Service
DESCRIPTION:Harmsworth Public Library – The Home Reader Service delivers materials free of charge to residents within our community who are unable to visit the library. \nThis service will deliver new books and take back previously loaned materials on a rotating schedule. \nPlease call #709-489-2303 for further details. \n 
URL:https://nlpl.ca/events/home-readers-service-2-2-2/2026-03-05/
LOCATION:Grand Falls-Windsor (Harmsworth) Public Library\, 1 Cromer Avenue\, Grand Falls - Windsor\, NL\, A2A 1W9\, Canada
CATEGORIES:Heath & Wellbeing
END:VEVENT
BEGIN:VEVENT
DTSTART;TZID=America/St_Johns:20260305T140000
DTEND;TZID=America/St_Johns:20260305T143000
DTSTAMP:20260421T081317
CREATED:20260114T174653Z
LAST-MODIFIED:20260114T174653Z
UID:10056885-1772719200-1772721000@nlpl.ca
SUMMARY:Family Storytime
DESCRIPTION:A 30 minute interactive program celebrating books\, rhymes\, movement\, songs and fun that is perfect for\nfamilies with multiple children\, ages 1-5 years
URL:https://nlpl.ca/events/family-storytime/2026-03-05/
LOCATION:Stephenville Public Library (Kindale)\, 45 Carolina Ave.\, Stephenville\, NL\, A2N 3P8\, Canada
CATEGORIES:Kids & Families,Storytime
ATTACH;FMTTYPE=image/jpeg:https://nlpl.ca/wp-content/uploads/2023/03/Events-Kid-Families.jpg
END:VEVENT
BEGIN:VEVENT
DTSTART;TZID=America/St_Johns:20260305T140000
DTEND;TZID=America/St_Johns:20260305T160000
DTSTAMP:20260421T081317
CREATED:20260102T193222Z
LAST-MODIFIED:20260312T181405Z
UID:10055562-1772719200-1772726400@nlpl.ca
SUMMARY:Tech Thursdays
DESCRIPTION:Gander Public Library – Needing help with your cell phone\, tablet/IPad or Laptop? On Thursdays 2-4pm you can book an appointment for help!
URL:https://nlpl.ca/events/tech-thursdays-3/2026-03-05/
LOCATION:Gander Public & Resource Library\, 6 Bell Place\, Gander\, NL\, A1V 1X2\, Canada
CATEGORIES:Technology & Makerspace
ATTACH;FMTTYPE=image/jpeg:https://nlpl.ca/wp-content/uploads/2023/03/Events-Classes-and-Workshops.jpg
END:VEVENT
BEGIN:VEVENT
DTSTART;TZID=America/St_Johns:20260305T140000
DTEND;TZID=America/St_Johns:20260305T160000
DTSTAMP:20260421T081317
CREATED:20260105T133034Z
LAST-MODIFIED:20260312T152500Z
UID:10056058-1772719200-1772726400@nlpl.ca
SUMMARY:Knitting Circle
DESCRIPTION:Harmsworth Public Library – Drop-in and join us to knit and/or crochet\, improve your needle skills\, help a friend\, share patterns\, ideas and stories.\n\nBring your own supplies.
URL:https://nlpl.ca/events/knitting-circle-2/2026-03-05/
LOCATION:Grand Falls-Windsor (Harmsworth) Public Library\, 1 Cromer Avenue\, Grand Falls - Windsor\, NL\, A2A 1W9\, Canada
CATEGORIES:Hobbies, Crafts & Games
ATTACH;FMTTYPE=image/jpeg:https://nlpl.ca/wp-content/uploads/2023/03/Events-Hobbies-Crafts-and-Games.jpg
END:VEVENT
BEGIN:VEVENT
DTSTART;TZID=America/St_Johns:20260305T150000
DTEND;TZID=America/St_Johns:20260305T160000
DTSTAMP:20260421T081317
CREATED:20251103T201201Z
LAST-MODIFIED:20251125T194640Z
UID:10053809-1772722800-1772726400@nlpl.ca
SUMMARY:Family Passive Play
DESCRIPTION:
URL:https://nlpl.ca/events/family-passive-play/2026-03-05/
LOCATION:Bishop’s Falls Public Library\, 445 Main Street\, Bishop's Falls\, NL\, A0H 1C0\, Canada
END:VEVENT
BEGIN:VEVENT
DTSTART;TZID=America/St_Johns:20260305T153000
DTEND;TZID=America/St_Johns:20260305T170000
DTSTAMP:20260421T081317
CREATED:20250905T155750Z
LAST-MODIFIED:20251128T204710Z
UID:10049981-1772724600-1772730000@nlpl.ca
SUMMARY:Lego Play Hour at Bay Roberts Public Library
DESCRIPTION:Thursdays\, this fall\, from 3:30 to 5 pm expand your imagination with mountains of Lego blocks. Create and make friends. \nRegistration not necessary.
URL:https://nlpl.ca/events/lego-play-hour-at-bay-roberts-public-library/2026-03-05/
LOCATION:Bay Roberts Public Library\, 76 Cross Road\, Bay Roberts\, NL\, A0A 1G0\, Canada
ATTACH;FMTTYPE=image/jpeg:https://nlpl.ca/wp-content/uploads/2023/03/Events-Kid-Families.jpg
END:VEVENT
BEGIN:VEVENT
DTSTART;TZID=America/St_Johns:20260305T160000
DTEND;TZID=America/St_Johns:20260305T170000
DTSTAMP:20260421T081317
CREATED:20260105T162909Z
LAST-MODIFIED:20260312T172342Z
UID:10056162-1772726400-1772730000@nlpl.ca
SUMMARY:One-on-One Tech Help
DESCRIPTION:Harmsworth Public Library – Do you have a shiny new piece of tech\, but you’re not sure how to use it? Need a little help figuring out how to download an e-book\, share a photo\, or use Microsoft Word? \nMake a one-on-one appointment every Wednesday with our Tech Host\, Joshua. \nWe can provide general help\, tailored tech training\, and show you where to find helpful resources online. \nPlease call #709-489-2303 or drop in to schedule a time.
URL:https://nlpl.ca/events/one-on-one-tech-help-2-2/2026-03-05/
LOCATION:Grand Falls-Windsor (Harmsworth) Public Library\, 1 Cromer Avenue\, Grand Falls - Windsor\, NL\, A2A 1W9\, Canada
CATEGORIES:Technology & Makerspace
END:VEVENT
BEGIN:VEVENT
DTSTART;TZID=America/St_Johns:20260305T180000
DTEND;TZID=America/St_Johns:20260305T190000
DTSTAMP:20260421T081317
CREATED:20260105T161946Z
LAST-MODIFIED:20260312T152847Z
UID:10056149-1772733600-1772737200@nlpl.ca
SUMMARY:Sensory Hour
DESCRIPTION:Harmsworth Public Library – Sensory-friendly browsing hour that includes reduced lighting and reduced noise.
URL:https://nlpl.ca/events/sensory-hour-2/2026-03-05/
LOCATION:Grand Falls-Windsor (Harmsworth) Public Library\, 1 Cromer Avenue\, Grand Falls - Windsor\, NL\, A2A 1W9\, Canada
CATEGORIES:Heath & Wellbeing
END:VEVENT
BEGIN:VEVENT
DTSTART;TZID=America/St_Johns:20260305T180000
DTEND;TZID=America/St_Johns:20260305T193000
DTSTAMP:20260421T081317
CREATED:20260103T151827Z
LAST-MODIFIED:20260103T151844Z
UID:10055924-1772733600-1772739000@nlpl.ca
SUMMARY:Creative Writing Group
DESCRIPTION:Advance your creative writing skills and share your work while providing and receiving constructive feedback. New members welcome!
URL:https://nlpl.ca/events/craetive-writing-group/2026-03-05/
LOCATION:Corner Brook Public Library\, 4 West Street\, Corner Brook\, NL\, A2H 0C1\, Canada
CATEGORIES:Book Clubs & Writer’s Groups
END:VEVENT
BEGIN:VEVENT
DTSTART;TZID=America/St_Johns:20260306T093000
DTEND;TZID=America/St_Johns:20260306T113000
DTSTAMP:20260421T081317
CREATED:20251016T165338Z
LAST-MODIFIED:20251128T213700Z
UID:10052650-1772789400-1772796600@nlpl.ca
SUMMARY:Friday Free Play for Babies and Toddlers
DESCRIPTION:A drop-in weekly program at A.C. Hunter Children’s Library \nPlaygroup for ages 0-3. \nEvery Friday\, we open our playroom from 9:30 to 11:30am for babies and tots to play – a great chance to meet other caregivers! \nNo registration necessary.
URL:https://nlpl.ca/events/friday-free-play-for-babies-and-toddlers/2026-03-06/
LOCATION:St. John’s – A.C. Hunter Children’s Public Library\, 95 Allandale Road\, St. John's\, NL\, A1E 3A3\, Canada
CATEGORIES:Kids & Families,Storytime
ATTACH;FMTTYPE=image/jpeg:https://nlpl.ca/wp-content/uploads/2023/03/Events-Kid-Families.jpg
END:VEVENT
BEGIN:VEVENT
DTSTART;TZID=America/St_Johns:20260306T101500
DTEND;TZID=America/St_Johns:20260306T114500
DTSTAMP:20260421T081318
CREATED:20251028T175624Z
LAST-MODIFIED:20260415T222620Z
UID:10061489-1772792100-1772797500@nlpl.ca
SUMMARY:Musical Munchkins
DESCRIPTION:Drop in to the Conception Bay South Public Library for Musical Munchkins! Hosted By the Family Resource Center.\nThis is a drop-in music and rhyme time for babies (newborn until walking) and their caregiver.
URL:https://nlpl.ca/events/musical-munchkins-2-3-2/2026-03-06/
LOCATION:Conception Bay South Public Library\, 10 Remembrance Square\, Conception Bay South\, NL\, Canada
CATEGORIES:Kids & Families
ATTACH;FMTTYPE=image/jpeg:https://nlpl.ca/wp-content/uploads/2023/03/Events-Kid-Families.jpg
END:VEVENT
BEGIN:VEVENT
DTSTART;TZID=America/St_Johns:20260306T103000
DTEND;TZID=America/St_Johns:20260306T110000
DTSTAMP:20260421T081318
CREATED:20260105T135443Z
LAST-MODIFIED:20260312T152214Z
UID:10056103-1772793000-1772794800@nlpl.ca
SUMMARY:Family Storytime
DESCRIPTION:Harmsworth Public Library – A 30-minute interactive program celebrating books\, rhymes\, movement\, songs\, and fun that is perfect for families with multiple children\, ages 0-5
URL:https://nlpl.ca/events/family-storytime-3/2026-03-06/
LOCATION:Grand Falls-Windsor (Harmsworth) Public Library\, 1 Cromer Avenue\, Grand Falls - Windsor\, NL\, A2A 1W9\, Canada
CATEGORIES:Kids & Families
ATTACH;FMTTYPE=image/jpeg:https://nlpl.ca/wp-content/uploads/2023/03/Events-Kid-Families.jpg
END:VEVENT
BEGIN:VEVENT
DTSTART;TZID=America/St_Johns:20260306T103000
DTEND;TZID=America/St_Johns:20260306T120000
DTSTAMP:20260421T081318
CREATED:20260303T213625Z
LAST-MODIFIED:20260325T213947Z
UID:10059699-1772793000-1772798400@nlpl.ca
SUMMARY:Friday Morning Yarns
DESCRIPTION:Share conversation\, motivation and inspiration while you work on your knitting\, crochetting and other needlecrafts. While the focus is not on learning to knit\, attendees are encouraged to share their skills.
URL:https://nlpl.ca/events/friday-morning-yarns/2026-03-06/
LOCATION:Corner Brook Public Library\, 4 West Street\, Corner Brook\, NL\, A2H 0C1\, Canada
CATEGORIES:Hobbies, Crafts & Games
END:VEVENT
BEGIN:VEVENT
DTSTART;TZID=America/St_Johns:20260306T140000
DTEND;TZID=America/St_Johns:20260306T160000
DTSTAMP:20260421T081318
CREATED:20260105T135729Z
LAST-MODIFIED:20260312T152751Z
UID:10056114-1772805600-1772812800@nlpl.ca
SUMMARY:Lego Free Play
DESCRIPTION:Harmsworth Public Library – What will you create? Create something fun at our LEGO free play!
URL:https://nlpl.ca/events/lego-free-play-6-2-2/2026-03-06/
LOCATION:Grand Falls-Windsor (Harmsworth) Public Library\, 1 Cromer Avenue\, Grand Falls - Windsor\, NL\, A2A 1W9\, Canada
CATEGORIES:Kids & Families
ATTACH;FMTTYPE=image/jpeg:https://nlpl.ca/wp-content/uploads/2023/03/Events-Kid-Families.jpg
END:VEVENT
BEGIN:VEVENT
DTSTART;TZID=America/St_Johns:20260306T140000
DTEND;TZID=America/St_Johns:20260306T163000
DTSTAMP:20260421T081318
CREATED:20260103T152206Z
LAST-MODIFIED:20260325T214908Z
UID:10055934-1772805600-1772814600@nlpl.ca
SUMMARY:LegoTime
DESCRIPTION:Show off your creativity and imagination with this drop-in program suitable for children of all ages (Lego recommended for ages 3+ and Duplo bricks available for younger siblings).
URL:https://nlpl.ca/events/legotime/2026-03-06/
LOCATION:Corner Brook Public Library\, 4 West Street\, Corner Brook\, NL\, A2H 0C1\, Canada
CATEGORIES:Kids & Families
END:VEVENT
BEGIN:VEVENT
DTSTART;TZID=America/St_Johns:20260306T150000
DTEND;TZID=America/St_Johns:20260306T160000
DTSTAMP:20260421T081318
CREATED:20251103T201201Z
LAST-MODIFIED:20251125T194640Z
UID:10053810-1772809200-1772812800@nlpl.ca
SUMMARY:Family Passive Play
DESCRIPTION:
URL:https://nlpl.ca/events/family-passive-play/2026-03-06/
LOCATION:Bishop’s Falls Public Library\, 445 Main Street\, Bishop's Falls\, NL\, A0H 1C0\, Canada
END:VEVENT
BEGIN:VEVENT
DTSTART;TZID=America/St_Johns:20260307T100000
DTEND;TZID=America/St_Johns:20260307T140000
DTSTAMP:20260421T081318
CREATED:20260202T192359Z
LAST-MODIFIED:20260202T192359Z
UID:10058040-1772877600-1772892000@nlpl.ca
SUMMARY:Drop-in Lego Play
DESCRIPTION:We provide the space and Lego’s\, you provide the fun and creativity!
URL:https://nlpl.ca/events/drop-in-lego-play/2026-03-07/
LOCATION:Labrador City Public Library\, 306 Hudson Dr.\, Labrador City\, NL\, A2V 1L5\, Canada
CATEGORIES:Kids & Families
ATTACH;FMTTYPE=image/jpeg:https://nlpl.ca/wp-content/uploads/2023/03/Events-Kid-Families.jpg
END:VEVENT
BEGIN:VEVENT
DTSTART;TZID=America/St_Johns:20260307T100000
DTEND;TZID=America/St_Johns:20260307T163000
DTSTAMP:20260421T081318
CREATED:20260227T195830Z
LAST-MODIFIED:20260418T175236Z
UID:10055457-1772877600-1772901000@nlpl.ca
SUMMARY:Lego Free Play
DESCRIPTION:Join us at the Ross King Memorial Library (Mount Pearl) every Saturday for Lego Free Play.  We have Lego building blocks available every Saturday from 10am until 4:30pm.  Drop in and create something amazing!
URL:https://nlpl.ca/events/lego-free-play-2-2/2026-03-07/
LOCATION:Mount Pearl Public Library\, 65 Olympic Drive\, Mount Pearl\, NL\, A1N 5H6\, Canada
CATEGORIES:Kids & Families
ORGANIZER;CN="Mount Pearl":MAILTO:mountpearl@nlpl.ca
END:VEVENT
BEGIN:VEVENT
DTSTART;TZID=America/St_Johns:20260307T103000
DTEND;TZID=America/St_Johns:20260307T113000
DTSTAMP:20260421T081318
CREATED:20260103T140642Z
LAST-MODIFIED:20260325T214523Z
UID:10055904-1772879400-1772883000@nlpl.ca
SUMMARY:Family Storytime
DESCRIPTION:Stories\, songs and rhymes for the whole family! All ages and all abilities welcome
URL:https://nlpl.ca/events/family-storytime-2/2026-03-07/
LOCATION:Corner Brook Public Library\, 4 West Street\, Corner Brook\, NL\, A2H 0C1\, Canada
CATEGORIES:Kids & Families,Storytime
END:VEVENT
BEGIN:VEVENT
DTSTART;TZID=America/St_Johns:20260307T103000
DTEND;TZID=America/St_Johns:20260307T113000
DTSTAMP:20260421T081318
CREATED:20260107T181135Z
LAST-MODIFIED:20260107T181552Z
UID:10056535-1772879400-1772883000@nlpl.ca
SUMMARY:Storytime!
DESCRIPTION:Join us as Port aux Basques Public Library for storytime! It’s a great way to have your child enjoy the library and foster a lifelong love of reading. Come and enjoy some books\, songs\, poems and rhymes. Toys and games are also available for free play.
URL:https://nlpl.ca/events/storytime-3/2026-03-07/
LOCATION:Port aux Basques Public Library\, 8 Grand Bay\, Port aux Basques\, NL\, A0M 1C0\, Canada
CATEGORIES:Kids & Families,Storytime
ATTACH;FMTTYPE=image/jpeg:https://nlpl.ca/wp-content/uploads/2023/03/Events-Kid-Families.jpg
END:VEVENT
BEGIN:VEVENT
DTSTART;TZID=America/St_Johns:20260307T110000
DTEND;TZID=America/St_Johns:20260307T143000
DTSTAMP:20260421T081318
CREATED:20260113T185623Z
LAST-MODIFIED:20260303T183651Z
UID:10059618-1772881200-1772893800@nlpl.ca
SUMMARY:LEGO Free Play
DESCRIPTION:LEGO Free Play at the Harbour Grace Public Library. Every Saturday from 11am-2:30pm. Drop in for some creative play! We supply the LEGO blocks. All you need to bring is your imagination! Children under 10 must be accompanied by a parent or guardian. No registration required.
URL:https://nlpl.ca/events/lego-free-play-3/2026-03-07/
LOCATION:Harbour Grace Public Library\, 106 Harvey Street\, Harbour Grace\, NL\, A0A 2M0\, Canada
END:VEVENT
BEGIN:VEVENT
DTSTART;TZID=America/St_Johns:20260307T110000
DTEND;TZID=America/St_Johns:20260307T150000
DTSTAMP:20260421T081318
CREATED:20260205T191657Z
LAST-MODIFIED:20260205T191754Z
UID:10058229-1772881200-1772895600@nlpl.ca
SUMMARY:Master Builders
DESCRIPTION:(5+) Passive program for open Lego play. We provide the Lego\, you provide the fun! Come and go anytime during 11am – 3pm on Saturdays.
URL:https://nlpl.ca/events/master-builders/2026-03-07/
LOCATION:Stephenville Public Library (Kindale)\, 45 Carolina Ave.\, Stephenville\, NL\, A2N 3P8\, Canada
CATEGORIES:Hobbies, Crafts & Games
ATTACH;FMTTYPE=image/jpeg:https://nlpl.ca/wp-content/uploads/2023/03/Events-Hobbies-Crafts-and-Games.jpg
END:VEVENT
BEGIN:VEVENT
DTSTART;TZID=America/St_Johns:20260307T143000
DTEND;TZID=America/St_Johns:20260307T153000
DTSTAMP:20260421T081318
CREATED:20250820T195340Z
LAST-MODIFIED:20260228T051949Z
UID:10049134-1772893800-1772897400@nlpl.ca
SUMMARY:Murder BookClub
DESCRIPTION:Join Pamela one Saturday afternoon a month to discuss murder mysteries and only murder mysteries.\nCall (709)737-3950 for more information.
URL:https://nlpl.ca/events/murder-bookclub-2/2026-03-07/
LOCATION:St. John’s – A.C. Hunter Public Library\, 125 Allandale Road\, St. John's\, NL\, A1B 3A3\, Canada
CATEGORIES:Book Clubs & Writer’s Groups
ATTACH;FMTTYPE=image/jpeg:https://nlpl.ca/wp-content/uploads/2023/03/Events-Book-Clubs-and-Writing-Groups.jpg
END:VEVENT
BEGIN:VEVENT
DTSTART;TZID=America/St_Johns:20260309T140000
DTEND;TZID=America/St_Johns:20260309T160000
DTSTAMP:20260421T081318
CREATED:20250818T121419Z
LAST-MODIFIED:20260312T153407Z
UID:10056092-1773064800-1773072000@nlpl.ca
SUMMARY:Rug Hooking
DESCRIPTION:Harmsworth Public Library – Get “hooked” on rug making every Monday afternoon. Whether you are a beginner or a seasoned artist\, come share your rug-hooked works and techniques with a fun group of rug hookers.
URL:https://nlpl.ca/events/rug-hooking-2/2026-03-09/
LOCATION:Grand Falls-Windsor (Harmsworth) Public Library\, 1 Cromer Avenue\, Grand Falls - Windsor\, NL\, A2A 1W9\, Canada
CATEGORIES:Hobbies, Crafts & Games
ATTACH;FMTTYPE=image/jpeg:https://nlpl.ca/wp-content/uploads/2023/03/Events-Hobbies-Crafts-and-Games.jpg
END:VEVENT
BEGIN:VEVENT
DTSTART;TZID=America/St_Johns:20260309T150000
DTEND;TZID=America/St_Johns:20260309T160000
DTSTAMP:20260421T081318
CREATED:20251103T201201Z
LAST-MODIFIED:20251125T194640Z
UID:10053811-1773068400-1773072000@nlpl.ca
SUMMARY:Family Passive Play
DESCRIPTION:
URL:https://nlpl.ca/events/family-passive-play/2026-03-09/
LOCATION:Bishop’s Falls Public Library\, 445 Main Street\, Bishop's Falls\, NL\, A0H 1C0\, Canada
END:VEVENT
BEGIN:VEVENT
DTSTART;TZID=America/St_Johns:20260309T150000
DTEND;TZID=America/St_Johns:20260309T200000
DTSTAMP:20260421T081318
CREATED:20260304T172104Z
LAST-MODIFIED:20260317T164251Z
UID:10059711-1773068400-1773086400@nlpl.ca
SUMMARY:Quilting with Kay
DESCRIPTION:Come and enjoy an afternoon of beginner quilting with Kay Warford!!
URL:https://nlpl.ca/events/quilting-with-kay-2/2026-03-09/
LOCATION:Point Leamington Public Library\, 1 Rice's Drive\, Point Leamington\, NL\, A0H 1Z0\, Canada
CATEGORIES:Hobbies, Crafts & Games
END:VEVENT
END:VCALENDAR