BEGIN:VCALENDAR
VERSION:2.0
PRODID:-//Newfoundland &amp; Labrador Public Libraries - ECPv6.15.20//NONSGML v1.0//EN
CALSCALE:GREGORIAN
METHOD:PUBLISH
X-WR-CALNAME:Newfoundland &amp; Labrador Public Libraries
X-ORIGINAL-URL:https://nlpl.ca
X-WR-CALDESC:Events for Newfoundland &amp; Labrador Public Libraries
REFRESH-INTERVAL;VALUE=DURATION:PT1H
X-Robots-Tag:noindex
X-PUBLISHED-TTL:PT1H
BEGIN:VTIMEZONE
TZID:America/St_Johns
BEGIN:DAYLIGHT
TZOFFSETFROM:-0330
TZOFFSETTO:-0230
TZNAME:NDT
DTSTART:20250309T053000
END:DAYLIGHT
BEGIN:STANDARD
TZOFFSETFROM:-0230
TZOFFSETTO:-0330
TZNAME:NST
DTSTART:20251102T043000
END:STANDARD
BEGIN:DAYLIGHT
TZOFFSETFROM:-0330
TZOFFSETTO:-0230
TZNAME:NDT
DTSTART:20260308T053000
END:DAYLIGHT
BEGIN:STANDARD
TZOFFSETFROM:-0230
TZOFFSETTO:-0330
TZNAME:NST
DTSTART:20261101T043000
END:STANDARD
BEGIN:DAYLIGHT
TZOFFSETFROM:-0330
TZOFFSETTO:-0230
TZNAME:NDT
DTSTART:20270314T053000
END:DAYLIGHT
BEGIN:STANDARD
TZOFFSETFROM:-0230
TZOFFSETTO:-0330
TZNAME:NST
DTSTART:20271107T043000
END:STANDARD
END:VTIMEZONE
BEGIN:VEVENT
DTSTART;TZID=America/St_Johns:20260402T150000
DTEND;TZID=America/St_Johns:20260402T160000
DTSTAMP:20260421T092821
CREATED:20251103T201201Z
LAST-MODIFIED:20251125T194640Z
UID:10053829-1775142000-1775145600@nlpl.ca
SUMMARY:Family Passive Play
DESCRIPTION:
URL:https://nlpl.ca/events/family-passive-play/2026-04-02/
LOCATION:Bishop’s Falls Public Library\, 445 Main Street\, Bishop's Falls\, NL\, A0H 1C0\, Canada
END:VEVENT
BEGIN:VEVENT
DTSTART;TZID=America/St_Johns:20260402T150000
DTEND;TZID=America/St_Johns:20260402T160000
DTSTAMP:20260421T092821
CREATED:20260402T145707Z
LAST-MODIFIED:20260402T145707Z
UID:10060540-1775142000-1775145600@nlpl.ca
SUMMARY:Tech Thursdays: Tech Help Drop-in
DESCRIPTION:Have tech questions? Need help navigating your phone\, tablet\, laptop or e-reader? Visit our student volunteers on Thursdays 3-4!
URL:https://nlpl.ca/events/tech-thursdays-tech-help-drop-in/2026-04-02/
LOCATION:Clarenville Public Library\, 98 Manitoba Drive\, Clarenville\, NL\, A5A 1K7\, Canada
END:VEVENT
BEGIN:VEVENT
DTSTART;TZID=America/St_Johns:20260402T153000
DTEND;TZID=America/St_Johns:20260402T170000
DTSTAMP:20260421T092821
CREATED:20250905T155750Z
LAST-MODIFIED:20251128T204710Z
UID:10049985-1775143800-1775149200@nlpl.ca
SUMMARY:Lego Play Hour at Bay Roberts Public Library
DESCRIPTION:Thursdays\, this fall\, from 3:30 to 5 pm expand your imagination with mountains of Lego blocks. Create and make friends. \nRegistration not necessary.
URL:https://nlpl.ca/events/lego-play-hour-at-bay-roberts-public-library/2026-04-02/
LOCATION:Bay Roberts Public Library\, 76 Cross Road\, Bay Roberts\, NL\, A0A 1G0\, Canada
ATTACH;FMTTYPE=image/jpeg:https://nlpl.ca/wp-content/uploads/2023/03/Events-Kid-Families.jpg
END:VEVENT
BEGIN:VEVENT
DTSTART;TZID=America/St_Johns:20260402T153000
DTEND;TZID=America/St_Johns:20260402T170000
DTSTAMP:20260421T092821
CREATED:20260327T184441Z
LAST-MODIFIED:20260327T184508Z
UID:10059551-1775143800-1775149200@nlpl.ca
SUMMARY:Crafters Hour
DESCRIPTION:Design Your own Craft at the library: \nCanvas Painting \nDrawing \nPastel painting \nor you can bring a project with you. \n 
URL:https://nlpl.ca/events/crafters-hour-6-2-2-2-2-2-2-2-2-2-2/2026-04-02/
LOCATION:Fogo Island Public Library\, 1 Iceberg Arena Road\, Fogo Island Central\, NL\, A0G 2B0\, Canada
CATEGORIES:Hobbies, Crafts & Games
END:VEVENT
BEGIN:VEVENT
DTSTART;TZID=America/St_Johns:20260402T160000
DTEND;TZID=America/St_Johns:20260402T170000
DTSTAMP:20260421T092821
CREATED:20260105T162909Z
LAST-MODIFIED:20260312T172342Z
UID:10059975-1775145600-1775149200@nlpl.ca
SUMMARY:One-on-One Tech Help
DESCRIPTION:Harmsworth Public Library – Do you have a shiny new piece of tech\, but you’re not sure how to use it? Need a little help figuring out how to download an e-book\, share a photo\, or use Microsoft Word? \nMake a one-on-one appointment every Wednesday with our Tech Host\, Joshua. \nWe can provide general help\, tailored tech training\, and show you where to find helpful resources online. \nPlease call #709-489-2303 or drop in to schedule a time.
URL:https://nlpl.ca/events/one-on-one-tech-help-2-2/2026-04-02/
LOCATION:Grand Falls-Windsor (Harmsworth) Public Library\, 1 Cromer Avenue\, Grand Falls - Windsor\, NL\, A2A 1W9\, Canada
CATEGORIES:Technology & Makerspace
END:VEVENT
BEGIN:VEVENT
DTSTART;TZID=America/St_Johns:20260402T180000
DTEND;TZID=America/St_Johns:20260402T190000
DTSTAMP:20260421T092821
CREATED:20260105T161946Z
LAST-MODIFIED:20260312T152847Z
UID:10059903-1775152800-1775156400@nlpl.ca
SUMMARY:Sensory Hour
DESCRIPTION:Harmsworth Public Library – Sensory-friendly browsing hour that includes reduced lighting and reduced noise.
URL:https://nlpl.ca/events/sensory-hour-2/2026-04-02/
LOCATION:Grand Falls-Windsor (Harmsworth) Public Library\, 1 Cromer Avenue\, Grand Falls - Windsor\, NL\, A2A 1W9\, Canada
CATEGORIES:Heath & Wellbeing
END:VEVENT
BEGIN:VEVENT
DTSTART;TZID=America/St_Johns:20260403T100000
DTEND;TZID=America/St_Johns:20260403T103000
DTSTAMP:20260421T092821
CREATED:20260225T131033Z
LAST-MODIFIED:20260225T131143Z
UID:10059499-1775210400-1775212200@nlpl.ca
SUMMARY:Storytime
DESCRIPTION:Gander Public Library – A 30 minute interactive program celebrating books\, rhymes\, movement\, songs and fun\, ages 0-5 years.
URL:https://nlpl.ca/events/family-storytime-13-2-2-2-2-2/2026-04-03/
LOCATION:Gander Public & Resource Library\, 6 Bell Place\, Gander\, NL\, A1V 1X2\, Canada
CATEGORIES:Kids & Families
ATTACH;FMTTYPE=image/jpeg:https://nlpl.ca/wp-content/uploads/2023/03/Events-Kid-Families.jpg
END:VEVENT
BEGIN:VEVENT
DTSTART;TZID=America/St_Johns:20260403T101500
DTEND;TZID=America/St_Johns:20260403T114500
DTSTAMP:20260421T092821
CREATED:20251028T175624Z
LAST-MODIFIED:20260415T222620Z
UID:10061493-1775211300-1775216700@nlpl.ca
SUMMARY:Musical Munchkins
DESCRIPTION:Drop in to the Conception Bay South Public Library for Musical Munchkins! Hosted By the Family Resource Center.\nThis is a drop-in music and rhyme time for babies (newborn until walking) and their caregiver.
URL:https://nlpl.ca/events/musical-munchkins-2-3-2/2026-04-03/
LOCATION:Conception Bay South Public Library\, 10 Remembrance Square\, Conception Bay South\, NL\, Canada
CATEGORIES:Kids & Families
ATTACH;FMTTYPE=image/jpeg:https://nlpl.ca/wp-content/uploads/2023/03/Events-Kid-Families.jpg
END:VEVENT
BEGIN:VEVENT
DTSTART;TZID=America/St_Johns:20260403T103000
DTEND;TZID=America/St_Johns:20260403T110000
DTSTAMP:20260421T092821
CREATED:20260105T135443Z
LAST-MODIFIED:20260312T152214Z
UID:10059896-1775212200-1775214000@nlpl.ca
SUMMARY:Family Storytime
DESCRIPTION:Harmsworth Public Library – A 30-minute interactive program celebrating books\, rhymes\, movement\, songs\, and fun that is perfect for families with multiple children\, ages 0-5
URL:https://nlpl.ca/events/family-storytime-3/2026-04-03/
LOCATION:Grand Falls-Windsor (Harmsworth) Public Library\, 1 Cromer Avenue\, Grand Falls - Windsor\, NL\, A2A 1W9\, Canada
CATEGORIES:Kids & Families
ATTACH;FMTTYPE=image/jpeg:https://nlpl.ca/wp-content/uploads/2023/03/Events-Kid-Families.jpg
END:VEVENT
BEGIN:VEVENT
DTSTART;TZID=America/St_Johns:20260403T104500
DTEND;TZID=America/St_Johns:20260403T111500
DTSTAMP:20260421T092821
CREATED:20260225T130756Z
LAST-MODIFIED:20260225T130917Z
UID:10059494-1775213100-1775214900@nlpl.ca
SUMMARY:Baby Rhyme Time
DESCRIPTION:Grander Public Library – A program for babies and their caregivers that teaches new stories\, songs\, rhymes and more in an interactive early literacy rich environment. Babies 0-18 months.
URL:https://nlpl.ca/events/baby-circle-time-5-2-2-2-2-2/2026-04-03/
LOCATION:Gander Public & Resource Library\, 6 Bell Place\, Gander\, NL\, A1V 1X2\, Canada
CATEGORIES:Kids & Families
ATTACH;FMTTYPE=image/jpeg:https://nlpl.ca/wp-content/uploads/2023/03/Events-Kid-Families.jpg
END:VEVENT
BEGIN:VEVENT
DTSTART;TZID=America/St_Johns:20260403T120000
DTEND;TZID=America/St_Johns:20260403T130000
DTSTAMP:20260421T092821
CREATED:20260227T190301Z
LAST-MODIFIED:20260327T184255Z
UID:10058192-1775217600-1775221200@nlpl.ca
SUMMARY:Chill Out Hour
DESCRIPTION:Wednesday & Friday \n@ \n12:00pm-1:00pm \nPlay a board game \nPainting \nReading \nPuzzles \nDrawing \ncoloring \nMinute to win it 
URL:https://nlpl.ca/events/chill-out-hour-2-3-2-2-2-2/2026-04-03/
LOCATION:Fogo Island Public Library\, 1 Iceberg Arena Road\, Fogo Island Central\, NL\, A0G 2B0\, Canada
CATEGORIES:Teens
END:VEVENT
BEGIN:VEVENT
DTSTART;TZID=America/St_Johns:20260403T130000
DTEND;TZID=America/St_Johns:20260403T140000
DTSTAMP:20260421T092821
CREATED:20260402T152040Z
LAST-MODIFIED:20260402T152040Z
UID:10060549-1775221200-1775224800@nlpl.ca
SUMMARY:Friday Free Play!
DESCRIPTION:Drop in for fun in our children’s area! \n\n\nPuzzles\, games\, toys\, and crafts for everyone!
URL:https://nlpl.ca/events/friday-free-play/2026-04-03/
LOCATION:Clarenville Public Library\, 98 Manitoba Drive\, Clarenville\, NL\, A5A 1K7\, Canada
END:VEVENT
BEGIN:VEVENT
DTSTART;TZID=America/St_Johns:20260403T150000
DTEND;TZID=America/St_Johns:20260403T160000
DTSTAMP:20260421T092821
CREATED:20251103T201201Z
LAST-MODIFIED:20251125T194640Z
UID:10053830-1775228400-1775232000@nlpl.ca
SUMMARY:Family Passive Play
DESCRIPTION:
URL:https://nlpl.ca/events/family-passive-play/2026-04-03/
LOCATION:Bishop’s Falls Public Library\, 445 Main Street\, Bishop's Falls\, NL\, A0H 1C0\, Canada
END:VEVENT
BEGIN:VEVENT
DTSTART;TZID=America/St_Johns:20260404T100000
DTEND;TZID=America/St_Johns:20260404T100000
DTSTAMP:20260421T092821
CREATED:20260222T150445Z
LAST-MODIFIED:20260402T143415Z
UID:10059440-1775296800-1775296800@nlpl.ca
SUMMARY:LOLA - Poetry Writing Workshop
DESCRIPTION:St. John’s – A.C. Hunter\nJoin our very own published poet Hannah Jenkins for a 2 hour poetry writing workshop. \nWrite a brand new poem in this two-hour workshop that will guide you through a series of creative writing exercises.
URL:https://nlpl.ca/events/lola-poetry-writing-workshop/
LOCATION:St. John’s – A.C. Hunter Public Library\, 125 Allandale Road\, St. John's\, NL\, A1B 3A3\, Canada
CATEGORIES:Arts & Culture,Book Clubs & Writer’s Groups,Classes & Workshops
ATTACH;FMTTYPE=image/jpeg:https://nlpl.ca/wp-content/uploads/2023/03/Events-Classes-and-Workshops.jpg
END:VEVENT
BEGIN:VEVENT
DTSTART;TZID=America/St_Johns:20260404T100000
DTEND;TZID=America/St_Johns:20260404T140000
DTSTAMP:20260421T092821
CREATED:20260202T192359Z
LAST-MODIFIED:20260202T192359Z
UID:10058044-1775296800-1775311200@nlpl.ca
SUMMARY:Drop-in Lego Play
DESCRIPTION:We provide the space and Lego’s\, you provide the fun and creativity!
URL:https://nlpl.ca/events/drop-in-lego-play/2026-04-04/
LOCATION:Labrador City Public Library\, 306 Hudson Dr.\, Labrador City\, NL\, A2V 1L5\, Canada
CATEGORIES:Kids & Families
ATTACH;FMTTYPE=image/jpeg:https://nlpl.ca/wp-content/uploads/2023/03/Events-Kid-Families.jpg
END:VEVENT
BEGIN:VEVENT
DTSTART;TZID=America/St_Johns:20260404T100000
DTEND;TZID=America/St_Johns:20260404T163000
DTSTAMP:20260421T092821
CREATED:20260227T195830Z
LAST-MODIFIED:20260418T175236Z
UID:10060040-1775296800-1775320200@nlpl.ca
SUMMARY:Lego Free Play
DESCRIPTION:Join us at the Ross King Memorial Library (Mount Pearl) every Saturday for Lego Free Play.  We have Lego building blocks available every Saturday from 10am until 4:30pm.  Drop in and create something amazing!
URL:https://nlpl.ca/events/lego-free-play-2-2/2026-04-04/
LOCATION:Mount Pearl Public Library\, 65 Olympic Drive\, Mount Pearl\, NL\, A1N 5H6\, Canada
CATEGORIES:Kids & Families
ORGANIZER;CN="Mount Pearl":MAILTO:mountpearl@nlpl.ca
END:VEVENT
BEGIN:VEVENT
DTSTART;TZID=America/St_Johns:20260404T103000
DTEND;TZID=America/St_Johns:20260404T110000
DTSTAMP:20260421T092821
CREATED:20260312T183434Z
LAST-MODIFIED:20260418T175434Z
UID:10056696-1775298600-1775300400@nlpl.ca
SUMMARY:Saturday Storytime (Drop-In)
DESCRIPTION:Join us at the Ross King Memorial Library (Mount Pearl) for a Family Storytime every Saturday at 10:30am.  This Storytime features stories\, songs and rhymes and is geared for children ages 0-5 years and their caregivers.  Storytime lasts approximately 20-30 minutes (no registration required).
URL:https://nlpl.ca/events/drop-in-storytime-2-2/2026-04-04/
LOCATION:Mount Pearl Public Library\, 65 Olympic Drive\, Mount Pearl\, NL\, A1N 5H6\, Canada
CATEGORIES:Kids & Families,Storytime
ORGANIZER;CN="Mount Pearl":MAILTO:mountpearl@nlpl.ca
END:VEVENT
BEGIN:VEVENT
DTSTART;TZID=America/St_Johns:20260404T103000
DTEND;TZID=America/St_Johns:20260404T113000
DTSTAMP:20260421T092821
CREATED:20260107T181135Z
LAST-MODIFIED:20260107T181552Z
UID:10056537-1775298600-1775302200@nlpl.ca
SUMMARY:Storytime!
DESCRIPTION:Join us as Port aux Basques Public Library for storytime! It’s a great way to have your child enjoy the library and foster a lifelong love of reading. Come and enjoy some books\, songs\, poems and rhymes. Toys and games are also available for free play.
URL:https://nlpl.ca/events/storytime-3/2026-04-04/
LOCATION:Port aux Basques Public Library\, 8 Grand Bay\, Port aux Basques\, NL\, A0M 1C0\, Canada
CATEGORIES:Kids & Families,Storytime
ATTACH;FMTTYPE=image/jpeg:https://nlpl.ca/wp-content/uploads/2023/03/Events-Kid-Families.jpg
END:VEVENT
BEGIN:VEVENT
DTSTART;TZID=America/St_Johns:20260404T110000
DTEND;TZID=America/St_Johns:20260404T120000
DTSTAMP:20260421T092821
CREATED:20260324T175554Z
LAST-MODIFIED:20260324T175554Z
UID:10060219-1775300400-1775304000@nlpl.ca
SUMMARY:Dental Health Storytime and Craft
DESCRIPTION:Join us\, and special guest dental hygienist\, as we read a story and talk all about the health of our teeth. \nAges 2+
URL:https://nlpl.ca/events/dental-health-storytime-and-craft/
LOCATION:Labrador City Public Library\, 306 Hudson Dr.\, Labrador City\, NL\, A2V 1L5\, Canada
CATEGORIES:Heath & Wellbeing,Kids & Families
ATTACH;FMTTYPE=image/jpeg:https://nlpl.ca/wp-content/uploads/2023/03/Events-Kid-Families.jpg
END:VEVENT
BEGIN:VEVENT
DTSTART;TZID=America/St_Johns:20260404T110000
DTEND;TZID=America/St_Johns:20260404T120000
DTSTAMP:20260421T092821
CREATED:20260325T215330Z
LAST-MODIFIED:20260325T215330Z
UID:10060314-1775300400-1775304000@nlpl.ca
SUMMARY:Holidays for Hope Easter Egg Hunt
DESCRIPTION:Our friends at Holidays for Hope are back at the Library to help us celebrate Easter! They’ll have crafts\, stories\, songs and an Easter Egg Scavenger Hunt!
URL:https://nlpl.ca/events/holidays-for-hope-easter-egg-hunt/
LOCATION:Corner Brook Public Library\, 4 West Street\, Corner Brook\, NL\, A2H 0C1\, Canada
CATEGORIES:Holiday & Seasonal,Kids & Families
END:VEVENT
BEGIN:VEVENT
DTSTART;TZID=America/St_Johns:20260404T110000
DTEND;TZID=America/St_Johns:20260404T130000
DTSTAMP:20260421T092821
CREATED:20260319T170049Z
LAST-MODIFIED:20260319T170050Z
UID:10056830-1775300400-1775307600@nlpl.ca
SUMMARY:LEGO Builders
DESCRIPTION:Come out to the Port aux Basques Public Library for LEGO Builders. LEGO blocks are available\, along with a fun building table. Larger blocks are available for smaller children. Enjoy the fun and challenge of LEGO!
URL:https://nlpl.ca/events/lego-builders-2/2026-04-04/
LOCATION:Port aux Basques Public Library\, 8 Grand Bay\, Port aux Basques\, NL\, A0M 1C0\, Canada
CATEGORIES:Hobbies, Crafts & Games
ATTACH;FMTTYPE=image/jpeg:https://nlpl.ca/wp-content/uploads/2023/03/Events-Hobbies-Crafts-and-Games.jpg
END:VEVENT
BEGIN:VEVENT
DTSTART;TZID=America/St_Johns:20260404T110000
DTEND;TZID=America/St_Johns:20260404T130000
DTSTAMP:20260421T092821
CREATED:20260325T161319Z
LAST-MODIFIED:20260325T161319Z
UID:10060226-1775300400-1775307600@nlpl.ca
SUMMARY:Writers' Circle: From Sparks to Shelves
DESCRIPTION:From Sparks to Shelves \nLove a good love story? Join local author Mason Woodward for a Q&A where he shares how he writes and self-publishes romance novels\, from the first spark of an idea to the final published book. \nAll are welcomed\, no registration required.
URL:https://nlpl.ca/events/writers-circle-from-sparks-to-shelves/
LOCATION:Happy Valley-Goose Bay Public Library\, Elizabeth Goudie Building; 141 Hamilton River Road\, Happy Valley-Goose Bay\, NL\, A0P 1E0\, Canada
CATEGORIES:Book Clubs & Writer’s Groups
ATTACH;FMTTYPE=image/jpeg:https://nlpl.ca/wp-content/uploads/2023/03/Events-Book-Clubs-and-Writing-Groups.jpg
END:VEVENT
BEGIN:VEVENT
DTSTART;TZID=America/St_Johns:20260404T110000
DTEND;TZID=America/St_Johns:20260404T143000
DTSTAMP:20260421T092821
CREATED:20260113T185623Z
LAST-MODIFIED:20260303T183651Z
UID:10059622-1775300400-1775313000@nlpl.ca
SUMMARY:LEGO Free Play
DESCRIPTION:LEGO Free Play at the Harbour Grace Public Library. Every Saturday from 11am-2:30pm. Drop in for some creative play! We supply the LEGO blocks. All you need to bring is your imagination! Children under 10 must be accompanied by a parent or guardian. No registration required.
URL:https://nlpl.ca/events/lego-free-play-3/2026-04-04/
LOCATION:Harbour Grace Public Library\, 106 Harvey Street\, Harbour Grace\, NL\, A0A 2M0\, Canada
END:VEVENT
BEGIN:VEVENT
DTSTART;TZID=America/St_Johns:20260404T110000
DTEND;TZID=America/St_Johns:20260404T150000
DTSTAMP:20260421T092821
CREATED:20260205T191657Z
LAST-MODIFIED:20260205T191754Z
UID:10058233-1775300400-1775314800@nlpl.ca
SUMMARY:Master Builders
DESCRIPTION:(5+) Passive program for open Lego play. We provide the Lego\, you provide the fun! Come and go anytime during 11am – 3pm on Saturdays.
URL:https://nlpl.ca/events/master-builders/2026-04-04/
LOCATION:Stephenville Public Library (Kindale)\, 45 Carolina Ave.\, Stephenville\, NL\, A2N 3P8\, Canada
CATEGORIES:Hobbies, Crafts & Games
ATTACH;FMTTYPE=image/jpeg:https://nlpl.ca/wp-content/uploads/2023/03/Events-Hobbies-Crafts-and-Games.jpg
END:VEVENT
BEGIN:VEVENT
DTSTART;TZID=America/St_Johns:20260404T113000
DTEND;TZID=America/St_Johns:20260404T120000
DTSTAMP:20260421T092821
CREATED:20260110T141056Z
LAST-MODIFIED:20260110T141056Z
UID:10056663-1775302200-1775304000@nlpl.ca
SUMMARY:Saturday\, Story Time
DESCRIPTION:Story Time \nSaturday \nTime: 11:30-12:00 \nJanuary 17 to June 13th \nAges- birth to 5 years \nStory Time is half hour program\, filled with wonderful story books\, nursery rhymes\, songs and so much fun. \nLearning to read begins before children start school. From the time they are infants\, children learn language and other important skills that will help them learn to read. Developing early literacy skills makes it easier for children to learn to read once they begin school. \n“Remember\, the more we read together\, the happier we’ll be.”
URL:https://nlpl.ca/events/saturday-story-time-17/
LOCATION:Carbonear Public Library\, 256 Water St.\, Carbonear\, NL\, A1Y 1C4\, Canada
CATEGORIES:Kids & Families,Storytime
ORGANIZER;CN="Carbonear Public Library":MAILTO:carbonear@nlpl.ca
END:VEVENT
BEGIN:VEVENT
DTSTART;TZID=America/St_Johns:20260404T130000
DTEND;TZID=America/St_Johns:20260404T140000
DTSTAMP:20260421T092821
CREATED:20260325T162415Z
LAST-MODIFIED:20260325T162415Z
UID:10060228-1775307600-1775311200@nlpl.ca
SUMMARY:Melville Book Club
DESCRIPTION:This will be our last meeting discussing the novel Precious Little by Camille Fouillard.
URL:https://nlpl.ca/events/melville-book-club-2/
LOCATION:Happy Valley-Goose Bay Public Library\, Elizabeth Goudie Building; 141 Hamilton River Road\, Happy Valley-Goose Bay\, NL\, A0P 1E0\, Canada
CATEGORIES:Book Clubs & Writer’s Groups
ATTACH;FMTTYPE=image/jpeg:https://nlpl.ca/wp-content/uploads/2023/03/Events-Book-Clubs-and-Writing-Groups.jpg
END:VEVENT
BEGIN:VEVENT
DTSTART;TZID=America/St_Johns:20260404T143000
DTEND;TZID=America/St_Johns:20260404T153000
DTSTAMP:20260421T092821
CREATED:20250820T195340Z
LAST-MODIFIED:20260228T051949Z
UID:10059579-1775313000-1775316600@nlpl.ca
SUMMARY:Murder BookClub
DESCRIPTION:Join Pamela one Saturday afternoon a month to discuss murder mysteries and only murder mysteries.\nCall (709)737-3950 for more information.
URL:https://nlpl.ca/events/murder-bookclub-2/2026-04-04/
LOCATION:St. John’s – A.C. Hunter Public Library\, 125 Allandale Road\, St. John's\, NL\, A1B 3A3\, Canada
CATEGORIES:Book Clubs & Writer’s Groups
ATTACH;FMTTYPE=image/jpeg:https://nlpl.ca/wp-content/uploads/2023/03/Events-Book-Clubs-and-Writing-Groups.jpg
END:VEVENT
BEGIN:VEVENT
DTSTART;TZID=America/St_Johns:20260406T110000
DTEND;TZID=America/St_Johns:20260406T120000
DTSTAMP:20260421T092821
CREATED:20260212T184927Z
LAST-MODIFIED:20260212T184927Z
UID:10059265-1775473200-1775476800@nlpl.ca
SUMMARY:Easter Storytime
DESCRIPTION:Join us for an Easter storytime and craft! Ages 1-6 are welcome. Registration is required for each child separately. \n 
URL:https://nlpl.ca/events/easter-storytime/
LOCATION:Wabush Public Library\, 15 Whiteway Dr.\, Wabush\, NL\, A0R 1B0\, Canada
CATEGORIES:Storytime
ATTACH;FMTTYPE=image/jpeg:https://nlpl.ca/wp-content/uploads/2023/03/Events-Kid-Families.jpg
END:VEVENT
BEGIN:VEVENT
DTSTART;TZID=America/St_Johns:20260406T140000
DTEND;TZID=America/St_Johns:20260406T160000
DTSTAMP:20260421T092821
CREATED:20250818T121419Z
LAST-MODIFIED:20260312T153407Z
UID:10059959-1775484000-1775491200@nlpl.ca
SUMMARY:Rug Hooking
DESCRIPTION:Harmsworth Public Library – Get “hooked” on rug making every Monday afternoon. Whether you are a beginner or a seasoned artist\, come share your rug-hooked works and techniques with a fun group of rug hookers.
URL:https://nlpl.ca/events/rug-hooking-2/2026-04-06/
LOCATION:Grand Falls-Windsor (Harmsworth) Public Library\, 1 Cromer Avenue\, Grand Falls - Windsor\, NL\, A2A 1W9\, Canada
CATEGORIES:Hobbies, Crafts & Games
ATTACH;FMTTYPE=image/jpeg:https://nlpl.ca/wp-content/uploads/2023/03/Events-Hobbies-Crafts-and-Games.jpg
END:VEVENT
BEGIN:VEVENT
DTSTART;TZID=America/St_Johns:20260406T143000
DTEND;TZID=America/St_Johns:20260406T153000
DTSTAMP:20260421T092821
CREATED:20260402T142913Z
LAST-MODIFIED:20260402T142913Z
UID:10060538-1775485800-1775489400@nlpl.ca
SUMMARY:Easter Pom Pom Painting
DESCRIPTION:Gander Public Library – For the whole family – Come out with your children and create an Easter painting with pom poms. To register or for more information call 709-651-5354 or email: gander@nlpl.ca
URL:https://nlpl.ca/events/easter-pom-pom-painting/
LOCATION:Gander Public & Resource Library\, 6 Bell Place\, Gander\, NL\, A1V 1X2\, Canada
CATEGORIES:Kids & Families
ATTACH;FMTTYPE=image/jpeg:https://nlpl.ca/wp-content/uploads/2023/03/Events-Hobbies-Crafts-and-Games.jpg
END:VEVENT
END:VCALENDAR