BEGIN:VCALENDAR
VERSION:2.0
PRODID:-//Newfoundland &amp; Labrador Public Libraries - ECPv6.15.20//NONSGML v1.0//EN
CALSCALE:GREGORIAN
METHOD:PUBLISH
X-ORIGINAL-URL:https://nlpl.ca
X-WR-CALDESC:Events for Newfoundland &amp; Labrador Public Libraries
REFRESH-INTERVAL;VALUE=DURATION:PT1H
X-Robots-Tag:noindex
X-PUBLISHED-TTL:PT1H
BEGIN:VTIMEZONE
TZID:America/St_Johns
BEGIN:DAYLIGHT
TZOFFSETFROM:-0330
TZOFFSETTO:-0230
TZNAME:NDT
DTSTART:20260308T053000
END:DAYLIGHT
BEGIN:STANDARD
TZOFFSETFROM:-0230
TZOFFSETTO:-0330
TZNAME:NST
DTSTART:20261101T043000
END:STANDARD
BEGIN:DAYLIGHT
TZOFFSETFROM:-0330
TZOFFSETTO:-0230
TZNAME:NDT
DTSTART:20270314T053000
END:DAYLIGHT
BEGIN:STANDARD
TZOFFSETFROM:-0230
TZOFFSETTO:-0330
TZNAME:NST
DTSTART:20271107T043000
END:STANDARD
BEGIN:DAYLIGHT
TZOFFSETFROM:-0330
TZOFFSETTO:-0230
TZNAME:NDT
DTSTART:20280312T053000
END:DAYLIGHT
BEGIN:STANDARD
TZOFFSETFROM:-0230
TZOFFSETTO:-0330
TZNAME:NST
DTSTART:20281105T043000
END:STANDARD
END:VTIMEZONE
BEGIN:VEVENT
DTSTART;TZID=America/St_Johns:20270211T130000
DTEND;TZID=America/St_Johns:20270211T150000
DTSTAMP:20260421T161749
CREATED:20260305T172547Z
LAST-MODIFIED:20260305T172547Z
UID:10059776-1802350800-1802358000@nlpl.ca
SUMMARY:Tech Thursday
DESCRIPTION:Drop in with your own device or we can use our devices- iPad or desktop or laptop. We can show you how to set up an email\, copy files\, or print files.
URL:https://nlpl.ca/events/tech-thursday/2027-02-11/
LOCATION:Deer Lake Public Library\, 4 Poplar Road\, Deer Lake\, NL\, A8A 1Z4\, Canada
END:VEVENT
BEGIN:VEVENT
DTSTART;TZID=America/St_Johns:20270216T140000
DTEND;TZID=America/St_Johns:20270216T153000
DTSTAMP:20260421T161749
CREATED:20260103T135944Z
LAST-MODIFIED:20260325T214808Z
UID:10060281-1802786400-1802791800@nlpl.ca
SUMMARY:BabyTime PlayTime
DESCRIPTION:Drop-in for playtime and socializing for babies (ages 0-2) and parents/caregivers
URL:https://nlpl.ca/events/babytime-playtime/2027-02-16/
LOCATION:Corner Brook Public Library\, 4 West Street\, Corner Brook\, NL\, A2H 0C1\, Canada
END:VEVENT
BEGIN:VEVENT
DTSTART;TZID=America/St_Johns:20270216T180000
DTEND;TZID=America/St_Johns:20270216T203000
DTSTAMP:20260421T161749
CREATED:20260407T222359Z
LAST-MODIFIED:20260407T222435Z
UID:10060925-1802800800-1802809800@nlpl.ca
SUMMARY:Adult Puzzle Night - Thursday May 26
DESCRIPTION:
URL:https://nlpl.ca/events/adult-puzzle-night-thursday-may-26/2027-02-16/
LOCATION:NL
END:VEVENT
BEGIN:VEVENT
DTSTART;TZID=America/St_Johns:20270217T130000
DTEND;TZID=America/St_Johns:20270217T153000
DTSTAMP:20260421T161749
CREATED:20260219T131709Z
LAST-MODIFIED:20260219T131709Z
UID:10059356-1802869200-1802878200@nlpl.ca
SUMMARY:Knitting Group
DESCRIPTION:Adult knitting group\, non-instructive. Join others who share in a love of knitting. Bring your projects and knit with friends\, old and new!
URL:https://nlpl.ca/events/knitting-group-2/2027-02-17/
LOCATION:Stephenville Public Library (Kindale)\, 45 Carolina Ave.\, Stephenville\, NL\, A2N 3P8\, Canada
CATEGORIES:Hobbies, Crafts & Games
ATTACH;FMTTYPE=image/jpeg:https://nlpl.ca/wp-content/uploads/2023/03/Events-Hobbies-Crafts-and-Games.jpg
END:VEVENT
BEGIN:VEVENT
DTSTART;TZID=America/St_Johns:20270217T180000
DTEND;TZID=America/St_Johns:20270217T200000
DTSTAMP:20260421T161749
CREATED:20260401T214000Z
LAST-MODIFIED:20260401T214000Z
UID:10060466-1802887200-1802894400@nlpl.ca
SUMMARY:Game Night
DESCRIPTION:Join us every second Wednesday for a relaxed evening of board games at the library! Whether you’re a seasoned strategist or just in it for the laughs\, there’s a seat at the table for everyone.
URL:https://nlpl.ca/events/game-night-2/2027-02-17/
LOCATION:St. Anthony Public Library\, 95 West Street\, St. Anthony\, NL\, A0K 4S0\, Canada
CATEGORIES:Hobbies, Crafts & Games
ATTACH;FMTTYPE=image/jpeg:https://nlpl.ca/wp-content/uploads/2023/03/Events-Hobbies-Crafts-and-Games.jpg
ORGANIZER;CN="St. Anthony Pbulic Library":MAILTO:nsa@ill.nlpl.ca
END:VEVENT
BEGIN:VEVENT
DTSTART;TZID=America/St_Johns:20270218T130000
DTEND;TZID=America/St_Johns:20270218T150000
DTSTAMP:20260421T161749
CREATED:20260305T172547Z
LAST-MODIFIED:20260305T172547Z
UID:10059777-1802955600-1802962800@nlpl.ca
SUMMARY:Tech Thursday
DESCRIPTION:Drop in with your own device or we can use our devices- iPad or desktop or laptop. We can show you how to set up an email\, copy files\, or print files.
URL:https://nlpl.ca/events/tech-thursday/2027-02-18/
LOCATION:Deer Lake Public Library\, 4 Poplar Road\, Deer Lake\, NL\, A8A 1Z4\, Canada
END:VEVENT
BEGIN:VEVENT
DTSTART;TZID=America/St_Johns:20270222T190000
DTEND;TZID=America/St_Johns:20270222T200000
DTSTAMP:20260421T161749
CREATED:20260407T184854Z
LAST-MODIFIED:20260407T184854Z
UID:10060614-1803322800-1803326400@nlpl.ca
SUMMARY:Buchans Public Library Book Club
DESCRIPTION:Our Spring Book Club has now begun with the book The Maid written by Nita Prose. First meeting will be Monday April 27th\, 7:00pm. 2 copies left for anyone who wishes to join us!
URL:https://nlpl.ca/events/buchans-public-library-book-club/2027-02-22/
LOCATION:NL
END:VEVENT
BEGIN:VEVENT
DTSTART;TZID=America/St_Johns:20270223T180000
DTEND;TZID=America/St_Johns:20270223T203000
DTSTAMP:20260421T161749
CREATED:20260407T222359Z
LAST-MODIFIED:20260407T222435Z
UID:10060926-1803405600-1803414600@nlpl.ca
SUMMARY:Adult Puzzle Night - Thursday May 26
DESCRIPTION:
URL:https://nlpl.ca/events/adult-puzzle-night-thursday-may-26/2027-02-23/
LOCATION:NL
END:VEVENT
BEGIN:VEVENT
DTSTART;TZID=America/St_Johns:20270224T130000
DTEND;TZID=America/St_Johns:20270224T153000
DTSTAMP:20260421T161749
CREATED:20260219T131709Z
LAST-MODIFIED:20260219T131709Z
UID:10059357-1803474000-1803483000@nlpl.ca
SUMMARY:Knitting Group
DESCRIPTION:Adult knitting group\, non-instructive. Join others who share in a love of knitting. Bring your projects and knit with friends\, old and new!
URL:https://nlpl.ca/events/knitting-group-2/2027-02-24/
LOCATION:Stephenville Public Library (Kindale)\, 45 Carolina Ave.\, Stephenville\, NL\, A2N 3P8\, Canada
CATEGORIES:Hobbies, Crafts & Games
ATTACH;FMTTYPE=image/jpeg:https://nlpl.ca/wp-content/uploads/2023/03/Events-Hobbies-Crafts-and-Games.jpg
END:VEVENT
BEGIN:VEVENT
DTSTART;TZID=America/St_Johns:20270224T180000
DTEND;TZID=America/St_Johns:20270224T200000
DTSTAMP:20260421T161749
CREATED:20260401T215009Z
LAST-MODIFIED:20260401T215009Z
UID:10060497-1803492000-1803499200@nlpl.ca
SUMMARY:Craft and Chat
DESCRIPTION:In partnership with the Association for New Canadians\, join us every second Wednesday for Craft and Chat! Bring along your works-in-progress and enjoy a cozy evening of creativity and conversation with fellow makers.
URL:https://nlpl.ca/events/craft-and-chat/2027-02-24/
LOCATION:St. Anthony Public Library\, 95 West Street\, St. Anthony\, NL\, A0K 4S0\, Canada
CATEGORIES:Hobbies, Crafts & Games
ATTACH;FMTTYPE=image/jpeg:https://nlpl.ca/wp-content/uploads/2023/03/Events-Hobbies-Crafts-and-Games.jpg
ORGANIZER;CN="St. Anthony Pbulic Library":MAILTO:nsa@ill.nlpl.ca
END:VEVENT
BEGIN:VEVENT
DTSTART;TZID=America/St_Johns:20270225T100000
DTEND;TZID=America/St_Johns:20270225T110000
DTSTAMP:20260421T161749
CREATED:20260401T215530Z
LAST-MODIFIED:20260401T215530Z
UID:10060527-1803549600-1803553200@nlpl.ca
SUMMARY:Little Learners
DESCRIPTION:Join us in a fun and relaxed setting where kids can enjoy stories\, crafts\, STEM activities\, and more!
URL:https://nlpl.ca/events/little-learners/2027-02-25/
LOCATION:St. Anthony Public Library\, 95 West Street\, St. Anthony\, NL\, A0K 4S0\, Canada
CATEGORIES:Kids & Families
ATTACH;FMTTYPE=image/jpeg:https://nlpl.ca/wp-content/uploads/2023/03/Events-Kid-Families.jpg
ORGANIZER;CN="St. Anthony Pbulic Library":MAILTO:nsa@ill.nlpl.ca
END:VEVENT
BEGIN:VEVENT
DTSTART;TZID=America/St_Johns:20270225T130000
DTEND;TZID=America/St_Johns:20270225T150000
DTSTAMP:20260421T161749
CREATED:20260305T172547Z
LAST-MODIFIED:20260305T172547Z
UID:10059778-1803560400-1803567600@nlpl.ca
SUMMARY:Tech Thursday
DESCRIPTION:Drop in with your own device or we can use our devices- iPad or desktop or laptop. We can show you how to set up an email\, copy files\, or print files.
URL:https://nlpl.ca/events/tech-thursday/2027-02-25/
LOCATION:Deer Lake Public Library\, 4 Poplar Road\, Deer Lake\, NL\, A8A 1Z4\, Canada
END:VEVENT
BEGIN:VEVENT
DTSTART;TZID=America/St_Johns:20270302T140000
DTEND;TZID=America/St_Johns:20270302T153000
DTSTAMP:20260421T161749
CREATED:20260103T135944Z
LAST-MODIFIED:20260325T214808Z
UID:10060282-1803996000-1804001400@nlpl.ca
SUMMARY:BabyTime PlayTime
DESCRIPTION:Drop-in for playtime and socializing for babies (ages 0-2) and parents/caregivers
URL:https://nlpl.ca/events/babytime-playtime/2027-03-02/
LOCATION:Corner Brook Public Library\, 4 West Street\, Corner Brook\, NL\, A2H 0C1\, Canada
END:VEVENT
BEGIN:VEVENT
DTSTART;TZID=America/St_Johns:20270302T180000
DTEND;TZID=America/St_Johns:20270302T203000
DTSTAMP:20260421T161749
CREATED:20260407T222359Z
LAST-MODIFIED:20260407T222435Z
UID:10060927-1804010400-1804019400@nlpl.ca
SUMMARY:Adult Puzzle Night - Thursday May 26
DESCRIPTION:
URL:https://nlpl.ca/events/adult-puzzle-night-thursday-may-26/2027-03-02/
LOCATION:NL
END:VEVENT
BEGIN:VEVENT
DTSTART;TZID=America/St_Johns:20270303T130000
DTEND;TZID=America/St_Johns:20270303T153000
DTSTAMP:20260421T161749
CREATED:20260219T131709Z
LAST-MODIFIED:20260219T131709Z
UID:10059358-1804078800-1804087800@nlpl.ca
SUMMARY:Knitting Group
DESCRIPTION:Adult knitting group\, non-instructive. Join others who share in a love of knitting. Bring your projects and knit with friends\, old and new!
URL:https://nlpl.ca/events/knitting-group-2/2027-03-03/
LOCATION:Stephenville Public Library (Kindale)\, 45 Carolina Ave.\, Stephenville\, NL\, A2N 3P8\, Canada
CATEGORIES:Hobbies, Crafts & Games
ATTACH;FMTTYPE=image/jpeg:https://nlpl.ca/wp-content/uploads/2023/03/Events-Hobbies-Crafts-and-Games.jpg
END:VEVENT
BEGIN:VEVENT
DTSTART;TZID=America/St_Johns:20270303T180000
DTEND;TZID=America/St_Johns:20270303T200000
DTSTAMP:20260421T161749
CREATED:20260401T214000Z
LAST-MODIFIED:20260401T214000Z
UID:10060467-1804096800-1804104000@nlpl.ca
SUMMARY:Game Night
DESCRIPTION:Join us every second Wednesday for a relaxed evening of board games at the library! Whether you’re a seasoned strategist or just in it for the laughs\, there’s a seat at the table for everyone.
URL:https://nlpl.ca/events/game-night-2/2027-03-03/
LOCATION:St. Anthony Public Library\, 95 West Street\, St. Anthony\, NL\, A0K 4S0\, Canada
CATEGORIES:Hobbies, Crafts & Games
ATTACH;FMTTYPE=image/jpeg:https://nlpl.ca/wp-content/uploads/2023/03/Events-Hobbies-Crafts-and-Games.jpg
ORGANIZER;CN="St. Anthony Pbulic Library":MAILTO:nsa@ill.nlpl.ca
END:VEVENT
BEGIN:VEVENT
DTSTART;TZID=America/St_Johns:20270304T130000
DTEND;TZID=America/St_Johns:20270304T150000
DTSTAMP:20260421T161749
CREATED:20260305T172547Z
LAST-MODIFIED:20260305T172547Z
UID:10059779-1804165200-1804172400@nlpl.ca
SUMMARY:Tech Thursday
DESCRIPTION:Drop in with your own device or we can use our devices- iPad or desktop or laptop. We can show you how to set up an email\, copy files\, or print files.
URL:https://nlpl.ca/events/tech-thursday/2027-03-04/
LOCATION:Deer Lake Public Library\, 4 Poplar Road\, Deer Lake\, NL\, A8A 1Z4\, Canada
END:VEVENT
BEGIN:VEVENT
DTSTART;TZID=America/St_Johns:20270309T180000
DTEND;TZID=America/St_Johns:20270309T203000
DTSTAMP:20260421T161749
CREATED:20260407T222359Z
LAST-MODIFIED:20260407T222435Z
UID:10060928-1804615200-1804624200@nlpl.ca
SUMMARY:Adult Puzzle Night - Thursday May 26
DESCRIPTION:
URL:https://nlpl.ca/events/adult-puzzle-night-thursday-may-26/2027-03-09/
LOCATION:NL
END:VEVENT
BEGIN:VEVENT
DTSTART;TZID=America/St_Johns:20270310T130000
DTEND;TZID=America/St_Johns:20270310T153000
DTSTAMP:20260421T161749
CREATED:20260219T131709Z
LAST-MODIFIED:20260219T131709Z
UID:10059359-1804683600-1804692600@nlpl.ca
SUMMARY:Knitting Group
DESCRIPTION:Adult knitting group\, non-instructive. Join others who share in a love of knitting. Bring your projects and knit with friends\, old and new!
URL:https://nlpl.ca/events/knitting-group-2/2027-03-10/
LOCATION:Stephenville Public Library (Kindale)\, 45 Carolina Ave.\, Stephenville\, NL\, A2N 3P8\, Canada
CATEGORIES:Hobbies, Crafts & Games
ATTACH;FMTTYPE=image/jpeg:https://nlpl.ca/wp-content/uploads/2023/03/Events-Hobbies-Crafts-and-Games.jpg
END:VEVENT
BEGIN:VEVENT
DTSTART;TZID=America/St_Johns:20270310T180000
DTEND;TZID=America/St_Johns:20270310T200000
DTSTAMP:20260421T161749
CREATED:20260401T215009Z
LAST-MODIFIED:20260401T215009Z
UID:10060498-1804701600-1804708800@nlpl.ca
SUMMARY:Craft and Chat
DESCRIPTION:In partnership with the Association for New Canadians\, join us every second Wednesday for Craft and Chat! Bring along your works-in-progress and enjoy a cozy evening of creativity and conversation with fellow makers.
URL:https://nlpl.ca/events/craft-and-chat/2027-03-10/
LOCATION:St. Anthony Public Library\, 95 West Street\, St. Anthony\, NL\, A0K 4S0\, Canada
CATEGORIES:Hobbies, Crafts & Games
ATTACH;FMTTYPE=image/jpeg:https://nlpl.ca/wp-content/uploads/2023/03/Events-Hobbies-Crafts-and-Games.jpg
ORGANIZER;CN="St. Anthony Pbulic Library":MAILTO:nsa@ill.nlpl.ca
END:VEVENT
BEGIN:VEVENT
DTSTART;TZID=America/St_Johns:20270311T100000
DTEND;TZID=America/St_Johns:20270311T110000
DTSTAMP:20260421T161749
CREATED:20260401T215530Z
LAST-MODIFIED:20260401T215530Z
UID:10060528-1804759200-1804762800@nlpl.ca
SUMMARY:Little Learners
DESCRIPTION:Join us in a fun and relaxed setting where kids can enjoy stories\, crafts\, STEM activities\, and more!
URL:https://nlpl.ca/events/little-learners/2027-03-11/
LOCATION:St. Anthony Public Library\, 95 West Street\, St. Anthony\, NL\, A0K 4S0\, Canada
CATEGORIES:Kids & Families
ATTACH;FMTTYPE=image/jpeg:https://nlpl.ca/wp-content/uploads/2023/03/Events-Kid-Families.jpg
ORGANIZER;CN="St. Anthony Pbulic Library":MAILTO:nsa@ill.nlpl.ca
END:VEVENT
BEGIN:VEVENT
DTSTART;TZID=America/St_Johns:20270311T130000
DTEND;TZID=America/St_Johns:20270311T150000
DTSTAMP:20260421T161749
CREATED:20260305T172547Z
LAST-MODIFIED:20260305T172547Z
UID:10059780-1804770000-1804777200@nlpl.ca
SUMMARY:Tech Thursday
DESCRIPTION:Drop in with your own device or we can use our devices- iPad or desktop or laptop. We can show you how to set up an email\, copy files\, or print files.
URL:https://nlpl.ca/events/tech-thursday/2027-03-11/
LOCATION:Deer Lake Public Library\, 4 Poplar Road\, Deer Lake\, NL\, A8A 1Z4\, Canada
END:VEVENT
BEGIN:VEVENT
DTSTART;TZID=America/St_Johns:20270316T140000
DTEND;TZID=America/St_Johns:20270316T153000
DTSTAMP:20260421T161749
CREATED:20260103T135944Z
LAST-MODIFIED:20260325T214808Z
UID:10060283-1805205600-1805211000@nlpl.ca
SUMMARY:BabyTime PlayTime
DESCRIPTION:Drop-in for playtime and socializing for babies (ages 0-2) and parents/caregivers
URL:https://nlpl.ca/events/babytime-playtime/2027-03-16/
LOCATION:Corner Brook Public Library\, 4 West Street\, Corner Brook\, NL\, A2H 0C1\, Canada
END:VEVENT
BEGIN:VEVENT
DTSTART;TZID=America/St_Johns:20270316T180000
DTEND;TZID=America/St_Johns:20270316T203000
DTSTAMP:20260421T161749
CREATED:20260407T222359Z
LAST-MODIFIED:20260407T222435Z
UID:10060929-1805220000-1805229000@nlpl.ca
SUMMARY:Adult Puzzle Night - Thursday May 26
DESCRIPTION:
URL:https://nlpl.ca/events/adult-puzzle-night-thursday-may-26/2027-03-16/
LOCATION:NL
END:VEVENT
BEGIN:VEVENT
DTSTART;TZID=America/St_Johns:20270317T130000
DTEND;TZID=America/St_Johns:20270317T153000
DTSTAMP:20260421T161749
CREATED:20260219T131709Z
LAST-MODIFIED:20260219T131709Z
UID:10059360-1805288400-1805297400@nlpl.ca
SUMMARY:Knitting Group
DESCRIPTION:Adult knitting group\, non-instructive. Join others who share in a love of knitting. Bring your projects and knit with friends\, old and new!
URL:https://nlpl.ca/events/knitting-group-2/2027-03-17/
LOCATION:Stephenville Public Library (Kindale)\, 45 Carolina Ave.\, Stephenville\, NL\, A2N 3P8\, Canada
CATEGORIES:Hobbies, Crafts & Games
ATTACH;FMTTYPE=image/jpeg:https://nlpl.ca/wp-content/uploads/2023/03/Events-Hobbies-Crafts-and-Games.jpg
END:VEVENT
BEGIN:VEVENT
DTSTART;TZID=America/St_Johns:20270317T180000
DTEND;TZID=America/St_Johns:20270317T200000
DTSTAMP:20260421T161749
CREATED:20260401T214000Z
LAST-MODIFIED:20260401T214000Z
UID:10060468-1805306400-1805313600@nlpl.ca
SUMMARY:Game Night
DESCRIPTION:Join us every second Wednesday for a relaxed evening of board games at the library! Whether you’re a seasoned strategist or just in it for the laughs\, there’s a seat at the table for everyone.
URL:https://nlpl.ca/events/game-night-2/2027-03-17/
LOCATION:St. Anthony Public Library\, 95 West Street\, St. Anthony\, NL\, A0K 4S0\, Canada
CATEGORIES:Hobbies, Crafts & Games
ATTACH;FMTTYPE=image/jpeg:https://nlpl.ca/wp-content/uploads/2023/03/Events-Hobbies-Crafts-and-Games.jpg
ORGANIZER;CN="St. Anthony Pbulic Library":MAILTO:nsa@ill.nlpl.ca
END:VEVENT
BEGIN:VEVENT
DTSTART;TZID=America/St_Johns:20270318T130000
DTEND;TZID=America/St_Johns:20270318T150000
DTSTAMP:20260421T161749
CREATED:20260305T172547Z
LAST-MODIFIED:20260305T172547Z
UID:10059781-1805374800-1805382000@nlpl.ca
SUMMARY:Tech Thursday
DESCRIPTION:Drop in with your own device or we can use our devices- iPad or desktop or laptop. We can show you how to set up an email\, copy files\, or print files.
URL:https://nlpl.ca/events/tech-thursday/2027-03-18/
LOCATION:Deer Lake Public Library\, 4 Poplar Road\, Deer Lake\, NL\, A8A 1Z4\, Canada
END:VEVENT
BEGIN:VEVENT
DTSTART;TZID=America/St_Johns:20270322T190000
DTEND;TZID=America/St_Johns:20270322T200000
DTSTAMP:20260421T161749
CREATED:20260407T184854Z
LAST-MODIFIED:20260407T184854Z
UID:10060615-1805742000-1805745600@nlpl.ca
SUMMARY:Buchans Public Library Book Club
DESCRIPTION:Our Spring Book Club has now begun with the book The Maid written by Nita Prose. First meeting will be Monday April 27th\, 7:00pm. 2 copies left for anyone who wishes to join us!
URL:https://nlpl.ca/events/buchans-public-library-book-club/2027-03-22/
LOCATION:NL
END:VEVENT
BEGIN:VEVENT
DTSTART;TZID=America/St_Johns:20270323T180000
DTEND;TZID=America/St_Johns:20270323T203000
DTSTAMP:20260421T161749
CREATED:20260407T222359Z
LAST-MODIFIED:20260407T222435Z
UID:10060930-1805824800-1805833800@nlpl.ca
SUMMARY:Adult Puzzle Night - Thursday May 26
DESCRIPTION:
URL:https://nlpl.ca/events/adult-puzzle-night-thursday-may-26/2027-03-23/
LOCATION:NL
END:VEVENT
BEGIN:VEVENT
DTSTART;TZID=America/St_Johns:20270324T130000
DTEND;TZID=America/St_Johns:20270324T153000
DTSTAMP:20260421T161749
CREATED:20260219T131709Z
LAST-MODIFIED:20260219T131709Z
UID:10059361-1805893200-1805902200@nlpl.ca
SUMMARY:Knitting Group
DESCRIPTION:Adult knitting group\, non-instructive. Join others who share in a love of knitting. Bring your projects and knit with friends\, old and new!
URL:https://nlpl.ca/events/knitting-group-2/2027-03-24/
LOCATION:Stephenville Public Library (Kindale)\, 45 Carolina Ave.\, Stephenville\, NL\, A2N 3P8\, Canada
CATEGORIES:Hobbies, Crafts & Games
ATTACH;FMTTYPE=image/jpeg:https://nlpl.ca/wp-content/uploads/2023/03/Events-Hobbies-Crafts-and-Games.jpg
END:VEVENT
END:VCALENDAR