BEGIN:VCALENDAR
VERSION:2.0
PRODID:-//Newfoundland &amp; Labrador Public Libraries - ECPv6.15.20//NONSGML v1.0//EN
CALSCALE:GREGORIAN
METHOD:PUBLISH
X-WR-CALNAME:Newfoundland &amp; Labrador Public Libraries
X-ORIGINAL-URL:https://nlpl.ca
X-WR-CALDESC:Events for Newfoundland &amp; Labrador Public Libraries
REFRESH-INTERVAL;VALUE=DURATION:PT1H
X-Robots-Tag:noindex
X-PUBLISHED-TTL:PT1H
BEGIN:VTIMEZONE
TZID:America/St_Johns
BEGIN:DAYLIGHT
TZOFFSETFROM:-0330
TZOFFSETTO:-0230
TZNAME:NDT
DTSTART:20250309T053000
END:DAYLIGHT
BEGIN:STANDARD
TZOFFSETFROM:-0230
TZOFFSETTO:-0330
TZNAME:NST
DTSTART:20251102T043000
END:STANDARD
BEGIN:DAYLIGHT
TZOFFSETFROM:-0330
TZOFFSETTO:-0230
TZNAME:NDT
DTSTART:20260308T053000
END:DAYLIGHT
BEGIN:STANDARD
TZOFFSETFROM:-0230
TZOFFSETTO:-0330
TZNAME:NST
DTSTART:20261101T043000
END:STANDARD
BEGIN:DAYLIGHT
TZOFFSETFROM:-0330
TZOFFSETTO:-0230
TZNAME:NDT
DTSTART:20270314T053000
END:DAYLIGHT
BEGIN:STANDARD
TZOFFSETFROM:-0230
TZOFFSETTO:-0330
TZNAME:NST
DTSTART:20271107T043000
END:STANDARD
END:VTIMEZONE
BEGIN:VEVENT
DTSTART;TZID=America/St_Johns:20260327T103000
DTEND;TZID=America/St_Johns:20260327T110000
DTSTAMP:20260421T152240
CREATED:20260323T124726Z
LAST-MODIFIED:20260323T124726Z
UID:10060127-1774607400-1774609200@nlpl.ca
SUMMARY:Easter Storytime
DESCRIPTION:A 20-30 minute interactive program celebrating books\, rhymes\, songs\, movement and friends with an Easter theme! \nAll ages welcome
URL:https://nlpl.ca/events/easter-storytime-2/
LOCATION:Labrador City Public Library\, 306 Hudson Dr.\, Labrador City\, NL\, A2V 1L5\, Canada
CATEGORIES:Kids & Families,Storytime
ATTACH;FMTTYPE=image/jpeg:https://nlpl.ca/wp-content/uploads/2023/03/Events-Kid-Families.jpg
END:VEVENT
BEGIN:VEVENT
DTSTART;TZID=America/St_Johns:20260327T103000
DTEND;TZID=America/St_Johns:20260327T110000
DTSTAMP:20260421T152240
CREATED:20260105T135443Z
LAST-MODIFIED:20260312T152214Z
UID:10056106-1774607400-1774609200@nlpl.ca
SUMMARY:Family Storytime
DESCRIPTION:Harmsworth Public Library – A 30-minute interactive program celebrating books\, rhymes\, movement\, songs\, and fun that is perfect for families with multiple children\, ages 0-5
URL:https://nlpl.ca/events/family-storytime-3/2026-03-27/
LOCATION:Grand Falls-Windsor (Harmsworth) Public Library\, 1 Cromer Avenue\, Grand Falls - Windsor\, NL\, A2A 1W9\, Canada
CATEGORIES:Kids & Families
ATTACH;FMTTYPE=image/jpeg:https://nlpl.ca/wp-content/uploads/2023/03/Events-Kid-Families.jpg
END:VEVENT
BEGIN:VEVENT
DTSTART;TZID=America/St_Johns:20260327T101500
DTEND;TZID=America/St_Johns:20260327T114500
DTSTAMP:20260421T152240
CREATED:20251028T175624Z
LAST-MODIFIED:20260415T222620Z
UID:10061492-1774606500-1774611900@nlpl.ca
SUMMARY:Musical Munchkins
DESCRIPTION:Drop in to the Conception Bay South Public Library for Musical Munchkins! Hosted By the Family Resource Center.\nThis is a drop-in music and rhyme time for babies (newborn until walking) and their caregiver.
URL:https://nlpl.ca/events/musical-munchkins-2-3-2/2026-03-27/
LOCATION:Conception Bay South Public Library\, 10 Remembrance Square\, Conception Bay South\, NL\, Canada
CATEGORIES:Kids & Families
ATTACH;FMTTYPE=image/jpeg:https://nlpl.ca/wp-content/uploads/2023/03/Events-Kid-Families.jpg
END:VEVENT
BEGIN:VEVENT
DTSTART;TZID=America/St_Johns:20260327T100000
DTEND;TZID=America/St_Johns:20260327T120000
DTSTAMP:20260421T152240
CREATED:20260325T213524Z
LAST-MODIFIED:20260325T213524Z
UID:10060232-1774605600-1774612800@nlpl.ca
SUMMARY:Community Arts Studio
DESCRIPTION:Community Arts Studio : where coming together and creativity go hand in hand! Gather your friends and family to embark on a journey of imagination and artistic exploration! Each week will be a different workshop\, guided by a wonderful local artist in a series of different mediums: \nThis week\, Sandra Hewitt Parsons will lead us in a creative storytelling workshop! This engaging\, hands-on experience where participants explore imagination\, voice\, and structure to craft compelling narratives while building confidence in sharing their stories. \n  \nRegistration required using the Rotary Arts Centre Eventbrite page https://www.eventbrite.com/cc/workshops-4474693 \nCommunity Arts Studio is presented by the Rotary Arts Centre in collaboration with Corner Brook Public Library and The Homeschoolers Of Western Newfoundland Group
URL:https://nlpl.ca/events/community-arts-studio/
LOCATION:Corner Brook Public Library\, 4 West Street\, Corner Brook\, NL\, A2H 0C1\, Canada
CATEGORIES:Arts & Culture,Classes & Workshops,Hobbies, Crafts & Games
END:VEVENT
BEGIN:VEVENT
DTSTART;TZID=America/St_Johns:20260327T100000
DTEND;TZID=America/St_Johns:20260327T103000
DTSTAMP:20260421T152240
CREATED:20260225T131033Z
LAST-MODIFIED:20260225T131143Z
UID:10059498-1774605600-1774607400@nlpl.ca
SUMMARY:Storytime
DESCRIPTION:Gander Public Library – A 30 minute interactive program celebrating books\, rhymes\, movement\, songs and fun\, ages 0-5 years.
URL:https://nlpl.ca/events/family-storytime-13-2-2-2-2-2/2026-03-27/
LOCATION:Gander Public & Resource Library\, 6 Bell Place\, Gander\, NL\, A1V 1X2\, Canada
CATEGORIES:Kids & Families
ATTACH;FMTTYPE=image/jpeg:https://nlpl.ca/wp-content/uploads/2023/03/Events-Kid-Families.jpg
END:VEVENT
BEGIN:VEVENT
DTSTART;TZID=America/St_Johns:20260327T093000
DTEND;TZID=America/St_Johns:20260327T113000
DTSTAMP:20260421T152240
CREATED:20251016T165338Z
LAST-MODIFIED:20251128T213700Z
UID:10052653-1774603800-1774611000@nlpl.ca
SUMMARY:Friday Free Play for Babies and Toddlers
DESCRIPTION:A drop-in weekly program at A.C. Hunter Children’s Library \nPlaygroup for ages 0-3. \nEvery Friday\, we open our playroom from 9:30 to 11:30am for babies and tots to play – a great chance to meet other caregivers! \nNo registration necessary.
URL:https://nlpl.ca/events/friday-free-play-for-babies-and-toddlers/2026-03-27/
LOCATION:St. John’s – A.C. Hunter Children’s Public Library\, 95 Allandale Road\, St. John's\, NL\, A1E 3A3\, Canada
CATEGORIES:Kids & Families,Storytime
ATTACH;FMTTYPE=image/jpeg:https://nlpl.ca/wp-content/uploads/2023/03/Events-Kid-Families.jpg
END:VEVENT
BEGIN:VEVENT
DTSTART;TZID=America/St_Johns:20260326T190000
DTEND;TZID=America/St_Johns:20260326T200000
DTSTAMP:20260421T152240
CREATED:20260303T190921Z
LAST-MODIFIED:20260303T190921Z
UID:10059695-1774551600-1774555200@nlpl.ca
SUMMARY:Online Book Club Meeting
DESCRIPTION:We are currently reading “Room” by Emma Donoghue. Join us by WebEx at 7PM for a lively discussion!
URL:https://nlpl.ca/events/online-book-club-meeting/
LOCATION:Point Leamington Public Library\, 1 Rice's Drive\, Point Leamington\, NL\, A0H 1Z0\, Canada
CATEGORIES:Book Clubs & Writer’s Groups
END:VEVENT
BEGIN:VEVENT
DTSTART;TZID=America/St_Johns:20260326T183000
DTEND;TZID=America/St_Johns:20260326T193000
DTSTAMP:20260421T152240
CREATED:20260303T213033Z
LAST-MODIFIED:20260317T161842Z
UID:10059697-1774549800-1774553400@nlpl.ca
SUMMARY:Des notes et des mots
DESCRIPTION:Celebrate Francophonie Month with an evening of song and litterature featuring local singer-songwriters Louise Gauthier and Marcelle Boisjoli. \nPresented in collaboration with Le Coin Franco and la Fédération des francophones de Terre-Neuve et du Labrador
URL:https://nlpl.ca/events/des-notes-et-des-mots/
LOCATION:Corner Brook Public Library\, 4 West Street\, Corner Brook\, NL\, A2H 0C1\, Canada
END:VEVENT
BEGIN:VEVENT
DTSTART;TZID=America/St_Johns:20260326T183000
DTEND;TZID=America/St_Johns:20260326T193000
DTSTAMP:20260421T152240
CREATED:20260105T132355Z
LAST-MODIFIED:20260312T150456Z
UID:10056031-1774549800-1774553400@nlpl.ca
SUMMARY:Adult Book Club
DESCRIPTION:Harmsworth Public Library – Join us in our monthly book club where we discuss books\, discover new authors and genres\, meet new people\, and share insights in a relaxed setting. \n 
URL:https://nlpl.ca/events/harmsworth-adult-book-club-2/2026-03-26/
LOCATION:Grand Falls-Windsor (Harmsworth) Public Library\, 1 Cromer Avenue\, Grand Falls - Windsor\, NL\, A2A 1W9\, Canada
CATEGORIES:Book Clubs & Writer’s Groups
ATTACH;FMTTYPE=image/jpeg:https://nlpl.ca/wp-content/uploads/2023/03/Events-Book-Clubs-and-Writing-Groups.jpg
END:VEVENT
BEGIN:VEVENT
DTSTART;TZID=America/St_Johns:20260326T183000
DTEND;TZID=America/St_Johns:20260326T193000
DTSTAMP:20260421T152240
CREATED:20260102T143217Z
LAST-MODIFIED:20260410T152013Z
UID:10055498-1774549800-1774553400@nlpl.ca
SUMMARY:Bonsai Newfoundland
DESCRIPTION:Come and learn how to get started with the beautiful art of Bonsai at the Conception Bay South Public Library ! \nThis is a free program presented by George Jarvis
URL:https://nlpl.ca/events/bonsai-newfoundland/2026-03-26/
LOCATION:Conception Bay South Public Library\, 10 Remembrance Square\, Conception Bay South\, NL\, Canada
CATEGORIES:Classes & Workshops
ATTACH;FMTTYPE=image/jpeg:https://nlpl.ca/wp-content/uploads/2023/03/Events-Information-Sessions.jpg
ORGANIZER;CN="Conception Bay South Public Library":MAILTO:conceptionbaysouth@nlpl.ca
END:VEVENT
BEGIN:VEVENT
DTSTART;TZID=America/St_Johns:20260326T180000
DTEND;TZID=America/St_Johns:20260326T190000
DTSTAMP:20260421T152240
CREATED:20260105T161946Z
LAST-MODIFIED:20260312T152847Z
UID:10056152-1774548000-1774551600@nlpl.ca
SUMMARY:Sensory Hour
DESCRIPTION:Harmsworth Public Library – Sensory-friendly browsing hour that includes reduced lighting and reduced noise.
URL:https://nlpl.ca/events/sensory-hour-2/2026-03-26/
LOCATION:Grand Falls-Windsor (Harmsworth) Public Library\, 1 Cromer Avenue\, Grand Falls - Windsor\, NL\, A2A 1W9\, Canada
CATEGORIES:Heath & Wellbeing
END:VEVENT
BEGIN:VEVENT
DTSTART;TZID=America/St_Johns:20260326T160000
DTEND;TZID=America/St_Johns:20260326T170000
DTSTAMP:20260421T152240
CREATED:20260105T162909Z
LAST-MODIFIED:20260312T172342Z
UID:10056165-1774540800-1774544400@nlpl.ca
SUMMARY:One-on-One Tech Help
DESCRIPTION:Harmsworth Public Library – Do you have a shiny new piece of tech\, but you’re not sure how to use it? Need a little help figuring out how to download an e-book\, share a photo\, or use Microsoft Word? \nMake a one-on-one appointment every Wednesday with our Tech Host\, Joshua. \nWe can provide general help\, tailored tech training\, and show you where to find helpful resources online. \nPlease call #709-489-2303 or drop in to schedule a time.
URL:https://nlpl.ca/events/one-on-one-tech-help-2-2/2026-03-26/
LOCATION:Grand Falls-Windsor (Harmsworth) Public Library\, 1 Cromer Avenue\, Grand Falls - Windsor\, NL\, A2A 1W9\, Canada
CATEGORIES:Technology & Makerspace
END:VEVENT
BEGIN:VEVENT
DTSTART;TZID=America/St_Johns:20260326T153000
DTEND;TZID=America/St_Johns:20260326T170000
DTSTAMP:20260421T152240
CREATED:20250905T155750Z
LAST-MODIFIED:20251128T204710Z
UID:10049984-1774539000-1774544400@nlpl.ca
SUMMARY:Lego Play Hour at Bay Roberts Public Library
DESCRIPTION:Thursdays\, this fall\, from 3:30 to 5 pm expand your imagination with mountains of Lego blocks. Create and make friends. \nRegistration not necessary.
URL:https://nlpl.ca/events/lego-play-hour-at-bay-roberts-public-library/2026-03-26/
LOCATION:Bay Roberts Public Library\, 76 Cross Road\, Bay Roberts\, NL\, A0A 1G0\, Canada
ATTACH;FMTTYPE=image/jpeg:https://nlpl.ca/wp-content/uploads/2023/03/Events-Kid-Families.jpg
END:VEVENT
BEGIN:VEVENT
DTSTART;TZID=America/St_Johns:20260326T153000
DTEND;TZID=America/St_Johns:20260326T163000
DTSTAMP:20260421T152240
CREATED:20260122T180952Z
LAST-MODIFIED:20260122T180952Z
UID:10057014-1774539000-1774542600@nlpl.ca
SUMMARY:Discovery Club
DESCRIPTION:A registered program at A.C. Hunter Children’s Library \nDiscovery Club for ages 6-10 \nAn hour of hands-on fun with our friends from MUN Let’s Talk Science!  \nThurs. March 26 at 3:30pm \n  \nRegistration for all Mar/Apr programs opens Friday Feb 20 at 9:30am. Click the above link to register or call us at 709-737-3953.
URL:https://nlpl.ca/events/discovery-club-2/
LOCATION:St. John’s – A.C. Hunter Children’s Public Library\, 95 Allandale Road\, St. John's\, NL\, A1E 3A3\, Canada
CATEGORIES:Hobbies, Crafts & Games,Kids & Families
END:VEVENT
BEGIN:VEVENT
DTSTART;TZID=America/St_Johns:20260326T150000
DTEND;TZID=America/St_Johns:20260326T160000
DTSTAMP:20260421T152240
CREATED:20251103T201201Z
LAST-MODIFIED:20251125T194640Z
UID:10053824-1774537200-1774540800@nlpl.ca
SUMMARY:Family Passive Play
DESCRIPTION:
URL:https://nlpl.ca/events/family-passive-play/2026-03-26/
LOCATION:Bishop’s Falls Public Library\, 445 Main Street\, Bishop's Falls\, NL\, A0H 1C0\, Canada
END:VEVENT
BEGIN:VEVENT
DTSTART;TZID=America/St_Johns:20260326T140000
DTEND;TZID=America/St_Johns:20260326T160000
DTSTAMP:20260421T152240
CREATED:20260105T133034Z
LAST-MODIFIED:20260312T152500Z
UID:10056064-1774533600-1774540800@nlpl.ca
SUMMARY:Knitting Circle
DESCRIPTION:Harmsworth Public Library – Drop-in and join us to knit and/or crochet\, improve your needle skills\, help a friend\, share patterns\, ideas and stories.\n\nBring your own supplies.
URL:https://nlpl.ca/events/knitting-circle-2/2026-03-26/
LOCATION:Grand Falls-Windsor (Harmsworth) Public Library\, 1 Cromer Avenue\, Grand Falls - Windsor\, NL\, A2A 1W9\, Canada
CATEGORIES:Hobbies, Crafts & Games
ATTACH;FMTTYPE=image/jpeg:https://nlpl.ca/wp-content/uploads/2023/03/Events-Hobbies-Crafts-and-Games.jpg
END:VEVENT
BEGIN:VEVENT
DTSTART;TZID=America/St_Johns:20260326T140000
DTEND;TZID=America/St_Johns:20260326T160000
DTSTAMP:20260421T152240
CREATED:20260102T193222Z
LAST-MODIFIED:20260312T181405Z
UID:10055565-1774533600-1774540800@nlpl.ca
SUMMARY:Tech Thursdays
DESCRIPTION:Gander Public Library – Needing help with your cell phone\, tablet/IPad or Laptop? On Thursdays 2-4pm you can book an appointment for help!
URL:https://nlpl.ca/events/tech-thursdays-3/2026-03-26/
LOCATION:Gander Public & Resource Library\, 6 Bell Place\, Gander\, NL\, A1V 1X2\, Canada
CATEGORIES:Technology & Makerspace
ATTACH;FMTTYPE=image/jpeg:https://nlpl.ca/wp-content/uploads/2023/03/Events-Classes-and-Workshops.jpg
END:VEVENT
BEGIN:VEVENT
DTSTART;TZID=America/St_Johns:20260326T140000
DTEND;TZID=America/St_Johns:20260326T143000
DTSTAMP:20260421T152240
CREATED:20260114T174653Z
LAST-MODIFIED:20260114T174653Z
UID:10056888-1774533600-1774535400@nlpl.ca
SUMMARY:Family Storytime
DESCRIPTION:A 30 minute interactive program celebrating books\, rhymes\, movement\, songs and fun that is perfect for\nfamilies with multiple children\, ages 1-5 years
URL:https://nlpl.ca/events/family-storytime/2026-03-26/
LOCATION:Stephenville Public Library (Kindale)\, 45 Carolina Ave.\, Stephenville\, NL\, A2N 3P8\, Canada
CATEGORIES:Kids & Families,Storytime
ATTACH;FMTTYPE=image/jpeg:https://nlpl.ca/wp-content/uploads/2023/03/Events-Kid-Families.jpg
END:VEVENT
BEGIN:VEVENT
DTSTART;TZID=America/St_Johns:20260326T140000
DTEND;TZID=America/St_Johns:20260326T140000
DTSTAMP:20260421T152240
CREATED:20260120T175935Z
LAST-MODIFIED:20260306T131114Z
UID:10056989-1774533600-1774533600@nlpl.ca
SUMMARY:Baby Storytime - Thursday Afternoon
DESCRIPTION:A registered event at A.C. Hunter Children’s Library. \n6 weeks of Spring Storytime! Storytime runs from March 19 to April 30 (no storytime on April 9 due to spring break)\nBaby Storytime for ages 0-12 months\nThursdays at 2:00pm \n\n\n\nWhat is Baby Storytime?\nThe staff will lead caregivers in rhymes and songs with simple stories and tips for literacy. 20-25 minutes of storytime\, followed by a playtime. Birth – 12 months old \n\n  \nREGISTRATION OPENS AT 9:30am March 6 – online or by calling 709-737-3953 \n\n\n\n  \n\n\n\n 
URL:https://nlpl.ca/events/baby-storytime-thursday-afternoon/2026-03-26/
LOCATION:St. John’s – A.C. Hunter Children’s Public Library\, 95 Allandale Road\, St. John's\, NL\, A1E 3A3\, Canada
CATEGORIES:Kids & Families,Storytime
END:VEVENT
BEGIN:VEVENT
DTSTART;TZID=America/St_Johns:20260326T130000
DTEND;TZID=America/St_Johns:20260326T150000
DTSTAMP:20260421T152240
CREATED:20260305T172547Z
LAST-MODIFIED:20260305T172547Z
UID:10059730-1774530000-1774537200@nlpl.ca
SUMMARY:Tech Thursday
DESCRIPTION:Drop in with your own device or we can use our devices- iPad or desktop or laptop. We can show you how to set up an email\, copy files\, or print files.
URL:https://nlpl.ca/events/tech-thursday/2026-03-26/
LOCATION:Deer Lake Public Library\, 4 Poplar Road\, Deer Lake\, NL\, A8A 1Z4\, Canada
END:VEVENT
BEGIN:VEVENT
DTSTART;TZID=America/St_Johns:20260326T130000
DTEND;TZID=America/St_Johns:20260326T150000
DTSTAMP:20260421T152240
CREATED:20250702T192402Z
LAST-MODIFIED:20260410T152336Z
UID:10059420-1774530000-1774537200@nlpl.ca
SUMMARY:CBS Knitting Group
DESCRIPTION:Everyone is welcome ! Bring your project and meet up with fellow knitters!
URL:https://nlpl.ca/events/knitting-group-4/2026-03-26/
LOCATION:Conception Bay South Public Library\, 10 Remembrance Square\, Conception Bay South\, NL\, Canada
CATEGORIES:Hobbies, Crafts & Games
ATTACH;FMTTYPE=image/jpeg:https://nlpl.ca/wp-content/uploads/2023/03/Events-Hobbies-Crafts-and-Games.jpg
ORGANIZER;CN="Conception Bay South Public Library":MAILTO:conceptionbaysouth@nlpl.ca
END:VEVENT
BEGIN:VEVENT
DTSTART;TZID=America/St_Johns:20260326T110000
DTEND;TZID=America/St_Johns:20260326T113000
DTSTAMP:20260421T152240
CREATED:20260120T181823Z
LAST-MODIFIED:20260120T181823Z
UID:10056982-1774522800-1774524600@nlpl.ca
SUMMARY:Preschool Storytime
DESCRIPTION:A registered event at A.C. Hunter Children’s Library. \n6 weeks of Spring Storytime! Storytime runs from March 19 to April 30 (no storytime April 9 due to spring break)\nPreschool Storytime for ages 3-5 years\nThursdays at 11:00am \n\n\n\nWhat is Preschool Storytime?\nFor children ready for a little more independence! The staff will read books\, tell stories and lead rhymes and songs. Caregivers remain in the room. 30 minutes. \n\n  \nREGISTRATION OPENS AT 9:30am March 6 – online or by calling 709-737-3953 \n\n\n\n  \n\n\n\n 
URL:https://nlpl.ca/events/preschool-storytime-2/2026-03-26/
LOCATION:St. John’s – A.C. Hunter Children’s Public Library\, 95 Allandale Road\, St. John's\, NL\, A1E 3A3\, Canada
CATEGORIES:Storytime
END:VEVENT
BEGIN:VEVENT
DTSTART;TZID=America/St_Johns:20260326T100000
DTEND;TZID=America/St_Johns:20260326T120000
DTSTAMP:20260421T152240
CREATED:20260103T161028Z
LAST-MODIFIED:20260325T214958Z
UID:10056020-1774519200-1774526400@nlpl.ca
SUMMARY:Digital Learning+
DESCRIPTION:Small group workshops and classes for lifelong learning with a focus on digital literacy presented as part of The Murphy Centre’s ACCESS to Learning program. \nfree | registration required \nFor more information or registration contact: chrisjoseph@murphycentre.ca 709-640-6718 and/or reneesherstobetoff@murphycentre.ca 709-640-5616 \n  \n 
URL:https://nlpl.ca/events/digital-learning-2/2026-03-26/
LOCATION:Corner Brook Public Library\, 4 West Street\, Corner Brook\, NL\, A2H 0C1\, Canada
END:VEVENT
BEGIN:VEVENT
DTSTART;TZID=America/St_Johns:20260326T100000
DTEND;TZID=America/St_Johns:20260326T120000
DTSTAMP:20260421T152241
CREATED:20240911T134337Z
LAST-MODIFIED:20260415T215627Z
UID:10059410-1774519200-1774526400@nlpl.ca
SUMMARY:Art Group
DESCRIPTION:Drop into the Conception Bay South Public Library  community room with any art project you are working on!\nThis is a group for adults.
URL:https://nlpl.ca/events/art-group/2026-03-26/
LOCATION:Conception Bay South Public Library\, 10 Remembrance Square\, Conception Bay South\, NL\, Canada
CATEGORIES:Arts & Culture,Hobbies, Crafts & Games
ATTACH;FMTTYPE=image/jpeg:https://nlpl.ca/wp-content/uploads/2023/03/Events-Hobbies-Crafts-and-Games.jpg
ORGANIZER;CN="Conception Bay South Public Library":MAILTO:conceptionbaysouth@nlpl.ca
END:VEVENT
BEGIN:VEVENT
DTSTART;TZID=America/St_Johns:20260326T100000
DTEND;TZID=America/St_Johns:20260326T103000
DTSTAMP:20260421T152241
CREATED:20260120T180319Z
LAST-MODIFIED:20260120T180319Z
UID:10056967-1774519200-1774521000@nlpl.ca
SUMMARY:Tots Storytime
DESCRIPTION:A registered event at A.C. Hunter Children’s Library. \n6 weeks of Spring Storytime! Storytime runs from March 19 to April 30 (no storytime on April 9 due to spring break)\nTots Storytime for ages 1-2 years (13-35 months) \nThursdays at 10:00am \n\n\n\nWhat is Tots Storytime?\nThe staff will read books\, tell stories and lead active rhymes and songs to engage toddlers. Caregivers participate alongside children. 20-25 minutes. For toddlers over 12 months and under 3. \n\n  \nREGISTRATION OPENS AT 9:30am Dec 12 – online or by calling 709-737-3953 \n\n\n\n  \n\n\n\n 
URL:https://nlpl.ca/events/tots-storytime/2026-03-26/
LOCATION:St. John’s – A.C. Hunter Children’s Public Library\, 95 Allandale Road\, St. John's\, NL\, A1E 3A3\, Canada
CATEGORIES:Kids & Families,Storytime
END:VEVENT
BEGIN:VEVENT
DTSTART;TZID=America/St_Johns:20260326T093000
DTEND;TZID=America/St_Johns:20260326T113000
DTSTAMP:20260421T152241
CREATED:20251116T180857Z
LAST-MODIFIED:20260312T103447Z
UID:10055125-1774517400-1774524600@nlpl.ca
SUMMARY:Tech Help Thursdays
DESCRIPTION:A.C. Hunter Library St John’s – Does technology seem tricky? iPad seem impossible? Do you find your phone frustrating? Our staff can help. Thursday Mornings 9:30-11:30 3rd Floor. Bring your device and a couple questions and staff will help you to the best of our abilities. \nNo Registration\nFirst Come First Helped!
URL:https://nlpl.ca/events/tech-help-thursdays-2/2026-03-26/
LOCATION:St. John’s – A.C. Hunter Public Library\, 125 Allandale Road\, St. John's\, NL\, A1B 3A3\, Canada
CATEGORIES:Technology & Makerspace
ATTACH;FMTTYPE=image/jpeg:https://nlpl.ca/wp-content/uploads/2023/11/Events-Tech-Makerspace.jpg
END:VEVENT
BEGIN:VEVENT
DTSTART;TZID=America/St_Johns:20260325T190000
DTEND;TZID=America/St_Johns:20260325T194500
DTSTAMP:20260421T152241
CREATED:20260219T204921Z
LAST-MODIFIED:20260227T194514Z
UID:10059373-1774465200-1774467900@nlpl.ca
SUMMARY:Parents Night Out Book Club
DESCRIPTION:Join us at the Ross King Memorial Library (Mount Pearl) for a book club for parents of young children.  We meet on the fourth Wednesday of the month from 7-7:45 pm.  Ask for a copy of the book at the front desk of the library.  Call (709)368-3603 or email mountpearl@nlpl.ca for more information.\nPlease note:  Childcare is not provided for this event.
URL:https://nlpl.ca/events/parents-night-out-book-club-2-3/
LOCATION:Mount Pearl Public Library\, 65 Olympic Drive\, Mount Pearl\, NL\, A1N 5H6\, Canada
CATEGORIES:Book Clubs & Writer’s Groups
ORGANIZER;CN="Mount Pearl":MAILTO:mountpearl@nlpl.ca
END:VEVENT
BEGIN:VEVENT
DTSTART;TZID=America/St_Johns:20260325T183000
DTEND;TZID=America/St_Johns:20260325T193000
DTSTAMP:20260421T152241
CREATED:20260105T172608Z
LAST-MODIFIED:20260312T172454Z
UID:10056177-1774463400-1774467000@nlpl.ca
SUMMARY:One-on-One Tech Help
DESCRIPTION:Harmsworth Public Library – Do you have a shiny new piece of tech\, but you’re not sure how to use it? Need a little help figuring out how to download an e-book\, share a photo\, or use Microsoft Word? \nMake a one-on-one appointment every Wednesday with our Tech Host\, Joshua. \nWe can provide general help\, tailored tech training\, and show you where to find helpful resources online. \nPlease call #709-489-2303 or drop in to schedule a time.
URL:https://nlpl.ca/events/one-on-one-tech-help-2/2026-03-25/
LOCATION:Grand Falls-Windsor (Harmsworth) Public Library\, 1 Cromer Avenue\, Grand Falls - Windsor\, NL\, A2A 1W9\, Canada
CATEGORIES:Technology & Makerspace
ATTACH;FMTTYPE=image/jpeg:https://nlpl.ca/wp-content/uploads/2023/11/Events-Tech-Makerspace.jpg
END:VEVENT
BEGIN:VEVENT
DTSTART;TZID=America/St_Johns:20260325T183000
DTEND;TZID=America/St_Johns:20260325T193000
DTSTAMP:20260421T152241
CREATED:20260105T134523Z
LAST-MODIFIED:20260312T150617Z
UID:10056131-1774463400-1774467000@nlpl.ca
SUMMARY:Teen Book Club
DESCRIPTION:Harmsworth Public Library – Join us in our monthly teen book club where we discover new authors and genres\, meet new people\, and share insights in a relaxed setting..
URL:https://nlpl.ca/events/teen-book-club-2/2026-03-25/
LOCATION:Grand Falls-Windsor (Harmsworth) Public Library\, 1 Cromer Avenue\, Grand Falls - Windsor\, NL\, A2A 1W9\, Canada
CATEGORIES:Book Clubs & Writer’s Groups
ATTACH;FMTTYPE=image/jpeg:https://nlpl.ca/wp-content/uploads/2023/03/Events-Book-Clubs-and-Writing-Groups.jpg
END:VEVENT
BEGIN:VEVENT
DTSTART;TZID=America/St_Johns:20260325T180000
DTEND;TZID=America/St_Johns:20260325T193000
DTSTAMP:20260421T152241
CREATED:20260103T153559Z
LAST-MODIFIED:20260325T214346Z
UID:10055943-1774461600-1774467000@nlpl.ca
SUMMARY:Conversation Cafe
DESCRIPTION:Small group conversation sessions lead by the Association for New Canadians\, open to anyone wanting to practice their spoken English.
URL:https://nlpl.ca/events/conversation-cafe/2026-03-25/
LOCATION:Corner Brook Public Library\, 4 West Street\, Corner Brook\, NL\, A2H 0C1\, Canada
END:VEVENT
END:VCALENDAR