BEGIN:VCALENDAR
VERSION:2.0
PRODID:-//Newfoundland &amp; Labrador Public Libraries - ECPv6.15.20//NONSGML v1.0//EN
CALSCALE:GREGORIAN
METHOD:PUBLISH
X-ORIGINAL-URL:https://nlpl.ca
X-WR-CALDESC:Events for Newfoundland &amp; Labrador Public Libraries
REFRESH-INTERVAL;VALUE=DURATION:PT1H
X-Robots-Tag:noindex
X-PUBLISHED-TTL:PT1H
BEGIN:VTIMEZONE
TZID:America/St_Johns
BEGIN:DAYLIGHT
TZOFFSETFROM:-0330
TZOFFSETTO:-0230
TZNAME:NDT
DTSTART:20250309T053000
END:DAYLIGHT
BEGIN:STANDARD
TZOFFSETFROM:-0230
TZOFFSETTO:-0330
TZNAME:NST
DTSTART:20251102T043000
END:STANDARD
BEGIN:DAYLIGHT
TZOFFSETFROM:-0330
TZOFFSETTO:-0230
TZNAME:NDT
DTSTART:20260308T053000
END:DAYLIGHT
BEGIN:STANDARD
TZOFFSETFROM:-0230
TZOFFSETTO:-0330
TZNAME:NST
DTSTART:20261101T043000
END:STANDARD
BEGIN:DAYLIGHT
TZOFFSETFROM:-0330
TZOFFSETTO:-0230
TZNAME:NDT
DTSTART:20270314T053000
END:DAYLIGHT
BEGIN:STANDARD
TZOFFSETFROM:-0230
TZOFFSETTO:-0330
TZNAME:NST
DTSTART:20271107T043000
END:STANDARD
END:VTIMEZONE
BEGIN:VEVENT
DTSTART;TZID=America/St_Johns:20260606T110000
DTEND;TZID=America/St_Johns:20260606T113000
DTSTAMP:20260421T143921
CREATED:20260323T174337Z
LAST-MODIFIED:20260323T174337Z
UID:10060209-1780743600-1780745400@nlpl.ca
SUMMARY:Family Storytime
DESCRIPTION:Join us at the CBS Public Library with the whole family for Storytime!\nThis is for all ages and drop in.
URL:https://nlpl.ca/events/family-storytime-6/2026-06-06/
LOCATION:Conception Bay South Public Library\, 10 Remembrance Square\, Conception Bay South\, NL\, Canada
CATEGORIES:Storytime
ATTACH;FMTTYPE=image/jpeg:https://nlpl.ca/wp-content/uploads/2023/03/Events-Kid-Families.jpg
ORGANIZER;CN="Conception Bay South Public Library":MAILTO:conceptionbaysouth@nlpl.ca
END:VEVENT
BEGIN:VEVENT
DTSTART;TZID=America/St_Johns:20260606T110000
DTEND;TZID=America/St_Johns:20260606T150000
DTSTAMP:20260421T143921
CREATED:20260205T191657Z
LAST-MODIFIED:20260205T191754Z
UID:10058242-1780743600-1780758000@nlpl.ca
SUMMARY:Master Builders
DESCRIPTION:(5+) Passive program for open Lego play. We provide the Lego\, you provide the fun! Come and go anytime during 11am – 3pm on Saturdays.
URL:https://nlpl.ca/events/master-builders/2026-06-06/
LOCATION:Stephenville Public Library (Kindale)\, 45 Carolina Ave.\, Stephenville\, NL\, A2N 3P8\, Canada
CATEGORIES:Hobbies, Crafts & Games
ATTACH;FMTTYPE=image/jpeg:https://nlpl.ca/wp-content/uploads/2023/03/Events-Hobbies-Crafts-and-Games.jpg
END:VEVENT
BEGIN:VEVENT
DTSTART;TZID=America/St_Johns:20260606T113000
DTEND;TZID=America/St_Johns:20260606T120000
DTSTAMP:20260421T143921
CREATED:20260110T145004Z
LAST-MODIFIED:20260110T145023Z
UID:10056671-1780745400-1780747200@nlpl.ca
SUMMARY:Saturday\, Story Time
DESCRIPTION:Story Time \nSaturday \nTime: 11:30-12:00 \nJanuary 17 to June 13th \nAges- birth to 5 years \nStory Time is half hour program\, filled with wonderful story books\, nursery rhymes\, songs and so much fun. \nLearning to read begins before children start school. From the time they are infants\, children learn language and other important skills that will help them learn to read. Developing early literacy skills makes it easier for children to learn to read once they begin school. \n“Remember\, the more we read together\, the happier we’ll be.”
URL:https://nlpl.ca/events/saturday-story-time-24/
LOCATION:Carbonear Public Library\, 256 Water St.\, Carbonear\, NL\, A1Y 1C4\, Canada
CATEGORIES:Kids & Families,Storytime
ORGANIZER;CN="Carbonear Public Library":MAILTO:carbonear@nlpl.ca
END:VEVENT
BEGIN:VEVENT
DTSTART;TZID=America/St_Johns:20260606T140000
DTEND;TZID=America/St_Johns:20260606T160000
DTSTAMP:20260421T143921
CREATED:20260327T154355Z
LAST-MODIFIED:20260406T120945Z
UID:10060351-1780754400-1780761600@nlpl.ca
SUMMARY:LEGO Free Play
DESCRIPTION:DROP-IN EVENT at A.C. Hunter Children’s Library \nLego Free Play! \nDrop in between 2:00 to 4:00pm  to build with our LEGO.\nAges 4-13. \nNext event dates: Saturday May 9\, Saturday June 6 \nLEGO is unsupervised – all children must have a guardian present.
URL:https://nlpl.ca/events/lego-free-play-5/
LOCATION:St. John’s – A.C. Hunter Children’s Public Library\, 95 Allandale Road\, St. John's\, NL\, A1E 3A3\, Canada
END:VEVENT
BEGIN:VEVENT
DTSTART;TZID=America/St_Johns:20260608T180000
DTEND;TZID=America/St_Johns:20260608T200000
DTSTAMP:20260421T143921
CREATED:20251001T170959Z
LAST-MODIFIED:20251128T205518Z
UID:10051859-1780941600-1780948800@nlpl.ca
SUMMARY:Traditional NL Rug Hooking
DESCRIPTION:Drop in group at Point Leamington Public Library for rug hookers to work on their own projects.\nAll skill levels are welcome.
URL:https://nlpl.ca/events/traditional-nl-rug-hooking-2/2026-06-08/
LOCATION:Point Leamington Public Library\, 1 Rice's Drive\, Point Leamington\, NL\, A0H 1Z0\, Canada
CATEGORIES:Hobbies, Crafts & Games
ATTACH;FMTTYPE=image/jpeg:https://nlpl.ca/wp-content/uploads/2023/03/Events-Hobbies-Crafts-and-Games.jpg
END:VEVENT
BEGIN:VEVENT
DTSTART;TZID=America/St_Johns:20260609T100000
DTEND;TZID=America/St_Johns:20260609T110000
DTSTAMP:20260421T143921
CREATED:20251015T144618Z
LAST-MODIFIED:20251015T161058Z
UID:10052617-1780999200-1781002800@nlpl.ca
SUMMARY:Family Story Time
DESCRIPTION:
URL:https://nlpl.ca/events/family-story-time-2/2026-06-09/
LOCATION:Bishop’s Falls Public Library\, 445 Main Street\, Bishop's Falls\, NL\, A0H 1C0\, Canada
CATEGORIES:Kids & Families,Storytime
END:VEVENT
BEGIN:VEVENT
DTSTART;TZID=America/St_Johns:20260609T103000
DTEND;TZID=America/St_Johns:20260609T110000
DTSTAMP:20260421T143921
CREATED:20260110T140058Z
LAST-MODIFIED:20260110T140058Z
UID:10056652-1781001000-1781002800@nlpl.ca
SUMMARY:Tuesday\, Story Time
DESCRIPTION:Story Time \nTuesday 10:30-11:00 \nJanuary 13 to June 9th \nAges- birth to 5 years \nStory Time is half hour program\, filled with wonderful story books\, nursery rhymes\, songs and so much fun. \nLearning to read begins before children start school. From the time they are infants\, children learn language and other important skills that will help them learn to read. Developing early literacy skills makes it easier for children to learn to read once they begin school. \n“Remember\, the more we read together\, the happier we’ll be.”
URL:https://nlpl.ca/events/tuesday-story-time-21/
LOCATION:Carbonear Public Library\, 256 Water St.\, Carbonear\, NL\, A1Y 1C4\, Canada
CATEGORIES:Kids & Families,Storytime
ORGANIZER;CN="Carbonear Public Library":MAILTO:carbonear@nlpl.ca
END:VEVENT
BEGIN:VEVENT
DTSTART;TZID=America/St_Johns:20260609T113000
DTEND;TZID=America/St_Johns:20260609T123000
DTSTAMP:20260421T143921
CREATED:20260227T193732Z
LAST-MODIFIED:20260418T174819Z
UID:10061527-1781004600-1781008200@nlpl.ca
SUMMARY:Tech Tuesdays
DESCRIPTION:Drop by the Ross King Memorial Library (Mount Pearl) from 11:30 AM – 12:30 PM on Tuesdays for our Tech Tuesdays program.  This program will give you tips on how to use devices such as a laptop\, tablet or cell phone as well as provide answers to your questions about how to use Library resources such as Libby\, Connect Pass\, and the NLPL Events Calendar and Catalogue.  This is a drop in program and is conducted on first-come\, first-serve basis.
URL:https://nlpl.ca/events/tech-tuesdays-3-2/2026-06-09/
LOCATION:Mount Pearl Public Library\, 65 Olympic Drive\, Mount Pearl\, NL\, A1N 5H6\, Canada
CATEGORIES:Classes & Workshops,Information Session,Technology & Makerspace
ORGANIZER;CN="Mount Pearl":MAILTO:mountpearl@nlpl.ca
END:VEVENT
BEGIN:VEVENT
DTSTART;TZID=America/St_Johns:20260609T140000
DTEND;TZID=America/St_Johns:20260609T153000
DTSTAMP:20260421T143921
CREATED:20250310T162548Z
LAST-MODIFIED:20260408T174230Z
UID:10061408-1781013600-1781019000@nlpl.ca
SUMMARY:Breastfeeding Clinic
DESCRIPTION:Drop in to the Conception Bay South Public Library for the Breastfeeding Clinic provided by Community Health\, Drop in for parents and babies.
URL:https://nlpl.ca/events/breastfeeding-clinic-3/2026-06-09/
LOCATION:Conception Bay South Public Library\, 10 Remembrance Square\, Conception Bay South\, NL\, Canada
CATEGORIES:Heath & Wellbeing,Kids & Families
ATTACH;FMTTYPE=image/jpeg:https://nlpl.ca/wp-content/uploads/2023/03/Events-Health-and-Wellbeing.jpg
ORGANIZER;CN="Conception Bay South Public Library":MAILTO:conceptionbaysouth@nlpl.ca
END:VEVENT
BEGIN:VEVENT
DTSTART;TZID=America/St_Johns:20260609T140000
DTEND;TZID=America/St_Johns:20260609T153000
DTSTAMP:20260421T143921
CREATED:20260103T135944Z
LAST-MODIFIED:20260325T214808Z
UID:10060263-1781013600-1781019000@nlpl.ca
SUMMARY:BabyTime PlayTime
DESCRIPTION:Drop-in for playtime and socializing for babies (ages 0-2) and parents/caregivers
URL:https://nlpl.ca/events/babytime-playtime/2026-06-09/
LOCATION:Corner Brook Public Library\, 4 West Street\, Corner Brook\, NL\, A2H 0C1\, Canada
END:VEVENT
BEGIN:VEVENT
DTSTART;TZID=America/St_Johns:20260609T153000
DTEND;TZID=America/St_Johns:20260609T160000
DTSTAMP:20260421T143921
CREATED:20260323T174050Z
LAST-MODIFIED:20260323T174610Z
UID:10060214-1781019000-1781020800@nlpl.ca
SUMMARY:Baby Storytime
DESCRIPTION:Join us at the CBS Public library for themed story times with your little ones! Suitable for ages 0-2\, Drop in
URL:https://nlpl.ca/events/baby-storytime/2026-06-09/
LOCATION:Conception Bay South Public Library\, 10 Remembrance Square\, Conception Bay South\, NL\, Canada
CATEGORIES:Storytime
ATTACH;FMTTYPE=image/jpeg:https://nlpl.ca/wp-content/uploads/2023/03/Events-Kid-Families.jpg
ORGANIZER;CN="Conception Bay South Public Library":MAILTO:conceptionbaysouth@nlpl.ca
END:VEVENT
BEGIN:VEVENT
DTSTART;TZID=America/St_Johns:20260609T153000
DTEND;TZID=America/St_Johns:20260609T163000
DTSTAMP:20260421T143921
CREATED:20250821T155247Z
LAST-MODIFIED:20260415T221903Z
UID:10061470-1781019000-1781022600@nlpl.ca
SUMMARY:Baby Play Group
DESCRIPTION:Drop in to the Conception Bay South Public Library where the storytime room  will be open for baby play time\, with baby-friendly toys available! This is a drop-in program\, best suited for ages 0-2.
URL:https://nlpl.ca/events/baby-play-group/2026-06-09/
LOCATION:Conception Bay South Public Library\, 10 Remembrance Square\, Conception Bay South\, NL\, Canada
CATEGORIES:Kids & Families
ATTACH;FMTTYPE=image/jpeg:https://nlpl.ca/wp-content/uploads/2023/03/Events-Kid-Families.jpg
END:VEVENT
BEGIN:VEVENT
DTSTART;TZID=America/St_Johns:20260609T160000
DTEND;TZID=America/St_Johns:20260609T170000
DTSTAMP:20260421T143921
CREATED:20250630T172012Z
LAST-MODIFIED:20260312T153102Z
UID:10059954-1781020800-1781024400@nlpl.ca
SUMMARY:Sensory Hour
DESCRIPTION:Harmsworth Public Library – Sensory-friendly browsing hour that includes reduced lighting and reduced noise.
URL:https://nlpl.ca/events/sensory-hour-4-2/2026-06-09/
LOCATION:Grand Falls-Windsor (Harmsworth) Public Library\, 1 Cromer Avenue\, Grand Falls - Windsor\, NL\, A2A 1W9\, Canada
CATEGORIES:Heath & Wellbeing
END:VEVENT
BEGIN:VEVENT
DTSTART;TZID=America/St_Johns:20260609T173000
DTEND;TZID=America/St_Johns:20260609T193000
DTSTAMP:20260421T143921
CREATED:20260105T144032Z
LAST-MODIFIED:20260312T152652Z
UID:10059930-1781026200-1781033400@nlpl.ca
SUMMARY:Dungeons & Dragons
DESCRIPTION:Harmsworth Public Library – Curious about Dungeons & Dragons? Are you looking to join a new group? Join us every Tuesday from 5:30 to 7:30 PM. \nNew and experienced players welcome. 13+ years. \nTo register\, phone #709-489-2303 or visit the library \n 
URL:https://nlpl.ca/events/dungeons-dragons-3-2/2026-06-09/
LOCATION:Grand Falls-Windsor (Harmsworth) Public Library\, 1 Cromer Avenue\, Grand Falls - Windsor\, NL\, A2A 1W9\, Canada
CATEGORIES:Hobbies, Crafts & Games
ATTACH;FMTTYPE=image/jpeg:https://nlpl.ca/wp-content/uploads/2023/03/Events-Hobbies-Crafts-and-Games.jpg
END:VEVENT
BEGIN:VEVENT
DTSTART;TZID=America/St_Johns:20260609T173000
DTEND;TZID=America/St_Johns:20260609T193000
DTSTAMP:20260421T143921
CREATED:20260319T165913Z
LAST-MODIFIED:20260319T165914Z
UID:10059831-1781026200-1781033400@nlpl.ca
SUMMARY:Creative Commons
DESCRIPTION:Join us at the Port aux Basques Public Library every Tuesday evening from 5:30-7:30 pm for Creative Commons. Bring any current arts\, crafts\, writing or musical project you’re working on and join other creatives to enjoy each other’s company and share the creative spark! Please provide your own art supplies.
URL:https://nlpl.ca/events/creative-commons-2/2026-06-09/
LOCATION:Port aux Basques Public Library\, 8 Grand Bay\, Port aux Basques\, NL\, A0M 1C0\, Canada
CATEGORIES:Hobbies, Crafts & Games
ATTACH;FMTTYPE=image/jpeg:https://nlpl.ca/wp-content/uploads/2023/03/Events-Hobbies-Crafts-and-Games.jpg
END:VEVENT
BEGIN:VEVENT
DTSTART;TZID=America/St_Johns:20260609T180000
DTEND;TZID=America/St_Johns:20260609T190000
DTSTAMP:20260421T143921
CREATED:20260102T193405Z
LAST-MODIFIED:20260102T193514Z
UID:10055600-1781028000-1781031600@nlpl.ca
SUMMARY:Sensory Hour
DESCRIPTION:Grander Public Library – Quiet Area\, Reduced Noise and Lighting. All ages.
URL:https://nlpl.ca/events/sensory-hour-2-2/2026-06-09/
LOCATION:Gander Public & Resource Library\, 6 Bell Place\, Gander\, NL\, A1V 1X2\, Canada
CATEGORIES:Heath & Wellbeing
ATTACH;FMTTYPE=image/jpeg:https://nlpl.ca/wp-content/uploads/2019/04/Depositphotos_3928992_xl-2015.jpg
END:VEVENT
BEGIN:VEVENT
DTSTART;TZID=America/St_Johns:20260609T180000
DTEND;TZID=America/St_Johns:20260609T193000
DTSTAMP:20260421T143921
CREATED:20260406T123046Z
LAST-MODIFIED:20260406T124705Z
UID:10060579-1781028000-1781033400@nlpl.ca
SUMMARY:Tween Drama Night - June
DESCRIPTION:A registered program at A.C. Hunter Children’s Library. \nTween Drama Night\nFor ages 9-13\nTuesday June 9\, 6:15pm \nImprov games\, scene studies and dramatic fun for tweens! \n  \nRegistration for all May/June programs begins Friday April 24 at 9:30am. Click the registration button or call 709-737-3953. \n 
URL:https://nlpl.ca/events/tween-drama-night-june/
LOCATION:St. John’s – A.C. Hunter Children’s Public Library\, 95 Allandale Road\, St. John's\, NL\, A1E 3A3\, Canada
CATEGORIES:Hobbies, Crafts & Games,Kids & Families,Storytime
END:VEVENT
BEGIN:VEVENT
DTSTART;TZID=America/St_Johns:20260609T180000
DTEND;TZID=America/St_Johns:20260609T203000
DTSTAMP:20260421T143921
CREATED:20260407T222359Z
LAST-MODIFIED:20260407T222435Z
UID:10060889-1781028000-1781037000@nlpl.ca
SUMMARY:Adult Puzzle Night - Thursday May 26
DESCRIPTION:
URL:https://nlpl.ca/events/adult-puzzle-night-thursday-may-26/2026-06-09/
LOCATION:NL
END:VEVENT
BEGIN:VEVENT
DTSTART;TZID=America/St_Johns:20260609T180000
DTEND;TZID=America/St_Johns:20260609T203000
DTSTAMP:20260421T143921
CREATED:20260407T222643Z
LAST-MODIFIED:20260407T222734Z
UID:10061150-1781028000-1781037000@nlpl.ca
SUMMARY:Adult Puzzle Night Every Tuesday! - Buchans Public Library
DESCRIPTION:Come to the library from 6:00 – 8:30 every Tuesday evening for Adult Puzzle Night! Friendly conversation\, coffee/ tea.
URL:https://nlpl.ca/events/adult-puzzle-night-every-tuesday-buchans-public-library/2026-06-09/
LOCATION:NL
END:VEVENT
BEGIN:VEVENT
DTSTART;TZID=America/St_Johns:20260610T100000
DTEND;TZID=America/St_Johns:20260610T130000
DTSTAMP:20260421T143921
CREATED:20240903T132133Z
LAST-MODIFIED:20260415T215148Z
UID:10061451-1781085600-1781096400@nlpl.ca
SUMMARY:Rug Hooking
DESCRIPTION:Drop in group at the Conception Bay South Public Library for crafters to work on their own projects with company.\nAll skill levels are welcome.
URL:https://nlpl.ca/events/rug-hooking/2026-06-10/
LOCATION:Conception Bay South Public Library\, 10 Remembrance Square\, Conception Bay South\, NL\, Canada
CATEGORIES:Hobbies, Crafts & Games
ATTACH;FMTTYPE=image/jpeg:https://nlpl.ca/wp-content/uploads/2023/03/Events-Hobbies-Crafts-and-Games.jpg
ORGANIZER;CN="Conception Bay South Public Library":MAILTO:conceptionbaysouth@nlpl.ca
END:VEVENT
BEGIN:VEVENT
DTSTART;TZID=America/St_Johns:20260610T130000
DTEND;TZID=America/St_Johns:20260610T153000
DTSTAMP:20260421T143921
CREATED:20260219T131709Z
LAST-MODIFIED:20260219T131709Z
UID:10059320-1781096400-1781105400@nlpl.ca
SUMMARY:Knitting Group
DESCRIPTION:Adult knitting group\, non-instructive. Join others who share in a love of knitting. Bring your projects and knit with friends\, old and new!
URL:https://nlpl.ca/events/knitting-group-2/2026-06-10/
LOCATION:Stephenville Public Library (Kindale)\, 45 Carolina Ave.\, Stephenville\, NL\, A2N 3P8\, Canada
CATEGORIES:Hobbies, Crafts & Games
ATTACH;FMTTYPE=image/jpeg:https://nlpl.ca/wp-content/uploads/2023/03/Events-Hobbies-Crafts-and-Games.jpg
END:VEVENT
BEGIN:VEVENT
DTSTART;TZID=America/St_Johns:20260610T140000
DTEND;TZID=America/St_Johns:20260610T150000
DTSTAMP:20260421T143921
CREATED:20260406T165304Z
LAST-MODIFIED:20260406T165304Z
UID:10060594-1781100000-1781103600@nlpl.ca
SUMMARY:Drop-in Storytime
DESCRIPTION:A drop-in program at A.C. Hunter Children’s Library. \nDrop-in Storytime\nfor ages 0-5 \n30 minutes of stories\, songs\, rhymes and literacy tips for babies and toddlers\, followed by a playtime. No registration required! \nSelect Wednesdays and Thursdays in May and June:\nThurs May 7th 10am\nWed May 13\, 2pm\nThurs May 14\, 10am \nThurs June 4th 10am\nWed June 10\, 2pm\nThurs June 11\, 10am\nThus June 18\, 2pm
URL:https://nlpl.ca/events/drop-in-storytime-6/
LOCATION:St. John’s – A.C. Hunter Children’s Public Library\, 95 Allandale Road\, St. John's\, NL\, A1E 3A3\, Canada
CATEGORIES:Kids & Families,Storytime
END:VEVENT
BEGIN:VEVENT
DTSTART;TZID=America/St_Johns:20260610T140000
DTEND;TZID=America/St_Johns:20260610T153000
DTSTAMP:20260421T143921
CREATED:20260102T194258Z
LAST-MODIFIED:20260102T194922Z
UID:10055626-1781100000-1781105400@nlpl.ca
SUMMARY:Crafter's Corner
DESCRIPTION:Grander Public Library – Bring in a project that you are working on. Either it be knitting\, crochet\, rug hooking
URL:https://nlpl.ca/events/crafters-corner-3-2-2/2026-06-10/
LOCATION:Gander Public & Resource Library\, 6 Bell Place\, Gander\, NL\, A1V 1X2\, Canada
CATEGORIES:Hobbies, Crafts & Games
ATTACH;FMTTYPE=image/jpeg:https://nlpl.ca/wp-content/uploads/2023/03/Events-Hobbies-Crafts-and-Games.jpg
END:VEVENT
BEGIN:VEVENT
DTSTART;TZID=America/St_Johns:20260610T180000
DTEND;TZID=America/St_Johns:20260610T190000
DTSTAMP:20260421T143921
CREATED:20240903T133648Z
LAST-MODIFIED:20260415T215847Z
UID:10061466-1781114400-1781118000@nlpl.ca
SUMMARY:Writer's Group
DESCRIPTION:Join us at the Conception Bay South Public Library! This is a drop in group for people with a passion for creative writing!
URL:https://nlpl.ca/events/writers-group/2026-06-10/
LOCATION:Conception Bay South Public Library\, 10 Remembrance Square\, Conception Bay South\, NL\, Canada
CATEGORIES:Book Clubs & Writer’s Groups
ATTACH;FMTTYPE=image/jpeg:https://nlpl.ca/wp-content/uploads/2023/03/Events-Book-Clubs-and-Writing-Groups.jpg
END:VEVENT
BEGIN:VEVENT
DTSTART;TZID=America/St_Johns:20260610T180000
DTEND;TZID=America/St_Johns:20260610T200000
DTSTAMP:20260421T143921
CREATED:20260401T214000Z
LAST-MODIFIED:20260401T214000Z
UID:10060448-1781114400-1781121600@nlpl.ca
SUMMARY:Game Night
DESCRIPTION:Join us every second Wednesday for a relaxed evening of board games at the library! Whether you’re a seasoned strategist or just in it for the laughs\, there’s a seat at the table for everyone.
URL:https://nlpl.ca/events/game-night-2/2026-06-10/
LOCATION:St. Anthony Public Library\, 95 West Street\, St. Anthony\, NL\, A0K 4S0\, Canada
CATEGORIES:Hobbies, Crafts & Games
ATTACH;FMTTYPE=image/jpeg:https://nlpl.ca/wp-content/uploads/2023/03/Events-Hobbies-Crafts-and-Games.jpg
ORGANIZER;CN="St. Anthony Pbulic Library":MAILTO:nsa@ill.nlpl.ca
END:VEVENT
BEGIN:VEVENT
DTSTART;TZID=America/St_Johns:20260610T183000
DTEND;TZID=America/St_Johns:20260610T193000
DTSTAMP:20260421T143921
CREATED:20260105T172608Z
LAST-MODIFIED:20260312T172454Z
UID:10059998-1781116200-1781119800@nlpl.ca
SUMMARY:One-on-One Tech Help
DESCRIPTION:Harmsworth Public Library – Do you have a shiny new piece of tech\, but you’re not sure how to use it? Need a little help figuring out how to download an e-book\, share a photo\, or use Microsoft Word? \nMake a one-on-one appointment every Wednesday with our Tech Host\, Joshua. \nWe can provide general help\, tailored tech training\, and show you where to find helpful resources online. \nPlease call #709-489-2303 or drop in to schedule a time.
URL:https://nlpl.ca/events/one-on-one-tech-help-2/2026-06-10/
LOCATION:Grand Falls-Windsor (Harmsworth) Public Library\, 1 Cromer Avenue\, Grand Falls - Windsor\, NL\, A2A 1W9\, Canada
CATEGORIES:Technology & Makerspace
ATTACH;FMTTYPE=image/jpeg:https://nlpl.ca/wp-content/uploads/2023/11/Events-Tech-Makerspace.jpg
END:VEVENT
BEGIN:VEVENT
DTSTART;TZID=America/St_Johns:20260611T100000
DTEND;TZID=America/St_Johns:20260611T110000
DTSTAMP:20260421T143921
CREATED:20260406T165446Z
LAST-MODIFIED:20260406T165446Z
UID:10060595-1781172000-1781175600@nlpl.ca
SUMMARY:Drop-in Storytime
DESCRIPTION:A drop-in program at A.C. Hunter Children’s Library. \nDrop-in Storytime\nfor ages 0-5 \n30 minutes of stories\, songs\, rhymes and literacy tips for babies and toddlers\, followed by a playtime. No registration required! \nSelect Wednesdays and Thursdays in May and June:\nThurs May 7th 10am\nWed May 13\, 2pm\nThurs May 14\, 10am \nThurs June 4th 10am\nWed June 10\, 2pm\nThurs June 11\, 10am\nThus June 18\, 2pm
URL:https://nlpl.ca/events/drop-in-storytime-7/
LOCATION:St. John’s – A.C. Hunter Children’s Public Library\, 95 Allandale Road\, St. John's\, NL\, A1E 3A3\, Canada
CATEGORIES:Kids & Families,Storytime
END:VEVENT
BEGIN:VEVENT
DTSTART;TZID=America/St_Johns:20260611T100000
DTEND;TZID=America/St_Johns:20260611T120000
DTSTAMP:20260421T143921
CREATED:20240911T134337Z
LAST-MODIFIED:20260415T215627Z
UID:10061458-1781172000-1781179200@nlpl.ca
SUMMARY:Art Group
DESCRIPTION:Drop into the Conception Bay South Public Library  community room with any art project you are working on!\nThis is a group for adults.
URL:https://nlpl.ca/events/art-group/2026-06-11/
LOCATION:Conception Bay South Public Library\, 10 Remembrance Square\, Conception Bay South\, NL\, Canada
CATEGORIES:Arts & Culture,Hobbies, Crafts & Games
ATTACH;FMTTYPE=image/jpeg:https://nlpl.ca/wp-content/uploads/2023/03/Events-Hobbies-Crafts-and-Games.jpg
ORGANIZER;CN="Conception Bay South Public Library":MAILTO:conceptionbaysouth@nlpl.ca
END:VEVENT
BEGIN:VEVENT
DTSTART;TZID=America/St_Johns:20260611T130000
DTEND;TZID=America/St_Johns:20260611T150000
DTSTAMP:20260421T143921
CREATED:20250702T192402Z
LAST-MODIFIED:20260410T152336Z
UID:10061435-1781182800-1781190000@nlpl.ca
SUMMARY:CBS Knitting Group
DESCRIPTION:Everyone is welcome ! Bring your project and meet up with fellow knitters!
URL:https://nlpl.ca/events/knitting-group-4/2026-06-11/
LOCATION:Conception Bay South Public Library\, 10 Remembrance Square\, Conception Bay South\, NL\, Canada
CATEGORIES:Hobbies, Crafts & Games
ATTACH;FMTTYPE=image/jpeg:https://nlpl.ca/wp-content/uploads/2023/03/Events-Hobbies-Crafts-and-Games.jpg
ORGANIZER;CN="Conception Bay South Public Library":MAILTO:conceptionbaysouth@nlpl.ca
END:VEVENT
BEGIN:VEVENT
DTSTART;TZID=America/St_Johns:20260611T130000
DTEND;TZID=America/St_Johns:20260611T150000
DTSTAMP:20260421T143921
CREATED:20260305T172547Z
LAST-MODIFIED:20260305T172547Z
UID:10059741-1781182800-1781190000@nlpl.ca
SUMMARY:Tech Thursday
DESCRIPTION:Drop in with your own device or we can use our devices- iPad or desktop or laptop. We can show you how to set up an email\, copy files\, or print files.
URL:https://nlpl.ca/events/tech-thursday/2026-06-11/
LOCATION:Deer Lake Public Library\, 4 Poplar Road\, Deer Lake\, NL\, A8A 1Z4\, Canada
END:VEVENT
END:VCALENDAR