BEGIN:VCALENDAR
VERSION:2.0
PRODID:-//Newfoundland &amp; Labrador Public Libraries - ECPv6.15.20//NONSGML v1.0//EN
CALSCALE:GREGORIAN
METHOD:PUBLISH
X-ORIGINAL-URL:https://nlpl.ca
X-WR-CALDESC:Events for Newfoundland &amp; Labrador Public Libraries
REFRESH-INTERVAL;VALUE=DURATION:PT1H
X-Robots-Tag:noindex
X-PUBLISHED-TTL:PT1H
BEGIN:VTIMEZONE
TZID:America/St_Johns
BEGIN:DAYLIGHT
TZOFFSETFROM:-0330
TZOFFSETTO:-0230
TZNAME:NDT
DTSTART:20290311T053000
END:DAYLIGHT
BEGIN:STANDARD
TZOFFSETFROM:-0230
TZOFFSETTO:-0330
TZNAME:NST
DTSTART:20291104T043000
END:STANDARD
BEGIN:DAYLIGHT
TZOFFSETFROM:-0330
TZOFFSETTO:-0230
TZNAME:NDT
DTSTART:20300310T053000
END:DAYLIGHT
BEGIN:STANDARD
TZOFFSETFROM:-0230
TZOFFSETTO:-0330
TZNAME:NST
DTSTART:20301103T043000
END:STANDARD
BEGIN:DAYLIGHT
TZOFFSETFROM:-0330
TZOFFSETTO:-0230
TZNAME:NDT
DTSTART:20310309T053000
END:DAYLIGHT
BEGIN:STANDARD
TZOFFSETFROM:-0230
TZOFFSETTO:-0330
TZNAME:NST
DTSTART:20311102T043000
END:STANDARD
END:VTIMEZONE
BEGIN:VEVENT
DTSTART;TZID=America/St_Johns:20300514T180000
DTEND;TZID=America/St_Johns:20300514T203000
DTSTAMP:20260421T143906
CREATED:20260407T222359Z
LAST-MODIFIED:20260407T222435Z
UID:10061094-1905012000-1905021000@nlpl.ca
SUMMARY:Adult Puzzle Night - Thursday May 26
DESCRIPTION:
URL:https://nlpl.ca/events/adult-puzzle-night-thursday-may-26/2030-05-14/
LOCATION:NL
END:VEVENT
BEGIN:VEVENT
DTSTART;TZID=America/St_Johns:20300521T180000
DTEND;TZID=America/St_Johns:20300521T203000
DTSTAMP:20260421T143906
CREATED:20260407T222359Z
LAST-MODIFIED:20260407T222435Z
UID:10061095-1905616800-1905625800@nlpl.ca
SUMMARY:Adult Puzzle Night - Thursday May 26
DESCRIPTION:
URL:https://nlpl.ca/events/adult-puzzle-night-thursday-may-26/2030-05-21/
LOCATION:NL
END:VEVENT
BEGIN:VEVENT
DTSTART;TZID=America/St_Johns:20300528T180000
DTEND;TZID=America/St_Johns:20300528T203000
DTSTAMP:20260421T143906
CREATED:20260407T222359Z
LAST-MODIFIED:20260407T222435Z
UID:10061096-1906221600-1906230600@nlpl.ca
SUMMARY:Adult Puzzle Night - Thursday May 26
DESCRIPTION:
URL:https://nlpl.ca/events/adult-puzzle-night-thursday-may-26/2030-05-28/
LOCATION:NL
END:VEVENT
BEGIN:VEVENT
DTSTART;TZID=America/St_Johns:20300604T180000
DTEND;TZID=America/St_Johns:20300604T203000
DTSTAMP:20260421T143906
CREATED:20260407T222359Z
LAST-MODIFIED:20260407T222435Z
UID:10061097-1906826400-1906835400@nlpl.ca
SUMMARY:Adult Puzzle Night - Thursday May 26
DESCRIPTION:
URL:https://nlpl.ca/events/adult-puzzle-night-thursday-may-26/2030-06-04/
LOCATION:NL
END:VEVENT
BEGIN:VEVENT
DTSTART;TZID=America/St_Johns:20300611T180000
DTEND;TZID=America/St_Johns:20300611T203000
DTSTAMP:20260421T143906
CREATED:20260407T222359Z
LAST-MODIFIED:20260407T222435Z
UID:10061098-1907431200-1907440200@nlpl.ca
SUMMARY:Adult Puzzle Night - Thursday May 26
DESCRIPTION:
URL:https://nlpl.ca/events/adult-puzzle-night-thursday-may-26/2030-06-11/
LOCATION:NL
END:VEVENT
BEGIN:VEVENT
DTSTART;TZID=America/St_Johns:20300618T180000
DTEND;TZID=America/St_Johns:20300618T203000
DTSTAMP:20260421T143906
CREATED:20260407T222359Z
LAST-MODIFIED:20260407T222435Z
UID:10061099-1908036000-1908045000@nlpl.ca
SUMMARY:Adult Puzzle Night - Thursday May 26
DESCRIPTION:
URL:https://nlpl.ca/events/adult-puzzle-night-thursday-may-26/2030-06-18/
LOCATION:NL
END:VEVENT
BEGIN:VEVENT
DTSTART;TZID=America/St_Johns:20300625T180000
DTEND;TZID=America/St_Johns:20300625T203000
DTSTAMP:20260421T143906
CREATED:20260407T222359Z
LAST-MODIFIED:20260407T222435Z
UID:10061100-1908640800-1908649800@nlpl.ca
SUMMARY:Adult Puzzle Night - Thursday May 26
DESCRIPTION:
URL:https://nlpl.ca/events/adult-puzzle-night-thursday-may-26/2030-06-25/
LOCATION:NL
END:VEVENT
BEGIN:VEVENT
DTSTART;TZID=America/St_Johns:20300702T180000
DTEND;TZID=America/St_Johns:20300702T203000
DTSTAMP:20260421T143906
CREATED:20260407T222359Z
LAST-MODIFIED:20260407T222435Z
UID:10061101-1909245600-1909254600@nlpl.ca
SUMMARY:Adult Puzzle Night - Thursday May 26
DESCRIPTION:
URL:https://nlpl.ca/events/adult-puzzle-night-thursday-may-26/2030-07-02/
LOCATION:NL
END:VEVENT
BEGIN:VEVENT
DTSTART;TZID=America/St_Johns:20300709T180000
DTEND;TZID=America/St_Johns:20300709T203000
DTSTAMP:20260421T143906
CREATED:20260407T222359Z
LAST-MODIFIED:20260407T222435Z
UID:10061102-1909850400-1909859400@nlpl.ca
SUMMARY:Adult Puzzle Night - Thursday May 26
DESCRIPTION:
URL:https://nlpl.ca/events/adult-puzzle-night-thursday-may-26/2030-07-09/
LOCATION:NL
END:VEVENT
BEGIN:VEVENT
DTSTART;TZID=America/St_Johns:20300716T180000
DTEND;TZID=America/St_Johns:20300716T203000
DTSTAMP:20260421T143906
CREATED:20260407T222359Z
LAST-MODIFIED:20260407T222435Z
UID:10061103-1910455200-1910464200@nlpl.ca
SUMMARY:Adult Puzzle Night - Thursday May 26
DESCRIPTION:
URL:https://nlpl.ca/events/adult-puzzle-night-thursday-may-26/2030-07-16/
LOCATION:NL
END:VEVENT
BEGIN:VEVENT
DTSTART;TZID=America/St_Johns:20300723T180000
DTEND;TZID=America/St_Johns:20300723T203000
DTSTAMP:20260421T143906
CREATED:20260407T222359Z
LAST-MODIFIED:20260407T222435Z
UID:10061104-1911060000-1911069000@nlpl.ca
SUMMARY:Adult Puzzle Night - Thursday May 26
DESCRIPTION:
URL:https://nlpl.ca/events/adult-puzzle-night-thursday-may-26/2030-07-23/
LOCATION:NL
END:VEVENT
BEGIN:VEVENT
DTSTART;TZID=America/St_Johns:20300730T180000
DTEND;TZID=America/St_Johns:20300730T203000
DTSTAMP:20260421T143906
CREATED:20260407T222359Z
LAST-MODIFIED:20260407T222435Z
UID:10061105-1911664800-1911673800@nlpl.ca
SUMMARY:Adult Puzzle Night - Thursday May 26
DESCRIPTION:
URL:https://nlpl.ca/events/adult-puzzle-night-thursday-may-26/2030-07-30/
LOCATION:NL
END:VEVENT
BEGIN:VEVENT
DTSTART;TZID=America/St_Johns:20300806T180000
DTEND;TZID=America/St_Johns:20300806T203000
DTSTAMP:20260421T143906
CREATED:20260407T222359Z
LAST-MODIFIED:20260407T222435Z
UID:10061106-1912269600-1912278600@nlpl.ca
SUMMARY:Adult Puzzle Night - Thursday May 26
DESCRIPTION:
URL:https://nlpl.ca/events/adult-puzzle-night-thursday-may-26/2030-08-06/
LOCATION:NL
END:VEVENT
BEGIN:VEVENT
DTSTART;TZID=America/St_Johns:20300813T180000
DTEND;TZID=America/St_Johns:20300813T203000
DTSTAMP:20260421T143906
CREATED:20260407T222359Z
LAST-MODIFIED:20260407T222435Z
UID:10061107-1912874400-1912883400@nlpl.ca
SUMMARY:Adult Puzzle Night - Thursday May 26
DESCRIPTION:
URL:https://nlpl.ca/events/adult-puzzle-night-thursday-may-26/2030-08-13/
LOCATION:NL
END:VEVENT
BEGIN:VEVENT
DTSTART;TZID=America/St_Johns:20300820T180000
DTEND;TZID=America/St_Johns:20300820T203000
DTSTAMP:20260421T143906
CREATED:20260407T222359Z
LAST-MODIFIED:20260407T222435Z
UID:10061108-1913479200-1913488200@nlpl.ca
SUMMARY:Adult Puzzle Night - Thursday May 26
DESCRIPTION:
URL:https://nlpl.ca/events/adult-puzzle-night-thursday-may-26/2030-08-20/
LOCATION:NL
END:VEVENT
BEGIN:VEVENT
DTSTART;TZID=America/St_Johns:20300827T180000
DTEND;TZID=America/St_Johns:20300827T203000
DTSTAMP:20260421T143906
CREATED:20260407T222359Z
LAST-MODIFIED:20260407T222435Z
UID:10061109-1914084000-1914093000@nlpl.ca
SUMMARY:Adult Puzzle Night - Thursday May 26
DESCRIPTION:
URL:https://nlpl.ca/events/adult-puzzle-night-thursday-may-26/2030-08-27/
LOCATION:NL
END:VEVENT
BEGIN:VEVENT
DTSTART;TZID=America/St_Johns:20300903T180000
DTEND;TZID=America/St_Johns:20300903T203000
DTSTAMP:20260421T143906
CREATED:20260407T222359Z
LAST-MODIFIED:20260407T222435Z
UID:10061110-1914688800-1914697800@nlpl.ca
SUMMARY:Adult Puzzle Night - Thursday May 26
DESCRIPTION:
URL:https://nlpl.ca/events/adult-puzzle-night-thursday-may-26/2030-09-03/
LOCATION:NL
END:VEVENT
BEGIN:VEVENT
DTSTART;TZID=America/St_Johns:20300910T180000
DTEND;TZID=America/St_Johns:20300910T203000
DTSTAMP:20260421T143906
CREATED:20260407T222359Z
LAST-MODIFIED:20260407T222435Z
UID:10061111-1915293600-1915302600@nlpl.ca
SUMMARY:Adult Puzzle Night - Thursday May 26
DESCRIPTION:
URL:https://nlpl.ca/events/adult-puzzle-night-thursday-may-26/2030-09-10/
LOCATION:NL
END:VEVENT
BEGIN:VEVENT
DTSTART;TZID=America/St_Johns:20300917T180000
DTEND;TZID=America/St_Johns:20300917T203000
DTSTAMP:20260421T143906
CREATED:20260407T222359Z
LAST-MODIFIED:20260407T222435Z
UID:10061112-1915898400-1915907400@nlpl.ca
SUMMARY:Adult Puzzle Night - Thursday May 26
DESCRIPTION:
URL:https://nlpl.ca/events/adult-puzzle-night-thursday-may-26/2030-09-17/
LOCATION:NL
END:VEVENT
BEGIN:VEVENT
DTSTART;TZID=America/St_Johns:20300924T180000
DTEND;TZID=America/St_Johns:20300924T203000
DTSTAMP:20260421T143906
CREATED:20260407T222359Z
LAST-MODIFIED:20260407T222435Z
UID:10061113-1916503200-1916512200@nlpl.ca
SUMMARY:Adult Puzzle Night - Thursday May 26
DESCRIPTION:
URL:https://nlpl.ca/events/adult-puzzle-night-thursday-may-26/2030-09-24/
LOCATION:NL
END:VEVENT
BEGIN:VEVENT
DTSTART;TZID=America/St_Johns:20301001T180000
DTEND;TZID=America/St_Johns:20301001T203000
DTSTAMP:20260421T143906
CREATED:20260407T222359Z
LAST-MODIFIED:20260407T222435Z
UID:10061114-1917108000-1917117000@nlpl.ca
SUMMARY:Adult Puzzle Night - Thursday May 26
DESCRIPTION:
URL:https://nlpl.ca/events/adult-puzzle-night-thursday-may-26/2030-10-01/
LOCATION:NL
END:VEVENT
BEGIN:VEVENT
DTSTART;TZID=America/St_Johns:20301008T180000
DTEND;TZID=America/St_Johns:20301008T203000
DTSTAMP:20260421T143906
CREATED:20260407T222359Z
LAST-MODIFIED:20260407T222435Z
UID:10061115-1917712800-1917721800@nlpl.ca
SUMMARY:Adult Puzzle Night - Thursday May 26
DESCRIPTION:
URL:https://nlpl.ca/events/adult-puzzle-night-thursday-may-26/2030-10-08/
LOCATION:NL
END:VEVENT
BEGIN:VEVENT
DTSTART;TZID=America/St_Johns:20301015T180000
DTEND;TZID=America/St_Johns:20301015T203000
DTSTAMP:20260421T143906
CREATED:20260407T222359Z
LAST-MODIFIED:20260407T222435Z
UID:10061116-1918317600-1918326600@nlpl.ca
SUMMARY:Adult Puzzle Night - Thursday May 26
DESCRIPTION:
URL:https://nlpl.ca/events/adult-puzzle-night-thursday-may-26/2030-10-15/
LOCATION:NL
END:VEVENT
BEGIN:VEVENT
DTSTART;TZID=America/St_Johns:20301022T180000
DTEND;TZID=America/St_Johns:20301022T203000
DTSTAMP:20260421T143906
CREATED:20260407T222359Z
LAST-MODIFIED:20260407T222435Z
UID:10061117-1918922400-1918931400@nlpl.ca
SUMMARY:Adult Puzzle Night - Thursday May 26
DESCRIPTION:
URL:https://nlpl.ca/events/adult-puzzle-night-thursday-may-26/2030-10-22/
LOCATION:NL
END:VEVENT
BEGIN:VEVENT
DTSTART;TZID=America/St_Johns:20301029T180000
DTEND;TZID=America/St_Johns:20301029T203000
DTSTAMP:20260421T143906
CREATED:20260407T222359Z
LAST-MODIFIED:20260407T222435Z
UID:10061118-1919527200-1919536200@nlpl.ca
SUMMARY:Adult Puzzle Night - Thursday May 26
DESCRIPTION:
URL:https://nlpl.ca/events/adult-puzzle-night-thursday-may-26/2030-10-29/
LOCATION:NL
END:VEVENT
BEGIN:VEVENT
DTSTART;TZID=America/St_Johns:20301105T180000
DTEND;TZID=America/St_Johns:20301105T203000
DTSTAMP:20260421T143907
CREATED:20260407T222359Z
LAST-MODIFIED:20260407T222435Z
UID:10061119-1920132000-1920141000@nlpl.ca
SUMMARY:Adult Puzzle Night - Thursday May 26
DESCRIPTION:
URL:https://nlpl.ca/events/adult-puzzle-night-thursday-may-26/2030-11-05/
LOCATION:NL
END:VEVENT
BEGIN:VEVENT
DTSTART;TZID=America/St_Johns:20301112T180000
DTEND;TZID=America/St_Johns:20301112T203000
DTSTAMP:20260421T143907
CREATED:20260407T222359Z
LAST-MODIFIED:20260407T222435Z
UID:10061120-1920736800-1920745800@nlpl.ca
SUMMARY:Adult Puzzle Night - Thursday May 26
DESCRIPTION:
URL:https://nlpl.ca/events/adult-puzzle-night-thursday-may-26/2030-11-12/
LOCATION:NL
END:VEVENT
BEGIN:VEVENT
DTSTART;TZID=America/St_Johns:20301119T180000
DTEND;TZID=America/St_Johns:20301119T203000
DTSTAMP:20260421T143907
CREATED:20260407T222359Z
LAST-MODIFIED:20260407T222435Z
UID:10061121-1921341600-1921350600@nlpl.ca
SUMMARY:Adult Puzzle Night - Thursday May 26
DESCRIPTION:
URL:https://nlpl.ca/events/adult-puzzle-night-thursday-may-26/2030-11-19/
LOCATION:NL
END:VEVENT
BEGIN:VEVENT
DTSTART;TZID=America/St_Johns:20301126T180000
DTEND;TZID=America/St_Johns:20301126T203000
DTSTAMP:20260421T143907
CREATED:20260407T222359Z
LAST-MODIFIED:20260407T222435Z
UID:10061122-1921946400-1921955400@nlpl.ca
SUMMARY:Adult Puzzle Night - Thursday May 26
DESCRIPTION:
URL:https://nlpl.ca/events/adult-puzzle-night-thursday-may-26/2030-11-26/
LOCATION:NL
END:VEVENT
BEGIN:VEVENT
DTSTART;TZID=America/St_Johns:20301203T180000
DTEND;TZID=America/St_Johns:20301203T203000
DTSTAMP:20260421T143907
CREATED:20260407T222359Z
LAST-MODIFIED:20260407T222435Z
UID:10061123-1922551200-1922560200@nlpl.ca
SUMMARY:Adult Puzzle Night - Thursday May 26
DESCRIPTION:
URL:https://nlpl.ca/events/adult-puzzle-night-thursday-may-26/2030-12-03/
LOCATION:NL
END:VEVENT
END:VCALENDAR