BEGIN:VCALENDAR
VERSION:2.0
PRODID:-//Newfoundland &amp; Labrador Public Libraries - ECPv6.15.20//NONSGML v1.0//EN
CALSCALE:GREGORIAN
METHOD:PUBLISH
X-WR-CALNAME:Newfoundland &amp; Labrador Public Libraries
X-ORIGINAL-URL:https://nlpl.ca
X-WR-CALDESC:Events for Newfoundland &amp; Labrador Public Libraries
REFRESH-INTERVAL;VALUE=DURATION:PT1H
X-Robots-Tag:noindex
X-PUBLISHED-TTL:PT1H
BEGIN:VTIMEZONE
TZID:America/St_Johns
BEGIN:DAYLIGHT
TZOFFSETFROM:-0330
TZOFFSETTO:-0230
TZNAME:NDT
DTSTART:20250309T053000
END:DAYLIGHT
BEGIN:STANDARD
TZOFFSETFROM:-0230
TZOFFSETTO:-0330
TZNAME:NST
DTSTART:20251102T043000
END:STANDARD
BEGIN:DAYLIGHT
TZOFFSETFROM:-0330
TZOFFSETTO:-0230
TZNAME:NDT
DTSTART:20260308T053000
END:DAYLIGHT
BEGIN:STANDARD
TZOFFSETFROM:-0230
TZOFFSETTO:-0330
TZNAME:NST
DTSTART:20261101T043000
END:STANDARD
BEGIN:DAYLIGHT
TZOFFSETFROM:-0330
TZOFFSETTO:-0230
TZNAME:NDT
DTSTART:20270314T053000
END:DAYLIGHT
BEGIN:STANDARD
TZOFFSETFROM:-0230
TZOFFSETTO:-0330
TZNAME:NST
DTSTART:20271107T043000
END:STANDARD
END:VTIMEZONE
BEGIN:VEVENT
DTSTART;TZID=America/St_Johns:20260526T153000
DTEND;TZID=America/St_Johns:20260526T163000
DTSTAMP:20260421T180359
CREATED:20250821T155247Z
LAST-MODIFIED:20260415T221903Z
UID:10061420-1779809400-1779813000@nlpl.ca
SUMMARY:Baby Play Group
DESCRIPTION:Drop in to the Conception Bay South Public Library where the storytime room  will be open for baby play time\, with baby-friendly toys available! This is a drop-in program\, best suited for ages 0-2.
URL:https://nlpl.ca/events/baby-play-group/2026-05-26/
LOCATION:Conception Bay South Public Library\, 10 Remembrance Square\, Conception Bay South\, NL\, Canada
CATEGORIES:Kids & Families
ATTACH;FMTTYPE=image/jpeg:https://nlpl.ca/wp-content/uploads/2023/03/Events-Kid-Families.jpg
END:VEVENT
BEGIN:VEVENT
DTSTART;TZID=America/St_Johns:20260526T153000
DTEND;TZID=America/St_Johns:20260526T160000
DTSTAMP:20260421T180359
CREATED:20260323T174050Z
LAST-MODIFIED:20260323T174610Z
UID:10060212-1779809400-1779811200@nlpl.ca
SUMMARY:Baby Storytime
DESCRIPTION:Join us at the CBS Public library for themed story times with your little ones! Suitable for ages 0-2\, Drop in
URL:https://nlpl.ca/events/baby-storytime/2026-05-26/
LOCATION:Conception Bay South Public Library\, 10 Remembrance Square\, Conception Bay South\, NL\, Canada
CATEGORIES:Storytime
ATTACH;FMTTYPE=image/jpeg:https://nlpl.ca/wp-content/uploads/2023/03/Events-Kid-Families.jpg
ORGANIZER;CN="Conception Bay South Public Library":MAILTO:conceptionbaysouth@nlpl.ca
END:VEVENT
BEGIN:VEVENT
DTSTART;TZID=America/St_Johns:20260526T150000
DTEND;TZID=America/St_Johns:20260526T160000
DTSTAMP:20260421T180359
CREATED:20251103T201201Z
LAST-MODIFIED:20251125T194640Z
UID:10053867-1779807600-1779811200@nlpl.ca
SUMMARY:Family Passive Play
DESCRIPTION:
URL:https://nlpl.ca/events/family-passive-play/2026-05-26/
LOCATION:Bishop’s Falls Public Library\, 445 Main Street\, Bishop's Falls\, NL\, A0H 1C0\, Canada
END:VEVENT
BEGIN:VEVENT
DTSTART;TZID=America/St_Johns:20260526T140000
DTEND;TZID=America/St_Johns:20260526T153000
DTSTAMP:20260421T180359
CREATED:20260103T135944Z
LAST-MODIFIED:20260325T214808Z
UID:10060262-1779804000-1779809400@nlpl.ca
SUMMARY:BabyTime PlayTime
DESCRIPTION:Drop-in for playtime and socializing for babies (ages 0-2) and parents/caregivers
URL:https://nlpl.ca/events/babytime-playtime/2026-05-26/
LOCATION:Corner Brook Public Library\, 4 West Street\, Corner Brook\, NL\, A2H 0C1\, Canada
END:VEVENT
BEGIN:VEVENT
DTSTART;TZID=America/St_Johns:20260526T140000
DTEND;TZID=America/St_Johns:20260526T153000
DTSTAMP:20260421T180359
CREATED:20250310T162548Z
LAST-MODIFIED:20260408T174230Z
UID:10061406-1779804000-1779809400@nlpl.ca
SUMMARY:Breastfeeding Clinic
DESCRIPTION:Drop in to the Conception Bay South Public Library for the Breastfeeding Clinic provided by Community Health\, Drop in for parents and babies.
URL:https://nlpl.ca/events/breastfeeding-clinic-3/2026-05-26/
LOCATION:Conception Bay South Public Library\, 10 Remembrance Square\, Conception Bay South\, NL\, Canada
CATEGORIES:Heath & Wellbeing,Kids & Families
ATTACH;FMTTYPE=image/jpeg:https://nlpl.ca/wp-content/uploads/2023/03/Events-Health-and-Wellbeing.jpg
ORGANIZER;CN="Conception Bay South Public Library":MAILTO:conceptionbaysouth@nlpl.ca
END:VEVENT
BEGIN:VEVENT
DTSTART;TZID=America/St_Johns:20260526T113000
DTEND;TZID=America/St_Johns:20260526T123000
DTSTAMP:20260421T180359
CREATED:20260227T193732Z
LAST-MODIFIED:20260418T174819Z
UID:10061525-1779795000-1779798600@nlpl.ca
SUMMARY:Tech Tuesdays
DESCRIPTION:Drop by the Ross King Memorial Library (Mount Pearl) from 11:30 AM – 12:30 PM on Tuesdays for our Tech Tuesdays program.  This program will give you tips on how to use devices such as a laptop\, tablet or cell phone as well as provide answers to your questions about how to use Library resources such as Libby\, Connect Pass\, and the NLPL Events Calendar and Catalogue.  This is a drop in program and is conducted on first-come\, first-serve basis.
URL:https://nlpl.ca/events/tech-tuesdays-3-2/2026-05-26/
LOCATION:Mount Pearl Public Library\, 65 Olympic Drive\, Mount Pearl\, NL\, A1N 5H6\, Canada
CATEGORIES:Classes & Workshops,Information Session,Technology & Makerspace
ORGANIZER;CN="Mount Pearl":MAILTO:mountpearl@nlpl.ca
END:VEVENT
BEGIN:VEVENT
DTSTART;TZID=America/St_Johns:20260526T103000
DTEND;TZID=America/St_Johns:20260526T110000
DTSTAMP:20260421T180359
CREATED:20260110T135903Z
LAST-MODIFIED:20260110T135932Z
UID:10056649-1779791400-1779793200@nlpl.ca
SUMMARY:Tuesday\, Story Time
DESCRIPTION:Story Time \nTuesday 10:30-11:00 \nJanuary 13 to June 9th \nAges- birth to 5 years \nStory Time is half hour program\, filled with wonderful story books\, nursery rhymes\, songs and so much fun. \nLearning to read begins before children start school. From the time they are infants\, children learn language and other important skills that will help them learn to read. Developing early literacy skills makes it easier for children to learn to read once they begin school. \n“Remember\, the more we read together\, the happier we’ll be.”
URL:https://nlpl.ca/events/tuesday-story-time-19/
LOCATION:Carbonear Public Library\, 256 Water St.\, Carbonear\, NL\, A1Y 1C4\, Canada
CATEGORIES:Kids & Families,Storytime
ORGANIZER;CN="Carbonear Public Library":MAILTO:carbonear@nlpl.ca
END:VEVENT
BEGIN:VEVENT
DTSTART;TZID=America/St_Johns:20260526T100000
DTEND;TZID=America/St_Johns:20260526T120000
DTSTAMP:20260421T180359
CREATED:20260103T155608Z
LAST-MODIFIED:20260325T215109Z
UID:10060313-1779789600-1779796800@nlpl.ca
SUMMARY:Digital Learning+
DESCRIPTION:Small group workshops and classes for lifelong learning with a focus on digital literacy presented as part of The Murphy Centre’s ACCESS to Learning program. \nfree | registration required \nFor more information or registration contact: chrisjoseph@murphycentre.ca 709-640-6718 and/or reneesherstobetoff@murphycentre.ca 709-640-5616 \n  \n 
URL:https://nlpl.ca/events/digital-learning/2026-05-26/
LOCATION:Corner Brook Public Library\, 4 West Street\, Corner Brook\, NL\, A2H 0C1\, Canada
END:VEVENT
BEGIN:VEVENT
DTSTART;TZID=America/St_Johns:20260526T100000
DTEND;TZID=America/St_Johns:20260526T110000
DTSTAMP:20260421T180359
CREATED:20251015T144618Z
LAST-MODIFIED:20251015T161058Z
UID:10052615-1779789600-1779793200@nlpl.ca
SUMMARY:Family Story Time
DESCRIPTION:
URL:https://nlpl.ca/events/family-story-time-2/2026-05-26/
LOCATION:Bishop’s Falls Public Library\, 445 Main Street\, Bishop's Falls\, NL\, A0H 1C0\, Canada
CATEGORIES:Kids & Families,Storytime
END:VEVENT
BEGIN:VEVENT
DTSTART;TZID=America/St_Johns:20260526T060000
DTEND;TZID=America/St_Johns:20260526T193000
DTSTAMP:20260421T180359
CREATED:20251120T191835Z
LAST-MODIFIED:20251125T195038Z
UID:10055175-1779775200-1779823800@nlpl.ca
SUMMARY:Tuesday Night Tabletop Board Gaming
DESCRIPTION:New-Wes-Valley Public Libraries welcomes everyone to Tuesday night Board Gaming.  From 6 pm – 7:30 pm play from a wide selection of games from the libraries collection\, or bring you own.  Hope to see you there. \n 
URL:https://nlpl.ca/events/tuesday-night-tabletop-board-gaming/2026-05-26/
CATEGORIES:Hobbies, Crafts & Games
END:VEVENT
BEGIN:VEVENT
DTSTART;TZID=America/St_Johns:20260525T190000
DTEND;TZID=America/St_Johns:20260525T200000
DTSTAMP:20260421T180359
CREATED:20260407T184854Z
LAST-MODIFIED:20260407T184854Z
UID:10060605-1779735600-1779739200@nlpl.ca
SUMMARY:Buchans Public Library Book Club
DESCRIPTION:Our Spring Book Club has now begun with the book The Maid written by Nita Prose. First meeting will be Monday April 27th\, 7:00pm. 2 copies left for anyone who wishes to join us!
URL:https://nlpl.ca/events/buchans-public-library-book-club/2026-05-25/
END:VEVENT
BEGIN:VEVENT
DTSTART;TZID=America/St_Johns:20260525T180000
DTEND;TZID=America/St_Johns:20260525T200000
DTSTAMP:20260421T180359
CREATED:20251001T170959Z
LAST-MODIFIED:20251128T205518Z
UID:10051857-1779732000-1779739200@nlpl.ca
SUMMARY:Traditional NL Rug Hooking
DESCRIPTION:Drop in group at Point Leamington Public Library for rug hookers to work on their own projects.\nAll skill levels are welcome.
URL:https://nlpl.ca/events/traditional-nl-rug-hooking-2/2026-05-25/
LOCATION:Point Leamington Public Library\, 1 Rice's Drive\, Point Leamington\, NL\, A0H 1Z0\, Canada
CATEGORIES:Hobbies, Crafts & Games
ATTACH;FMTTYPE=image/jpeg:https://nlpl.ca/wp-content/uploads/2023/03/Events-Hobbies-Crafts-and-Games.jpg
END:VEVENT
BEGIN:VEVENT
DTSTART;TZID=America/St_Johns:20260525T150000
DTEND;TZID=America/St_Johns:20260525T200000
DTSTAMP:20260421T180359
CREATED:20260304T172104Z
LAST-MODIFIED:20260317T164251Z
UID:10059637-1779721200-1779739200@nlpl.ca
SUMMARY:Quilting with Kay
DESCRIPTION:Come and enjoy an afternoon of beginner quilting with Kay Warford!!
URL:https://nlpl.ca/events/quilting-with-kay-2/2026-05-25/
LOCATION:Point Leamington Public Library\, 1 Rice's Drive\, Point Leamington\, NL\, A0H 1Z0\, Canada
CATEGORIES:Hobbies, Crafts & Games
END:VEVENT
BEGIN:VEVENT
DTSTART;TZID=America/St_Johns:20260525T150000
DTEND;TZID=America/St_Johns:20260525T160000
DTSTAMP:20260421T180359
CREATED:20251103T201201Z
LAST-MODIFIED:20251125T194640Z
UID:10053866-1779721200-1779724800@nlpl.ca
SUMMARY:Family Passive Play
DESCRIPTION:
URL:https://nlpl.ca/events/family-passive-play/2026-05-25/
LOCATION:Bishop’s Falls Public Library\, 445 Main Street\, Bishop's Falls\, NL\, A0H 1C0\, Canada
END:VEVENT
BEGIN:VEVENT
DTSTART;TZID=America/St_Johns:20260525T140000
DTEND;TZID=America/St_Johns:20260525T160000
DTSTAMP:20260421T180359
CREATED:20250818T121419Z
LAST-MODIFIED:20260312T153407Z
UID:10059965-1779717600-1779724800@nlpl.ca
SUMMARY:Rug Hooking
DESCRIPTION:Harmsworth Public Library – Get “hooked” on rug making every Monday afternoon. Whether you are a beginner or a seasoned artist\, come share your rug-hooked works and techniques with a fun group of rug hookers.
URL:https://nlpl.ca/events/rug-hooking-2/2026-05-25/
LOCATION:Grand Falls-Windsor (Harmsworth) Public Library\, 1 Cromer Avenue\, Grand Falls - Windsor\, NL\, A2A 1W9\, Canada
CATEGORIES:Hobbies, Crafts & Games
ATTACH;FMTTYPE=image/jpeg:https://nlpl.ca/wp-content/uploads/2023/03/Events-Hobbies-Crafts-and-Games.jpg
END:VEVENT
BEGIN:VEVENT
DTSTART;TZID=America/St_Johns:20260523T113000
DTEND;TZID=America/St_Johns:20260523T120000
DTSTAMP:20260421T180359
CREATED:20260110T144409Z
LAST-MODIFIED:20260110T144933Z
UID:10056670-1779535800-1779537600@nlpl.ca
SUMMARY:Saturday\, Story Time
DESCRIPTION:Story Time \nSaturday \nTime: 11:30-12:00 \nJanuary 17 to June 13th \nAges- birth to 5 years \nStory Time is half hour program\, filled with wonderful story books\, nursery rhymes\, songs and so much fun. \nLearning to read begins before children start school. From the time they are infants\, children learn language and other important skills that will help them learn to read. Developing early literacy skills makes it easier for children to learn to read once they begin school. \n“Remember\, the more we read together\, the happier we’ll be.”
URL:https://nlpl.ca/events/saturday-story-time-23/
LOCATION:Carbonear Public Library\, 256 Water St.\, Carbonear\, NL\, A1Y 1C4\, Canada
CATEGORIES:Kids & Families,Storytime
ORGANIZER;CN="Carbonear Public Library":MAILTO:carbonear@nlpl.ca
END:VEVENT
BEGIN:VEVENT
DTSTART;TZID=America/St_Johns:20260523T110000
DTEND;TZID=America/St_Johns:20260523T150000
DTSTAMP:20260421T180359
CREATED:20260205T191657Z
LAST-MODIFIED:20260205T191754Z
UID:10058240-1779534000-1779548400@nlpl.ca
SUMMARY:Master Builders
DESCRIPTION:(5+) Passive program for open Lego play. We provide the Lego\, you provide the fun! Come and go anytime during 11am – 3pm on Saturdays.
URL:https://nlpl.ca/events/master-builders/2026-05-23/
LOCATION:Stephenville Public Library (Kindale)\, 45 Carolina Ave.\, Stephenville\, NL\, A2N 3P8\, Canada
CATEGORIES:Hobbies, Crafts & Games
ATTACH;FMTTYPE=image/jpeg:https://nlpl.ca/wp-content/uploads/2023/03/Events-Hobbies-Crafts-and-Games.jpg
END:VEVENT
BEGIN:VEVENT
DTSTART;TZID=America/St_Johns:20260523T110000
DTEND;TZID=America/St_Johns:20260523T130000
DTSTAMP:20260421T180359
CREATED:20260319T170049Z
LAST-MODIFIED:20260319T170050Z
UID:10056837-1779534000-1779541200@nlpl.ca
SUMMARY:LEGO Builders
DESCRIPTION:Come out to the Port aux Basques Public Library for LEGO Builders. LEGO blocks are available\, along with a fun building table. Larger blocks are available for smaller children. Enjoy the fun and challenge of LEGO!
URL:https://nlpl.ca/events/lego-builders-2/2026-05-23/
LOCATION:Port aux Basques Public Library\, 8 Grand Bay\, Port aux Basques\, NL\, A0M 1C0\, Canada
CATEGORIES:Hobbies, Crafts & Games
ATTACH;FMTTYPE=image/jpeg:https://nlpl.ca/wp-content/uploads/2023/03/Events-Hobbies-Crafts-and-Games.jpg
END:VEVENT
BEGIN:VEVENT
DTSTART;TZID=America/St_Johns:20260523T110000
DTEND;TZID=America/St_Johns:20260523T120000
DTSTAMP:20260421T180359
CREATED:20260416T144829Z
LAST-MODIFIED:20260416T145143Z
UID:10061506-1779534000-1779537600@nlpl.ca
SUMMARY:Family Storytime + Portrait Craft
DESCRIPTION:In this Storytime session\, we will be celebrating families of all shapes in sizes through reading\, singing\, and creating a specialized portrait for every family in attendance. \nBest suited for children ages 0 – 5. \nPLEASE NOTE: You and your children will be photographed during this event. If you do not wish to have your picture taken\, please bring a physical family photo of your own for the craft.
URL:https://nlpl.ca/events/family-storytime-portrait-craft/
LOCATION:St. John’s – Marjorie Mews Public Library\, 12 Highland Drive\, St. John's\, NL\, A1A 3C4\, Canada
END:VEVENT
BEGIN:VEVENT
DTSTART;TZID=America/St_Johns:20260523T110000
DTEND;TZID=America/St_Johns:20260523T113000
DTSTAMP:20260421T180359
CREATED:20260323T174337Z
LAST-MODIFIED:20260323T174337Z
UID:10060207-1779534000-1779535800@nlpl.ca
SUMMARY:Family Storytime
DESCRIPTION:Join us at the CBS Public Library with the whole family for Storytime!\nThis is for all ages and drop in.
URL:https://nlpl.ca/events/family-storytime-6/2026-05-23/
LOCATION:Conception Bay South Public Library\, 10 Remembrance Square\, Conception Bay South\, NL\, Canada
CATEGORIES:Storytime
ATTACH;FMTTYPE=image/jpeg:https://nlpl.ca/wp-content/uploads/2023/03/Events-Kid-Families.jpg
ORGANIZER;CN="Conception Bay South Public Library":MAILTO:conceptionbaysouth@nlpl.ca
END:VEVENT
BEGIN:VEVENT
DTSTART;TZID=America/St_Johns:20260523T103000
DTEND;TZID=America/St_Johns:20260523T113000
DTSTAMP:20260421T180359
CREATED:20260103T140642Z
LAST-MODIFIED:20260325T214523Z
UID:10060253-1779532200-1779535800@nlpl.ca
SUMMARY:Family Storytime
DESCRIPTION:Stories\, songs and rhymes for the whole family! All ages and all abilities welcome
URL:https://nlpl.ca/events/family-storytime-2/2026-05-23/
LOCATION:Corner Brook Public Library\, 4 West Street\, Corner Brook\, NL\, A2H 0C1\, Canada
CATEGORIES:Kids & Families,Storytime
END:VEVENT
BEGIN:VEVENT
DTSTART;TZID=America/St_Johns:20260523T103000
DTEND;TZID=America/St_Johns:20260523T110000
DTSTAMP:20260421T180400
CREATED:20260312T183434Z
LAST-MODIFIED:20260418T175434Z
UID:10060007-1779532200-1779534000@nlpl.ca
SUMMARY:Saturday Storytime (Drop-In)
DESCRIPTION:Join us at the Ross King Memorial Library (Mount Pearl) for a Family Storytime every Saturday at 10:30am.  This Storytime features stories\, songs and rhymes and is geared for children ages 0-5 years and their caregivers.  Storytime lasts approximately 20-30 minutes (no registration required).
URL:https://nlpl.ca/events/drop-in-storytime-2-2/2026-05-23/
LOCATION:Mount Pearl Public Library\, 65 Olympic Drive\, Mount Pearl\, NL\, A1N 5H6\, Canada
CATEGORIES:Kids & Families,Storytime
ORGANIZER;CN="Mount Pearl":MAILTO:mountpearl@nlpl.ca
END:VEVENT
BEGIN:VEVENT
DTSTART;TZID=America/St_Johns:20260523T101500
DTEND;TZID=America/St_Johns:20260523T120000
DTSTAMP:20260421T180400
CREATED:20260418T131449Z
LAST-MODIFIED:20260418T181034Z
UID:10061517-1779531300-1779537600@nlpl.ca
SUMMARY:Tween 3D Print Workshop
DESCRIPTION:Join us at the Ross King Memorial Library (Mount Pearl) for a 3D Print Workshop especially for tweens!  This registered event will take place on Sat. May 23rd from 10:15am-12pm and participants must be 10-14 years old.  Participants will learn about the 3D print process and create a customized 3D print!
URL:https://nlpl.ca/events/tween-3d-print-workshop/
LOCATION:Mount Pearl Public Library\, 65 Olympic Drive\, Mount Pearl\, NL\, A1N 5H6\, Canada
CATEGORIES:Classes & Workshops,Hobbies, Crafts & Games
ORGANIZER;CN="Mount Pearl":MAILTO:mountpearl@nlpl.ca
END:VEVENT
BEGIN:VEVENT
DTSTART;TZID=America/St_Johns:20260523T100000
DTEND;TZID=America/St_Johns:20260523T163000
DTSTAMP:20260421T180400
CREATED:20260227T195830Z
LAST-MODIFIED:20260418T175236Z
UID:10060047-1779530400-1779553800@nlpl.ca
SUMMARY:Lego Free Play
DESCRIPTION:Join us at the Ross King Memorial Library (Mount Pearl) every Saturday for Lego Free Play.  We have Lego building blocks available every Saturday from 10am until 4:30pm.  Drop in and create something amazing!
URL:https://nlpl.ca/events/lego-free-play-2-2/2026-05-23/
LOCATION:Mount Pearl Public Library\, 65 Olympic Drive\, Mount Pearl\, NL\, A1N 5H6\, Canada
CATEGORIES:Kids & Families
ORGANIZER;CN="Mount Pearl":MAILTO:mountpearl@nlpl.ca
END:VEVENT
BEGIN:VEVENT
DTSTART;TZID=America/St_Johns:20260522T150000
DTEND;TZID=America/St_Johns:20260522T160000
DTSTAMP:20260421T180400
CREATED:20251103T201201Z
LAST-MODIFIED:20251125T194640Z
UID:10053865-1779462000-1779465600@nlpl.ca
SUMMARY:Family Passive Play
DESCRIPTION:
URL:https://nlpl.ca/events/family-passive-play/2026-05-22/
LOCATION:Bishop’s Falls Public Library\, 445 Main Street\, Bishop's Falls\, NL\, A0H 1C0\, Canada
END:VEVENT
BEGIN:VEVENT
DTSTART;TZID=America/St_Johns:20260522T140000
DTEND;TZID=America/St_Johns:20260522T163000
DTSTAMP:20260421T180400
CREATED:20260407T134939Z
LAST-MODIFIED:20260421T161545Z
UID:10060137-1779458400-1779467400@nlpl.ca
SUMMARY:Tech Help at CBS Public Library
DESCRIPTION:Book a one-on-one 30-minute tech help session on Friday afternoons. These sessions will be for basic tech help – including: accessing library books on Libby\, Microsoft Word or Google Docs\, email services\, setting up your new device\, and more!\n*Day-Of Registration Required – Please call the library (709-834-3620) from 10am-noon on the day you wish to book – let us know what device you will be bringing and what you need help with! Use of library computers\, laptops\, or tablets during these sessions is subject to availability.
URL:https://nlpl.ca/events/tech-help-at-cbs-public-library/2026-05-22/
LOCATION:Conception Bay South Public Library\, 10 Remembrance Square\, Conception Bay South\, NL\, Canada
CATEGORIES:Classes & Workshops
ATTACH;FMTTYPE=image/jpeg:https://nlpl.ca/wp-content/uploads/2023/03/Events-Classes-and-Workshops.jpg
END:VEVENT
BEGIN:VEVENT
DTSTART;TZID=America/St_Johns:20260522T140000
DTEND;TZID=America/St_Johns:20260522T163000
DTSTAMP:20260421T180400
CREATED:20260103T152206Z
LAST-MODIFIED:20260325T214908Z
UID:10060295-1779458400-1779467400@nlpl.ca
SUMMARY:LegoTime
DESCRIPTION:Show off your creativity and imagination with this drop-in program suitable for children of all ages (Lego recommended for ages 3+ and Duplo bricks available for younger siblings).
URL:https://nlpl.ca/events/legotime/2026-05-22/
LOCATION:Corner Brook Public Library\, 4 West Street\, Corner Brook\, NL\, A2H 0C1\, Canada
CATEGORIES:Kids & Families
END:VEVENT
BEGIN:VEVENT
DTSTART;TZID=America/St_Johns:20260522T140000
DTEND;TZID=America/St_Johns:20260522T160000
DTSTAMP:20260421T180400
CREATED:20260105T135729Z
LAST-MODIFIED:20260312T152751Z
UID:10059892-1779458400-1779465600@nlpl.ca
SUMMARY:Lego Free Play
DESCRIPTION:Harmsworth Public Library – What will you create? Create something fun at our LEGO free play!
URL:https://nlpl.ca/events/lego-free-play-6-2-2/2026-05-22/
LOCATION:Grand Falls-Windsor (Harmsworth) Public Library\, 1 Cromer Avenue\, Grand Falls - Windsor\, NL\, A2A 1W9\, Canada
CATEGORIES:Kids & Families
ATTACH;FMTTYPE=image/jpeg:https://nlpl.ca/wp-content/uploads/2023/03/Events-Kid-Families.jpg
END:VEVENT
BEGIN:VEVENT
DTSTART;TZID=America/St_Johns:20260522T130000
DTEND;TZID=America/St_Johns:20260522T150000
DTSTAMP:20260421T180400
CREATED:20260319T170115Z
LAST-MODIFIED:20260319T170116Z
UID:10056785-1779454800-1779462000@nlpl.ca
SUMMARY:Drop In Play
DESCRIPTION:Visit the Port aux Basques Public Library every Friday afternoon for Drop In Play! A number of toys are available for free play. Enjoy a chance to get out of the house and socialize with other kids and caregivers.
URL:https://nlpl.ca/events/drop-in-play-2/2026-05-22/
LOCATION:Port aux Basques Public Library\, 8 Grand Bay\, Port aux Basques\, NL\, A0M 1C0\, Canada
CATEGORIES:Kids & Families
ATTACH;FMTTYPE=image/jpeg:https://nlpl.ca/wp-content/uploads/2023/03/Events-Kid-Families.jpg
END:VEVENT
BEGIN:VEVENT
DTSTART;TZID=America/St_Johns:20260522T103000
DTEND;TZID=America/St_Johns:20260522T110000
DTSTAMP:20260421T180400
CREATED:20260105T135443Z
LAST-MODIFIED:20260312T152214Z
UID:10059901-1779445800-1779447600@nlpl.ca
SUMMARY:Family Storytime
DESCRIPTION:Harmsworth Public Library – A 30-minute interactive program celebrating books\, rhymes\, movement\, songs\, and fun that is perfect for families with multiple children\, ages 0-5
URL:https://nlpl.ca/events/family-storytime-3/2026-05-22/
LOCATION:Grand Falls-Windsor (Harmsworth) Public Library\, 1 Cromer Avenue\, Grand Falls - Windsor\, NL\, A2A 1W9\, Canada
CATEGORIES:Kids & Families
ATTACH;FMTTYPE=image/jpeg:https://nlpl.ca/wp-content/uploads/2023/03/Events-Kid-Families.jpg
END:VEVENT
END:VCALENDAR