BEGIN:VCALENDAR
VERSION:2.0
PRODID:-//Newfoundland &amp; Labrador Public Libraries - ECPv6.15.20//NONSGML v1.0//EN
CALSCALE:GREGORIAN
METHOD:PUBLISH
X-ORIGINAL-URL:https://nlpl.ca
X-WR-CALDESC:Events for Newfoundland &amp; Labrador Public Libraries
REFRESH-INTERVAL;VALUE=DURATION:PT1H
X-Robots-Tag:noindex
X-PUBLISHED-TTL:PT1H
BEGIN:VTIMEZONE
TZID:America/St_Johns
BEGIN:DAYLIGHT
TZOFFSETFROM:-0330
TZOFFSETTO:-0230
TZNAME:NDT
DTSTART:20250309T053000
END:DAYLIGHT
BEGIN:STANDARD
TZOFFSETFROM:-0230
TZOFFSETTO:-0330
TZNAME:NST
DTSTART:20251102T043000
END:STANDARD
BEGIN:DAYLIGHT
TZOFFSETFROM:-0330
TZOFFSETTO:-0230
TZNAME:NDT
DTSTART:20260308T053000
END:DAYLIGHT
BEGIN:STANDARD
TZOFFSETFROM:-0230
TZOFFSETTO:-0330
TZNAME:NST
DTSTART:20261101T043000
END:STANDARD
BEGIN:DAYLIGHT
TZOFFSETFROM:-0330
TZOFFSETTO:-0230
TZNAME:NDT
DTSTART:20270314T053000
END:DAYLIGHT
BEGIN:STANDARD
TZOFFSETFROM:-0230
TZOFFSETTO:-0330
TZNAME:NST
DTSTART:20271107T043000
END:STANDARD
END:VTIMEZONE
BEGIN:VEVENT
DTSTART;TZID=America/St_Johns:20260307T100000
DTEND;TZID=America/St_Johns:20260307T140000
DTSTAMP:20260421T114659
CREATED:20260202T192359Z
LAST-MODIFIED:20260202T192359Z
UID:10058040-1772877600-1772892000@nlpl.ca
SUMMARY:Drop-in Lego Play
DESCRIPTION:We provide the space and Lego’s\, you provide the fun and creativity!
URL:https://nlpl.ca/events/drop-in-lego-play/2026-03-07/
LOCATION:Labrador City Public Library\, 306 Hudson Dr.\, Labrador City\, NL\, A2V 1L5\, Canada
CATEGORIES:Kids & Families
ATTACH;FMTTYPE=image/jpeg:https://nlpl.ca/wp-content/uploads/2023/03/Events-Kid-Families.jpg
END:VEVENT
BEGIN:VEVENT
DTSTART;TZID=America/St_Johns:20260307T100000
DTEND;TZID=America/St_Johns:20260307T163000
DTSTAMP:20260421T114659
CREATED:20260227T195830Z
LAST-MODIFIED:20260418T175236Z
UID:10055457-1772877600-1772901000@nlpl.ca
SUMMARY:Lego Free Play
DESCRIPTION:Join us at the Ross King Memorial Library (Mount Pearl) every Saturday for Lego Free Play.  We have Lego building blocks available every Saturday from 10am until 4:30pm.  Drop in and create something amazing!
URL:https://nlpl.ca/events/lego-free-play-2-2/2026-03-07/
LOCATION:Mount Pearl Public Library\, 65 Olympic Drive\, Mount Pearl\, NL\, A1N 5H6\, Canada
CATEGORIES:Kids & Families
ORGANIZER;CN="Mount Pearl":MAILTO:mountpearl@nlpl.ca
END:VEVENT
BEGIN:VEVENT
DTSTART;TZID=America/St_Johns:20260307T103000
DTEND;TZID=America/St_Johns:20260307T113000
DTSTAMP:20260421T114659
CREATED:20260103T140642Z
LAST-MODIFIED:20260325T214523Z
UID:10055904-1772879400-1772883000@nlpl.ca
SUMMARY:Family Storytime
DESCRIPTION:Stories\, songs and rhymes for the whole family! All ages and all abilities welcome
URL:https://nlpl.ca/events/family-storytime-2/2026-03-07/
LOCATION:Corner Brook Public Library\, 4 West Street\, Corner Brook\, NL\, A2H 0C1\, Canada
CATEGORIES:Kids & Families,Storytime
END:VEVENT
BEGIN:VEVENT
DTSTART;TZID=America/St_Johns:20260307T103000
DTEND;TZID=America/St_Johns:20260307T113000
DTSTAMP:20260421T114659
CREATED:20260107T181135Z
LAST-MODIFIED:20260107T181552Z
UID:10056535-1772879400-1772883000@nlpl.ca
SUMMARY:Storytime!
DESCRIPTION:Join us as Port aux Basques Public Library for storytime! It’s a great way to have your child enjoy the library and foster a lifelong love of reading. Come and enjoy some books\, songs\, poems and rhymes. Toys and games are also available for free play.
URL:https://nlpl.ca/events/storytime-3/2026-03-07/
LOCATION:Port aux Basques Public Library\, 8 Grand Bay\, Port aux Basques\, NL\, A0M 1C0\, Canada
CATEGORIES:Kids & Families,Storytime
ATTACH;FMTTYPE=image/jpeg:https://nlpl.ca/wp-content/uploads/2023/03/Events-Kid-Families.jpg
END:VEVENT
BEGIN:VEVENT
DTSTART;TZID=America/St_Johns:20260307T110000
DTEND;TZID=America/St_Johns:20260307T143000
DTSTAMP:20260421T114659
CREATED:20260113T185623Z
LAST-MODIFIED:20260303T183651Z
UID:10059618-1772881200-1772893800@nlpl.ca
SUMMARY:LEGO Free Play
DESCRIPTION:LEGO Free Play at the Harbour Grace Public Library. Every Saturday from 11am-2:30pm. Drop in for some creative play! We supply the LEGO blocks. All you need to bring is your imagination! Children under 10 must be accompanied by a parent or guardian. No registration required.
URL:https://nlpl.ca/events/lego-free-play-3/2026-03-07/
LOCATION:Harbour Grace Public Library\, 106 Harvey Street\, Harbour Grace\, NL\, A0A 2M0\, Canada
END:VEVENT
BEGIN:VEVENT
DTSTART;TZID=America/St_Johns:20260307T110000
DTEND;TZID=America/St_Johns:20260307T150000
DTSTAMP:20260421T114659
CREATED:20260205T191657Z
LAST-MODIFIED:20260205T191754Z
UID:10058229-1772881200-1772895600@nlpl.ca
SUMMARY:Master Builders
DESCRIPTION:(5+) Passive program for open Lego play. We provide the Lego\, you provide the fun! Come and go anytime during 11am – 3pm on Saturdays.
URL:https://nlpl.ca/events/master-builders/2026-03-07/
LOCATION:Stephenville Public Library (Kindale)\, 45 Carolina Ave.\, Stephenville\, NL\, A2N 3P8\, Canada
CATEGORIES:Hobbies, Crafts & Games
ATTACH;FMTTYPE=image/jpeg:https://nlpl.ca/wp-content/uploads/2023/03/Events-Hobbies-Crafts-and-Games.jpg
END:VEVENT
BEGIN:VEVENT
DTSTART;TZID=America/St_Johns:20260307T143000
DTEND;TZID=America/St_Johns:20260307T153000
DTSTAMP:20260421T114659
CREATED:20250820T195340Z
LAST-MODIFIED:20260228T051949Z
UID:10049134-1772893800-1772897400@nlpl.ca
SUMMARY:Murder BookClub
DESCRIPTION:Join Pamela one Saturday afternoon a month to discuss murder mysteries and only murder mysteries.\nCall (709)737-3950 for more information.
URL:https://nlpl.ca/events/murder-bookclub-2/2026-03-07/
LOCATION:St. John’s – A.C. Hunter Public Library\, 125 Allandale Road\, St. John's\, NL\, A1B 3A3\, Canada
CATEGORIES:Book Clubs & Writer’s Groups
ATTACH;FMTTYPE=image/jpeg:https://nlpl.ca/wp-content/uploads/2023/03/Events-Book-Clubs-and-Writing-Groups.jpg
END:VEVENT
BEGIN:VEVENT
DTSTART;TZID=America/St_Johns:20260309T140000
DTEND;TZID=America/St_Johns:20260309T160000
DTSTAMP:20260421T114659
CREATED:20250818T121419Z
LAST-MODIFIED:20260312T153407Z
UID:10056092-1773064800-1773072000@nlpl.ca
SUMMARY:Rug Hooking
DESCRIPTION:Harmsworth Public Library – Get “hooked” on rug making every Monday afternoon. Whether you are a beginner or a seasoned artist\, come share your rug-hooked works and techniques with a fun group of rug hookers.
URL:https://nlpl.ca/events/rug-hooking-2/2026-03-09/
LOCATION:Grand Falls-Windsor (Harmsworth) Public Library\, 1 Cromer Avenue\, Grand Falls - Windsor\, NL\, A2A 1W9\, Canada
CATEGORIES:Hobbies, Crafts & Games
ATTACH;FMTTYPE=image/jpeg:https://nlpl.ca/wp-content/uploads/2023/03/Events-Hobbies-Crafts-and-Games.jpg
END:VEVENT
BEGIN:VEVENT
DTSTART;TZID=America/St_Johns:20260309T150000
DTEND;TZID=America/St_Johns:20260309T160000
DTSTAMP:20260421T114659
CREATED:20251103T201201Z
LAST-MODIFIED:20251125T194640Z
UID:10053811-1773068400-1773072000@nlpl.ca
SUMMARY:Family Passive Play
DESCRIPTION:
URL:https://nlpl.ca/events/family-passive-play/2026-03-09/
LOCATION:Bishop’s Falls Public Library\, 445 Main Street\, Bishop's Falls\, NL\, A0H 1C0\, Canada
END:VEVENT
BEGIN:VEVENT
DTSTART;TZID=America/St_Johns:20260309T150000
DTEND;TZID=America/St_Johns:20260309T200000
DTSTAMP:20260421T114659
CREATED:20260304T172104Z
LAST-MODIFIED:20260317T164251Z
UID:10059711-1773068400-1773086400@nlpl.ca
SUMMARY:Quilting with Kay
DESCRIPTION:Come and enjoy an afternoon of beginner quilting with Kay Warford!!
URL:https://nlpl.ca/events/quilting-with-kay-2/2026-03-09/
LOCATION:Point Leamington Public Library\, 1 Rice's Drive\, Point Leamington\, NL\, A0H 1Z0\, Canada
CATEGORIES:Hobbies, Crafts & Games
END:VEVENT
BEGIN:VEVENT
DTSTART;TZID=America/St_Johns:20260309T180000
DTEND;TZID=America/St_Johns:20260309T200000
DTSTAMP:20260421T114659
CREATED:20251001T170959Z
LAST-MODIFIED:20251128T205518Z
UID:10051846-1773079200-1773086400@nlpl.ca
SUMMARY:Traditional NL Rug Hooking
DESCRIPTION:Drop in group at Point Leamington Public Library for rug hookers to work on their own projects.\nAll skill levels are welcome.
URL:https://nlpl.ca/events/traditional-nl-rug-hooking-2/2026-03-09/
LOCATION:Point Leamington Public Library\, 1 Rice's Drive\, Point Leamington\, NL\, A0H 1Z0\, Canada
CATEGORIES:Hobbies, Crafts & Games
ATTACH;FMTTYPE=image/jpeg:https://nlpl.ca/wp-content/uploads/2023/03/Events-Hobbies-Crafts-and-Games.jpg
END:VEVENT
BEGIN:VEVENT
DTSTART;TZID=America/St_Johns:20260310T060000
DTEND;TZID=America/St_Johns:20260310T193000
DTSTAMP:20260421T114659
CREATED:20251120T191835Z
LAST-MODIFIED:20251125T195038Z
UID:10055164-1773122400-1773171000@nlpl.ca
SUMMARY:Tuesday Night Tabletop Board Gaming
DESCRIPTION:New-Wes-Valley Public Libraries welcomes everyone to Tuesday night Board Gaming.  From 6 pm – 7:30 pm play from a wide selection of games from the libraries collection\, or bring you own.  Hope to see you there. \n 
URL:https://nlpl.ca/events/tuesday-night-tabletop-board-gaming/2026-03-10/
CATEGORIES:Hobbies, Crafts & Games
END:VEVENT
BEGIN:VEVENT
DTSTART;TZID=America/St_Johns:20260310T100000
DTEND;TZID=America/St_Johns:20260310T110000
DTSTAMP:20260421T114659
CREATED:20251015T144618Z
LAST-MODIFIED:20251015T161058Z
UID:10052604-1773136800-1773140400@nlpl.ca
SUMMARY:Family Story Time
DESCRIPTION:
URL:https://nlpl.ca/events/family-story-time-2/2026-03-10/
LOCATION:Bishop’s Falls Public Library\, 445 Main Street\, Bishop's Falls\, NL\, A0H 1C0\, Canada
CATEGORIES:Kids & Families,Storytime
END:VEVENT
BEGIN:VEVENT
DTSTART;TZID=America/St_Johns:20260310T100000
DTEND;TZID=America/St_Johns:20260310T120000
DTSTAMP:20260421T114659
CREATED:20260103T155608Z
LAST-MODIFIED:20260325T215109Z
UID:10055953-1773136800-1773144000@nlpl.ca
SUMMARY:Digital Learning+
DESCRIPTION:Small group workshops and classes for lifelong learning with a focus on digital literacy presented as part of The Murphy Centre’s ACCESS to Learning program. \nfree | registration required \nFor more information or registration contact: chrisjoseph@murphycentre.ca 709-640-6718 and/or reneesherstobetoff@murphycentre.ca 709-640-5616 \n  \n 
URL:https://nlpl.ca/events/digital-learning/2026-03-10/
LOCATION:Corner Brook Public Library\, 4 West Street\, Corner Brook\, NL\, A2H 0C1\, Canada
END:VEVENT
BEGIN:VEVENT
DTSTART;TZID=America/St_Johns:20260310T113000
DTEND;TZID=America/St_Johns:20260310T123000
DTSTAMP:20260421T114659
CREATED:20260227T193732Z
LAST-MODIFIED:20260418T174819Z
UID:10059386-1773142200-1773145800@nlpl.ca
SUMMARY:Tech Tuesdays
DESCRIPTION:Drop by the Ross King Memorial Library (Mount Pearl) from 11:30 AM – 12:30 PM on Tuesdays for our Tech Tuesdays program.  This program will give you tips on how to use devices such as a laptop\, tablet or cell phone as well as provide answers to your questions about how to use Library resources such as Libby\, Connect Pass\, and the NLPL Events Calendar and Catalogue.  This is a drop in program and is conducted on first-come\, first-serve basis.
URL:https://nlpl.ca/events/tech-tuesdays-3-2/2026-03-10/
LOCATION:Mount Pearl Public Library\, 65 Olympic Drive\, Mount Pearl\, NL\, A1N 5H6\, Canada
CATEGORIES:Classes & Workshops,Information Session,Technology & Makerspace
ORGANIZER;CN="Mount Pearl":MAILTO:mountpearl@nlpl.ca
END:VEVENT
BEGIN:VEVENT
DTSTART;TZID=America/St_Johns:20260310T140000
DTEND;TZID=America/St_Johns:20260310T153000
DTSTAMP:20260421T114659
CREATED:20250310T162548Z
LAST-MODIFIED:20260408T174230Z
UID:10059518-1773151200-1773156600@nlpl.ca
SUMMARY:Breastfeeding Clinic
DESCRIPTION:Drop in to the Conception Bay South Public Library for the Breastfeeding Clinic provided by Community Health\, Drop in for parents and babies.
URL:https://nlpl.ca/events/breastfeeding-clinic-3/2026-03-10/
LOCATION:Conception Bay South Public Library\, 10 Remembrance Square\, Conception Bay South\, NL\, Canada
CATEGORIES:Heath & Wellbeing,Kids & Families
ATTACH;FMTTYPE=image/jpeg:https://nlpl.ca/wp-content/uploads/2023/03/Events-Health-and-Wellbeing.jpg
ORGANIZER;CN="Conception Bay South Public Library":MAILTO:conceptionbaysouth@nlpl.ca
END:VEVENT
BEGIN:VEVENT
DTSTART;TZID=America/St_Johns:20260310T140000
DTEND;TZID=America/St_Johns:20260310T153000
DTSTAMP:20260421T114659
CREATED:20260103T140335Z
LAST-MODIFIED:20260325T214626Z
UID:10055894-1773151200-1773156600@nlpl.ca
SUMMARY:BabyTime StoryTime
DESCRIPTION:Stories\, songs and rhymes for babies (ages 0-2) and parents/caregivers followed by playtime.
URL:https://nlpl.ca/events/babytime-storytime/2026-03-10/
LOCATION:Corner Brook Public Library\, 4 West Street\, Corner Brook\, NL\, A2H 0C1\, Canada
CATEGORIES:Kids & Families,Storytime
END:VEVENT
BEGIN:VEVENT
DTSTART;TZID=America/St_Johns:20260310T150000
DTEND;TZID=America/St_Johns:20260310T160000
DTSTAMP:20260421T114659
CREATED:20251103T201201Z
LAST-MODIFIED:20251125T194640Z
UID:10053812-1773154800-1773158400@nlpl.ca
SUMMARY:Family Passive Play
DESCRIPTION:
URL:https://nlpl.ca/events/family-passive-play/2026-03-10/
LOCATION:Bishop’s Falls Public Library\, 445 Main Street\, Bishop's Falls\, NL\, A0H 1C0\, Canada
END:VEVENT
BEGIN:VEVENT
DTSTART;TZID=America/St_Johns:20260310T153000
DTEND;TZID=America/St_Johns:20260310T163000
DTSTAMP:20260421T114659
CREATED:20250821T155247Z
LAST-MODIFIED:20260415T221903Z
UID:10059524-1773156600-1773160200@nlpl.ca
SUMMARY:Baby Play Group
DESCRIPTION:Drop in to the Conception Bay South Public Library where the storytime room  will be open for baby play time\, with baby-friendly toys available! This is a drop-in program\, best suited for ages 0-2.
URL:https://nlpl.ca/events/baby-play-group/2026-03-10/
LOCATION:Conception Bay South Public Library\, 10 Remembrance Square\, Conception Bay South\, NL\, Canada
CATEGORIES:Kids & Families
ATTACH;FMTTYPE=image/jpeg:https://nlpl.ca/wp-content/uploads/2023/03/Events-Kid-Families.jpg
END:VEVENT
BEGIN:VEVENT
DTSTART;TZID=America/St_Johns:20260310T160000
DTEND;TZID=America/St_Johns:20260310T170000
DTSTAMP:20260421T114659
CREATED:20250630T172012Z
LAST-MODIFIED:20260312T153102Z
UID:10056075-1773158400-1773162000@nlpl.ca
SUMMARY:Sensory Hour
DESCRIPTION:Harmsworth Public Library – Sensory-friendly browsing hour that includes reduced lighting and reduced noise.
URL:https://nlpl.ca/events/sensory-hour-4-2/2026-03-10/
LOCATION:Grand Falls-Windsor (Harmsworth) Public Library\, 1 Cromer Avenue\, Grand Falls - Windsor\, NL\, A2A 1W9\, Canada
CATEGORIES:Heath & Wellbeing
END:VEVENT
BEGIN:VEVENT
DTSTART;TZID=America/St_Johns:20260310T173000
DTEND;TZID=America/St_Johns:20260310T193000
DTSTAMP:20260421T114659
CREATED:20260105T144032Z
LAST-MODIFIED:20260312T152652Z
UID:10056126-1773163800-1773171000@nlpl.ca
SUMMARY:Dungeons & Dragons
DESCRIPTION:Harmsworth Public Library – Curious about Dungeons & Dragons? Are you looking to join a new group? Join us every Tuesday from 5:30 to 7:30 PM. \nNew and experienced players welcome. 13+ years. \nTo register\, phone #709-489-2303 or visit the library \n 
URL:https://nlpl.ca/events/dungeons-dragons-3-2/2026-03-10/
LOCATION:Grand Falls-Windsor (Harmsworth) Public Library\, 1 Cromer Avenue\, Grand Falls - Windsor\, NL\, A2A 1W9\, Canada
CATEGORIES:Hobbies, Crafts & Games
ATTACH;FMTTYPE=image/jpeg:https://nlpl.ca/wp-content/uploads/2023/03/Events-Hobbies-Crafts-and-Games.jpg
END:VEVENT
BEGIN:VEVENT
DTSTART;TZID=America/St_Johns:20260310T180000
DTEND;TZID=America/St_Johns:20260310T190000
DTSTAMP:20260421T114659
CREATED:20260102T193405Z
LAST-MODIFIED:20260102T193514Z
UID:10055587-1773165600-1773169200@nlpl.ca
SUMMARY:Sensory Hour
DESCRIPTION:Grander Public Library – Quiet Area\, Reduced Noise and Lighting. All ages.
URL:https://nlpl.ca/events/sensory-hour-2-2/2026-03-10/
LOCATION:Gander Public & Resource Library\, 6 Bell Place\, Gander\, NL\, A1V 1X2\, Canada
CATEGORIES:Heath & Wellbeing
ATTACH;FMTTYPE=image/jpeg:https://nlpl.ca/wp-content/uploads/2019/04/Depositphotos_3928992_xl-2015.jpg
END:VEVENT
BEGIN:VEVENT
DTSTART;TZID=America/St_Johns:20260310T183000
DTEND;TZID=America/St_Johns:20260310T190000
DTSTAMP:20260421T114659
CREATED:20260105T134733Z
LAST-MODIFIED:20260312T153536Z
UID:10056139-1773167400-1773169200@nlpl.ca
SUMMARY:Bedtime Family Storytime
DESCRIPTION:Harmsworth Public Library – A 30-minute interactive program celebrating books\, rhymes\, movement\, songs\, and fun that is perfect for families with multiple children\, ages 0-5
URL:https://nlpl.ca/events/bedtime-family-storytime-2/2026-03-10/
LOCATION:Grand Falls-Windsor (Harmsworth) Public Library\, 1 Cromer Avenue\, Grand Falls - Windsor\, NL\, A2A 1W9\, Canada
CATEGORIES:Kids & Families
ATTACH;FMTTYPE=image/jpeg:https://nlpl.ca/wp-content/uploads/2023/03/Events-Kid-Families.jpg
END:VEVENT
BEGIN:VEVENT
DTSTART;TZID=America/St_Johns:20260311T100000
DTEND;TZID=America/St_Johns:20260311T130000
DTSTAMP:20260421T114659
CREATED:20240903T132133Z
LAST-MODIFIED:20260415T215148Z
UID:10059530-1773223200-1773234000@nlpl.ca
SUMMARY:Rug Hooking
DESCRIPTION:Drop in group at the Conception Bay South Public Library for crafters to work on their own projects with company.\nAll skill levels are welcome.
URL:https://nlpl.ca/events/rug-hooking/2026-03-11/
LOCATION:Conception Bay South Public Library\, 10 Remembrance Square\, Conception Bay South\, NL\, Canada
CATEGORIES:Hobbies, Crafts & Games
ATTACH;FMTTYPE=image/jpeg:https://nlpl.ca/wp-content/uploads/2023/03/Events-Hobbies-Crafts-and-Games.jpg
ORGANIZER;CN="Conception Bay South Public Library":MAILTO:conceptionbaysouth@nlpl.ca
END:VEVENT
BEGIN:VEVENT
DTSTART;TZID=America/St_Johns:20260311T130000
DTEND;TZID=America/St_Johns:20260311T150000
DTSTAMP:20260421T114659
CREATED:20260103T151625Z
LAST-MODIFIED:20260325T214136Z
UID:10055917-1773234000-1773241200@nlpl.ca
SUMMARY:Rug Hooking Group
DESCRIPTION:Bring your supplies and current projects and join others for conversation and inspiration. New members and beginners are welcome!
URL:https://nlpl.ca/events/rug-hooking-group/2026-03-11/
LOCATION:Corner Brook Public Library\, 4 West Street\, Corner Brook\, NL\, A2H 0C1\, Canada
CATEGORIES:Holiday & Seasonal
END:VEVENT
BEGIN:VEVENT
DTSTART;TZID=America/St_Johns:20260311T130000
DTEND;TZID=America/St_Johns:20260311T153000
DTSTAMP:20260421T114659
CREATED:20260219T131709Z
LAST-MODIFIED:20260219T131709Z
UID:10059307-1773234000-1773243000@nlpl.ca
SUMMARY:Knitting Group
DESCRIPTION:Adult knitting group\, non-instructive. Join others who share in a love of knitting. Bring your projects and knit with friends\, old and new!
URL:https://nlpl.ca/events/knitting-group-2/2026-03-11/
LOCATION:Stephenville Public Library (Kindale)\, 45 Carolina Ave.\, Stephenville\, NL\, A2N 3P8\, Canada
CATEGORIES:Hobbies, Crafts & Games
ATTACH;FMTTYPE=image/jpeg:https://nlpl.ca/wp-content/uploads/2023/03/Events-Hobbies-Crafts-and-Games.jpg
END:VEVENT
BEGIN:VEVENT
DTSTART;TZID=America/St_Johns:20260311T133000
DTEND;TZID=America/St_Johns:20260311T150000
DTSTAMP:20260421T114659
CREATED:20260122T012129Z
LAST-MODIFIED:20260326T173404Z
UID:10056926-1773235800-1773241200@nlpl.ca
SUMMARY:ACH Patron Bookclub
DESCRIPTION:Celebrating 28 years. This Bookclub is a patron-run book club that discusses all kinds of books. Meeting the second Wednesday of each month\, the ACH PBC welcomes new members. \nEmail noelshuell@hotmail.com for more info.\nWe will be discussing \nApril 8\, 2026\, 6:30 p.m: THE BERRY PICKERS [2023] by Amanda Peters. 304 pages. Kit\, 3 local copies\, 3 regional copies\, ebook\, audiobook. Maine USA\, Indigenous domestic mystery fiction. Goodreads score 4.1*/5 (208\,880 ratings). \nApril 8\, 2026\, 6:30 p.m: THE BERRY PICKERS [2023] by Amanda Peters. 304 pages. Kit\, 3 local copies\, 3 regional copies\, ebook\, audiobook. Maine USA\, Indigenous domestic mystery fiction. Goodreads score 4.1*/5 (208\,880 ratings). \nMay 13\, 2026\, 6:30 p.m: THE BORROWED LIFE OF FREDERICK FIFE [2024] by Anna Johnston [1983]. 336 pages. 13 provincial copies\, 3 local copies\, ebook. Australia\, Humorous romance. Goodreads score: 4.3*/5 (55\,008 reviewers). \nJune 10\, 2026\, 6:30 p.m: PICK A COLOUR [2025] by Souvankham Thammavongsa [1978]. 192 pages. 3 local copies\, 8 provincial copies\, ebook. Canada\, Short Stories. Goodreads score: 3.4*/5 (3\,956 reviewers).
URL:https://nlpl.ca/events/ach-patron-bookclub/2026-03-11/
LOCATION:St. John’s – A.C. Hunter Public Library\, 125 Allandale Road\, St. John's\, NL\, A1B 3A3\, Canada
CATEGORIES:Book Clubs & Writer’s Groups
END:VEVENT
BEGIN:VEVENT
DTSTART;TZID=America/St_Johns:20260311T140000
DTEND;TZID=America/St_Johns:20260311T150000
DTSTAMP:20260421T114659
CREATED:20260305T170949Z
LAST-MODIFIED:20260305T171132Z
UID:10059715-1773237600-1773241200@nlpl.ca
SUMMARY:Children’s Story Time
DESCRIPTION:Pre-registration is mandatory for each Children’s Story Time
URL:https://nlpl.ca/events/childrens-story-time/2026-03-11/
LOCATION:Deer Lake Public Library\, 4 Poplar Road\, Deer Lake\, NL\, A8A 1Z4\, Canada
CATEGORIES:Kids & Families,Storytime
END:VEVENT
BEGIN:VEVENT
DTSTART;TZID=America/St_Johns:20260311T140000
DTEND;TZID=America/St_Johns:20260311T153000
DTSTAMP:20260421T114659
CREATED:20260102T194258Z
LAST-MODIFIED:20260102T194922Z
UID:10055613-1773237600-1773243000@nlpl.ca
SUMMARY:Crafter's Corner
DESCRIPTION:Grander Public Library – Bring in a project that you are working on. Either it be knitting\, crochet\, rug hooking
URL:https://nlpl.ca/events/crafters-corner-3-2-2/2026-03-11/
LOCATION:Gander Public & Resource Library\, 6 Bell Place\, Gander\, NL\, A1V 1X2\, Canada
CATEGORIES:Hobbies, Crafts & Games
ATTACH;FMTTYPE=image/jpeg:https://nlpl.ca/wp-content/uploads/2023/03/Events-Hobbies-Crafts-and-Games.jpg
END:VEVENT
BEGIN:VEVENT
DTSTART;TZID=America/St_Johns:20260311T140000
DTEND;TZID=America/St_Johns:20260311T160000
DTSTAMP:20260421T114659
CREATED:20260202T192039Z
LAST-MODIFIED:20260202T192039Z
UID:10058028-1773237600-1773244800@nlpl.ca
SUMMARY:Drop-in Sensory Play
DESCRIPTION:Our library has acquired a small sensory table. \nEach Wednesday afternoon from 2-4pm we will have it out for free play. \nAll ages are welcome\, best suited to toddler and preschool age.
URL:https://nlpl.ca/events/drop-in-sensory-play/2026-03-11/
LOCATION:Labrador City Public Library\, 306 Hudson Dr.\, Labrador City\, NL\, A2V 1L5\, Canada
CATEGORIES:Kids & Families
ATTACH;FMTTYPE=image/jpeg:https://nlpl.ca/wp-content/uploads/2023/03/Events-Kid-Families.jpg
END:VEVENT
END:VCALENDAR