BEGIN:VCALENDAR
VERSION:2.0
PRODID:-//Newfoundland &amp; Labrador Public Libraries - ECPv6.15.20//NONSGML v1.0//EN
CALSCALE:GREGORIAN
METHOD:PUBLISH
X-WR-CALNAME:Newfoundland &amp; Labrador Public Libraries
X-ORIGINAL-URL:https://nlpl.ca
X-WR-CALDESC:Events for Newfoundland &amp; Labrador Public Libraries
REFRESH-INTERVAL;VALUE=DURATION:PT1H
X-Robots-Tag:noindex
X-PUBLISHED-TTL:PT1H
BEGIN:VTIMEZONE
TZID:America/St_Johns
BEGIN:DAYLIGHT
TZOFFSETFROM:-0330
TZOFFSETTO:-0230
TZNAME:NDT
DTSTART:20250309T053000
END:DAYLIGHT
BEGIN:STANDARD
TZOFFSETFROM:-0230
TZOFFSETTO:-0330
TZNAME:NST
DTSTART:20251102T043000
END:STANDARD
BEGIN:DAYLIGHT
TZOFFSETFROM:-0330
TZOFFSETTO:-0230
TZNAME:NDT
DTSTART:20260308T053000
END:DAYLIGHT
BEGIN:STANDARD
TZOFFSETFROM:-0230
TZOFFSETTO:-0330
TZNAME:NST
DTSTART:20261101T043000
END:STANDARD
BEGIN:DAYLIGHT
TZOFFSETFROM:-0330
TZOFFSETTO:-0230
TZNAME:NDT
DTSTART:20270314T053000
END:DAYLIGHT
BEGIN:STANDARD
TZOFFSETFROM:-0230
TZOFFSETTO:-0330
TZNAME:NST
DTSTART:20271107T043000
END:STANDARD
END:VTIMEZONE
BEGIN:VEVENT
DTSTART;TZID=America/St_Johns:20260326T130000
DTEND;TZID=America/St_Johns:20260326T150000
DTSTAMP:20260421T182520
CREATED:20250702T192402Z
LAST-MODIFIED:20260410T152336Z
UID:10059420-1774530000-1774537200@nlpl.ca
SUMMARY:CBS Knitting Group
DESCRIPTION:Everyone is welcome ! Bring your project and meet up with fellow knitters!
URL:https://nlpl.ca/events/knitting-group-4/2026-03-26/
LOCATION:Conception Bay South Public Library\, 10 Remembrance Square\, Conception Bay South\, NL\, Canada
CATEGORIES:Hobbies, Crafts & Games
ATTACH;FMTTYPE=image/jpeg:https://nlpl.ca/wp-content/uploads/2023/03/Events-Hobbies-Crafts-and-Games.jpg
ORGANIZER;CN="Conception Bay South Public Library":MAILTO:conceptionbaysouth@nlpl.ca
END:VEVENT
BEGIN:VEVENT
DTSTART;TZID=America/St_Johns:20260326T110000
DTEND;TZID=America/St_Johns:20260326T113000
DTSTAMP:20260421T182520
CREATED:20260120T181823Z
LAST-MODIFIED:20260120T181823Z
UID:10056982-1774522800-1774524600@nlpl.ca
SUMMARY:Preschool Storytime
DESCRIPTION:A registered event at A.C. Hunter Children’s Library. \n6 weeks of Spring Storytime! Storytime runs from March 19 to April 30 (no storytime April 9 due to spring break)\nPreschool Storytime for ages 3-5 years\nThursdays at 11:00am \n\n\n\nWhat is Preschool Storytime?\nFor children ready for a little more independence! The staff will read books\, tell stories and lead rhymes and songs. Caregivers remain in the room. 30 minutes. \n\n  \nREGISTRATION OPENS AT 9:30am March 6 – online or by calling 709-737-3953 \n\n\n\n  \n\n\n\n 
URL:https://nlpl.ca/events/preschool-storytime-2/2026-03-26/
LOCATION:St. John’s – A.C. Hunter Children’s Public Library\, 95 Allandale Road\, St. John's\, NL\, A1E 3A3\, Canada
CATEGORIES:Storytime
END:VEVENT
BEGIN:VEVENT
DTSTART;TZID=America/St_Johns:20260326T100000
DTEND;TZID=America/St_Johns:20260326T120000
DTSTAMP:20260421T182520
CREATED:20260103T161028Z
LAST-MODIFIED:20260325T214958Z
UID:10056020-1774519200-1774526400@nlpl.ca
SUMMARY:Digital Learning+
DESCRIPTION:Small group workshops and classes for lifelong learning with a focus on digital literacy presented as part of The Murphy Centre’s ACCESS to Learning program. \nfree | registration required \nFor more information or registration contact: chrisjoseph@murphycentre.ca 709-640-6718 and/or reneesherstobetoff@murphycentre.ca 709-640-5616 \n  \n 
URL:https://nlpl.ca/events/digital-learning-2/2026-03-26/
LOCATION:Corner Brook Public Library\, 4 West Street\, Corner Brook\, NL\, A2H 0C1\, Canada
END:VEVENT
BEGIN:VEVENT
DTSTART;TZID=America/St_Johns:20260326T100000
DTEND;TZID=America/St_Johns:20260326T120000
DTSTAMP:20260421T182520
CREATED:20240911T134337Z
LAST-MODIFIED:20260415T215627Z
UID:10059410-1774519200-1774526400@nlpl.ca
SUMMARY:Art Group
DESCRIPTION:Drop into the Conception Bay South Public Library  community room with any art project you are working on!\nThis is a group for adults.
URL:https://nlpl.ca/events/art-group/2026-03-26/
LOCATION:Conception Bay South Public Library\, 10 Remembrance Square\, Conception Bay South\, NL\, Canada
CATEGORIES:Arts & Culture,Hobbies, Crafts & Games
ATTACH;FMTTYPE=image/jpeg:https://nlpl.ca/wp-content/uploads/2023/03/Events-Hobbies-Crafts-and-Games.jpg
ORGANIZER;CN="Conception Bay South Public Library":MAILTO:conceptionbaysouth@nlpl.ca
END:VEVENT
BEGIN:VEVENT
DTSTART;TZID=America/St_Johns:20260326T100000
DTEND;TZID=America/St_Johns:20260326T103000
DTSTAMP:20260421T182520
CREATED:20260120T180319Z
LAST-MODIFIED:20260120T180319Z
UID:10056967-1774519200-1774521000@nlpl.ca
SUMMARY:Tots Storytime
DESCRIPTION:A registered event at A.C. Hunter Children’s Library. \n6 weeks of Spring Storytime! Storytime runs from March 19 to April 30 (no storytime on April 9 due to spring break)\nTots Storytime for ages 1-2 years (13-35 months) \nThursdays at 10:00am \n\n\n\nWhat is Tots Storytime?\nThe staff will read books\, tell stories and lead active rhymes and songs to engage toddlers. Caregivers participate alongside children. 20-25 minutes. For toddlers over 12 months and under 3. \n\n  \nREGISTRATION OPENS AT 9:30am Dec 12 – online or by calling 709-737-3953 \n\n\n\n  \n\n\n\n 
URL:https://nlpl.ca/events/tots-storytime/2026-03-26/
LOCATION:St. John’s – A.C. Hunter Children’s Public Library\, 95 Allandale Road\, St. John's\, NL\, A1E 3A3\, Canada
CATEGORIES:Kids & Families,Storytime
END:VEVENT
BEGIN:VEVENT
DTSTART;TZID=America/St_Johns:20260326T093000
DTEND;TZID=America/St_Johns:20260326T113000
DTSTAMP:20260421T182520
CREATED:20251116T180857Z
LAST-MODIFIED:20260312T103447Z
UID:10055125-1774517400-1774524600@nlpl.ca
SUMMARY:Tech Help Thursdays
DESCRIPTION:A.C. Hunter Library St John’s – Does technology seem tricky? iPad seem impossible? Do you find your phone frustrating? Our staff can help. Thursday Mornings 9:30-11:30 3rd Floor. Bring your device and a couple questions and staff will help you to the best of our abilities. \nNo Registration\nFirst Come First Helped!
URL:https://nlpl.ca/events/tech-help-thursdays-2/2026-03-26/
LOCATION:St. John’s – A.C. Hunter Public Library\, 125 Allandale Road\, St. John's\, NL\, A1B 3A3\, Canada
CATEGORIES:Technology & Makerspace
ATTACH;FMTTYPE=image/jpeg:https://nlpl.ca/wp-content/uploads/2023/11/Events-Tech-Makerspace.jpg
END:VEVENT
BEGIN:VEVENT
DTSTART;TZID=America/St_Johns:20260325T190000
DTEND;TZID=America/St_Johns:20260325T194500
DTSTAMP:20260421T182520
CREATED:20260219T204921Z
LAST-MODIFIED:20260227T194514Z
UID:10059373-1774465200-1774467900@nlpl.ca
SUMMARY:Parents Night Out Book Club
DESCRIPTION:Join us at the Ross King Memorial Library (Mount Pearl) for a book club for parents of young children.  We meet on the fourth Wednesday of the month from 7-7:45 pm.  Ask for a copy of the book at the front desk of the library.  Call (709)368-3603 or email mountpearl@nlpl.ca for more information.\nPlease note:  Childcare is not provided for this event.
URL:https://nlpl.ca/events/parents-night-out-book-club-2-3/
LOCATION:Mount Pearl Public Library\, 65 Olympic Drive\, Mount Pearl\, NL\, A1N 5H6\, Canada
CATEGORIES:Book Clubs & Writer’s Groups
ORGANIZER;CN="Mount Pearl":MAILTO:mountpearl@nlpl.ca
END:VEVENT
BEGIN:VEVENT
DTSTART;TZID=America/St_Johns:20260325T183000
DTEND;TZID=America/St_Johns:20260325T193000
DTSTAMP:20260421T182520
CREATED:20260105T172608Z
LAST-MODIFIED:20260312T172454Z
UID:10056177-1774463400-1774467000@nlpl.ca
SUMMARY:One-on-One Tech Help
DESCRIPTION:Harmsworth Public Library – Do you have a shiny new piece of tech\, but you’re not sure how to use it? Need a little help figuring out how to download an e-book\, share a photo\, or use Microsoft Word? \nMake a one-on-one appointment every Wednesday with our Tech Host\, Joshua. \nWe can provide general help\, tailored tech training\, and show you where to find helpful resources online. \nPlease call #709-489-2303 or drop in to schedule a time.
URL:https://nlpl.ca/events/one-on-one-tech-help-2/2026-03-25/
LOCATION:Grand Falls-Windsor (Harmsworth) Public Library\, 1 Cromer Avenue\, Grand Falls - Windsor\, NL\, A2A 1W9\, Canada
CATEGORIES:Technology & Makerspace
ATTACH;FMTTYPE=image/jpeg:https://nlpl.ca/wp-content/uploads/2023/11/Events-Tech-Makerspace.jpg
END:VEVENT
BEGIN:VEVENT
DTSTART;TZID=America/St_Johns:20260325T183000
DTEND;TZID=America/St_Johns:20260325T193000
DTSTAMP:20260421T182520
CREATED:20260105T134523Z
LAST-MODIFIED:20260312T150617Z
UID:10056131-1774463400-1774467000@nlpl.ca
SUMMARY:Teen Book Club
DESCRIPTION:Harmsworth Public Library – Join us in our monthly teen book club where we discover new authors and genres\, meet new people\, and share insights in a relaxed setting..
URL:https://nlpl.ca/events/teen-book-club-2/2026-03-25/
LOCATION:Grand Falls-Windsor (Harmsworth) Public Library\, 1 Cromer Avenue\, Grand Falls - Windsor\, NL\, A2A 1W9\, Canada
CATEGORIES:Book Clubs & Writer’s Groups
ATTACH;FMTTYPE=image/jpeg:https://nlpl.ca/wp-content/uploads/2023/03/Events-Book-Clubs-and-Writing-Groups.jpg
END:VEVENT
BEGIN:VEVENT
DTSTART;TZID=America/St_Johns:20260325T180000
DTEND;TZID=America/St_Johns:20260325T193000
DTSTAMP:20260421T182520
CREATED:20260103T153559Z
LAST-MODIFIED:20260325T214346Z
UID:10055943-1774461600-1774467000@nlpl.ca
SUMMARY:Conversation Cafe
DESCRIPTION:Small group conversation sessions lead by the Association for New Canadians\, open to anyone wanting to practice their spoken English.
URL:https://nlpl.ca/events/conversation-cafe/2026-03-25/
LOCATION:Corner Brook Public Library\, 4 West Street\, Corner Brook\, NL\, A2H 0C1\, Canada
END:VEVENT
BEGIN:VEVENT
DTSTART;TZID=America/St_Johns:20260325T180000
DTEND;TZID=America/St_Johns:20260325T193000
DTSTAMP:20260421T182520
CREATED:20251021T135307Z
LAST-MODIFIED:20251021T135307Z
UID:10052790-1774461600-1774467000@nlpl.ca
SUMMARY:D&D for Tweens (Grade 5-6)
DESCRIPTION:A.C. Hunter Children’s Library \nDungeons and Dragons for kids in grades 5-6 (ages 10-12) \nRegister HERE \nPlay D&D every second Wednesday from 6:00 to 7:30pm at the library! No experience or materials needed. \nStarting January 14th and continuing until March 25 \n___________________________________________ \nWhat is D&D?\nDungeons and Dragons is a table-top role playing game. Players create a character and use their dice to make choices in an interactive story narrated by the DM (Dungeon Master). Players will face combat and puzzles as they explore a world in their collective imaginations. \nD&D at the Library:\nThe DM is a staff member and players will play an ongoing story for 6 sessions\, over 12 weeks. Players are expected to be able to read their character sheet\, use basic addition and subtraction and listen to others.
URL:https://nlpl.ca/events/dd-for-tweens-grade-5-6-2/2026-03-25/
LOCATION:St. John’s – A.C. Hunter Children’s Public Library\, 95 Allandale Road\, St. John's\, NL\, A1E 3A3\, Canada
CATEGORIES:Hobbies, Crafts & Games,Kids & Families
END:VEVENT
BEGIN:VEVENT
DTSTART;TZID=America/St_Johns:20260325T180000
DTEND;TZID=America/St_Johns:20260325T190000
DTSTAMP:20260421T182520
CREATED:20240903T133648Z
LAST-MODIFIED:20260415T215847Z
UID:10059406-1774461600-1774465200@nlpl.ca
SUMMARY:Writer's Group
DESCRIPTION:Join us at the Conception Bay South Public Library! This is a drop in group for people with a passion for creative writing!
URL:https://nlpl.ca/events/writers-group/2026-03-25/
LOCATION:Conception Bay South Public Library\, 10 Remembrance Square\, Conception Bay South\, NL\, Canada
CATEGORIES:Book Clubs & Writer’s Groups
ATTACH;FMTTYPE=image/jpeg:https://nlpl.ca/wp-content/uploads/2023/03/Events-Book-Clubs-and-Writing-Groups.jpg
END:VEVENT
BEGIN:VEVENT
DTSTART;TZID=America/St_Johns:20260325T173000
DTEND;TZID=America/St_Johns:20260325T173000
DTSTAMP:20260421T182520
CREATED:20260227T194555Z
LAST-MODIFIED:20260324T151702Z
UID:10059574-1774459800-1774459800@nlpl.ca
SUMMARY:Let's Talk Science at the Library: Ozobots
DESCRIPTION:Join Let’s Talk Science\, Grenfell Campus\, here at the Library for an interactive introduction to coding! Learn to control small robots (Ozobots) using four colours and simple logic. This workshop is recommended for children ages 7 to 10.  \nPlease register each child attending individually; parents/caregivers are encouraged to attend and participate but do not need to be register separately.
URL:https://nlpl.ca/events/lets-talk-science-at-the-library-ozobots/
LOCATION:Corner Brook Public Library\, 4 West Street\, Corner Brook\, NL\, A2H 0C1\, Canada
CATEGORIES:Kids & Families,Let's Talk Science
END:VEVENT
BEGIN:VEVENT
DTSTART;TZID=America/St_Johns:20260325T153000
DTEND;TZID=America/St_Johns:20260325T163000
DTSTAMP:20260421T182520
CREATED:20260213T132600Z
LAST-MODIFIED:20260213T192343Z
UID:10059268-1774452600-1774456200@nlpl.ca
SUMMARY:Discovery Club: ROVs with Holy Heart
DESCRIPTION:A registered program at A.C. Hunter Children’s Library \nDiscovery Club for ages 6-10 \nOur guests from Holy Heart High School will lead a workshop all about ROVs (Remotely Operated Vehicles)\, followed by an activity of arts and crafts related to robotics. \nWednesday March 25th at 3:30pm \nRegistration for all Mar/Apr programs opens Friday Feb 20 at 9:30am. Click the above link to register or call us at 709-737-3953.
URL:https://nlpl.ca/events/discovery-club-rovs-with-holy-heart/
LOCATION:St. John’s – A.C. Hunter Children’s Public Library\, 95 Allandale Road\, St. John's\, NL\, A1E 3A3\, Canada
CATEGORIES:Hobbies, Crafts & Games,Kids & Families
END:VEVENT
BEGIN:VEVENT
DTSTART;TZID=America/St_Johns:20260325T150000
DTEND;TZID=America/St_Johns:20260325T160000
DTSTAMP:20260421T182520
CREATED:20260303T190647Z
LAST-MODIFIED:20260303T190731Z
UID:10059694-1774450800-1774454400@nlpl.ca
SUMMARY:After School Storytime and Crafts
DESCRIPTION:Storytime and DIY Crafting Hour
URL:https://nlpl.ca/events/after-school-storytime-and-crafts/2026-03-25/
LOCATION:Point Leamington Public Library\, 1 Rice's Drive\, Point Leamington\, NL\, A0H 1Z0\, Canada
CATEGORIES:Hobbies, Crafts & Games,Kids & Families,Storytime
END:VEVENT
BEGIN:VEVENT
DTSTART;TZID=America/St_Johns:20260325T150000
DTEND;TZID=America/St_Johns:20260325T160000
DTSTAMP:20260421T182520
CREATED:20251103T201201Z
LAST-MODIFIED:20251125T194640Z
UID:10053823-1774450800-1774454400@nlpl.ca
SUMMARY:Family Passive Play
DESCRIPTION:
URL:https://nlpl.ca/events/family-passive-play/2026-03-25/
LOCATION:Bishop’s Falls Public Library\, 445 Main Street\, Bishop's Falls\, NL\, A0H 1C0\, Canada
END:VEVENT
BEGIN:VEVENT
DTSTART;TZID=America/St_Johns:20260325T140000
DTEND;TZID=America/St_Johns:20260325T160000
DTSTAMP:20260421T182520
CREATED:20260202T192039Z
LAST-MODIFIED:20260202T192039Z
UID:10058030-1774447200-1774454400@nlpl.ca
SUMMARY:Drop-in Sensory Play
DESCRIPTION:Our library has acquired a small sensory table. \nEach Wednesday afternoon from 2-4pm we will have it out for free play. \nAll ages are welcome\, best suited to toddler and preschool age.
URL:https://nlpl.ca/events/drop-in-sensory-play/2026-03-25/
LOCATION:Labrador City Public Library\, 306 Hudson Dr.\, Labrador City\, NL\, A2V 1L5\, Canada
CATEGORIES:Kids & Families
ATTACH;FMTTYPE=image/jpeg:https://nlpl.ca/wp-content/uploads/2023/03/Events-Kid-Families.jpg
END:VEVENT
BEGIN:VEVENT
DTSTART;TZID=America/St_Johns:20260325T140000
DTEND;TZID=America/St_Johns:20260325T153000
DTSTAMP:20260421T182520
CREATED:20260102T194258Z
LAST-MODIFIED:20260102T194922Z
UID:10055615-1774447200-1774452600@nlpl.ca
SUMMARY:Crafter's Corner
DESCRIPTION:Grander Public Library – Bring in a project that you are working on. Either it be knitting\, crochet\, rug hooking
URL:https://nlpl.ca/events/crafters-corner-3-2-2/2026-03-25/
LOCATION:Gander Public & Resource Library\, 6 Bell Place\, Gander\, NL\, A1V 1X2\, Canada
CATEGORIES:Hobbies, Crafts & Games
ATTACH;FMTTYPE=image/jpeg:https://nlpl.ca/wp-content/uploads/2023/03/Events-Hobbies-Crafts-and-Games.jpg
END:VEVENT
BEGIN:VEVENT
DTSTART;TZID=America/St_Johns:20260325T140000
DTEND;TZID=America/St_Johns:20260325T150000
DTSTAMP:20260421T182520
CREATED:20260305T170949Z
LAST-MODIFIED:20260305T171132Z
UID:10059717-1774447200-1774450800@nlpl.ca
SUMMARY:Children’s Story Time
DESCRIPTION:Pre-registration is mandatory for each Children’s Story Time
URL:https://nlpl.ca/events/childrens-story-time/2026-03-25/
LOCATION:Deer Lake Public Library\, 4 Poplar Road\, Deer Lake\, NL\, A8A 1Z4\, Canada
CATEGORIES:Kids & Families,Storytime
END:VEVENT
BEGIN:VEVENT
DTSTART;TZID=America/St_Johns:20260325T140000
DTEND;TZID=America/St_Johns:20260325T150000
DTSTAMP:20260421T182520
CREATED:20260120T175612Z
LAST-MODIFIED:20260120T175652Z
UID:10056949-1774447200-1774450800@nlpl.ca
SUMMARY:Baby Storytime - Wednesday Afternoon
DESCRIPTION:A registered event at A.C. Hunter Children’s Library. \n6 weeks of Spring Storytime! Storytime runs from March 18 to April 29 (no storytime on April 8 due to spring break)\nBaby Storytime for ages 0-12 months\nWednesdays at 2:00pm\n\n\n\nWhat is Baby Storytime?\nThe staff will lead caregivers in rhymes and songs with simple stories and tips for literacy. 20-25 minutes of storytime\, followed by a playtime. Birth – 12 months old \n\n  \nREGISTRATION OPENS AT 9:30am March 6 – online or by calling 709-737-3953 \n\n\n\n  \n\n\n\n 
URL:https://nlpl.ca/events/baby-storytime-wednesday-afternoon/2026-03-25/
LOCATION:St. John’s – A.C. Hunter Children’s Public Library\, 95 Allandale Road\, St. John's\, NL\, A1E 3A3\, Canada
CATEGORIES:Kids & Families,Storytime
END:VEVENT
BEGIN:VEVENT
DTSTART;TZID=America/St_Johns:20260325T130000
DTEND;TZID=America/St_Johns:20260325T153000
DTSTAMP:20260421T182520
CREATED:20260219T131709Z
LAST-MODIFIED:20260219T131709Z
UID:10059309-1774443600-1774452600@nlpl.ca
SUMMARY:Knitting Group
DESCRIPTION:Adult knitting group\, non-instructive. Join others who share in a love of knitting. Bring your projects and knit with friends\, old and new!
URL:https://nlpl.ca/events/knitting-group-2/2026-03-25/
LOCATION:Stephenville Public Library (Kindale)\, 45 Carolina Ave.\, Stephenville\, NL\, A2N 3P8\, Canada
CATEGORIES:Hobbies, Crafts & Games
ATTACH;FMTTYPE=image/jpeg:https://nlpl.ca/wp-content/uploads/2023/03/Events-Hobbies-Crafts-and-Games.jpg
END:VEVENT
BEGIN:VEVENT
DTSTART;TZID=America/St_Johns:20260325T130000
DTEND;TZID=America/St_Johns:20260325T150000
DTSTAMP:20260421T182520
CREATED:20260103T151625Z
LAST-MODIFIED:20260325T214136Z
UID:10055919-1774443600-1774450800@nlpl.ca
SUMMARY:Rug Hooking Group
DESCRIPTION:Bring your supplies and current projects and join others for conversation and inspiration. New members and beginners are welcome!
URL:https://nlpl.ca/events/rug-hooking-group/2026-03-25/
LOCATION:Corner Brook Public Library\, 4 West Street\, Corner Brook\, NL\, A2H 0C1\, Canada
CATEGORIES:Holiday & Seasonal
END:VEVENT
BEGIN:VEVENT
DTSTART;TZID=America/St_Johns:20260325T110000
DTEND;TZID=America/St_Johns:20260325T120000
DTSTAMP:20260421T182520
CREATED:20260120T175158Z
LAST-MODIFIED:20260306T160205Z
UID:10056943-1774436400-1774440000@nlpl.ca
SUMMARY:Baby Storytime - Wednesday Morning
DESCRIPTION:A registered event at A.C. Hunter Children’s Library. \n6 weeks of Spring Storytime! Storytime runs from March 18 to April 29 (no storytime on April 8 due to spring break)\nBaby Storytime for ages 0-12 months\nWednesdays at 11:00am\n\n\n\nWhat is Baby Storytime?\nThe staff will lead caregivers in rhymes and songs with simple stories and tips for literacy. 20-25 minutes of storytime\, followed by a playtime. Birth – 12 months old \n\n  \nREGISTRATION OPENS AT 9:30am Mar 6 – online or by calling 709-737-3953 \n\n\n\n  \n\n\n\n 
URL:https://nlpl.ca/events/baby-storytime-wednesday-morning/2026-03-25/
LOCATION:St. John’s – A.C. Hunter Children’s Public Library\, 95 Allandale Road\, St. John's\, NL\, A1E 3A3\, Canada
CATEGORIES:Kids & Families,Storytime
END:VEVENT
BEGIN:VEVENT
DTSTART;TZID=America/St_Johns:20260325T100000
DTEND;TZID=America/St_Johns:20260325T130000
DTSTAMP:20260421T182520
CREATED:20240903T132133Z
LAST-MODIFIED:20260415T215148Z
UID:10059532-1774432800-1774443600@nlpl.ca
SUMMARY:Rug Hooking
DESCRIPTION:Drop in group at the Conception Bay South Public Library for crafters to work on their own projects with company.\nAll skill levels are welcome.
URL:https://nlpl.ca/events/rug-hooking/2026-03-25/
LOCATION:Conception Bay South Public Library\, 10 Remembrance Square\, Conception Bay South\, NL\, Canada
CATEGORIES:Hobbies, Crafts & Games
ATTACH;FMTTYPE=image/jpeg:https://nlpl.ca/wp-content/uploads/2023/03/Events-Hobbies-Crafts-and-Games.jpg
ORGANIZER;CN="Conception Bay South Public Library":MAILTO:conceptionbaysouth@nlpl.ca
END:VEVENT
BEGIN:VEVENT
DTSTART;TZID=America/St_Johns:20260325T100000
DTEND;TZID=America/St_Johns:20260325T100000
DTSTAMP:20260421T182520
CREATED:20260120T180919Z
LAST-MODIFIED:20260120T181033Z
UID:10056974-1774432800-1774432800@nlpl.ca
SUMMARY:Family Storytime
DESCRIPTION:6 weeks of Spring Storytime! Storytime runs from March 18 to April 29 (no storytime April 8 due to spring break)\nFamily Storytime for ages 0-5 years\nWednesdays at 10:00am\n\n\n\nWhat is Family Storytime?\nThe staff will read books\, tell stories and lead rhymes and songs. Caregivers are encouraged to participate. Something for everyone! Great for families with multiple children. 25-30 minutes.  \n\n  \nREGISTRATION OPENS AT 9:30am Dec 12 – online or by calling 709-737-3953 \n\n\n\n  \n\n\n\n 
URL:https://nlpl.ca/events/family-storytime-4/2026-03-25/
LOCATION:St. John’s – A.C. Hunter Children’s Public Library\, 95 Allandale Road\, St. John's\, NL\, A1E 3A3\, Canada
CATEGORIES:Kids & Families,Storytime
END:VEVENT
BEGIN:VEVENT
DTSTART;TZID=America/St_Johns:20260324T183000
DTEND;TZID=America/St_Johns:20260324T200000
DTSTAMP:20260421T182520
CREATED:20260318T203123Z
LAST-MODIFIED:20260318T203123Z
UID:10060065-1774377000-1774382400@nlpl.ca
SUMMARY:Social Night
DESCRIPTION:Come and enjoy and evening of socializing and fun.
URL:https://nlpl.ca/events/social-night/
LOCATION:Seal Cove (White Bay) Public Library\, 2 Council Road\, Seal Cove\, NL\, A0K 5E0\, Canada
END:VEVENT
BEGIN:VEVENT
DTSTART;TZID=America/St_Johns:20260324T183000
DTEND;TZID=America/St_Johns:20260324T193000
DTSTAMP:20260421T182520
CREATED:20260103T161939Z
LAST-MODIFIED:20260103T161939Z
UID:10056023-1774377000-1774380600@nlpl.ca
SUMMARY:Adult Bookclub
DESCRIPTION:Registration for the 2025/2026 program year is full. To be added to the waitlist email your name and contact information to cornerbrook@nlpl.ca
URL:https://nlpl.ca/events/adult-bookclub/2026-03-24/
LOCATION:Corner Brook Public Library\, 4 West Street\, Corner Brook\, NL\, A2H 0C1\, Canada
CATEGORIES:Book Clubs & Writer’s Groups
END:VEVENT
BEGIN:VEVENT
DTSTART;TZID=America/St_Johns:20260324T183000
DTEND;TZID=America/St_Johns:20260324T190000
DTSTAMP:20260421T182520
CREATED:20260105T134733Z
LAST-MODIFIED:20260312T153536Z
UID:10056141-1774377000-1774378800@nlpl.ca
SUMMARY:Bedtime Family Storytime
DESCRIPTION:Harmsworth Public Library – A 30-minute interactive program celebrating books\, rhymes\, movement\, songs\, and fun that is perfect for families with multiple children\, ages 0-5
URL:https://nlpl.ca/events/bedtime-family-storytime-2/2026-03-24/
LOCATION:Grand Falls-Windsor (Harmsworth) Public Library\, 1 Cromer Avenue\, Grand Falls - Windsor\, NL\, A2A 1W9\, Canada
CATEGORIES:Kids & Families
ATTACH;FMTTYPE=image/jpeg:https://nlpl.ca/wp-content/uploads/2023/03/Events-Kid-Families.jpg
END:VEVENT
BEGIN:VEVENT
DTSTART;TZID=America/St_Johns:20260324T180000
DTEND;TZID=America/St_Johns:20260324T193000
DTSTAMP:20260421T182520
CREATED:20260122T152707Z
LAST-MODIFIED:20260306T194448Z
UID:10057012-1774375200-1774380600@nlpl.ca
SUMMARY:Tween Art Night
DESCRIPTION:A registered event at A.C. Hunter Children’s Library. \nTween Art Night\nCreate an art project just for older kids\nTuesday March 24 @ 6:00pm |  ages 9-13 \nRegistration for all Mar/Apr programs opens Friday Feb 20 at 9:30am. Click the above link to register or call us at 709-737-3953. \n 
URL:https://nlpl.ca/events/tween-art-night-3/
LOCATION:St. John’s – A.C. Hunter Children’s Public Library\, 95 Allandale Road\, St. John's\, NL\, A1E 3A3\, Canada
CATEGORIES:Hobbies, Crafts & Games,Kids & Families
END:VEVENT
BEGIN:VEVENT
DTSTART;TZID=America/St_Johns:20260324T180000
DTEND;TZID=America/St_Johns:20260324T190000
DTSTAMP:20260421T182520
CREATED:20260102T193405Z
LAST-MODIFIED:20260102T193514Z
UID:10055589-1774375200-1774378800@nlpl.ca
SUMMARY:Sensory Hour
DESCRIPTION:Grander Public Library – Quiet Area\, Reduced Noise and Lighting. All ages.
URL:https://nlpl.ca/events/sensory-hour-2-2/2026-03-24/
LOCATION:Gander Public & Resource Library\, 6 Bell Place\, Gander\, NL\, A1V 1X2\, Canada
CATEGORIES:Heath & Wellbeing
ATTACH;FMTTYPE=image/jpeg:https://nlpl.ca/wp-content/uploads/2019/04/Depositphotos_3928992_xl-2015.jpg
END:VEVENT
END:VCALENDAR