BEGIN:VCALENDAR
VERSION:2.0
PRODID:-//Newfoundland &amp; Labrador Public Libraries - ECPv6.15.20//NONSGML v1.0//EN
CALSCALE:GREGORIAN
METHOD:PUBLISH
X-ORIGINAL-URL:https://nlpl.ca
X-WR-CALDESC:Events for Newfoundland &amp; Labrador Public Libraries
REFRESH-INTERVAL;VALUE=DURATION:PT1H
X-Robots-Tag:noindex
X-PUBLISHED-TTL:PT1H
BEGIN:VTIMEZONE
TZID:America/St_Johns
BEGIN:DAYLIGHT
TZOFFSETFROM:-0330
TZOFFSETTO:-0230
TZNAME:NDT
DTSTART:20250309T053000
END:DAYLIGHT
BEGIN:STANDARD
TZOFFSETFROM:-0230
TZOFFSETTO:-0330
TZNAME:NST
DTSTART:20251102T043000
END:STANDARD
BEGIN:DAYLIGHT
TZOFFSETFROM:-0330
TZOFFSETTO:-0230
TZNAME:NDT
DTSTART:20260308T053000
END:DAYLIGHT
BEGIN:STANDARD
TZOFFSETFROM:-0230
TZOFFSETTO:-0330
TZNAME:NST
DTSTART:20261101T043000
END:STANDARD
BEGIN:DAYLIGHT
TZOFFSETFROM:-0330
TZOFFSETTO:-0230
TZNAME:NDT
DTSTART:20270314T053000
END:DAYLIGHT
BEGIN:STANDARD
TZOFFSETFROM:-0230
TZOFFSETTO:-0330
TZNAME:NST
DTSTART:20271107T043000
END:STANDARD
END:VTIMEZONE
BEGIN:VEVENT
DTSTART;TZID=America/St_Johns:20260819T130000
DTEND;TZID=America/St_Johns:20260819T153000
DTSTAMP:20260421T180314
CREATED:20260219T131709Z
LAST-MODIFIED:20260219T131709Z
UID:10059330-1787144400-1787153400@nlpl.ca
SUMMARY:Knitting Group
DESCRIPTION:Adult knitting group\, non-instructive. Join others who share in a love of knitting. Bring your projects and knit with friends\, old and new!
URL:https://nlpl.ca/events/knitting-group-2/2026-08-19/
LOCATION:Stephenville Public Library (Kindale)\, 45 Carolina Ave.\, Stephenville\, NL\, A2N 3P8\, Canada
CATEGORIES:Hobbies, Crafts & Games
ATTACH;FMTTYPE=image/jpeg:https://nlpl.ca/wp-content/uploads/2023/03/Events-Hobbies-Crafts-and-Games.jpg
END:VEVENT
BEGIN:VEVENT
DTSTART;TZID=America/St_Johns:20260819T180000
DTEND;TZID=America/St_Johns:20260819T200000
DTSTAMP:20260421T180314
CREATED:20260401T214000Z
LAST-MODIFIED:20260401T214000Z
UID:10060453-1787162400-1787169600@nlpl.ca
SUMMARY:Game Night
DESCRIPTION:Join us every second Wednesday for a relaxed evening of board games at the library! Whether you’re a seasoned strategist or just in it for the laughs\, there’s a seat at the table for everyone.
URL:https://nlpl.ca/events/game-night-2/2026-08-19/
LOCATION:St. Anthony Public Library\, 95 West Street\, St. Anthony\, NL\, A0K 4S0\, Canada
CATEGORIES:Hobbies, Crafts & Games
ATTACH;FMTTYPE=image/jpeg:https://nlpl.ca/wp-content/uploads/2023/03/Events-Hobbies-Crafts-and-Games.jpg
ORGANIZER;CN="St. Anthony Pbulic Library":MAILTO:nsa@ill.nlpl.ca
END:VEVENT
BEGIN:VEVENT
DTSTART;TZID=America/St_Johns:20260820T130000
DTEND;TZID=America/St_Johns:20260820T150000
DTSTAMP:20260421T180314
CREATED:20260305T172547Z
LAST-MODIFIED:20260305T172547Z
UID:10059751-1787230800-1787238000@nlpl.ca
SUMMARY:Tech Thursday
DESCRIPTION:Drop in with your own device or we can use our devices- iPad or desktop or laptop. We can show you how to set up an email\, copy files\, or print files.
URL:https://nlpl.ca/events/tech-thursday/2026-08-20/
LOCATION:Deer Lake Public Library\, 4 Poplar Road\, Deer Lake\, NL\, A8A 1Z4\, Canada
END:VEVENT
BEGIN:VEVENT
DTSTART;TZID=America/St_Johns:20260824T190000
DTEND;TZID=America/St_Johns:20260824T200000
DTSTAMP:20260421T180314
CREATED:20260407T184854Z
LAST-MODIFIED:20260407T184854Z
UID:10060608-1787598000-1787601600@nlpl.ca
SUMMARY:Buchans Public Library Book Club
DESCRIPTION:Our Spring Book Club has now begun with the book The Maid written by Nita Prose. First meeting will be Monday April 27th\, 7:00pm. 2 copies left for anyone who wishes to join us!
URL:https://nlpl.ca/events/buchans-public-library-book-club/2026-08-24/
END:VEVENT
BEGIN:VEVENT
DTSTART;TZID=America/St_Johns:20260825T180000
DTEND;TZID=America/St_Johns:20260825T203000
DTSTAMP:20260421T180314
CREATED:20260407T222359Z
LAST-MODIFIED:20260407T222435Z
UID:10060900-1787680800-1787689800@nlpl.ca
SUMMARY:Adult Puzzle Night - Thursday May 26
DESCRIPTION:
URL:https://nlpl.ca/events/adult-puzzle-night-thursday-may-26/2026-08-25/
END:VEVENT
BEGIN:VEVENT
DTSTART;TZID=America/St_Johns:20260825T180000
DTEND;TZID=America/St_Johns:20260825T203000
DTSTAMP:20260421T180314
CREATED:20260407T222643Z
LAST-MODIFIED:20260407T222734Z
UID:10061161-1787680800-1787689800@nlpl.ca
SUMMARY:Adult Puzzle Night Every Tuesday! - Buchans Public Library
DESCRIPTION:Come to the library from 6:00 – 8:30 every Tuesday evening for Adult Puzzle Night! Friendly conversation\, coffee/ tea.
URL:https://nlpl.ca/events/adult-puzzle-night-every-tuesday-buchans-public-library/2026-08-25/
END:VEVENT
BEGIN:VEVENT
DTSTART;TZID=America/St_Johns:20260825T183000
DTEND;TZID=America/St_Johns:20260825T193000
DTSTAMP:20260421T180314
CREATED:20251120T143346Z
LAST-MODIFIED:20260325T150443Z
UID:10059432-1787682600-1787686200@nlpl.ca
SUMMARY:Nonfiction Bookclub
DESCRIPTION:St. John’s – A.C. Hunter Library Join Pamela on the 3rd floor for great conversations about awesome nonfiction books. This bookclub is for adults and will meet once every 2 months. \nApril’s book will be How to Say Babylon by Safiya Sinclair \nCall (709)737-3950 for more info.
URL:https://nlpl.ca/events/nonfiction-bookclub-2/2026-08-25/
LOCATION:St. John’s – A.C. Hunter Public Library\, 125 Allandale Road\, St. John's\, NL\, A1B 3A3\, Canada
CATEGORIES:Book Clubs & Writer’s Groups,Teens
ATTACH;FMTTYPE=image/jpeg:https://nlpl.ca/wp-content/uploads/2023/03/Events-Book-Clubs-and-Writing-Groups.jpg
END:VEVENT
BEGIN:VEVENT
DTSTART;TZID=America/St_Johns:20260826T130000
DTEND;TZID=America/St_Johns:20260826T153000
DTSTAMP:20260421T180314
CREATED:20260219T131709Z
LAST-MODIFIED:20260219T131709Z
UID:10059331-1787749200-1787758200@nlpl.ca
SUMMARY:Knitting Group
DESCRIPTION:Adult knitting group\, non-instructive. Join others who share in a love of knitting. Bring your projects and knit with friends\, old and new!
URL:https://nlpl.ca/events/knitting-group-2/2026-08-26/
LOCATION:Stephenville Public Library (Kindale)\, 45 Carolina Ave.\, Stephenville\, NL\, A2N 3P8\, Canada
CATEGORIES:Hobbies, Crafts & Games
ATTACH;FMTTYPE=image/jpeg:https://nlpl.ca/wp-content/uploads/2023/03/Events-Hobbies-Crafts-and-Games.jpg
END:VEVENT
BEGIN:VEVENT
DTSTART;TZID=America/St_Johns:20260826T180000
DTEND;TZID=America/St_Johns:20260826T200000
DTSTAMP:20260421T180314
CREATED:20260401T215009Z
LAST-MODIFIED:20260401T215009Z
UID:10060484-1787767200-1787774400@nlpl.ca
SUMMARY:Craft and Chat
DESCRIPTION:In partnership with the Association for New Canadians\, join us every second Wednesday for Craft and Chat! Bring along your works-in-progress and enjoy a cozy evening of creativity and conversation with fellow makers.
URL:https://nlpl.ca/events/craft-and-chat/2026-08-26/
LOCATION:St. Anthony Public Library\, 95 West Street\, St. Anthony\, NL\, A0K 4S0\, Canada
CATEGORIES:Hobbies, Crafts & Games
ATTACH;FMTTYPE=image/jpeg:https://nlpl.ca/wp-content/uploads/2023/03/Events-Hobbies-Crafts-and-Games.jpg
ORGANIZER;CN="St. Anthony Pbulic Library":MAILTO:nsa@ill.nlpl.ca
END:VEVENT
BEGIN:VEVENT
DTSTART;TZID=America/St_Johns:20260827T100000
DTEND;TZID=America/St_Johns:20260827T110000
DTSTAMP:20260421T180314
CREATED:20260401T215530Z
LAST-MODIFIED:20260401T215530Z
UID:10060514-1787824800-1787828400@nlpl.ca
SUMMARY:Little Learners
DESCRIPTION:Join us in a fun and relaxed setting where kids can enjoy stories\, crafts\, STEM activities\, and more!
URL:https://nlpl.ca/events/little-learners/2026-08-27/
LOCATION:St. Anthony Public Library\, 95 West Street\, St. Anthony\, NL\, A0K 4S0\, Canada
CATEGORIES:Kids & Families
ATTACH;FMTTYPE=image/jpeg:https://nlpl.ca/wp-content/uploads/2023/03/Events-Kid-Families.jpg
ORGANIZER;CN="St. Anthony Pbulic Library":MAILTO:nsa@ill.nlpl.ca
END:VEVENT
BEGIN:VEVENT
DTSTART;TZID=America/St_Johns:20260827T130000
DTEND;TZID=America/St_Johns:20260827T150000
DTSTAMP:20260421T180314
CREATED:20260305T172547Z
LAST-MODIFIED:20260305T172547Z
UID:10059752-1787835600-1787842800@nlpl.ca
SUMMARY:Tech Thursday
DESCRIPTION:Drop in with your own device or we can use our devices- iPad or desktop or laptop. We can show you how to set up an email\, copy files\, or print files.
URL:https://nlpl.ca/events/tech-thursday/2026-08-27/
LOCATION:Deer Lake Public Library\, 4 Poplar Road\, Deer Lake\, NL\, A8A 1Z4\, Canada
END:VEVENT
BEGIN:VEVENT
DTSTART;TZID=America/St_Johns:20260901T140000
DTEND;TZID=America/St_Johns:20260901T153000
DTSTAMP:20260421T180314
CREATED:20260103T135944Z
LAST-MODIFIED:20260325T214808Z
UID:10060269-1788271200-1788276600@nlpl.ca
SUMMARY:BabyTime PlayTime
DESCRIPTION:Drop-in for playtime and socializing for babies (ages 0-2) and parents/caregivers
URL:https://nlpl.ca/events/babytime-playtime/2026-09-01/
LOCATION:Corner Brook Public Library\, 4 West Street\, Corner Brook\, NL\, A2H 0C1\, Canada
END:VEVENT
BEGIN:VEVENT
DTSTART;TZID=America/St_Johns:20260901T180000
DTEND;TZID=America/St_Johns:20260901T203000
DTSTAMP:20260421T180314
CREATED:20260407T222359Z
LAST-MODIFIED:20260407T222435Z
UID:10060901-1788285600-1788294600@nlpl.ca
SUMMARY:Adult Puzzle Night - Thursday May 26
DESCRIPTION:
URL:https://nlpl.ca/events/adult-puzzle-night-thursday-may-26/2026-09-01/
END:VEVENT
BEGIN:VEVENT
DTSTART;TZID=America/St_Johns:20260901T180000
DTEND;TZID=America/St_Johns:20260901T203000
DTSTAMP:20260421T180314
CREATED:20260407T222643Z
LAST-MODIFIED:20260407T222734Z
UID:10061162-1788285600-1788294600@nlpl.ca
SUMMARY:Adult Puzzle Night Every Tuesday! - Buchans Public Library
DESCRIPTION:Come to the library from 6:00 – 8:30 every Tuesday evening for Adult Puzzle Night! Friendly conversation\, coffee/ tea.
URL:https://nlpl.ca/events/adult-puzzle-night-every-tuesday-buchans-public-library/2026-09-01/
END:VEVENT
BEGIN:VEVENT
DTSTART;TZID=America/St_Johns:20260902T130000
DTEND;TZID=America/St_Johns:20260902T153000
DTSTAMP:20260421T180314
CREATED:20260219T131709Z
LAST-MODIFIED:20260219T131709Z
UID:10059332-1788354000-1788363000@nlpl.ca
SUMMARY:Knitting Group
DESCRIPTION:Adult knitting group\, non-instructive. Join others who share in a love of knitting. Bring your projects and knit with friends\, old and new!
URL:https://nlpl.ca/events/knitting-group-2/2026-09-02/
LOCATION:Stephenville Public Library (Kindale)\, 45 Carolina Ave.\, Stephenville\, NL\, A2N 3P8\, Canada
CATEGORIES:Hobbies, Crafts & Games
ATTACH;FMTTYPE=image/jpeg:https://nlpl.ca/wp-content/uploads/2023/03/Events-Hobbies-Crafts-and-Games.jpg
END:VEVENT
BEGIN:VEVENT
DTSTART;TZID=America/St_Johns:20260902T180000
DTEND;TZID=America/St_Johns:20260902T200000
DTSTAMP:20260421T180314
CREATED:20260401T214000Z
LAST-MODIFIED:20260401T214000Z
UID:10060454-1788372000-1788379200@nlpl.ca
SUMMARY:Game Night
DESCRIPTION:Join us every second Wednesday for a relaxed evening of board games at the library! Whether you’re a seasoned strategist or just in it for the laughs\, there’s a seat at the table for everyone.
URL:https://nlpl.ca/events/game-night-2/2026-09-02/
LOCATION:St. Anthony Public Library\, 95 West Street\, St. Anthony\, NL\, A0K 4S0\, Canada
CATEGORIES:Hobbies, Crafts & Games
ATTACH;FMTTYPE=image/jpeg:https://nlpl.ca/wp-content/uploads/2023/03/Events-Hobbies-Crafts-and-Games.jpg
ORGANIZER;CN="St. Anthony Pbulic Library":MAILTO:nsa@ill.nlpl.ca
END:VEVENT
BEGIN:VEVENT
DTSTART;TZID=America/St_Johns:20260903T130000
DTEND;TZID=America/St_Johns:20260903T150000
DTSTAMP:20260421T180314
CREATED:20260305T172547Z
LAST-MODIFIED:20260305T172547Z
UID:10059753-1788440400-1788447600@nlpl.ca
SUMMARY:Tech Thursday
DESCRIPTION:Drop in with your own device or we can use our devices- iPad or desktop or laptop. We can show you how to set up an email\, copy files\, or print files.
URL:https://nlpl.ca/events/tech-thursday/2026-09-03/
LOCATION:Deer Lake Public Library\, 4 Poplar Road\, Deer Lake\, NL\, A8A 1Z4\, Canada
END:VEVENT
BEGIN:VEVENT
DTSTART;TZID=America/St_Johns:20260907T190000
DTEND;TZID=America/St_Johns:20260907T194500
DTSTAMP:20260421T180314
CREATED:20260418T173550Z
LAST-MODIFIED:20260418T173552Z
UID:10061523-1788807600-1788810300@nlpl.ca
SUMMARY:Parents Night Out Book Club
DESCRIPTION:Join us at the Ross King Memorial Library (Mount Pearl) for a book club for parents of young children.  We meet on the fourth Wednesday of the month from 7-7:45 pm.  Ask for a copy of the book at the front desk of the library.  Call (709)368-3603 or email mountpearl@nlpl.ca for more information.  Our May meeting will be held on Wed. May 27th and we’ll be discussing Emily Henry’s “Funny Story”. Please note:  Childcare is not provided for this event.
URL:https://nlpl.ca/events/parents-night-out-book-club-2-3-2/2026-09-07/
LOCATION:Mount Pearl Public Library\, 65 Olympic Drive\, Mount Pearl\, NL\, A1N 5H6\, Canada
CATEGORIES:Book Clubs & Writer’s Groups
ORGANIZER;CN="Mount Pearl":MAILTO:mountpearl@nlpl.ca
END:VEVENT
BEGIN:VEVENT
DTSTART;TZID=America/St_Johns:20260908T180000
DTEND;TZID=America/St_Johns:20260908T203000
DTSTAMP:20260421T180314
CREATED:20260407T222359Z
LAST-MODIFIED:20260407T222435Z
UID:10060902-1788890400-1788899400@nlpl.ca
SUMMARY:Adult Puzzle Night - Thursday May 26
DESCRIPTION:
URL:https://nlpl.ca/events/adult-puzzle-night-thursday-may-26/2026-09-08/
END:VEVENT
BEGIN:VEVENT
DTSTART;TZID=America/St_Johns:20260908T180000
DTEND;TZID=America/St_Johns:20260908T203000
DTSTAMP:20260421T180314
CREATED:20260407T222643Z
LAST-MODIFIED:20260407T222734Z
UID:10061163-1788890400-1788899400@nlpl.ca
SUMMARY:Adult Puzzle Night Every Tuesday! - Buchans Public Library
DESCRIPTION:Come to the library from 6:00 – 8:30 every Tuesday evening for Adult Puzzle Night! Friendly conversation\, coffee/ tea.
URL:https://nlpl.ca/events/adult-puzzle-night-every-tuesday-buchans-public-library/2026-09-08/
END:VEVENT
BEGIN:VEVENT
DTSTART;TZID=America/St_Johns:20260909T130000
DTEND;TZID=America/St_Johns:20260909T153000
DTSTAMP:20260421T180314
CREATED:20260219T131709Z
LAST-MODIFIED:20260219T131709Z
UID:10059333-1788958800-1788967800@nlpl.ca
SUMMARY:Knitting Group
DESCRIPTION:Adult knitting group\, non-instructive. Join others who share in a love of knitting. Bring your projects and knit with friends\, old and new!
URL:https://nlpl.ca/events/knitting-group-2/2026-09-09/
LOCATION:Stephenville Public Library (Kindale)\, 45 Carolina Ave.\, Stephenville\, NL\, A2N 3P8\, Canada
CATEGORIES:Hobbies, Crafts & Games
ATTACH;FMTTYPE=image/jpeg:https://nlpl.ca/wp-content/uploads/2023/03/Events-Hobbies-Crafts-and-Games.jpg
END:VEVENT
BEGIN:VEVENT
DTSTART;TZID=America/St_Johns:20260909T180000
DTEND;TZID=America/St_Johns:20260909T200000
DTSTAMP:20260421T180314
CREATED:20260401T215009Z
LAST-MODIFIED:20260401T215009Z
UID:10060485-1788976800-1788984000@nlpl.ca
SUMMARY:Craft and Chat
DESCRIPTION:In partnership with the Association for New Canadians\, join us every second Wednesday for Craft and Chat! Bring along your works-in-progress and enjoy a cozy evening of creativity and conversation with fellow makers.
URL:https://nlpl.ca/events/craft-and-chat/2026-09-09/
LOCATION:St. Anthony Public Library\, 95 West Street\, St. Anthony\, NL\, A0K 4S0\, Canada
CATEGORIES:Hobbies, Crafts & Games
ATTACH;FMTTYPE=image/jpeg:https://nlpl.ca/wp-content/uploads/2023/03/Events-Hobbies-Crafts-and-Games.jpg
ORGANIZER;CN="St. Anthony Pbulic Library":MAILTO:nsa@ill.nlpl.ca
END:VEVENT
BEGIN:VEVENT
DTSTART;TZID=America/St_Johns:20260910T100000
DTEND;TZID=America/St_Johns:20260910T110000
DTSTAMP:20260421T180314
CREATED:20260401T215530Z
LAST-MODIFIED:20260401T215530Z
UID:10060515-1789034400-1789038000@nlpl.ca
SUMMARY:Little Learners
DESCRIPTION:Join us in a fun and relaxed setting where kids can enjoy stories\, crafts\, STEM activities\, and more!
URL:https://nlpl.ca/events/little-learners/2026-09-10/
LOCATION:St. Anthony Public Library\, 95 West Street\, St. Anthony\, NL\, A0K 4S0\, Canada
CATEGORIES:Kids & Families
ATTACH;FMTTYPE=image/jpeg:https://nlpl.ca/wp-content/uploads/2023/03/Events-Kid-Families.jpg
ORGANIZER;CN="St. Anthony Pbulic Library":MAILTO:nsa@ill.nlpl.ca
END:VEVENT
BEGIN:VEVENT
DTSTART;TZID=America/St_Johns:20260910T130000
DTEND;TZID=America/St_Johns:20260910T150000
DTSTAMP:20260421T180314
CREATED:20260305T172547Z
LAST-MODIFIED:20260305T172547Z
UID:10059754-1789045200-1789052400@nlpl.ca
SUMMARY:Tech Thursday
DESCRIPTION:Drop in with your own device or we can use our devices- iPad or desktop or laptop. We can show you how to set up an email\, copy files\, or print files.
URL:https://nlpl.ca/events/tech-thursday/2026-09-10/
LOCATION:Deer Lake Public Library\, 4 Poplar Road\, Deer Lake\, NL\, A8A 1Z4\, Canada
END:VEVENT
BEGIN:VEVENT
DTSTART;TZID=America/St_Johns:20260915T140000
DTEND;TZID=America/St_Johns:20260915T153000
DTSTAMP:20260421T180314
CREATED:20260103T135944Z
LAST-MODIFIED:20260325T214808Z
UID:10060270-1789480800-1789486200@nlpl.ca
SUMMARY:BabyTime PlayTime
DESCRIPTION:Drop-in for playtime and socializing for babies (ages 0-2) and parents/caregivers
URL:https://nlpl.ca/events/babytime-playtime/2026-09-15/
LOCATION:Corner Brook Public Library\, 4 West Street\, Corner Brook\, NL\, A2H 0C1\, Canada
END:VEVENT
BEGIN:VEVENT
DTSTART;TZID=America/St_Johns:20260915T180000
DTEND;TZID=America/St_Johns:20260915T203000
DTSTAMP:20260421T180314
CREATED:20260407T222359Z
LAST-MODIFIED:20260407T222435Z
UID:10060903-1789495200-1789504200@nlpl.ca
SUMMARY:Adult Puzzle Night - Thursday May 26
DESCRIPTION:
URL:https://nlpl.ca/events/adult-puzzle-night-thursday-may-26/2026-09-15/
END:VEVENT
BEGIN:VEVENT
DTSTART;TZID=America/St_Johns:20260915T180000
DTEND;TZID=America/St_Johns:20260915T203000
DTSTAMP:20260421T180314
CREATED:20260407T222643Z
LAST-MODIFIED:20260407T222734Z
UID:10061164-1789495200-1789504200@nlpl.ca
SUMMARY:Adult Puzzle Night Every Tuesday! - Buchans Public Library
DESCRIPTION:Come to the library from 6:00 – 8:30 every Tuesday evening for Adult Puzzle Night! Friendly conversation\, coffee/ tea.
URL:https://nlpl.ca/events/adult-puzzle-night-every-tuesday-buchans-public-library/2026-09-15/
END:VEVENT
BEGIN:VEVENT
DTSTART;TZID=America/St_Johns:20260916T130000
DTEND;TZID=America/St_Johns:20260916T153000
DTSTAMP:20260421T180314
CREATED:20260219T131709Z
LAST-MODIFIED:20260219T131709Z
UID:10059334-1789563600-1789572600@nlpl.ca
SUMMARY:Knitting Group
DESCRIPTION:Adult knitting group\, non-instructive. Join others who share in a love of knitting. Bring your projects and knit with friends\, old and new!
URL:https://nlpl.ca/events/knitting-group-2/2026-09-16/
LOCATION:Stephenville Public Library (Kindale)\, 45 Carolina Ave.\, Stephenville\, NL\, A2N 3P8\, Canada
CATEGORIES:Hobbies, Crafts & Games
ATTACH;FMTTYPE=image/jpeg:https://nlpl.ca/wp-content/uploads/2023/03/Events-Hobbies-Crafts-and-Games.jpg
END:VEVENT
BEGIN:VEVENT
DTSTART;TZID=America/St_Johns:20260916T180000
DTEND;TZID=America/St_Johns:20260916T200000
DTSTAMP:20260421T180314
CREATED:20260401T214000Z
LAST-MODIFIED:20260401T214000Z
UID:10060455-1789581600-1789588800@nlpl.ca
SUMMARY:Game Night
DESCRIPTION:Join us every second Wednesday for a relaxed evening of board games at the library! Whether you’re a seasoned strategist or just in it for the laughs\, there’s a seat at the table for everyone.
URL:https://nlpl.ca/events/game-night-2/2026-09-16/
LOCATION:St. Anthony Public Library\, 95 West Street\, St. Anthony\, NL\, A0K 4S0\, Canada
CATEGORIES:Hobbies, Crafts & Games
ATTACH;FMTTYPE=image/jpeg:https://nlpl.ca/wp-content/uploads/2023/03/Events-Hobbies-Crafts-and-Games.jpg
ORGANIZER;CN="St. Anthony Pbulic Library":MAILTO:nsa@ill.nlpl.ca
END:VEVENT
BEGIN:VEVENT
DTSTART;TZID=America/St_Johns:20260917T130000
DTEND;TZID=America/St_Johns:20260917T150000
DTSTAMP:20260421T180314
CREATED:20260305T172547Z
LAST-MODIFIED:20260305T172547Z
UID:10059755-1789650000-1789657200@nlpl.ca
SUMMARY:Tech Thursday
DESCRIPTION:Drop in with your own device or we can use our devices- iPad or desktop or laptop. We can show you how to set up an email\, copy files\, or print files.
URL:https://nlpl.ca/events/tech-thursday/2026-09-17/
LOCATION:Deer Lake Public Library\, 4 Poplar Road\, Deer Lake\, NL\, A8A 1Z4\, Canada
END:VEVENT
END:VCALENDAR