BEGIN:VCALENDAR
VERSION:2.0
PRODID:-//Newfoundland &amp; Labrador Public Libraries - ECPv6.15.20//NONSGML v1.0//EN
CALSCALE:GREGORIAN
METHOD:PUBLISH
X-ORIGINAL-URL:https://nlpl.ca
X-WR-CALDESC:Events for Newfoundland &amp; Labrador Public Libraries
REFRESH-INTERVAL;VALUE=DURATION:PT1H
X-Robots-Tag:noindex
X-PUBLISHED-TTL:PT1H
BEGIN:VTIMEZONE
TZID:America/St_Johns
BEGIN:DAYLIGHT
TZOFFSETFROM:-0330
TZOFFSETTO:-0230
TZNAME:NDT
DTSTART:20300310T053000
END:DAYLIGHT
BEGIN:STANDARD
TZOFFSETFROM:-0230
TZOFFSETTO:-0330
TZNAME:NST
DTSTART:20301103T043000
END:STANDARD
BEGIN:DAYLIGHT
TZOFFSETFROM:-0330
TZOFFSETTO:-0230
TZNAME:NDT
DTSTART:20310309T053000
END:DAYLIGHT
BEGIN:STANDARD
TZOFFSETFROM:-0230
TZOFFSETTO:-0330
TZNAME:NST
DTSTART:20311102T043000
END:STANDARD
BEGIN:DAYLIGHT
TZOFFSETFROM:-0330
TZOFFSETTO:-0230
TZNAME:NDT
DTSTART:20320314T053000
END:DAYLIGHT
BEGIN:STANDARD
TZOFFSETFROM:-0230
TZOFFSETTO:-0330
TZNAME:NST
DTSTART:20321107T043000
END:STANDARD
END:VTIMEZONE
BEGIN:VEVENT
DTSTART;TZID=America/St_Johns:20310218T180000
DTEND;TZID=America/St_Johns:20310218T203000
DTSTAMP:20260421T205139
CREATED:20260407T222359Z
LAST-MODIFIED:20260407T222435Z
UID:10061134-1929204000-1929213000@nlpl.ca
SUMMARY:Adult Puzzle Night - Thursday May 26
DESCRIPTION:
URL:https://nlpl.ca/events/adult-puzzle-night-thursday-may-26/2031-02-18/
END:VEVENT
BEGIN:VEVENT
DTSTART;TZID=America/St_Johns:20310225T180000
DTEND;TZID=America/St_Johns:20310225T203000
DTSTAMP:20260421T205139
CREATED:20260407T222359Z
LAST-MODIFIED:20260407T222435Z
UID:10061135-1929808800-1929817800@nlpl.ca
SUMMARY:Adult Puzzle Night - Thursday May 26
DESCRIPTION:
URL:https://nlpl.ca/events/adult-puzzle-night-thursday-may-26/2031-02-25/
END:VEVENT
BEGIN:VEVENT
DTSTART;TZID=America/St_Johns:20310304T180000
DTEND;TZID=America/St_Johns:20310304T203000
DTSTAMP:20260421T205139
CREATED:20260407T222359Z
LAST-MODIFIED:20260407T222435Z
UID:10061136-1930413600-1930422600@nlpl.ca
SUMMARY:Adult Puzzle Night - Thursday May 26
DESCRIPTION:
URL:https://nlpl.ca/events/adult-puzzle-night-thursday-may-26/2031-03-04/
END:VEVENT
BEGIN:VEVENT
DTSTART;TZID=America/St_Johns:20310311T180000
DTEND;TZID=America/St_Johns:20310311T203000
DTSTAMP:20260421T205139
CREATED:20260407T222359Z
LAST-MODIFIED:20260407T222435Z
UID:10061137-1931018400-1931027400@nlpl.ca
SUMMARY:Adult Puzzle Night - Thursday May 26
DESCRIPTION:
URL:https://nlpl.ca/events/adult-puzzle-night-thursday-may-26/2031-03-11/
END:VEVENT
BEGIN:VEVENT
DTSTART;TZID=America/St_Johns:20310318T180000
DTEND;TZID=America/St_Johns:20310318T203000
DTSTAMP:20260421T205139
CREATED:20260407T222359Z
LAST-MODIFIED:20260407T222435Z
UID:10061138-1931623200-1931632200@nlpl.ca
SUMMARY:Adult Puzzle Night - Thursday May 26
DESCRIPTION:
URL:https://nlpl.ca/events/adult-puzzle-night-thursday-may-26/2031-03-18/
END:VEVENT
BEGIN:VEVENT
DTSTART;TZID=America/St_Johns:20310325T180000
DTEND;TZID=America/St_Johns:20310325T203000
DTSTAMP:20260421T205139
CREATED:20260407T222359Z
LAST-MODIFIED:20260407T222435Z
UID:10061139-1932228000-1932237000@nlpl.ca
SUMMARY:Adult Puzzle Night - Thursday May 26
DESCRIPTION:
URL:https://nlpl.ca/events/adult-puzzle-night-thursday-may-26/2031-03-25/
END:VEVENT
BEGIN:VEVENT
DTSTART;TZID=America/St_Johns:20310401T180000
DTEND;TZID=America/St_Johns:20310401T203000
DTSTAMP:20260421T205139
CREATED:20260407T222359Z
LAST-MODIFIED:20260407T222435Z
UID:10061140-1932832800-1932841800@nlpl.ca
SUMMARY:Adult Puzzle Night - Thursday May 26
DESCRIPTION:
URL:https://nlpl.ca/events/adult-puzzle-night-thursday-may-26/2031-04-01/
END:VEVENT
END:VCALENDAR