BEGIN:VCALENDAR
VERSION:2.0
PRODID:-//Newfoundland &amp; Labrador Public Libraries - ECPv6.15.20//NONSGML v1.0//EN
CALSCALE:GREGORIAN
METHOD:PUBLISH
X-WR-CALNAME:Newfoundland &amp; Labrador Public Libraries
X-ORIGINAL-URL:https://nlpl.ca
X-WR-CALDESC:Events for Newfoundland &amp; Labrador Public Libraries
REFRESH-INTERVAL;VALUE=DURATION:PT1H
X-Robots-Tag:noindex
X-PUBLISHED-TTL:PT1H
BEGIN:VTIMEZONE
TZID:America/St_Johns
BEGIN:DAYLIGHT
TZOFFSETFROM:-0330
TZOFFSETTO:-0230
TZNAME:NDT
DTSTART:20270314T053000
END:DAYLIGHT
BEGIN:STANDARD
TZOFFSETFROM:-0230
TZOFFSETTO:-0330
TZNAME:NST
DTSTART:20271107T043000
END:STANDARD
BEGIN:DAYLIGHT
TZOFFSETFROM:-0330
TZOFFSETTO:-0230
TZNAME:NDT
DTSTART:20280312T053000
END:DAYLIGHT
BEGIN:STANDARD
TZOFFSETFROM:-0230
TZOFFSETTO:-0330
TZNAME:NST
DTSTART:20281105T043000
END:STANDARD
BEGIN:DAYLIGHT
TZOFFSETFROM:-0330
TZOFFSETTO:-0230
TZNAME:NDT
DTSTART:20290311T053000
END:DAYLIGHT
BEGIN:STANDARD
TZOFFSETFROM:-0230
TZOFFSETTO:-0330
TZNAME:NST
DTSTART:20291104T043000
END:STANDARD
END:VTIMEZONE
BEGIN:VEVENT
DTSTART;TZID=America/St_Johns:20280404T180000
DTEND;TZID=America/St_Johns:20280404T203000
DTSTAMP:20260424T074017
CREATED:20260407T222359Z
LAST-MODIFIED:20260407T222435Z
UID:10060984-1838484000-1838493000@nlpl.ca
SUMMARY:Adult Puzzle Night - Thursday May 26
DESCRIPTION:
URL:https://nlpl.ca/events/adult-puzzle-night-thursday-may-26/2028-04-04/
LOCATION:NL
END:VEVENT
BEGIN:VEVENT
DTSTART;TZID=America/St_Johns:20280411T180000
DTEND;TZID=America/St_Johns:20280411T203000
DTSTAMP:20260424T074017
CREATED:20260407T222359Z
LAST-MODIFIED:20260407T222435Z
UID:10060985-1839088800-1839097800@nlpl.ca
SUMMARY:Adult Puzzle Night - Thursday May 26
DESCRIPTION:
URL:https://nlpl.ca/events/adult-puzzle-night-thursday-may-26/2028-04-11/
LOCATION:NL
END:VEVENT
BEGIN:VEVENT
DTSTART;TZID=America/St_Johns:20280418T180000
DTEND;TZID=America/St_Johns:20280418T203000
DTSTAMP:20260424T074017
CREATED:20260407T222359Z
LAST-MODIFIED:20260407T222435Z
UID:10060986-1839693600-1839702600@nlpl.ca
SUMMARY:Adult Puzzle Night - Thursday May 26
DESCRIPTION:
URL:https://nlpl.ca/events/adult-puzzle-night-thursday-may-26/2028-04-18/
LOCATION:NL
END:VEVENT
BEGIN:VEVENT
DTSTART;TZID=America/St_Johns:20280425T180000
DTEND;TZID=America/St_Johns:20280425T203000
DTSTAMP:20260424T074017
CREATED:20260407T222359Z
LAST-MODIFIED:20260407T222435Z
UID:10060987-1840298400-1840307400@nlpl.ca
SUMMARY:Adult Puzzle Night - Thursday May 26
DESCRIPTION:
URL:https://nlpl.ca/events/adult-puzzle-night-thursday-may-26/2028-04-25/
LOCATION:NL
END:VEVENT
END:VCALENDAR