BEGIN:VCALENDAR
VERSION:2.0
PRODID:-//Newfoundland &amp; Labrador Public Libraries - ECPv6.15.20//NONSGML v1.0//EN
CALSCALE:GREGORIAN
METHOD:PUBLISH
X-WR-CALNAME:Newfoundland &amp; Labrador Public Libraries
X-ORIGINAL-URL:https://nlpl.ca
X-WR-CALDESC:Events for Newfoundland &amp; Labrador Public Libraries
REFRESH-INTERVAL;VALUE=DURATION:PT1H
X-Robots-Tag:noindex
X-PUBLISHED-TTL:PT1H
BEGIN:VTIMEZONE
TZID:America/St_Johns
BEGIN:DAYLIGHT
TZOFFSETFROM:-0330
TZOFFSETTO:-0230
TZNAME:NDT
DTSTART:20250309T053000
END:DAYLIGHT
BEGIN:STANDARD
TZOFFSETFROM:-0230
TZOFFSETTO:-0330
TZNAME:NST
DTSTART:20251102T043000
END:STANDARD
BEGIN:DAYLIGHT
TZOFFSETFROM:-0330
TZOFFSETTO:-0230
TZNAME:NDT
DTSTART:20260308T053000
END:DAYLIGHT
BEGIN:STANDARD
TZOFFSETFROM:-0230
TZOFFSETTO:-0330
TZNAME:NST
DTSTART:20261101T043000
END:STANDARD
BEGIN:DAYLIGHT
TZOFFSETFROM:-0330
TZOFFSETTO:-0230
TZNAME:NDT
DTSTART:20270314T053000
END:DAYLIGHT
BEGIN:STANDARD
TZOFFSETFROM:-0230
TZOFFSETTO:-0330
TZNAME:NST
DTSTART:20271107T043000
END:STANDARD
END:VTIMEZONE
BEGIN:VEVENT
DTSTART;TZID=America/St_Johns:20260501T103000
DTEND;TZID=America/St_Johns:20260501T120000
DTSTAMP:20260422T081754
CREATED:20260303T213625Z
LAST-MODIFIED:20260325T213947Z
UID:10059703-1777631400-1777636800@nlpl.ca
SUMMARY:Friday Morning Yarns
DESCRIPTION:Share conversation\, motivation and inspiration while you work on your knitting\, crochetting and other needlecrafts. While the focus is not on learning to knit\, attendees are encouraged to share their skills.
URL:https://nlpl.ca/events/friday-morning-yarns/2026-05-01/
LOCATION:Corner Brook Public Library\, 4 West Street\, Corner Brook\, NL\, A2H 0C1\, Canada
CATEGORIES:Hobbies, Crafts & Games
END:VEVENT
BEGIN:VEVENT
DTSTART;TZID=America/St_Johns:20260515T103000
DTEND;TZID=America/St_Johns:20260515T120000
DTSTAMP:20260422T081754
CREATED:20260303T213625Z
LAST-MODIFIED:20260325T213947Z
UID:10059704-1778841000-1778846400@nlpl.ca
SUMMARY:Friday Morning Yarns
DESCRIPTION:Share conversation\, motivation and inspiration while you work on your knitting\, crochetting and other needlecrafts. While the focus is not on learning to knit\, attendees are encouraged to share their skills.
URL:https://nlpl.ca/events/friday-morning-yarns/2026-05-15/
LOCATION:Corner Brook Public Library\, 4 West Street\, Corner Brook\, NL\, A2H 0C1\, Canada
CATEGORIES:Hobbies, Crafts & Games
END:VEVENT
BEGIN:VEVENT
DTSTART;TZID=America/St_Johns:20260529T103000
DTEND;TZID=America/St_Johns:20260529T120000
DTSTAMP:20260422T081754
CREATED:20260303T213625Z
LAST-MODIFIED:20260325T213947Z
UID:10059705-1780050600-1780056000@nlpl.ca
SUMMARY:Friday Morning Yarns
DESCRIPTION:Share conversation\, motivation and inspiration while you work on your knitting\, crochetting and other needlecrafts. While the focus is not on learning to knit\, attendees are encouraged to share their skills.
URL:https://nlpl.ca/events/friday-morning-yarns/2026-05-29/
LOCATION:Corner Brook Public Library\, 4 West Street\, Corner Brook\, NL\, A2H 0C1\, Canada
CATEGORIES:Hobbies, Crafts & Games
END:VEVENT
END:VCALENDAR