BEGIN:VCALENDAR
VERSION:2.0
PRODID:-//Newfoundland &amp; Labrador Public Libraries - ECPv6.15.20//NONSGML v1.0//EN
CALSCALE:GREGORIAN
METHOD:PUBLISH
X-WR-CALNAME:Newfoundland &amp; Labrador Public Libraries
X-ORIGINAL-URL:https://nlpl.ca
X-WR-CALDESC:Events for Newfoundland &amp; Labrador Public Libraries
REFRESH-INTERVAL;VALUE=DURATION:PT1H
X-Robots-Tag:noindex
X-PUBLISHED-TTL:PT1H
BEGIN:VTIMEZONE
TZID:America/St_Johns
BEGIN:DAYLIGHT
TZOFFSETFROM:-0330
TZOFFSETTO:-0230
TZNAME:NDT
DTSTART:20250309T053000
END:DAYLIGHT
BEGIN:STANDARD
TZOFFSETFROM:-0230
TZOFFSETTO:-0330
TZNAME:NST
DTSTART:20251102T043000
END:STANDARD
BEGIN:DAYLIGHT
TZOFFSETFROM:-0330
TZOFFSETTO:-0230
TZNAME:NDT
DTSTART:20260308T053000
END:DAYLIGHT
BEGIN:STANDARD
TZOFFSETFROM:-0230
TZOFFSETTO:-0330
TZNAME:NST
DTSTART:20261101T043000
END:STANDARD
BEGIN:DAYLIGHT
TZOFFSETFROM:-0330
TZOFFSETTO:-0230
TZNAME:NDT
DTSTART:20270314T053000
END:DAYLIGHT
BEGIN:STANDARD
TZOFFSETFROM:-0230
TZOFFSETTO:-0330
TZNAME:NST
DTSTART:20271107T043000
END:STANDARD
END:VTIMEZONE
BEGIN:VEVENT
DTSTART;TZID=America/St_Johns:20260430T153000
DTEND;TZID=America/St_Johns:20260430T170000
DTSTAMP:20260424T151844
CREATED:20260327T184441Z
LAST-MODIFIED:20260327T184508Z
UID:10060361-1777563000-1777568400@nlpl.ca
SUMMARY:Crafters Hour
DESCRIPTION:Design Your own Craft at the library: \nCanvas Painting \nDrawing \nPastel painting \nor you can bring a project with you. \n 
URL:https://nlpl.ca/events/crafters-hour-6-2-2-2-2-2-2-2-2-2-2/2026-04-30/
LOCATION:Fogo Island Public Library\, 1 Iceberg Arena Road\, Fogo Island Central\, NL\, A0G 2B0\, Canada
CATEGORIES:Hobbies, Crafts & Games
END:VEVENT
END:VCALENDAR