BEGIN:VCALENDAR
VERSION:2.0
PRODID:-//Newfoundland &amp; Labrador Public Libraries - ECPv6.15.20//NONSGML v1.0//EN
CALSCALE:GREGORIAN
METHOD:PUBLISH
X-WR-CALNAME:Newfoundland &amp; Labrador Public Libraries
X-ORIGINAL-URL:https://nlpl.ca
X-WR-CALDESC:Events for Newfoundland &amp; Labrador Public Libraries
REFRESH-INTERVAL;VALUE=DURATION:PT1H
X-Robots-Tag:noindex
X-PUBLISHED-TTL:PT1H
BEGIN:VTIMEZONE
TZID:America/St_Johns
BEGIN:DAYLIGHT
TZOFFSETFROM:-0330
TZOFFSETTO:-0230
TZNAME:NDT
DTSTART:20250309T053000
END:DAYLIGHT
BEGIN:STANDARD
TZOFFSETFROM:-0230
TZOFFSETTO:-0330
TZNAME:NST
DTSTART:20251102T043000
END:STANDARD
BEGIN:DAYLIGHT
TZOFFSETFROM:-0330
TZOFFSETTO:-0230
TZNAME:NDT
DTSTART:20260308T053000
END:DAYLIGHT
BEGIN:STANDARD
TZOFFSETFROM:-0230
TZOFFSETTO:-0330
TZNAME:NST
DTSTART:20261101T043000
END:STANDARD
BEGIN:DAYLIGHT
TZOFFSETFROM:-0330
TZOFFSETTO:-0230
TZNAME:NDT
DTSTART:20270314T053000
END:DAYLIGHT
BEGIN:STANDARD
TZOFFSETFROM:-0230
TZOFFSETTO:-0330
TZNAME:NST
DTSTART:20271107T043000
END:STANDARD
END:VTIMEZONE
BEGIN:VEVENT
DTSTART;TZID=America/St_Johns:20260421T190000
DTEND;TZID=America/St_Johns:20260421T210000
DTSTAMP:20260421T151715
CREATED:20260307T193359Z
LAST-MODIFIED:20260406T220404Z
UID:10059799-1776798000-1776805200@nlpl.ca
SUMMARY:Game Night
DESCRIPTION:Join us at the Bonavista Public Library for Game Night. Bring along some friends and your favourite game\, or come solo and join a table.
URL:https://nlpl.ca/events/game-night/
LOCATION:Bonavista Memorial Public Library\, 32 Church Street\, Bonavista\, NL\, A0C 1B0\, Canada
CATEGORIES:Hobbies, Crafts & Games
END:VEVENT
BEGIN:VEVENT
DTSTART;TZID=America/St_Johns:20260502T080000
DTEND;TZID=America/St_Johns:20260502T170000
DTSTAMP:20260421T151715
CREATED:20260315T164422Z
LAST-MODIFIED:20260329T122230Z
UID:10060398-1777708800-1777741200@nlpl.ca
SUMMARY:SCRABBLE  Saturdays
DESCRIPTION:St John’s – A.C. Hunter Want to play Scrabble? Register for a spot and come play. We will provide the boards and the space. Adults and teens 14+
URL:https://nlpl.ca/events/scrabble-saturdays/2026-05-02/
LOCATION:St. John’s – A.C. Hunter Public Library\, 125 Allandale Road\, St. John's\, NL\, A1B 3A3\, Canada
END:VEVENT
BEGIN:VEVENT
DTSTART;TZID=America/St_Johns:20260516T080000
DTEND;TZID=America/St_Johns:20260516T170000
DTSTAMP:20260421T151715
CREATED:20260315T164422Z
LAST-MODIFIED:20260329T122230Z
UID:10060399-1778918400-1778950800@nlpl.ca
SUMMARY:SCRABBLE  Saturdays
DESCRIPTION:St John’s – A.C. Hunter Want to play Scrabble? Register for a spot and come play. We will provide the boards and the space. Adults and teens 14+
URL:https://nlpl.ca/events/scrabble-saturdays/2026-05-16/
LOCATION:St. John’s – A.C. Hunter Public Library\, 125 Allandale Road\, St. John's\, NL\, A1B 3A3\, Canada
END:VEVENT
BEGIN:VEVENT
DTSTART;TZID=America/St_Johns:20260530T080000
DTEND;TZID=America/St_Johns:20260530T170000
DTSTAMP:20260421T151715
CREATED:20260315T164422Z
LAST-MODIFIED:20260329T122230Z
UID:10060400-1780128000-1780160400@nlpl.ca
SUMMARY:SCRABBLE  Saturdays
DESCRIPTION:St John’s – A.C. Hunter Want to play Scrabble? Register for a spot and come play. We will provide the boards and the space. Adults and teens 14+
URL:https://nlpl.ca/events/scrabble-saturdays/2026-05-30/
LOCATION:St. John’s – A.C. Hunter Public Library\, 125 Allandale Road\, St. John's\, NL\, A1B 3A3\, Canada
END:VEVENT
BEGIN:VEVENT
DTSTART;TZID=America/St_Johns:20260613T080000
DTEND;TZID=America/St_Johns:20260613T170000
DTSTAMP:20260421T151715
CREATED:20260315T164422Z
LAST-MODIFIED:20260329T122230Z
UID:10060401-1781337600-1781370000@nlpl.ca
SUMMARY:SCRABBLE  Saturdays
DESCRIPTION:St John’s – A.C. Hunter Want to play Scrabble? Register for a spot and come play. We will provide the boards and the space. Adults and teens 14+
URL:https://nlpl.ca/events/scrabble-saturdays/2026-06-13/
LOCATION:St. John’s – A.C. Hunter Public Library\, 125 Allandale Road\, St. John's\, NL\, A1B 3A3\, Canada
END:VEVENT
BEGIN:VEVENT
DTSTART;TZID=America/St_Johns:20260627T080000
DTEND;TZID=America/St_Johns:20260627T170000
DTSTAMP:20260421T151715
CREATED:20260315T164422Z
LAST-MODIFIED:20260329T122230Z
UID:10060402-1782547200-1782579600@nlpl.ca
SUMMARY:SCRABBLE  Saturdays
DESCRIPTION:St John’s – A.C. Hunter Want to play Scrabble? Register for a spot and come play. We will provide the boards and the space. Adults and teens 14+
URL:https://nlpl.ca/events/scrabble-saturdays/2026-06-27/
LOCATION:St. John’s – A.C. Hunter Public Library\, 125 Allandale Road\, St. John's\, NL\, A1B 3A3\, Canada
END:VEVENT
BEGIN:VEVENT
DTSTART;TZID=America/St_Johns:20260711T080000
DTEND;TZID=America/St_Johns:20260711T170000
DTSTAMP:20260421T151715
CREATED:20260315T164422Z
LAST-MODIFIED:20260329T122230Z
UID:10060403-1783756800-1783789200@nlpl.ca
SUMMARY:SCRABBLE  Saturdays
DESCRIPTION:St John’s – A.C. Hunter Want to play Scrabble? Register for a spot and come play. We will provide the boards and the space. Adults and teens 14+
URL:https://nlpl.ca/events/scrabble-saturdays/2026-07-11/
LOCATION:St. John’s – A.C. Hunter Public Library\, 125 Allandale Road\, St. John's\, NL\, A1B 3A3\, Canada
END:VEVENT
END:VCALENDAR