BEGIN:VCALENDAR
VERSION:2.0
PRODID:-//Newfoundland &amp; Labrador Public Libraries - ECPv6.15.20//NONSGML v1.0//EN
CALSCALE:GREGORIAN
METHOD:PUBLISH
X-ORIGINAL-URL:https://nlpl.ca
X-WR-CALDESC:Events for Newfoundland &amp; Labrador Public Libraries
REFRESH-INTERVAL;VALUE=DURATION:PT1H
X-Robots-Tag:noindex
X-PUBLISHED-TTL:PT1H
BEGIN:VTIMEZONE
TZID:America/St_Johns
BEGIN:DAYLIGHT
TZOFFSETFROM:-0330
TZOFFSETTO:-0230
TZNAME:NDT
DTSTART:20250309T053000
END:DAYLIGHT
BEGIN:STANDARD
TZOFFSETFROM:-0230
TZOFFSETTO:-0330
TZNAME:NST
DTSTART:20251102T043000
END:STANDARD
BEGIN:DAYLIGHT
TZOFFSETFROM:-0330
TZOFFSETTO:-0230
TZNAME:NDT
DTSTART:20260308T053000
END:DAYLIGHT
BEGIN:STANDARD
TZOFFSETFROM:-0230
TZOFFSETTO:-0330
TZNAME:NST
DTSTART:20261101T043000
END:STANDARD
BEGIN:DAYLIGHT
TZOFFSETFROM:-0330
TZOFFSETTO:-0230
TZNAME:NDT
DTSTART:20270314T053000
END:DAYLIGHT
BEGIN:STANDARD
TZOFFSETFROM:-0230
TZOFFSETTO:-0330
TZNAME:NST
DTSTART:20271107T043000
END:STANDARD
END:VTIMEZONE
BEGIN:VEVENT
DTSTART;TZID=America/St_Johns:20260530T143000
DTEND;TZID=America/St_Johns:20260530T153000
DTSTAMP:20260421T155030
CREATED:20260420T134406Z
LAST-MODIFIED:20260421T144444Z
UID:10061541-1780151400-1780155000@nlpl.ca
SUMMARY:Waterfalls of Newfoundland and Labrador with Steve Faulkner
DESCRIPTION:St John’s – A.C. Hunter Library \nCalling all you outdoor enthusiasts ! Join us for an afternoon with author and photographer Steve Faulkner as we launch his newest book  Waterfalls of Newfoundland and Labrador !  There will be a reading\, slideshow and some Q&A. Books will be available for purchase and signing.\nSteve Faulkner is a hiker\, skier\, mountain biker\, kayaker\, and photographer who lived and worked in Newfoundland and Labrador for more than a decade. Originally from Musquodoboit Harbour\, Nova Scotia\, he first went to Newfoundland in 1988 as a field geologist\, to work primarily around the Great Northern Peninsula. It was there that his deep appreciation for the natural beauty of “The Rock” first formed. When the opportunity presented itself several years later\, Faulkner jumped at the chance to move back to the province as an RCMP officer; he was fortunate to have postings in the east\, west\, and central regions of Newfoundland and in Labrador\, during which he sought out many of its great waterfalls.
URL:https://nlpl.ca/events/newfoundland-and-labrador-waterfalls-with-steve-faulkner/
LOCATION:St. John’s – A.C. Hunter Public Library\, 125 Allandale Road\, St. John's\, NL\, A1B 3A3\, Canada
CATEGORIES:Author Talks & Readings,Heath & Wellbeing,Hobbies, Crafts & Games,Special Event
END:VEVENT
END:VCALENDAR