BEGIN:VCALENDAR
VERSION:2.0
PRODID:-//Newfoundland &amp; Labrador Public Libraries - ECPv6.15.20//NONSGML v1.0//EN
CALSCALE:GREGORIAN
METHOD:PUBLISH
X-ORIGINAL-URL:https://nlpl.ca
X-WR-CALDESC:Events for Newfoundland &amp; Labrador Public Libraries
REFRESH-INTERVAL;VALUE=DURATION:PT1H
X-Robots-Tag:noindex
X-PUBLISHED-TTL:PT1H
BEGIN:VTIMEZONE
TZID:America/St_Johns
BEGIN:DAYLIGHT
TZOFFSETFROM:-0330
TZOFFSETTO:-0230
TZNAME:NDT
DTSTART:20250309T053000
END:DAYLIGHT
BEGIN:STANDARD
TZOFFSETFROM:-0230
TZOFFSETTO:-0330
TZNAME:NST
DTSTART:20251102T043000
END:STANDARD
BEGIN:DAYLIGHT
TZOFFSETFROM:-0330
TZOFFSETTO:-0230
TZNAME:NDT
DTSTART:20260308T053000
END:DAYLIGHT
BEGIN:STANDARD
TZOFFSETFROM:-0230
TZOFFSETTO:-0330
TZNAME:NST
DTSTART:20261101T043000
END:STANDARD
BEGIN:DAYLIGHT
TZOFFSETFROM:-0330
TZOFFSETTO:-0230
TZNAME:NDT
DTSTART:20270314T053000
END:DAYLIGHT
BEGIN:STANDARD
TZOFFSETFROM:-0230
TZOFFSETTO:-0330
TZNAME:NST
DTSTART:20271107T043000
END:STANDARD
END:VTIMEZONE
BEGIN:VEVENT
DTSTART;TZID=America/St_Johns:20260423T153000
DTEND;TZID=America/St_Johns:20260423T170000
DTSTAMP:20260422T080007
CREATED:20250905T155750Z
LAST-MODIFIED:20251128T204710Z
UID:10049988-1776958200-1776963600@nlpl.ca
SUMMARY:Lego Play Hour at Bay Roberts Public Library
DESCRIPTION:Thursdays\, this fall\, from 3:30 to 5 pm expand your imagination with mountains of Lego blocks. Create and make friends. \nRegistration not necessary.
URL:https://nlpl.ca/events/lego-play-hour-at-bay-roberts-public-library/2026-04-23/
LOCATION:Bay Roberts Public Library\, 76 Cross Road\, Bay Roberts\, NL\, A0A 1G0\, Canada
ATTACH;FMTTYPE=image/jpeg:https://nlpl.ca/wp-content/uploads/2023/03/Events-Kid-Families.jpg
END:VEVENT
BEGIN:VEVENT
DTSTART;TZID=America/St_Johns:20260425T110000
DTEND;TZID=America/St_Johns:20260425T113000
DTSTAMP:20260422T080007
CREATED:20260421T144645Z
LAST-MODIFIED:20260421T144645Z
UID:10061544-1777114800-1777116600@nlpl.ca
SUMMARY:Spring Storytime and Craft - Bay Roberts Public Library
DESCRIPTION:Join Miss Marilyn for a spring story and craft on Saturday\, April 25th at 11 am. \nPlease call 709-786-9629 to register.
URL:https://nlpl.ca/events/spring-storytime-and-craft-bay-roberts-public-library/
LOCATION:Bay Roberts Public Library\, 76 Cross Road\, Bay Roberts\, NL\, A0A 1G0\, Canada
CATEGORIES:Hobbies, Crafts & Games,Kids & Families,Storytime
END:VEVENT
BEGIN:VEVENT
DTSTART;TZID=America/St_Johns:20260430T153000
DTEND;TZID=America/St_Johns:20260430T170000
DTSTAMP:20260422T080007
CREATED:20250905T155750Z
LAST-MODIFIED:20251128T204710Z
UID:10049989-1777563000-1777568400@nlpl.ca
SUMMARY:Lego Play Hour at Bay Roberts Public Library
DESCRIPTION:Thursdays\, this fall\, from 3:30 to 5 pm expand your imagination with mountains of Lego blocks. Create and make friends. \nRegistration not necessary.
URL:https://nlpl.ca/events/lego-play-hour-at-bay-roberts-public-library/2026-04-30/
LOCATION:Bay Roberts Public Library\, 76 Cross Road\, Bay Roberts\, NL\, A0A 1G0\, Canada
ATTACH;FMTTYPE=image/jpeg:https://nlpl.ca/wp-content/uploads/2023/03/Events-Kid-Families.jpg
END:VEVENT
BEGIN:VEVENT
DTSTART;TZID=America/St_Johns:20260507T153000
DTEND;TZID=America/St_Johns:20260507T170000
DTSTAMP:20260422T080007
CREATED:20250905T155750Z
LAST-MODIFIED:20251128T204710Z
UID:10049990-1778167800-1778173200@nlpl.ca
SUMMARY:Lego Play Hour at Bay Roberts Public Library
DESCRIPTION:Thursdays\, this fall\, from 3:30 to 5 pm expand your imagination with mountains of Lego blocks. Create and make friends. \nRegistration not necessary.
URL:https://nlpl.ca/events/lego-play-hour-at-bay-roberts-public-library/2026-05-07/
LOCATION:Bay Roberts Public Library\, 76 Cross Road\, Bay Roberts\, NL\, A0A 1G0\, Canada
ATTACH;FMTTYPE=image/jpeg:https://nlpl.ca/wp-content/uploads/2023/03/Events-Kid-Families.jpg
END:VEVENT
BEGIN:VEVENT
DTSTART;TZID=America/St_Johns:20260514T153000
DTEND;TZID=America/St_Johns:20260514T170000
DTSTAMP:20260422T080007
CREATED:20250905T155750Z
LAST-MODIFIED:20251128T204710Z
UID:10049991-1778772600-1778778000@nlpl.ca
SUMMARY:Lego Play Hour at Bay Roberts Public Library
DESCRIPTION:Thursdays\, this fall\, from 3:30 to 5 pm expand your imagination with mountains of Lego blocks. Create and make friends. \nRegistration not necessary.
URL:https://nlpl.ca/events/lego-play-hour-at-bay-roberts-public-library/2026-05-14/
LOCATION:Bay Roberts Public Library\, 76 Cross Road\, Bay Roberts\, NL\, A0A 1G0\, Canada
ATTACH;FMTTYPE=image/jpeg:https://nlpl.ca/wp-content/uploads/2023/03/Events-Kid-Families.jpg
END:VEVENT
BEGIN:VEVENT
DTSTART;TZID=America/St_Johns:20260521T153000
DTEND;TZID=America/St_Johns:20260521T170000
DTSTAMP:20260422T080007
CREATED:20250905T155750Z
LAST-MODIFIED:20251128T204710Z
UID:10049992-1779377400-1779382800@nlpl.ca
SUMMARY:Lego Play Hour at Bay Roberts Public Library
DESCRIPTION:Thursdays\, this fall\, from 3:30 to 5 pm expand your imagination with mountains of Lego blocks. Create and make friends. \nRegistration not necessary.
URL:https://nlpl.ca/events/lego-play-hour-at-bay-roberts-public-library/2026-05-21/
LOCATION:Bay Roberts Public Library\, 76 Cross Road\, Bay Roberts\, NL\, A0A 1G0\, Canada
ATTACH;FMTTYPE=image/jpeg:https://nlpl.ca/wp-content/uploads/2023/03/Events-Kid-Families.jpg
END:VEVENT
BEGIN:VEVENT
DTSTART;TZID=America/St_Johns:20260528T153000
DTEND;TZID=America/St_Johns:20260528T170000
DTSTAMP:20260422T080007
CREATED:20250905T155750Z
LAST-MODIFIED:20251128T204710Z
UID:10049993-1779982200-1779987600@nlpl.ca
SUMMARY:Lego Play Hour at Bay Roberts Public Library
DESCRIPTION:Thursdays\, this fall\, from 3:30 to 5 pm expand your imagination with mountains of Lego blocks. Create and make friends. \nRegistration not necessary.
URL:https://nlpl.ca/events/lego-play-hour-at-bay-roberts-public-library/2026-05-28/
LOCATION:Bay Roberts Public Library\, 76 Cross Road\, Bay Roberts\, NL\, A0A 1G0\, Canada
ATTACH;FMTTYPE=image/jpeg:https://nlpl.ca/wp-content/uploads/2023/03/Events-Kid-Families.jpg
END:VEVENT
END:VCALENDAR