BEGIN:VCALENDAR
VERSION:2.0
PRODID:-//Newfoundland &amp; Labrador Public Libraries - ECPv6.15.20//NONSGML v1.0//EN
CALSCALE:GREGORIAN
METHOD:PUBLISH
X-ORIGINAL-URL:https://nlpl.ca
X-WR-CALDESC:Events for Newfoundland &amp; Labrador Public Libraries
REFRESH-INTERVAL;VALUE=DURATION:PT1H
X-Robots-Tag:noindex
X-PUBLISHED-TTL:PT1H
BEGIN:VTIMEZONE
TZID:America/St_Johns
BEGIN:DAYLIGHT
TZOFFSETFROM:-0330
TZOFFSETTO:-0230
TZNAME:NDT
DTSTART:20250309T053000
END:DAYLIGHT
BEGIN:STANDARD
TZOFFSETFROM:-0230
TZOFFSETTO:-0330
TZNAME:NST
DTSTART:20251102T043000
END:STANDARD
BEGIN:DAYLIGHT
TZOFFSETFROM:-0330
TZOFFSETTO:-0230
TZNAME:NDT
DTSTART:20260308T053000
END:DAYLIGHT
BEGIN:STANDARD
TZOFFSETFROM:-0230
TZOFFSETTO:-0330
TZNAME:NST
DTSTART:20261101T043000
END:STANDARD
BEGIN:DAYLIGHT
TZOFFSETFROM:-0330
TZOFFSETTO:-0230
TZNAME:NDT
DTSTART:20270314T053000
END:DAYLIGHT
BEGIN:STANDARD
TZOFFSETFROM:-0230
TZOFFSETTO:-0330
TZNAME:NST
DTSTART:20271107T043000
END:STANDARD
END:VTIMEZONE
BEGIN:VEVENT
DTSTART;TZID=America/St_Johns:20260512T153000
DTEND;TZID=America/St_Johns:20260512T163000
DTSTAMP:20260422T094158
CREATED:20250821T155247Z
LAST-MODIFIED:20260415T221903Z
UID:10061418-1778599800-1778603400@nlpl.ca
SUMMARY:Baby Play Group
DESCRIPTION:Drop in to the Conception Bay South Public Library where the storytime room  will be open for baby play time\, with baby-friendly toys available! This is a drop-in program\, best suited for ages 0-2.
URL:https://nlpl.ca/events/baby-play-group/2026-05-12/
LOCATION:Conception Bay South Public Library\, 10 Remembrance Square\, Conception Bay South\, NL\, Canada
CATEGORIES:Kids & Families
ATTACH;FMTTYPE=image/jpeg:https://nlpl.ca/wp-content/uploads/2023/03/Events-Kid-Families.jpg
END:VEVENT
BEGIN:VEVENT
DTSTART;TZID=America/St_Johns:20260513T100000
DTEND;TZID=America/St_Johns:20260513T130000
DTSTAMP:20260422T094158
CREATED:20240903T132133Z
LAST-MODIFIED:20260415T215148Z
UID:10061447-1778666400-1778677200@nlpl.ca
SUMMARY:Rug Hooking
DESCRIPTION:Drop in group at the Conception Bay South Public Library for crafters to work on their own projects with company.\nAll skill levels are welcome.
URL:https://nlpl.ca/events/rug-hooking/2026-05-13/
LOCATION:Conception Bay South Public Library\, 10 Remembrance Square\, Conception Bay South\, NL\, Canada
CATEGORIES:Hobbies, Crafts & Games
ATTACH;FMTTYPE=image/jpeg:https://nlpl.ca/wp-content/uploads/2023/03/Events-Hobbies-Crafts-and-Games.jpg
ORGANIZER;CN="Conception Bay South Public Library":MAILTO:conceptionbaysouth@nlpl.ca
END:VEVENT
BEGIN:VEVENT
DTSTART;TZID=America/St_Johns:20260513T180000
DTEND;TZID=America/St_Johns:20260513T190000
DTSTAMP:20260422T094158
CREATED:20240903T133648Z
LAST-MODIFIED:20260415T215847Z
UID:10061462-1778695200-1778698800@nlpl.ca
SUMMARY:Writer's Group
DESCRIPTION:Join us at the Conception Bay South Public Library! This is a drop in group for people with a passion for creative writing!
URL:https://nlpl.ca/events/writers-group/2026-05-13/
LOCATION:Conception Bay South Public Library\, 10 Remembrance Square\, Conception Bay South\, NL\, Canada
CATEGORIES:Book Clubs & Writer’s Groups
ATTACH;FMTTYPE=image/jpeg:https://nlpl.ca/wp-content/uploads/2023/03/Events-Book-Clubs-and-Writing-Groups.jpg
END:VEVENT
BEGIN:VEVENT
DTSTART;TZID=America/St_Johns:20260514T100000
DTEND;TZID=America/St_Johns:20260514T120000
DTSTAMP:20260422T094158
CREATED:20240911T134337Z
LAST-MODIFIED:20260415T215627Z
UID:10061454-1778752800-1778760000@nlpl.ca
SUMMARY:Art Group
DESCRIPTION:Drop into the Conception Bay South Public Library  community room with any art project you are working on!\nThis is a group for adults.
URL:https://nlpl.ca/events/art-group/2026-05-14/
LOCATION:Conception Bay South Public Library\, 10 Remembrance Square\, Conception Bay South\, NL\, Canada
CATEGORIES:Arts & Culture,Hobbies, Crafts & Games
ATTACH;FMTTYPE=image/jpeg:https://nlpl.ca/wp-content/uploads/2023/03/Events-Hobbies-Crafts-and-Games.jpg
ORGANIZER;CN="Conception Bay South Public Library":MAILTO:conceptionbaysouth@nlpl.ca
END:VEVENT
BEGIN:VEVENT
DTSTART;TZID=America/St_Johns:20260514T130000
DTEND;TZID=America/St_Johns:20260514T150000
DTSTAMP:20260422T094158
CREATED:20250702T192402Z
LAST-MODIFIED:20260410T152336Z
UID:10061431-1778763600-1778770800@nlpl.ca
SUMMARY:CBS Knitting Group
DESCRIPTION:Everyone is welcome ! Bring your project and meet up with fellow knitters!
URL:https://nlpl.ca/events/knitting-group-4/2026-05-14/
LOCATION:Conception Bay South Public Library\, 10 Remembrance Square\, Conception Bay South\, NL\, Canada
CATEGORIES:Hobbies, Crafts & Games
ATTACH;FMTTYPE=image/jpeg:https://nlpl.ca/wp-content/uploads/2023/03/Events-Hobbies-Crafts-and-Games.jpg
ORGANIZER;CN="Conception Bay South Public Library":MAILTO:conceptionbaysouth@nlpl.ca
END:VEVENT
BEGIN:VEVENT
DTSTART;TZID=America/St_Johns:20260515T101500
DTEND;TZID=America/St_Johns:20260515T114500
DTSTAMP:20260422T094158
CREATED:20251028T175624Z
LAST-MODIFIED:20260415T222620Z
UID:10061499-1778840100-1778845500@nlpl.ca
SUMMARY:Musical Munchkins
DESCRIPTION:Drop in to the Conception Bay South Public Library for Musical Munchkins! Hosted By the Family Resource Center.\nThis is a drop-in music and rhyme time for babies (newborn until walking) and their caregiver.
URL:https://nlpl.ca/events/musical-munchkins-2-3-2/2026-05-15/
LOCATION:Conception Bay South Public Library\, 10 Remembrance Square\, Conception Bay South\, NL\, Canada
CATEGORIES:Kids & Families
ATTACH;FMTTYPE=image/jpeg:https://nlpl.ca/wp-content/uploads/2023/03/Events-Kid-Families.jpg
END:VEVENT
BEGIN:VEVENT
DTSTART;TZID=America/St_Johns:20260515T140000
DTEND;TZID=America/St_Johns:20260515T163000
DTSTAMP:20260422T094158
CREATED:20260407T134939Z
LAST-MODIFIED:20260421T161545Z
UID:10060136-1778853600-1778862600@nlpl.ca
SUMMARY:Tech Help at CBS Public Library
DESCRIPTION:Book a one-on-one 30-minute tech help session on Friday afternoons. These sessions will be for basic tech help – including: accessing library books on Libby\, Microsoft Word or Google Docs\, email services\, setting up your new device\, and more!\n*Day-Of Registration Required – Please call the library (709-834-3620) from 10am-noon on the day you wish to book – let us know what device you will be bringing and what you need help with! Use of library computers\, laptops\, or tablets during these sessions is subject to availability.
URL:https://nlpl.ca/events/tech-help-at-cbs-public-library/2026-05-15/
LOCATION:Conception Bay South Public Library\, 10 Remembrance Square\, Conception Bay South\, NL\, Canada
CATEGORIES:Classes & Workshops
ATTACH;FMTTYPE=image/jpeg:https://nlpl.ca/wp-content/uploads/2023/03/Events-Classes-and-Workshops.jpg
END:VEVENT
BEGIN:VEVENT
DTSTART;TZID=America/St_Johns:20260516T110000
DTEND;TZID=America/St_Johns:20260516T113000
DTSTAMP:20260422T094158
CREATED:20260323T174337Z
LAST-MODIFIED:20260323T174337Z
UID:10060206-1778929200-1778931000@nlpl.ca
SUMMARY:Family Storytime
DESCRIPTION:Join us at the CBS Public Library with the whole family for Storytime!\nThis is for all ages and drop in.
URL:https://nlpl.ca/events/family-storytime-6/2026-05-16/
LOCATION:Conception Bay South Public Library\, 10 Remembrance Square\, Conception Bay South\, NL\, Canada
CATEGORIES:Storytime
ATTACH;FMTTYPE=image/jpeg:https://nlpl.ca/wp-content/uploads/2023/03/Events-Kid-Families.jpg
ORGANIZER;CN="Conception Bay South Public Library":MAILTO:conceptionbaysouth@nlpl.ca
END:VEVENT
BEGIN:VEVENT
DTSTART;TZID=America/St_Johns:20260519T140000
DTEND;TZID=America/St_Johns:20260519T153000
DTSTAMP:20260422T094158
CREATED:20250310T162548Z
LAST-MODIFIED:20260408T174230Z
UID:10061405-1779199200-1779204600@nlpl.ca
SUMMARY:Breastfeeding Clinic
DESCRIPTION:Drop in to the Conception Bay South Public Library for the Breastfeeding Clinic provided by Community Health\, Drop in for parents and babies.
URL:https://nlpl.ca/events/breastfeeding-clinic-3/2026-05-19/
LOCATION:Conception Bay South Public Library\, 10 Remembrance Square\, Conception Bay South\, NL\, Canada
CATEGORIES:Heath & Wellbeing,Kids & Families
ATTACH;FMTTYPE=image/jpeg:https://nlpl.ca/wp-content/uploads/2023/03/Events-Health-and-Wellbeing.jpg
ORGANIZER;CN="Conception Bay South Public Library":MAILTO:conceptionbaysouth@nlpl.ca
END:VEVENT
BEGIN:VEVENT
DTSTART;TZID=America/St_Johns:20260519T153000
DTEND;TZID=America/St_Johns:20260519T160000
DTSTAMP:20260422T094158
CREATED:20260323T174050Z
LAST-MODIFIED:20260323T174610Z
UID:10060211-1779204600-1779206400@nlpl.ca
SUMMARY:Baby Storytime
DESCRIPTION:Join us at the CBS Public library for themed story times with your little ones! Suitable for ages 0-2\, Drop in
URL:https://nlpl.ca/events/baby-storytime/2026-05-19/
LOCATION:Conception Bay South Public Library\, 10 Remembrance Square\, Conception Bay South\, NL\, Canada
CATEGORIES:Storytime
ATTACH;FMTTYPE=image/jpeg:https://nlpl.ca/wp-content/uploads/2023/03/Events-Kid-Families.jpg
ORGANIZER;CN="Conception Bay South Public Library":MAILTO:conceptionbaysouth@nlpl.ca
END:VEVENT
BEGIN:VEVENT
DTSTART;TZID=America/St_Johns:20260519T153000
DTEND;TZID=America/St_Johns:20260519T163000
DTSTAMP:20260422T094158
CREATED:20250821T155247Z
LAST-MODIFIED:20260415T221903Z
UID:10061419-1779204600-1779208200@nlpl.ca
SUMMARY:Baby Play Group
DESCRIPTION:Drop in to the Conception Bay South Public Library where the storytime room  will be open for baby play time\, with baby-friendly toys available! This is a drop-in program\, best suited for ages 0-2.
URL:https://nlpl.ca/events/baby-play-group/2026-05-19/
LOCATION:Conception Bay South Public Library\, 10 Remembrance Square\, Conception Bay South\, NL\, Canada
CATEGORIES:Kids & Families
ATTACH;FMTTYPE=image/jpeg:https://nlpl.ca/wp-content/uploads/2023/03/Events-Kid-Families.jpg
END:VEVENT
BEGIN:VEVENT
DTSTART;TZID=America/St_Johns:20260520T100000
DTEND;TZID=America/St_Johns:20260520T130000
DTSTAMP:20260422T094158
CREATED:20240903T132133Z
LAST-MODIFIED:20260415T215148Z
UID:10061448-1779271200-1779282000@nlpl.ca
SUMMARY:Rug Hooking
DESCRIPTION:Drop in group at the Conception Bay South Public Library for crafters to work on their own projects with company.\nAll skill levels are welcome.
URL:https://nlpl.ca/events/rug-hooking/2026-05-20/
LOCATION:Conception Bay South Public Library\, 10 Remembrance Square\, Conception Bay South\, NL\, Canada
CATEGORIES:Hobbies, Crafts & Games
ATTACH;FMTTYPE=image/jpeg:https://nlpl.ca/wp-content/uploads/2023/03/Events-Hobbies-Crafts-and-Games.jpg
ORGANIZER;CN="Conception Bay South Public Library":MAILTO:conceptionbaysouth@nlpl.ca
END:VEVENT
BEGIN:VEVENT
DTSTART;TZID=America/St_Johns:20260520T180000
DTEND;TZID=America/St_Johns:20260520T190000
DTSTAMP:20260422T094158
CREATED:20240903T133648Z
LAST-MODIFIED:20260415T215847Z
UID:10061463-1779300000-1779303600@nlpl.ca
SUMMARY:Writer's Group
DESCRIPTION:Join us at the Conception Bay South Public Library! This is a drop in group for people with a passion for creative writing!
URL:https://nlpl.ca/events/writers-group/2026-05-20/
LOCATION:Conception Bay South Public Library\, 10 Remembrance Square\, Conception Bay South\, NL\, Canada
CATEGORIES:Book Clubs & Writer’s Groups
ATTACH;FMTTYPE=image/jpeg:https://nlpl.ca/wp-content/uploads/2023/03/Events-Book-Clubs-and-Writing-Groups.jpg
END:VEVENT
BEGIN:VEVENT
DTSTART;TZID=America/St_Johns:20260521T100000
DTEND;TZID=America/St_Johns:20260521T120000
DTSTAMP:20260422T094158
CREATED:20240911T134337Z
LAST-MODIFIED:20260415T215627Z
UID:10061455-1779357600-1779364800@nlpl.ca
SUMMARY:Art Group
DESCRIPTION:Drop into the Conception Bay South Public Library  community room with any art project you are working on!\nThis is a group for adults.
URL:https://nlpl.ca/events/art-group/2026-05-21/
LOCATION:Conception Bay South Public Library\, 10 Remembrance Square\, Conception Bay South\, NL\, Canada
CATEGORIES:Arts & Culture,Hobbies, Crafts & Games
ATTACH;FMTTYPE=image/jpeg:https://nlpl.ca/wp-content/uploads/2023/03/Events-Hobbies-Crafts-and-Games.jpg
ORGANIZER;CN="Conception Bay South Public Library":MAILTO:conceptionbaysouth@nlpl.ca
END:VEVENT
BEGIN:VEVENT
DTSTART;TZID=America/St_Johns:20260521T130000
DTEND;TZID=America/St_Johns:20260521T150000
DTSTAMP:20260422T094158
CREATED:20250702T192402Z
LAST-MODIFIED:20260410T152336Z
UID:10061432-1779368400-1779375600@nlpl.ca
SUMMARY:CBS Knitting Group
DESCRIPTION:Everyone is welcome ! Bring your project and meet up with fellow knitters!
URL:https://nlpl.ca/events/knitting-group-4/2026-05-21/
LOCATION:Conception Bay South Public Library\, 10 Remembrance Square\, Conception Bay South\, NL\, Canada
CATEGORIES:Hobbies, Crafts & Games
ATTACH;FMTTYPE=image/jpeg:https://nlpl.ca/wp-content/uploads/2023/03/Events-Hobbies-Crafts-and-Games.jpg
ORGANIZER;CN="Conception Bay South Public Library":MAILTO:conceptionbaysouth@nlpl.ca
END:VEVENT
BEGIN:VEVENT
DTSTART;TZID=America/St_Johns:20260522T101500
DTEND;TZID=America/St_Johns:20260522T114500
DTSTAMP:20260422T094158
CREATED:20251028T175624Z
LAST-MODIFIED:20260415T222620Z
UID:10061500-1779444900-1779450300@nlpl.ca
SUMMARY:Musical Munchkins
DESCRIPTION:Drop in to the Conception Bay South Public Library for Musical Munchkins! Hosted By the Family Resource Center.\nThis is a drop-in music and rhyme time for babies (newborn until walking) and their caregiver.
URL:https://nlpl.ca/events/musical-munchkins-2-3-2/2026-05-22/
LOCATION:Conception Bay South Public Library\, 10 Remembrance Square\, Conception Bay South\, NL\, Canada
CATEGORIES:Kids & Families
ATTACH;FMTTYPE=image/jpeg:https://nlpl.ca/wp-content/uploads/2023/03/Events-Kid-Families.jpg
END:VEVENT
BEGIN:VEVENT
DTSTART;TZID=America/St_Johns:20260522T140000
DTEND;TZID=America/St_Johns:20260522T163000
DTSTAMP:20260422T094158
CREATED:20260407T134939Z
LAST-MODIFIED:20260421T161545Z
UID:10060137-1779458400-1779467400@nlpl.ca
SUMMARY:Tech Help at CBS Public Library
DESCRIPTION:Book a one-on-one 30-minute tech help session on Friday afternoons. These sessions will be for basic tech help – including: accessing library books on Libby\, Microsoft Word or Google Docs\, email services\, setting up your new device\, and more!\n*Day-Of Registration Required – Please call the library (709-834-3620) from 10am-noon on the day you wish to book – let us know what device you will be bringing and what you need help with! Use of library computers\, laptops\, or tablets during these sessions is subject to availability.
URL:https://nlpl.ca/events/tech-help-at-cbs-public-library/2026-05-22/
LOCATION:Conception Bay South Public Library\, 10 Remembrance Square\, Conception Bay South\, NL\, Canada
CATEGORIES:Classes & Workshops
ATTACH;FMTTYPE=image/jpeg:https://nlpl.ca/wp-content/uploads/2023/03/Events-Classes-and-Workshops.jpg
END:VEVENT
BEGIN:VEVENT
DTSTART;TZID=America/St_Johns:20260523T110000
DTEND;TZID=America/St_Johns:20260523T113000
DTSTAMP:20260422T094158
CREATED:20260323T174337Z
LAST-MODIFIED:20260323T174337Z
UID:10060207-1779534000-1779535800@nlpl.ca
SUMMARY:Family Storytime
DESCRIPTION:Join us at the CBS Public Library with the whole family for Storytime!\nThis is for all ages and drop in.
URL:https://nlpl.ca/events/family-storytime-6/2026-05-23/
LOCATION:Conception Bay South Public Library\, 10 Remembrance Square\, Conception Bay South\, NL\, Canada
CATEGORIES:Storytime
ATTACH;FMTTYPE=image/jpeg:https://nlpl.ca/wp-content/uploads/2023/03/Events-Kid-Families.jpg
ORGANIZER;CN="Conception Bay South Public Library":MAILTO:conceptionbaysouth@nlpl.ca
END:VEVENT
BEGIN:VEVENT
DTSTART;TZID=America/St_Johns:20260526T140000
DTEND;TZID=America/St_Johns:20260526T153000
DTSTAMP:20260422T094158
CREATED:20250310T162548Z
LAST-MODIFIED:20260408T174230Z
UID:10061406-1779804000-1779809400@nlpl.ca
SUMMARY:Breastfeeding Clinic
DESCRIPTION:Drop in to the Conception Bay South Public Library for the Breastfeeding Clinic provided by Community Health\, Drop in for parents and babies.
URL:https://nlpl.ca/events/breastfeeding-clinic-3/2026-05-26/
LOCATION:Conception Bay South Public Library\, 10 Remembrance Square\, Conception Bay South\, NL\, Canada
CATEGORIES:Heath & Wellbeing,Kids & Families
ATTACH;FMTTYPE=image/jpeg:https://nlpl.ca/wp-content/uploads/2023/03/Events-Health-and-Wellbeing.jpg
ORGANIZER;CN="Conception Bay South Public Library":MAILTO:conceptionbaysouth@nlpl.ca
END:VEVENT
BEGIN:VEVENT
DTSTART;TZID=America/St_Johns:20260526T153000
DTEND;TZID=America/St_Johns:20260526T160000
DTSTAMP:20260422T094159
CREATED:20260323T174050Z
LAST-MODIFIED:20260323T174610Z
UID:10060212-1779809400-1779811200@nlpl.ca
SUMMARY:Baby Storytime
DESCRIPTION:Join us at the CBS Public library for themed story times with your little ones! Suitable for ages 0-2\, Drop in
URL:https://nlpl.ca/events/baby-storytime/2026-05-26/
LOCATION:Conception Bay South Public Library\, 10 Remembrance Square\, Conception Bay South\, NL\, Canada
CATEGORIES:Storytime
ATTACH;FMTTYPE=image/jpeg:https://nlpl.ca/wp-content/uploads/2023/03/Events-Kid-Families.jpg
ORGANIZER;CN="Conception Bay South Public Library":MAILTO:conceptionbaysouth@nlpl.ca
END:VEVENT
BEGIN:VEVENT
DTSTART;TZID=America/St_Johns:20260526T153000
DTEND;TZID=America/St_Johns:20260526T163000
DTSTAMP:20260422T094159
CREATED:20250821T155247Z
LAST-MODIFIED:20260415T221903Z
UID:10061420-1779809400-1779813000@nlpl.ca
SUMMARY:Baby Play Group
DESCRIPTION:Drop in to the Conception Bay South Public Library where the storytime room  will be open for baby play time\, with baby-friendly toys available! This is a drop-in program\, best suited for ages 0-2.
URL:https://nlpl.ca/events/baby-play-group/2026-05-26/
LOCATION:Conception Bay South Public Library\, 10 Remembrance Square\, Conception Bay South\, NL\, Canada
CATEGORIES:Kids & Families
ATTACH;FMTTYPE=image/jpeg:https://nlpl.ca/wp-content/uploads/2023/03/Events-Kid-Families.jpg
END:VEVENT
BEGIN:VEVENT
DTSTART;TZID=America/St_Johns:20260527T100000
DTEND;TZID=America/St_Johns:20260527T130000
DTSTAMP:20260422T094159
CREATED:20240903T132133Z
LAST-MODIFIED:20260415T215148Z
UID:10061449-1779876000-1779886800@nlpl.ca
SUMMARY:Rug Hooking
DESCRIPTION:Drop in group at the Conception Bay South Public Library for crafters to work on their own projects with company.\nAll skill levels are welcome.
URL:https://nlpl.ca/events/rug-hooking/2026-05-27/
LOCATION:Conception Bay South Public Library\, 10 Remembrance Square\, Conception Bay South\, NL\, Canada
CATEGORIES:Hobbies, Crafts & Games
ATTACH;FMTTYPE=image/jpeg:https://nlpl.ca/wp-content/uploads/2023/03/Events-Hobbies-Crafts-and-Games.jpg
ORGANIZER;CN="Conception Bay South Public Library":MAILTO:conceptionbaysouth@nlpl.ca
END:VEVENT
BEGIN:VEVENT
DTSTART;TZID=America/St_Johns:20260527T180000
DTEND;TZID=America/St_Johns:20260527T190000
DTSTAMP:20260422T094159
CREATED:20240903T133648Z
LAST-MODIFIED:20260415T215847Z
UID:10061464-1779904800-1779908400@nlpl.ca
SUMMARY:Writer's Group
DESCRIPTION:Join us at the Conception Bay South Public Library! This is a drop in group for people with a passion for creative writing!
URL:https://nlpl.ca/events/writers-group/2026-05-27/
LOCATION:Conception Bay South Public Library\, 10 Remembrance Square\, Conception Bay South\, NL\, Canada
CATEGORIES:Book Clubs & Writer’s Groups
ATTACH;FMTTYPE=image/jpeg:https://nlpl.ca/wp-content/uploads/2023/03/Events-Book-Clubs-and-Writing-Groups.jpg
END:VEVENT
BEGIN:VEVENT
DTSTART;TZID=America/St_Johns:20260528T100000
DTEND;TZID=America/St_Johns:20260528T120000
DTSTAMP:20260422T094159
CREATED:20240911T134337Z
LAST-MODIFIED:20260415T215627Z
UID:10061456-1779962400-1779969600@nlpl.ca
SUMMARY:Art Group
DESCRIPTION:Drop into the Conception Bay South Public Library  community room with any art project you are working on!\nThis is a group for adults.
URL:https://nlpl.ca/events/art-group/2026-05-28/
LOCATION:Conception Bay South Public Library\, 10 Remembrance Square\, Conception Bay South\, NL\, Canada
CATEGORIES:Arts & Culture,Hobbies, Crafts & Games
ATTACH;FMTTYPE=image/jpeg:https://nlpl.ca/wp-content/uploads/2023/03/Events-Hobbies-Crafts-and-Games.jpg
ORGANIZER;CN="Conception Bay South Public Library":MAILTO:conceptionbaysouth@nlpl.ca
END:VEVENT
BEGIN:VEVENT
DTSTART;TZID=America/St_Johns:20260528T130000
DTEND;TZID=America/St_Johns:20260528T150000
DTSTAMP:20260422T094159
CREATED:20250702T192402Z
LAST-MODIFIED:20260410T152336Z
UID:10061433-1779973200-1779980400@nlpl.ca
SUMMARY:CBS Knitting Group
DESCRIPTION:Everyone is welcome ! Bring your project and meet up with fellow knitters!
URL:https://nlpl.ca/events/knitting-group-4/2026-05-28/
LOCATION:Conception Bay South Public Library\, 10 Remembrance Square\, Conception Bay South\, NL\, Canada
CATEGORIES:Hobbies, Crafts & Games
ATTACH;FMTTYPE=image/jpeg:https://nlpl.ca/wp-content/uploads/2023/03/Events-Hobbies-Crafts-and-Games.jpg
ORGANIZER;CN="Conception Bay South Public Library":MAILTO:conceptionbaysouth@nlpl.ca
END:VEVENT
BEGIN:VEVENT
DTSTART;TZID=America/St_Johns:20260528T183000
DTEND;TZID=America/St_Johns:20260528T193000
DTSTAMP:20260422T094159
CREATED:20260102T143217Z
LAST-MODIFIED:20260410T152013Z
UID:10061428-1779993000-1779996600@nlpl.ca
SUMMARY:Bonsai Newfoundland
DESCRIPTION:Come and learn how to get started with the beautiful art of Bonsai at the Conception Bay South Public Library ! \nThis is a free program presented by George Jarvis
URL:https://nlpl.ca/events/bonsai-newfoundland/2026-05-28/
LOCATION:Conception Bay South Public Library\, 10 Remembrance Square\, Conception Bay South\, NL\, Canada
CATEGORIES:Classes & Workshops
ATTACH;FMTTYPE=image/jpeg:https://nlpl.ca/wp-content/uploads/2023/03/Events-Information-Sessions.jpg
ORGANIZER;CN="Conception Bay South Public Library":MAILTO:conceptionbaysouth@nlpl.ca
END:VEVENT
BEGIN:VEVENT
DTSTART;TZID=America/St_Johns:20260529T101500
DTEND;TZID=America/St_Johns:20260529T114500
DTSTAMP:20260422T094159
CREATED:20251028T175624Z
LAST-MODIFIED:20260415T222620Z
UID:10061501-1780049700-1780055100@nlpl.ca
SUMMARY:Musical Munchkins
DESCRIPTION:Drop in to the Conception Bay South Public Library for Musical Munchkins! Hosted By the Family Resource Center.\nThis is a drop-in music and rhyme time for babies (newborn until walking) and their caregiver.
URL:https://nlpl.ca/events/musical-munchkins-2-3-2/2026-05-29/
LOCATION:Conception Bay South Public Library\, 10 Remembrance Square\, Conception Bay South\, NL\, Canada
CATEGORIES:Kids & Families
ATTACH;FMTTYPE=image/jpeg:https://nlpl.ca/wp-content/uploads/2023/03/Events-Kid-Families.jpg
END:VEVENT
BEGIN:VEVENT
DTSTART;TZID=America/St_Johns:20260529T140000
DTEND;TZID=America/St_Johns:20260529T163000
DTSTAMP:20260422T094159
CREATED:20260407T134939Z
LAST-MODIFIED:20260421T161545Z
UID:10060138-1780063200-1780072200@nlpl.ca
SUMMARY:Tech Help at CBS Public Library
DESCRIPTION:Book a one-on-one 30-minute tech help session on Friday afternoons. These sessions will be for basic tech help – including: accessing library books on Libby\, Microsoft Word or Google Docs\, email services\, setting up your new device\, and more!\n*Day-Of Registration Required – Please call the library (709-834-3620) from 10am-noon on the day you wish to book – let us know what device you will be bringing and what you need help with! Use of library computers\, laptops\, or tablets during these sessions is subject to availability.
URL:https://nlpl.ca/events/tech-help-at-cbs-public-library/2026-05-29/
LOCATION:Conception Bay South Public Library\, 10 Remembrance Square\, Conception Bay South\, NL\, Canada
CATEGORIES:Classes & Workshops
ATTACH;FMTTYPE=image/jpeg:https://nlpl.ca/wp-content/uploads/2023/03/Events-Classes-and-Workshops.jpg
END:VEVENT
BEGIN:VEVENT
DTSTART;TZID=America/St_Johns:20260530T110000
DTEND;TZID=America/St_Johns:20260530T113000
DTSTAMP:20260422T094159
CREATED:20260323T174337Z
LAST-MODIFIED:20260323T174337Z
UID:10060208-1780138800-1780140600@nlpl.ca
SUMMARY:Family Storytime
DESCRIPTION:Join us at the CBS Public Library with the whole family for Storytime!\nThis is for all ages and drop in.
URL:https://nlpl.ca/events/family-storytime-6/2026-05-30/
LOCATION:Conception Bay South Public Library\, 10 Remembrance Square\, Conception Bay South\, NL\, Canada
CATEGORIES:Storytime
ATTACH;FMTTYPE=image/jpeg:https://nlpl.ca/wp-content/uploads/2023/03/Events-Kid-Families.jpg
ORGANIZER;CN="Conception Bay South Public Library":MAILTO:conceptionbaysouth@nlpl.ca
END:VEVENT
BEGIN:VEVENT
DTSTART;TZID=America/St_Johns:20260602T140000
DTEND;TZID=America/St_Johns:20260602T153000
DTSTAMP:20260422T094159
CREATED:20250310T162548Z
LAST-MODIFIED:20260408T174230Z
UID:10061407-1780408800-1780414200@nlpl.ca
SUMMARY:Breastfeeding Clinic
DESCRIPTION:Drop in to the Conception Bay South Public Library for the Breastfeeding Clinic provided by Community Health\, Drop in for parents and babies.
URL:https://nlpl.ca/events/breastfeeding-clinic-3/2026-06-02/
LOCATION:Conception Bay South Public Library\, 10 Remembrance Square\, Conception Bay South\, NL\, Canada
CATEGORIES:Heath & Wellbeing,Kids & Families
ATTACH;FMTTYPE=image/jpeg:https://nlpl.ca/wp-content/uploads/2023/03/Events-Health-and-Wellbeing.jpg
ORGANIZER;CN="Conception Bay South Public Library":MAILTO:conceptionbaysouth@nlpl.ca
END:VEVENT
END:VCALENDAR