BEGIN:VCALENDAR
VERSION:2.0
PRODID:-//Newfoundland &amp; Labrador Public Libraries - ECPv6.15.20//NONSGML v1.0//EN
CALSCALE:GREGORIAN
METHOD:PUBLISH
X-ORIGINAL-URL:https://nlpl.ca
X-WR-CALDESC:Events for Newfoundland &amp; Labrador Public Libraries
REFRESH-INTERVAL;VALUE=DURATION:PT1H
X-Robots-Tag:noindex
X-PUBLISHED-TTL:PT1H
BEGIN:VTIMEZONE
TZID:America/St_Johns
BEGIN:DAYLIGHT
TZOFFSETFROM:-0330
TZOFFSETTO:-0230
TZNAME:NDT
DTSTART:20250309T053000
END:DAYLIGHT
BEGIN:STANDARD
TZOFFSETFROM:-0230
TZOFFSETTO:-0330
TZNAME:NST
DTSTART:20251102T043000
END:STANDARD
BEGIN:DAYLIGHT
TZOFFSETFROM:-0330
TZOFFSETTO:-0230
TZNAME:NDT
DTSTART:20260308T053000
END:DAYLIGHT
BEGIN:STANDARD
TZOFFSETFROM:-0230
TZOFFSETTO:-0330
TZNAME:NST
DTSTART:20261101T043000
END:STANDARD
BEGIN:DAYLIGHT
TZOFFSETFROM:-0330
TZOFFSETTO:-0230
TZNAME:NDT
DTSTART:20270314T053000
END:DAYLIGHT
BEGIN:STANDARD
TZOFFSETFROM:-0230
TZOFFSETTO:-0330
TZNAME:NST
DTSTART:20271107T043000
END:STANDARD
END:VTIMEZONE
BEGIN:VEVENT
DTSTART;TZID=America/St_Johns:20260617T180000
DTEND;TZID=America/St_Johns:20260617T190000
DTSTAMP:20260422T182337
CREATED:20240903T133648Z
LAST-MODIFIED:20260415T215847Z
UID:10061467-1781719200-1781722800@nlpl.ca
SUMMARY:Writer's Group
DESCRIPTION:Join us at the Conception Bay South Public Library! This is a drop in group for people with a passion for creative writing!
URL:https://nlpl.ca/events/writers-group/2026-06-17/
LOCATION:Conception Bay South Public Library\, 10 Remembrance Square\, Conception Bay South\, NL\, Canada
CATEGORIES:Book Clubs & Writer’s Groups
ATTACH;FMTTYPE=image/jpeg:https://nlpl.ca/wp-content/uploads/2023/03/Events-Book-Clubs-and-Writing-Groups.jpg
END:VEVENT
BEGIN:VEVENT
DTSTART;TZID=America/St_Johns:20260618T100000
DTEND;TZID=America/St_Johns:20260618T120000
DTSTAMP:20260422T182337
CREATED:20240911T134337Z
LAST-MODIFIED:20260415T215627Z
UID:10061459-1781776800-1781784000@nlpl.ca
SUMMARY:Art Group
DESCRIPTION:Drop into the Conception Bay South Public Library  community room with any art project you are working on!\nThis is a group for adults.
URL:https://nlpl.ca/events/art-group/2026-06-18/
LOCATION:Conception Bay South Public Library\, 10 Remembrance Square\, Conception Bay South\, NL\, Canada
CATEGORIES:Arts & Culture,Hobbies, Crafts & Games
ATTACH;FMTTYPE=image/jpeg:https://nlpl.ca/wp-content/uploads/2023/03/Events-Hobbies-Crafts-and-Games.jpg
ORGANIZER;CN="Conception Bay South Public Library":MAILTO:conceptionbaysouth@nlpl.ca
END:VEVENT
BEGIN:VEVENT
DTSTART;TZID=America/St_Johns:20260618T130000
DTEND;TZID=America/St_Johns:20260618T150000
DTSTAMP:20260422T182337
CREATED:20250702T192402Z
LAST-MODIFIED:20260410T152336Z
UID:10061436-1781787600-1781794800@nlpl.ca
SUMMARY:CBS Knitting Group
DESCRIPTION:Everyone is welcome ! Bring your project and meet up with fellow knitters!
URL:https://nlpl.ca/events/knitting-group-4/2026-06-18/
LOCATION:Conception Bay South Public Library\, 10 Remembrance Square\, Conception Bay South\, NL\, Canada
CATEGORIES:Hobbies, Crafts & Games
ATTACH;FMTTYPE=image/jpeg:https://nlpl.ca/wp-content/uploads/2023/03/Events-Hobbies-Crafts-and-Games.jpg
ORGANIZER;CN="Conception Bay South Public Library":MAILTO:conceptionbaysouth@nlpl.ca
END:VEVENT
BEGIN:VEVENT
DTSTART;TZID=America/St_Johns:20260619T101500
DTEND;TZID=America/St_Johns:20260619T114500
DTSTAMP:20260422T182337
CREATED:20251028T175624Z
LAST-MODIFIED:20260415T222620Z
UID:10061504-1781864100-1781869500@nlpl.ca
SUMMARY:Musical Munchkins
DESCRIPTION:Drop in to the Conception Bay South Public Library for Musical Munchkins! Hosted By the Family Resource Center.\nThis is a drop-in music and rhyme time for babies (newborn until walking) and their caregiver.
URL:https://nlpl.ca/events/musical-munchkins-2-3-2/2026-06-19/
LOCATION:Conception Bay South Public Library\, 10 Remembrance Square\, Conception Bay South\, NL\, Canada
CATEGORIES:Kids & Families
ATTACH;FMTTYPE=image/jpeg:https://nlpl.ca/wp-content/uploads/2023/03/Events-Kid-Families.jpg
END:VEVENT
BEGIN:VEVENT
DTSTART;TZID=America/St_Johns:20260619T140000
DTEND;TZID=America/St_Johns:20260619T163000
DTSTAMP:20260422T182337
CREATED:20260407T134939Z
LAST-MODIFIED:20260421T161545Z
UID:10061550-1781877600-1781886600@nlpl.ca
SUMMARY:Tech Help at CBS Public Library
DESCRIPTION:Book a one-on-one 30-minute tech help session on Friday afternoons. These sessions will be for basic tech help – including: accessing library books on Libby\, Microsoft Word or Google Docs\, email services\, setting up your new device\, and more!\n*Day-Of Registration Required – Please call the library (709-834-3620) from 10am-noon on the day you wish to book – let us know what device you will be bringing and what you need help with! Use of library computers\, laptops\, or tablets during these sessions is subject to availability.
URL:https://nlpl.ca/events/tech-help-at-cbs-public-library/2026-06-19/
LOCATION:Conception Bay South Public Library\, 10 Remembrance Square\, Conception Bay South\, NL\, Canada
CATEGORIES:Classes & Workshops
ATTACH;FMTTYPE=image/jpeg:https://nlpl.ca/wp-content/uploads/2023/03/Events-Classes-and-Workshops.jpg
END:VEVENT
BEGIN:VEVENT
DTSTART;TZID=America/St_Johns:20260623T153000
DTEND;TZID=America/St_Johns:20260623T163000
DTSTAMP:20260422T182337
CREATED:20250821T155247Z
LAST-MODIFIED:20260415T221903Z
UID:10061472-1782228600-1782232200@nlpl.ca
SUMMARY:Baby Play Group
DESCRIPTION:Drop in to the Conception Bay South Public Library where the storytime room  will be open for baby play time\, with baby-friendly toys available! This is a drop-in program\, best suited for ages 0-2.
URL:https://nlpl.ca/events/baby-play-group/2026-06-23/
LOCATION:Conception Bay South Public Library\, 10 Remembrance Square\, Conception Bay South\, NL\, Canada
CATEGORIES:Kids & Families
ATTACH;FMTTYPE=image/jpeg:https://nlpl.ca/wp-content/uploads/2023/03/Events-Kid-Families.jpg
END:VEVENT
BEGIN:VEVENT
DTSTART;TZID=America/St_Johns:20260624T180000
DTEND;TZID=America/St_Johns:20260624T190000
DTSTAMP:20260422T182337
CREATED:20240903T133648Z
LAST-MODIFIED:20260415T215847Z
UID:10061468-1782324000-1782327600@nlpl.ca
SUMMARY:Writer's Group
DESCRIPTION:Join us at the Conception Bay South Public Library! This is a drop in group for people with a passion for creative writing!
URL:https://nlpl.ca/events/writers-group/2026-06-24/
LOCATION:Conception Bay South Public Library\, 10 Remembrance Square\, Conception Bay South\, NL\, Canada
CATEGORIES:Book Clubs & Writer’s Groups
ATTACH;FMTTYPE=image/jpeg:https://nlpl.ca/wp-content/uploads/2023/03/Events-Book-Clubs-and-Writing-Groups.jpg
END:VEVENT
BEGIN:VEVENT
DTSTART;TZID=America/St_Johns:20260625T100000
DTEND;TZID=America/St_Johns:20260625T120000
DTSTAMP:20260422T182337
CREATED:20240911T134337Z
LAST-MODIFIED:20260415T215627Z
UID:10061460-1782381600-1782388800@nlpl.ca
SUMMARY:Art Group
DESCRIPTION:Drop into the Conception Bay South Public Library  community room with any art project you are working on!\nThis is a group for adults.
URL:https://nlpl.ca/events/art-group/2026-06-25/
LOCATION:Conception Bay South Public Library\, 10 Remembrance Square\, Conception Bay South\, NL\, Canada
CATEGORIES:Arts & Culture,Hobbies, Crafts & Games
ATTACH;FMTTYPE=image/jpeg:https://nlpl.ca/wp-content/uploads/2023/03/Events-Hobbies-Crafts-and-Games.jpg
ORGANIZER;CN="Conception Bay South Public Library":MAILTO:conceptionbaysouth@nlpl.ca
END:VEVENT
BEGIN:VEVENT
DTSTART;TZID=America/St_Johns:20260626T101500
DTEND;TZID=America/St_Johns:20260626T114500
DTSTAMP:20260422T182337
CREATED:20251028T175624Z
LAST-MODIFIED:20260415T222620Z
UID:10061505-1782468900-1782474300@nlpl.ca
SUMMARY:Musical Munchkins
DESCRIPTION:Drop in to the Conception Bay South Public Library for Musical Munchkins! Hosted By the Family Resource Center.\nThis is a drop-in music and rhyme time for babies (newborn until walking) and their caregiver.
URL:https://nlpl.ca/events/musical-munchkins-2-3-2/2026-06-26/
LOCATION:Conception Bay South Public Library\, 10 Remembrance Square\, Conception Bay South\, NL\, Canada
CATEGORIES:Kids & Families
ATTACH;FMTTYPE=image/jpeg:https://nlpl.ca/wp-content/uploads/2023/03/Events-Kid-Families.jpg
END:VEVENT
BEGIN:VEVENT
DTSTART;TZID=America/St_Johns:20260626T140000
DTEND;TZID=America/St_Johns:20260626T163000
DTSTAMP:20260422T182337
CREATED:20260407T134939Z
LAST-MODIFIED:20260421T161545Z
UID:10061551-1782482400-1782491400@nlpl.ca
SUMMARY:Tech Help at CBS Public Library
DESCRIPTION:Book a one-on-one 30-minute tech help session on Friday afternoons. These sessions will be for basic tech help – including: accessing library books on Libby\, Microsoft Word or Google Docs\, email services\, setting up your new device\, and more!\n*Day-Of Registration Required – Please call the library (709-834-3620) from 10am-noon on the day you wish to book – let us know what device you will be bringing and what you need help with! Use of library computers\, laptops\, or tablets during these sessions is subject to availability.
URL:https://nlpl.ca/events/tech-help-at-cbs-public-library/2026-06-26/
LOCATION:Conception Bay South Public Library\, 10 Remembrance Square\, Conception Bay South\, NL\, Canada
CATEGORIES:Classes & Workshops
ATTACH;FMTTYPE=image/jpeg:https://nlpl.ca/wp-content/uploads/2023/03/Events-Classes-and-Workshops.jpg
END:VEVENT
BEGIN:VEVENT
DTSTART;TZID=America/St_Johns:20260630T153000
DTEND;TZID=America/St_Johns:20260630T163000
DTSTAMP:20260422T182337
CREATED:20250821T155247Z
LAST-MODIFIED:20260415T221903Z
UID:10061473-1782833400-1782837000@nlpl.ca
SUMMARY:Baby Play Group
DESCRIPTION:Drop in to the Conception Bay South Public Library where the storytime room  will be open for baby play time\, with baby-friendly toys available! This is a drop-in program\, best suited for ages 0-2.
URL:https://nlpl.ca/events/baby-play-group/2026-06-30/
LOCATION:Conception Bay South Public Library\, 10 Remembrance Square\, Conception Bay South\, NL\, Canada
CATEGORIES:Kids & Families
ATTACH;FMTTYPE=image/jpeg:https://nlpl.ca/wp-content/uploads/2023/03/Events-Kid-Families.jpg
END:VEVENT
BEGIN:VEVENT
DTSTART;TZID=America/St_Johns:20260707T153000
DTEND;TZID=America/St_Johns:20260707T163000
DTSTAMP:20260422T182337
CREATED:20250821T155247Z
LAST-MODIFIED:20260415T221903Z
UID:10061474-1783438200-1783441800@nlpl.ca
SUMMARY:Baby Play Group
DESCRIPTION:Drop in to the Conception Bay South Public Library where the storytime room  will be open for baby play time\, with baby-friendly toys available! This is a drop-in program\, best suited for ages 0-2.
URL:https://nlpl.ca/events/baby-play-group/2026-07-07/
LOCATION:Conception Bay South Public Library\, 10 Remembrance Square\, Conception Bay South\, NL\, Canada
CATEGORIES:Kids & Families
ATTACH;FMTTYPE=image/jpeg:https://nlpl.ca/wp-content/uploads/2023/03/Events-Kid-Families.jpg
END:VEVENT
BEGIN:VEVENT
DTSTART;TZID=America/St_Johns:20260714T153000
DTEND;TZID=America/St_Johns:20260714T163000
DTSTAMP:20260422T182337
CREATED:20250821T155247Z
LAST-MODIFIED:20260415T221903Z
UID:10061475-1784043000-1784046600@nlpl.ca
SUMMARY:Baby Play Group
DESCRIPTION:Drop in to the Conception Bay South Public Library where the storytime room  will be open for baby play time\, with baby-friendly toys available! This is a drop-in program\, best suited for ages 0-2.
URL:https://nlpl.ca/events/baby-play-group/2026-07-14/
LOCATION:Conception Bay South Public Library\, 10 Remembrance Square\, Conception Bay South\, NL\, Canada
CATEGORIES:Kids & Families
ATTACH;FMTTYPE=image/jpeg:https://nlpl.ca/wp-content/uploads/2023/03/Events-Kid-Families.jpg
END:VEVENT
BEGIN:VEVENT
DTSTART;TZID=America/St_Johns:20260721T153000
DTEND;TZID=America/St_Johns:20260721T163000
DTSTAMP:20260422T182337
CREATED:20250821T155247Z
LAST-MODIFIED:20260415T221903Z
UID:10061476-1784647800-1784651400@nlpl.ca
SUMMARY:Baby Play Group
DESCRIPTION:Drop in to the Conception Bay South Public Library where the storytime room  will be open for baby play time\, with baby-friendly toys available! This is a drop-in program\, best suited for ages 0-2.
URL:https://nlpl.ca/events/baby-play-group/2026-07-21/
LOCATION:Conception Bay South Public Library\, 10 Remembrance Square\, Conception Bay South\, NL\, Canada
CATEGORIES:Kids & Families
ATTACH;FMTTYPE=image/jpeg:https://nlpl.ca/wp-content/uploads/2023/03/Events-Kid-Families.jpg
END:VEVENT
BEGIN:VEVENT
DTSTART;TZID=America/St_Johns:20260728T153000
DTEND;TZID=America/St_Johns:20260728T163000
DTSTAMP:20260422T182337
CREATED:20250821T155247Z
LAST-MODIFIED:20260415T221903Z
UID:10061477-1785252600-1785256200@nlpl.ca
SUMMARY:Baby Play Group
DESCRIPTION:Drop in to the Conception Bay South Public Library where the storytime room  will be open for baby play time\, with baby-friendly toys available! This is a drop-in program\, best suited for ages 0-2.
URL:https://nlpl.ca/events/baby-play-group/2026-07-28/
LOCATION:Conception Bay South Public Library\, 10 Remembrance Square\, Conception Bay South\, NL\, Canada
CATEGORIES:Kids & Families
ATTACH;FMTTYPE=image/jpeg:https://nlpl.ca/wp-content/uploads/2023/03/Events-Kid-Families.jpg
END:VEVENT
END:VCALENDAR