BEGIN:VCALENDAR
VERSION:2.0
PRODID:-//Newfoundland &amp; Labrador Public Libraries - ECPv6.15.20//NONSGML v1.0//EN
CALSCALE:GREGORIAN
METHOD:PUBLISH
X-ORIGINAL-URL:https://nlpl.ca
X-WR-CALDESC:Events for Newfoundland &amp; Labrador Public Libraries
REFRESH-INTERVAL;VALUE=DURATION:PT1H
X-Robots-Tag:noindex
X-PUBLISHED-TTL:PT1H
BEGIN:VTIMEZONE
TZID:America/St_Johns
BEGIN:DAYLIGHT
TZOFFSETFROM:-0330
TZOFFSETTO:-0230
TZNAME:NDT
DTSTART:20250309T053000
END:DAYLIGHT
BEGIN:STANDARD
TZOFFSETFROM:-0230
TZOFFSETTO:-0330
TZNAME:NST
DTSTART:20251102T043000
END:STANDARD
BEGIN:DAYLIGHT
TZOFFSETFROM:-0330
TZOFFSETTO:-0230
TZNAME:NDT
DTSTART:20260308T053000
END:DAYLIGHT
BEGIN:STANDARD
TZOFFSETFROM:-0230
TZOFFSETTO:-0330
TZNAME:NST
DTSTART:20261101T043000
END:STANDARD
BEGIN:DAYLIGHT
TZOFFSETFROM:-0330
TZOFFSETTO:-0230
TZNAME:NDT
DTSTART:20270314T053000
END:DAYLIGHT
BEGIN:STANDARD
TZOFFSETFROM:-0230
TZOFFSETTO:-0330
TZNAME:NST
DTSTART:20271107T043000
END:STANDARD
END:VTIMEZONE
BEGIN:VEVENT
DTSTART;TZID=America/St_Johns:20260304T130000
DTEND;TZID=America/St_Johns:20260304T150000
DTSTAMP:20260421T143746
CREATED:20260103T151625Z
LAST-MODIFIED:20260325T214136Z
UID:10055916-1772629200-1772636400@nlpl.ca
SUMMARY:Rug Hooking Group
DESCRIPTION:Bring your supplies and current projects and join others for conversation and inspiration. New members and beginners are welcome!
URL:https://nlpl.ca/events/rug-hooking-group/2026-03-04/
LOCATION:Corner Brook Public Library\, 4 West Street\, Corner Brook\, NL\, A2H 0C1\, Canada
CATEGORIES:Holiday & Seasonal
END:VEVENT
BEGIN:VEVENT
DTSTART;TZID=America/St_Johns:20260303T140000
DTEND;TZID=America/St_Johns:20260303T153000
DTSTAMP:20260421T143747
CREATED:20260103T135944Z
LAST-MODIFIED:20260325T214808Z
UID:10055887-1772546400-1772551800@nlpl.ca
SUMMARY:BabyTime PlayTime
DESCRIPTION:Drop-in for playtime and socializing for babies (ages 0-2) and parents/caregivers
URL:https://nlpl.ca/events/babytime-playtime/2026-03-03/
LOCATION:Corner Brook Public Library\, 4 West Street\, Corner Brook\, NL\, A2H 0C1\, Canada
END:VEVENT
BEGIN:VEVENT
DTSTART;TZID=America/St_Johns:20260303T100000
DTEND;TZID=America/St_Johns:20260303T120000
DTSTAMP:20260421T143747
CREATED:20260103T155608Z
LAST-MODIFIED:20260325T215109Z
UID:10055952-1772532000-1772539200@nlpl.ca
SUMMARY:Digital Learning+
DESCRIPTION:Small group workshops and classes for lifelong learning with a focus on digital literacy presented as part of The Murphy Centre’s ACCESS to Learning program. \nfree | registration required \nFor more information or registration contact: chrisjoseph@murphycentre.ca 709-640-6718 and/or reneesherstobetoff@murphycentre.ca 709-640-5616 \n  \n 
URL:https://nlpl.ca/events/digital-learning/2026-03-03/
LOCATION:Corner Brook Public Library\, 4 West Street\, Corner Brook\, NL\, A2H 0C1\, Canada
END:VEVENT
BEGIN:VEVENT
DTSTART;TZID=America/St_Johns:20260228T103000
DTEND;TZID=America/St_Johns:20260228T113000
DTSTAMP:20260421T143747
CREATED:20260103T140642Z
LAST-MODIFIED:20260325T214523Z
UID:10055903-1772274600-1772278200@nlpl.ca
SUMMARY:Family Storytime
DESCRIPTION:Stories\, songs and rhymes for the whole family! All ages and all abilities welcome
URL:https://nlpl.ca/events/family-storytime-2/2026-02-28/
LOCATION:Corner Brook Public Library\, 4 West Street\, Corner Brook\, NL\, A2H 0C1\, Canada
CATEGORIES:Kids & Families,Storytime
END:VEVENT
BEGIN:VEVENT
DTSTART;TZID=America/St_Johns:20260227T140000
DTEND;TZID=America/St_Johns:20260227T163000
DTSTAMP:20260421T143747
CREATED:20260103T152206Z
LAST-MODIFIED:20260325T214908Z
UID:10055933-1772200800-1772209800@nlpl.ca
SUMMARY:LegoTime
DESCRIPTION:Show off your creativity and imagination with this drop-in program suitable for children of all ages (Lego recommended for ages 3+ and Duplo bricks available for younger siblings).
URL:https://nlpl.ca/events/legotime/2026-02-27/
LOCATION:Corner Brook Public Library\, 4 West Street\, Corner Brook\, NL\, A2H 0C1\, Canada
CATEGORIES:Kids & Families
END:VEVENT
BEGIN:VEVENT
DTSTART;TZID=America/St_Johns:20260226T100000
DTEND;TZID=America/St_Johns:20260226T120000
DTSTAMP:20260421T143747
CREATED:20260103T161028Z
LAST-MODIFIED:20260325T214958Z
UID:10056016-1772100000-1772107200@nlpl.ca
SUMMARY:Digital Learning+
DESCRIPTION:Small group workshops and classes for lifelong learning with a focus on digital literacy presented as part of The Murphy Centre’s ACCESS to Learning program. \nfree | registration required \nFor more information or registration contact: chrisjoseph@murphycentre.ca 709-640-6718 and/or reneesherstobetoff@murphycentre.ca 709-640-5616 \n  \n 
URL:https://nlpl.ca/events/digital-learning-2/2026-02-26/
LOCATION:Corner Brook Public Library\, 4 West Street\, Corner Brook\, NL\, A2H 0C1\, Canada
END:VEVENT
BEGIN:VEVENT
DTSTART;TZID=America/St_Johns:20260225T180000
DTEND;TZID=America/St_Johns:20260225T193000
DTSTAMP:20260421T143747
CREATED:20260103T153559Z
LAST-MODIFIED:20260325T214346Z
UID:10055941-1772042400-1772047800@nlpl.ca
SUMMARY:Conversation Cafe
DESCRIPTION:Small group conversation sessions lead by the Association for New Canadians\, open to anyone wanting to practice their spoken English.
URL:https://nlpl.ca/events/conversation-cafe/2026-02-25/
LOCATION:Corner Brook Public Library\, 4 West Street\, Corner Brook\, NL\, A2H 0C1\, Canada
END:VEVENT
BEGIN:VEVENT
DTSTART;TZID=America/St_Johns:20260225T130000
DTEND;TZID=America/St_Johns:20260225T150000
DTSTAMP:20260421T143747
CREATED:20260103T151625Z
LAST-MODIFIED:20260325T214136Z
UID:10055915-1772024400-1772031600@nlpl.ca
SUMMARY:Rug Hooking Group
DESCRIPTION:Bring your supplies and current projects and join others for conversation and inspiration. New members and beginners are welcome!
URL:https://nlpl.ca/events/rug-hooking-group/2026-02-25/
LOCATION:Corner Brook Public Library\, 4 West Street\, Corner Brook\, NL\, A2H 0C1\, Canada
CATEGORIES:Holiday & Seasonal
END:VEVENT
BEGIN:VEVENT
DTSTART;TZID=America/St_Johns:20260224T183000
DTEND;TZID=America/St_Johns:20260224T193000
DTSTAMP:20260421T143747
CREATED:20260103T161939Z
LAST-MODIFIED:20260103T161939Z
UID:10056022-1771957800-1771961400@nlpl.ca
SUMMARY:Adult Bookclub
DESCRIPTION:Registration for the 2025/2026 program year is full. To be added to the waitlist email your name and contact information to cornerbrook@nlpl.ca
URL:https://nlpl.ca/events/adult-bookclub/2026-02-24/
LOCATION:Corner Brook Public Library\, 4 West Street\, Corner Brook\, NL\, A2H 0C1\, Canada
CATEGORIES:Book Clubs & Writer’s Groups
END:VEVENT
BEGIN:VEVENT
DTSTART;TZID=America/St_Johns:20260224T140000
DTEND;TZID=America/St_Johns:20260224T153000
DTSTAMP:20260421T143747
CREATED:20260103T140335Z
LAST-MODIFIED:20260325T214626Z
UID:10055893-1771941600-1771947000@nlpl.ca
SUMMARY:BabyTime StoryTime
DESCRIPTION:Stories\, songs and rhymes for babies (ages 0-2) and parents/caregivers followed by playtime.
URL:https://nlpl.ca/events/babytime-storytime/2026-02-24/
LOCATION:Corner Brook Public Library\, 4 West Street\, Corner Brook\, NL\, A2H 0C1\, Canada
CATEGORIES:Kids & Families,Storytime
END:VEVENT
BEGIN:VEVENT
DTSTART;TZID=America/St_Johns:20260224T100000
DTEND;TZID=America/St_Johns:20260224T120000
DTSTAMP:20260421T143747
CREATED:20260103T155608Z
LAST-MODIFIED:20260325T215109Z
UID:10055951-1771927200-1771934400@nlpl.ca
SUMMARY:Digital Learning+
DESCRIPTION:Small group workshops and classes for lifelong learning with a focus on digital literacy presented as part of The Murphy Centre’s ACCESS to Learning program. \nfree | registration required \nFor more information or registration contact: chrisjoseph@murphycentre.ca 709-640-6718 and/or reneesherstobetoff@murphycentre.ca 709-640-5616 \n  \n 
URL:https://nlpl.ca/events/digital-learning/2026-02-24/
LOCATION:Corner Brook Public Library\, 4 West Street\, Corner Brook\, NL\, A2H 0C1\, Canada
END:VEVENT
BEGIN:VEVENT
DTSTART;TZID=America/St_Johns:20260221T103000
DTEND;TZID=America/St_Johns:20260221T113000
DTSTAMP:20260421T143747
CREATED:20260103T140642Z
LAST-MODIFIED:20260325T214523Z
UID:10055902-1771669800-1771673400@nlpl.ca
SUMMARY:Family Storytime
DESCRIPTION:Stories\, songs and rhymes for the whole family! All ages and all abilities welcome
URL:https://nlpl.ca/events/family-storytime-2/2026-02-21/
LOCATION:Corner Brook Public Library\, 4 West Street\, Corner Brook\, NL\, A2H 0C1\, Canada
CATEGORIES:Kids & Families,Storytime
END:VEVENT
BEGIN:VEVENT
DTSTART;TZID=America/St_Johns:20260220T140000
DTEND;TZID=America/St_Johns:20260220T163000
DTSTAMP:20260421T143747
CREATED:20260103T152206Z
LAST-MODIFIED:20260325T214908Z
UID:10055932-1771596000-1771605000@nlpl.ca
SUMMARY:LegoTime
DESCRIPTION:Show off your creativity and imagination with this drop-in program suitable for children of all ages (Lego recommended for ages 3+ and Duplo bricks available for younger siblings).
URL:https://nlpl.ca/events/legotime/2026-02-20/
LOCATION:Corner Brook Public Library\, 4 West Street\, Corner Brook\, NL\, A2H 0C1\, Canada
CATEGORIES:Kids & Families
END:VEVENT
BEGIN:VEVENT
DTSTART;TZID=America/St_Johns:20260219T180000
DTEND;TZID=America/St_Johns:20260219T193000
DTSTAMP:20260421T143747
CREATED:20260103T151827Z
LAST-MODIFIED:20260103T151844Z
UID:10055923-1771524000-1771529400@nlpl.ca
SUMMARY:Creative Writing Group
DESCRIPTION:Advance your creative writing skills and share your work while providing and receiving constructive feedback. New members welcome!
URL:https://nlpl.ca/events/craetive-writing-group/2026-02-19/
LOCATION:Corner Brook Public Library\, 4 West Street\, Corner Brook\, NL\, A2H 0C1\, Canada
CATEGORIES:Book Clubs & Writer’s Groups
END:VEVENT
BEGIN:VEVENT
DTSTART;TZID=America/St_Johns:20260219T100000
DTEND;TZID=America/St_Johns:20260219T120000
DTSTAMP:20260421T143747
CREATED:20260103T161028Z
LAST-MODIFIED:20260325T214958Z
UID:10056015-1771495200-1771502400@nlpl.ca
SUMMARY:Digital Learning+
DESCRIPTION:Small group workshops and classes for lifelong learning with a focus on digital literacy presented as part of The Murphy Centre’s ACCESS to Learning program. \nfree | registration required \nFor more information or registration contact: chrisjoseph@murphycentre.ca 709-640-6718 and/or reneesherstobetoff@murphycentre.ca 709-640-5616 \n  \n 
URL:https://nlpl.ca/events/digital-learning-2/2026-02-19/
LOCATION:Corner Brook Public Library\, 4 West Street\, Corner Brook\, NL\, A2H 0C1\, Canada
END:VEVENT
BEGIN:VEVENT
DTSTART;TZID=America/St_Johns:20260218T130000
DTEND;TZID=America/St_Johns:20260218T150000
DTSTAMP:20260421T143747
CREATED:20260103T151625Z
LAST-MODIFIED:20260325T214136Z
UID:10055914-1771419600-1771426800@nlpl.ca
SUMMARY:Rug Hooking Group
DESCRIPTION:Bring your supplies and current projects and join others for conversation and inspiration. New members and beginners are welcome!
URL:https://nlpl.ca/events/rug-hooking-group/2026-02-18/
LOCATION:Corner Brook Public Library\, 4 West Street\, Corner Brook\, NL\, A2H 0C1\, Canada
CATEGORIES:Holiday & Seasonal
END:VEVENT
BEGIN:VEVENT
DTSTART;TZID=America/St_Johns:20260217T140000
DTEND;TZID=America/St_Johns:20260217T153000
DTSTAMP:20260421T143747
CREATED:20260103T135944Z
LAST-MODIFIED:20260325T214808Z
UID:10055886-1771336800-1771342200@nlpl.ca
SUMMARY:BabyTime PlayTime
DESCRIPTION:Drop-in for playtime and socializing for babies (ages 0-2) and parents/caregivers
URL:https://nlpl.ca/events/babytime-playtime/2026-02-17/
LOCATION:Corner Brook Public Library\, 4 West Street\, Corner Brook\, NL\, A2H 0C1\, Canada
END:VEVENT
BEGIN:VEVENT
DTSTART;TZID=America/St_Johns:20260217T100000
DTEND;TZID=America/St_Johns:20260217T120000
DTSTAMP:20260421T143747
CREATED:20260103T155608Z
LAST-MODIFIED:20260325T215109Z
UID:10055950-1771322400-1771329600@nlpl.ca
SUMMARY:Digital Learning+
DESCRIPTION:Small group workshops and classes for lifelong learning with a focus on digital literacy presented as part of The Murphy Centre’s ACCESS to Learning program. \nfree | registration required \nFor more information or registration contact: chrisjoseph@murphycentre.ca 709-640-6718 and/or reneesherstobetoff@murphycentre.ca 709-640-5616 \n  \n 
URL:https://nlpl.ca/events/digital-learning/2026-02-17/
LOCATION:Corner Brook Public Library\, 4 West Street\, Corner Brook\, NL\, A2H 0C1\, Canada
END:VEVENT
BEGIN:VEVENT
DTSTART;TZID=America/St_Johns:20260214T103000
DTEND;TZID=America/St_Johns:20260214T113000
DTSTAMP:20260421T143747
CREATED:20260103T140642Z
LAST-MODIFIED:20260325T214523Z
UID:10055901-1771065000-1771068600@nlpl.ca
SUMMARY:Family Storytime
DESCRIPTION:Stories\, songs and rhymes for the whole family! All ages and all abilities welcome
URL:https://nlpl.ca/events/family-storytime-2/2026-02-14/
LOCATION:Corner Brook Public Library\, 4 West Street\, Corner Brook\, NL\, A2H 0C1\, Canada
CATEGORIES:Kids & Families,Storytime
END:VEVENT
BEGIN:VEVENT
DTSTART;TZID=America/St_Johns:20260213T140000
DTEND;TZID=America/St_Johns:20260213T163000
DTSTAMP:20260421T143747
CREATED:20260103T152206Z
LAST-MODIFIED:20260325T214908Z
UID:10055931-1770991200-1771000200@nlpl.ca
SUMMARY:LegoTime
DESCRIPTION:Show off your creativity and imagination with this drop-in program suitable for children of all ages (Lego recommended for ages 3+ and Duplo bricks available for younger siblings).
URL:https://nlpl.ca/events/legotime/2026-02-13/
LOCATION:Corner Brook Public Library\, 4 West Street\, Corner Brook\, NL\, A2H 0C1\, Canada
CATEGORIES:Kids & Families
END:VEVENT
BEGIN:VEVENT
DTSTART;TZID=America/St_Johns:20260212T100000
DTEND;TZID=America/St_Johns:20260212T120000
DTSTAMP:20260421T143747
CREATED:20260103T161028Z
LAST-MODIFIED:20260325T214958Z
UID:10056014-1770890400-1770897600@nlpl.ca
SUMMARY:Digital Learning+
DESCRIPTION:Small group workshops and classes for lifelong learning with a focus on digital literacy presented as part of The Murphy Centre’s ACCESS to Learning program. \nfree | registration required \nFor more information or registration contact: chrisjoseph@murphycentre.ca 709-640-6718 and/or reneesherstobetoff@murphycentre.ca 709-640-5616 \n  \n 
URL:https://nlpl.ca/events/digital-learning-2/2026-02-12/
LOCATION:Corner Brook Public Library\, 4 West Street\, Corner Brook\, NL\, A2H 0C1\, Canada
END:VEVENT
BEGIN:VEVENT
DTSTART;TZID=America/St_Johns:20260211T180000
DTEND;TZID=America/St_Johns:20260211T193000
DTSTAMP:20260421T143747
CREATED:20260103T153559Z
LAST-MODIFIED:20260325T214346Z
UID:10055940-1770832800-1770838200@nlpl.ca
SUMMARY:Conversation Cafe
DESCRIPTION:Small group conversation sessions lead by the Association for New Canadians\, open to anyone wanting to practice their spoken English.
URL:https://nlpl.ca/events/conversation-cafe/2026-02-11/
LOCATION:Corner Brook Public Library\, 4 West Street\, Corner Brook\, NL\, A2H 0C1\, Canada
END:VEVENT
BEGIN:VEVENT
DTSTART;TZID=America/St_Johns:20260211T130000
DTEND;TZID=America/St_Johns:20260211T150000
DTSTAMP:20260421T143747
CREATED:20260103T151625Z
LAST-MODIFIED:20260325T214136Z
UID:10055913-1770814800-1770822000@nlpl.ca
SUMMARY:Rug Hooking Group
DESCRIPTION:Bring your supplies and current projects and join others for conversation and inspiration. New members and beginners are welcome!
URL:https://nlpl.ca/events/rug-hooking-group/2026-02-11/
LOCATION:Corner Brook Public Library\, 4 West Street\, Corner Brook\, NL\, A2H 0C1\, Canada
CATEGORIES:Holiday & Seasonal
END:VEVENT
END:VCALENDAR